{"text_format":"1","workbook":"xlsx","n_sheets":6,"sheets":["Inversion","An","Hipotecario (Pesos)","Hipotecario (UVR)","Leasing H. (Pesos)","Conversor de tasas"],"not_rendered":{"charts":0,"images":1,"macros":1,"external_links":0,"defined_names":3,"comments":2,"pivot_tables":0},"unopened":[],"bounds":{"document_bytes":16777216,"sheet_cells":100000,"rows_first":2000,"rows_last":500,"rows_between":2000,"halvings":0,"cell_chars":16384,"cell_head_chars":4096},"cells_cut":0,"cells_raw":0,"read":"whole","date_system":"1900"}

{"sheet":"Inversion","index":0,"n_rows":35,"n_cols":10,"rows_kept":35,"cut":false,"hidden":false,"merged":[[20,5,20,6],[23,5,23,6],[23,8,23,9],[20,8,20,9],[30,8,30,9],[30,1,38,6],[34,8,38,9],[0,1,3,2],[5,1,5,2],[11,5,11,6],[11,8,11,9],[15,1,15,2],[6,5,6,6],[6,8,6,9],[8,5,8,6],[8,8,8,9],[0,3,3,6],[5,5,5,6],[5,8,5,9]]}
[null,"Haz los números correctamente",null,{"$error":"#VALUE!"}]
[]
[null,null,null,null,null,null,null,null,"Año proyectado",3]
[null,null,null,null,null,null,null,null,"IPC Proyectado",0.06]
[]
[null,"Inversión",null,null,null,"Estimación rentabilidad primer año",null,null,"Estimación rentabilidad proyectada "]
[null,"Fecha",{"$f":"TODAY()","v":"2025-07-10"},null,null,"Renta mensual",null,null,{"$f":"F7","v":"Renta mensual"}]
[null,"Valor comercial el inmueble",188000000,null,null,2300000,{"$f":"F8/C14","v":1.1912407549358801E-2},null,{"$f":"$F$8*(1+$J$4)^(J3)","v":2739336.8000000007},{"$f":"I8/C14","v":1.4187867989807127E-2}]
[null,"Gasto avalúo",188000,null,null,"Renta anual",null,null,{"$f":"F9","v":"Renta anual"}]
[null,"Gasto estudio de títulos",188000,null,null,{"$f":"F8*12","v":27600000},{"$f":"F10/C14","v":0.14294889059230562},null,{"$f":"$F$10*(1+$J$4)^(J3)","v":32872041.600000009},{"$f":"I10/C14","v":0.17025441587768553}]
[null,"Gasto escrituración",{"$f":"C8*2.5%","v":4700000}]
[null,"Gastos remodelación",0,null,null,"Gastos mensuales primer año",null,null,"Gastos mensuales año proyectado"]
[null,"Otro(s)",0,null,null,"Cuota de Crédito(s) (Sin seguros)",1216000,null,{"$f":"F13","v":"Cuota de Crédito(s) (Sin seguros)"},0]
[null,"Total",{"$f":"SUM(C8:C13)","v":193076000},null,null,"Seguro(s) (Vida e Incendio y terremoto)",80000,null,{"$f":"F14","v":"Seguro(s) (Vida e Incendio y terremoto)"},0]
[null,null,null,null,null,"Administración (Si aplica)",150000,null,{"$f":"F15","v":"Administración (Si aplica)"},{"$f":"$G$15*(1+$J$4)^(J3)","v":178652.40000000005}]
[null,"Calculadora de crédito",null,null,null,"Comisión agencia arrendamiento (Si aplica)",230000,null,{"$f":"F16","v":"Comisión agencia arrendamiento (Si aplica)"},{"$f":"$G$16*(1+$J$4)^(J3)","v":273933.68000000005}]
[null,"Valor comercial el inmueble",{"$f":"C8","v":188000000},null,null,"Impuestos (Predial)",99000,null,{"$f":"F17","v":"Impuestos (Predial)"},{"$f":"$G$17*(1+$J$4)^(J3)","v":117910.58400000003}]
[null,"Valor del préstamo en $",131600000,null,null,"Otro(s)",0,null,{"$f":"F18","v":"Otro(s)"},{"$f":"$G$18*(1+$J$4)^(J3)","v":0}]
[null,"Cuota inicial",{"$f":"C17-C18","v":56400000},null,null,"Total gastos anuales",{"$f":"SUM(G13:G18)*12","v":21300000},null,{"$f":"F19","v":"Total gastos anuales"},{"$f":"SUM(J13:J18)*12","v":6845959.9680000013}]
[null,"% de financiacion",{"$f":"C18/C8","v":0.7}]
[null,"Tasa efectiva anual",9.8000000000000004E-2,null,null,"Utilidad mensual primer año",null,null,"Utilidad mensual año proyectado"]
[null,"Tasa nominal mensual",{"$f":"((1+C21)^(1/12))-1","v":7.8212896567966261E-3},null,null,{"$f":"F8-SUM(G13:G18)","v":525000},{"$f":"F22/C14","v":2.7191365058319003E-3},null,{"$f":"I8-SUM(J13:J18)","v":2168840.1360000009},{"$f":"I22/C14","v":1.1233090264973383E-2}]
[null,"Plazo meses",240]
[null,"Tipo de crédito","Hipotecario (Pesos)",{"$f":"IF(OR(C24=\"Hipotecario (Pesos)\",C24=\"Leasing H. (Pesos)\"),\"Cuota Fija\",IF(C24=\"Hipotecario (UVR)\",\"Cuota Integral\",\"\"))","v":"Cuota Fija"},null,"Utilidad anual primer año",null,null,"Utilidad anual año proyectado"]
[null,{"$f":"IF(C24=\"Leasing H. (Pesos)\",\"% Opcion de compra\",\"\")","v":""},0,null,null,{"$f":"F10-G19","v":6300000},{"$f":"F25/C14","v":3.2629638069982807E-2},null,{"$f":"I10-J19","v":26026081.632000007},{"$f":"I25/C14","v":0.13479708317968059}]
[null,{"$f":"IF(C24=\"Hipotecario (UVR)\",\"UVR teórico E.A\",\"\")","v":""},0.06]
[null,{"$f":"IF(C24=\"Hipotecario (UVR)\",\"UVR nominal mensual\",\"\")","v":""},{"$f":"(1+C26)^(1/12)-1","v":4.8675505653430484E-3}]
[null,{"$f":"IF(C24=\"Hipotecario (UVR)\",\"UVR fecha contabilización\",\"\")","v":""},375.85950000000003]
[null,"Valor de cuota mensual",{"$f":"IF(Inversion!C24=\"Hipotecario (Pesos)\",'Hipotecario (Pesos)'!E6,IF(Inversion!C24=\"Leasing H. (Pesos)\",'Leasing H. (Pesos)'!D6,IF(Inversion!C24=\"Hipotecario (UVR)\",'Hipotecario (UVR)'!F6,\"\")))","v":1216865.7503730953}]
[]
[null,"Consideraciones Generales:\n•\tSi puedes acceder a algún descuento, considéralo como una gran ventaja para mejorar tus números.\n•\tTen en cuenta el tiempo: Analiza cómo la valorización y la rentabilidad futura pueden impactar positivamente tu inversión.\n•\tReduce gastos para aumentar rentabilidad: Ajustar tus gastos puede ayudarte a generar mayores rendimientos en el mediano y largo plazo.\n•\tReconoce el poder del apalancamiento: Al financiarte con un banco, no necesitas poner todo el dinero de tu bolsillo; recuerda que estás utilizando recursos externos para alcanzar tus objetivos.\n•\tPiensa más allá del uso inicial: Si compras para vivir, considera la posibilidad de arrendar o vender la propiedad en el futuro. Planificar cómo manejar esta opción te dará más flexibilidad.\n•Aprovecha las herramientas disponibles: Investiga y utiliza subsidios u otras ayudas que puedan facilitar tu proceso y optimizar tu inversión.",null,null,null,null,null,null,"Valorización proyectada "]
[null,null,null,null,null,null,null,null,"Valor del inmueble valorizado",0]
[null,null,null,null,null,null,null,null,"Diferencia",{"$f":"IF(J32=0,0,J32-C14)","v":0}]
[null,null,null,null,null,null,null,null,"Porcentaje de valorización total",{"$f":"IF(J32=0,0,(J32/C14)-1)","v":0}]
[null,null,null,null,null,null,null,null,"Notas :\n-\n-\n-\n-"]

{"sheet":"An","index":1,"n_rows":32,"n_cols":1,"rows_kept":32,"cut":false,"hidden":true,"merged":[]}
["Años Proyeccion"]
[0]
[1]
[2]
[3]
[4]
[5]
[6]
[7]
[8]
[9]
[10]
[11]
[12]
[13]
[14]
[15]
[16]
[17]
[18]
[19]
[20]
[21]
[22]
[23]
[24]
[25]
[26]
[27]
[28]
[29]
[30]

{"sheet":"Hipotecario (Pesos)","index":2,"n_rows":367,"n_cols":8,"rows_kept":367,"cut":false,"hidden":true,"merged":[[3,0,3,1],[365,0,366,2],[0,0,1,7]]}
["Hipotecario (Pesos) - Cuota Fija\nEsta es una simulación, los datos son aproximados"]
[]
[]
["Mes",null,"Saldo inicial","Factor cuota integral fija","Cuota mensual\nsin seguros","Capital mensual","Intereses mensual","Saldo final"]
[0,{"$f":"IF(A5<>\"-\",DATE(YEAR(Inversion!$C$7),MONTH(Inversion!$C$7)+A5,DAY(Inversion!$C$7)),\"-\")","v":"2025-07-10"},0,"NA",0,0,0,0]
[{"$f":"IF(A5<Inversion!$C$23,A5+1,\"-\")","v":1},{"$f":"IF(A6<>\"-\",DATE(YEAR(Inversion!$C$7),MONTH(Inversion!$C$7)+A6,DAY(Inversion!$C$7)),\"-\")","v":"2025-08-10"},{"$f":"IF(A6<=Inversion!C23,Inversion!C18,\"0\")","v":131600000},{"$f":"IF(A6<=Inversion!$C$23,(1-(1+Inversion!$C$22)^-(Inversion!$C$23))/Inversion!$C$22,0)","v":108.14668747119472},{"$f":"IF(C6>=1,$C$6/D6,0)","v":1216865.7503730953},{"$f":"E6-G6","v":187584.03153865924},{"$f":"C6*Inversion!$C$22","v":1029281.718834436},{"$f":"C6-F6","v":131412415.96846133}]
[{"$f":"IF(A6<Inversion!$C$23,A6+1,\"-\")","v":2},{"$f":"IF(A7<>\"-\",DATE(YEAR(Inversion!$C$7),MONTH(Inversion!$C$7)+A7,DAY(Inversion!$C$7)),\"-\")","v":"2025-09-10"},{"$f":"IF(A7<=Inversion!$C$23,IF(H6>0,H6,0),0)","v":131412415.96846133},{"$f":"IF(A7<=Inversion!$C$23,(1-(1+Inversion!$C$22)^-(Inversion!$C$23))/Inversion!$C$22,0)","v":108.14668747119472},{"$f":"IF(C7<E6-G7,C7+G7,IF(C7=0,0,$C$6/D7))","v":1216865.7503730953},{"$f":"E7-G7","v":189051.18058431288},{"$f":"C7*Inversion!$C$22","v":1027814.5697887824},{"$f":"C7-F7","v":131223364.78787702}]
[{"$f":"IF(A7<Inversion!$C$23,A7+1,\"-\")","v":3},{"$f":"IF(A8<>\"-\",DATE(YEAR(Inversion!$C$7),MONTH(Inversion!$C$7)+A8,DAY(Inversion!$C$7)),\"-\")","v":"2025-10-10"},{"$f":"IF(A8<=Inversion!$C$23,IF(H7>0,H7,0),0)","v":131223364.78787702},{"$f":"IF(A8<=Inversion!$C$23,(1-(1+Inversion!$C$22)^-(Inversion!$C$23))/Inversion!$C$22,0)","v":108.14668747119472},{"$f":"IF(C8<E7-G8,C8+G8,IF(C8=0,0,$C$6/D8))","v":1216865.7503730953},{"$f":"E8-G8","v":190529.80462762213},{"$f":"C8*Inversion!$C$22","v":1026335.9457454731},{"$f":"C8-F8","v":131032834.9832494}]
[{"$f":"IF(A8<Inversion!$C$23,A8+1,\"-\")","v":4},{"$f":"IF(A9<>\"-\",DATE(YEAR(Inversion!$C$7),MONTH(Inversion!$C$7)+A9,DAY(Inversion!$C$7)),\"-\")","v":"2025-11-10"},{"$f":"IF(A9<=Inversion!$C$23,IF(H8>0,H8,0),0)","v":131032834.9832494},{"$f":"IF(A9<=Inversion!$C$23,(1-(1+Inversion!$C$22)^-(Inversion!$C$23))/Inversion!$C$22,0)","v":108.14668747119472},{"$f":"IF(C9<E8-G9,C9+G9,IF(C9=0,0,$C$6/D9))","v":1216865.7503730953},{"$f":"E9-G9","v":192019.99341786769},{"$f":"C9*Inversion!$C$22","v":1024845.7569552276},{"$f":"C9-F9","v":130840814.98983152}]
[{"$f":"IF(A9<Inversion!$C$23,A9+1,\"-\")","v":5},{"$f":"IF(A10<>\"-\",DATE(YEAR(Inversion!$C$7),MONTH(Inversion!$C$7)+A10,DAY(Inversion!$C$7)),\"-\")","v":"2025-12-10"},{"$f":"IF(A10<=Inversion!$C$23,IF(H9>0,H9,0),0)","v":130840814.98983152},{"$f":"IF(A10<=Inversion!$C$23,(1-(1+Inversion!$C$22)^-(Inversion!$C$23))/Inversion!$C$22,0)","v":108.14668747119472},1216865.7503730953,193521.83740628499,{"$f":"C10*Inversion!$C$22","v":1023343.9129668103},130647293.15242524]
[{"$f":"IF(A10<Inversion!$C$23,A10+1,\"-\")","v":6},{"$f":"IF(A11<>\"-\",DATE(YEAR(Inversion!$C$7),MONTH(Inversion!$C$7)+A11,DAY(Inversion!$C$7)),\"-\")","v":"2026-01-10"},{"$f":"IF(A11<=Inversion!$C$23,IF(H10>0,H10,0),0)","v":130647293.15242524},{"$f":"IF(A11<=Inversion!$C$23,(1-(1+Inversion!$C$22)^-(Inversion!$C$23))/Inversion!$C$22,0)","v":108.14668747119472},1216865.7503730953,195035.42775155499,{"$f":"C11*Inversion!$C$22","v":1021830.3226215403},130452257.72467369]
[{"$f":"IF(A11<Inversion!$C$23,A11+1,\"-\")","v":7},{"$f":"IF(A12<>\"-\",DATE(YEAR(Inversion!$C$7),MONTH(Inversion!$C$7)+A12,DAY(Inversion!$C$7)),\"-\")","v":"2026-02-10"},{"$f":"IF(A12<=Inversion!$C$23,IF(H11>0,H11,0),0)","v":130452257.72467369},{"$f":"IF(A12<=Inversion!$C$23,(1-(1+Inversion!$C$22)^-(Inversion!$C$23))/Inversion!$C$22,0)","v":108.14668747119472},1216865.7503730953,196560.8563253372,{"$f":"C12*Inversion!$C$22","v":1020304.8940477581},130255696.86834835]
[{"$f":"IF(A12<Inversion!$C$23,A12+1,\"-\")","v":8},{"$f":"IF(A13<>\"-\",DATE(YEAR(Inversion!$C$7),MONTH(Inversion!$C$7)+A13,DAY(Inversion!$C$7)),\"-\")","v":"2026-03-10"},{"$f":"IF(A13<=Inversion!$C$23,IF(H12>0,H12,0),0)","v":130255696.86834835},{"$f":"IF(A13<=Inversion!$C$23,(1-(1+Inversion!$C$22)^-(Inversion!$C$23))/Inversion!$C$22,0)","v":108.14668747119472},1216865.7503730953,198098.21571784571,{"$f":"C13*Inversion!$C$22","v":1018767.5346552496},130057598.65263049]
[{"$f":"IF(A13<Inversion!$C$23,A13+1,\"-\")","v":9},{"$f":"IF(A14<>\"-\",DATE(YEAR(Inversion!$C$7),MONTH(Inversion!$C$7)+A14,DAY(Inversion!$C$7)),\"-\")","v":"2026-04-10"},{"$f":"IF(A14<=Inversion!$C$23,IF(H13>0,H13,0),0)","v":130057598.65263049},{"$f":"IF(A14<=Inversion!$C$23,(1-(1+Inversion!$C$22)^-(Inversion!$C$23))/Inversion!$C$22,0)","v":108.14668747119472},1216865.7503730953,199647.59924346954,{"$f":"C14*Inversion!$C$22","v":1017218.1511296257},129857951.05338702]
[{"$f":"IF(A14<Inversion!$C$23,A14+1,\"-\")","v":10},{"$f":"IF(A15<>\"-\",DATE(YEAR(Inversion!$C$7),MONTH(Inversion!$C$7)+A15,DAY(Inversion!$C$7)),\"-\")","v":"2026-05-10"},{"$f":"IF(A15<=Inversion!$C$23,IF(H14>0,H14,0),0)","v":129857951.05338702},{"$f":"IF(A15<=Inversion!$C$23,(1-(1+Inversion!$C$22)^-(Inversion!$C$23))/Inversion!$C$22,0)","v":108.14668747119472},1216865.7503730953,201209.10094643687,{"$f":"C15*Inversion!$C$22","v":1015656.6494266584},129656741.95244057]
[{"$f":"IF(A15<Inversion!$C$23,A15+1,\"-\")","v":11},{"$f":"IF(A16<>\"-\",DATE(YEAR(Inversion!$C$7),MONTH(Inversion!$C$7)+A16,DAY(Inversion!$C$7)),\"-\")","v":"2026-06-10"},{"$f":"IF(A16<=Inversion!$C$23,IF(H15>0,H15,0),0)","v":129656741.95244057},{"$f":"IF(A16<=Inversion!$C$23,(1-(1+Inversion!$C$22)^-(Inversion!$C$23))/Inversion!$C$22,0)","v":108.14668747119472},{"$f":"IF(C16<E15-G16,C16+G16,IF(C16=0,0,$C$6/D16))","v":1216865.7503730953},202782.81560652261,{"$f":"C16*Inversion!$C$22","v":1014082.9347665727},{"$f":"C16-F16","v":129453959.13683406}]
[{"$f":"IF(A16<Inversion!$C$23,A16+1,\"-\")","v":12},{"$f":"IF(A17<>\"-\",DATE(YEAR(Inversion!$C$7),MONTH(Inversion!$C$7)+A17,DAY(Inversion!$C$7)),\"-\")","v":"2026-07-10"},{"$f":"IF(A17<=Inversion!$C$23,IF(H16>0,H16,0),0)","v":129453959.13683406},{"$f":"IF(A17<=Inversion!$C$23,(1-(1+Inversion!$C$22)^-(Inversion!$C$23))/Inversion!$C$22,0)","v":108.14668747119472},1216865.7503730953,204368.83874480193,{"$f":"C17*Inversion!$C$22","v":1012496.9116282933},129249590.29808925]
[{"$f":"IF(A17<Inversion!$C$23,A17+1,\"-\")","v":13},{"$f":"IF(A18<>\"-\",DATE(YEAR(Inversion!$C$7),MONTH(Inversion!$C$7)+A18,DAY(Inversion!$C$7)),\"-\")","v":"2026-08-10"},{"$f":"IF(A18<=Inversion!$C$23,IF(H17>0,H17,0),0)","v":129249590.29808925},{"$f":"IF(A18<=Inversion!$C$23,(1-(1+Inversion!$C$22)^-(Inversion!$C$23))/Inversion!$C$22,0)","v":108.14668747119472},1216865.7503730953,205967.26662944828,{"$f":"C18*Inversion!$C$22","v":1010898.483743647},129043623.03145981]
[{"$f":"IF(A18<Inversion!$C$23,A18+1,\"-\")","v":14},{"$f":"IF(A19<>\"-\",DATE(YEAR(Inversion!$C$7),MONTH(Inversion!$C$7)+A19,DAY(Inversion!$C$7)),\"-\")","v":"2026-09-10"},{"$f":"IF(A19<=Inversion!$C$23,IF(H18>0,H18,0),0)","v":129043623.03145981},{"$f":"IF(A19<=Inversion!$C$23,(1-(1+Inversion!$C$22)^-(Inversion!$C$23))/Inversion!$C$22,0)","v":108.14668747119472},1216865.7503730953,207578.19628157583,{"$f":"C19*Inversion!$C$22","v":1009287.5540915194},128836044.83517823]
[{"$f":"IF(A19<Inversion!$C$23,A19+1,\"-\")","v":15},{"$f":"IF(A20<>\"-\",DATE(YEAR(Inversion!$C$7),MONTH(Inversion!$C$7)+A20,DAY(Inversion!$C$7)),\"-\")","v":"2026-10-10"},{"$f":"IF(A20<=Inversion!$C$23,IF(H19>0,H19,0),0)","v":128836044.83517823},{"$f":"IF(A20<=Inversion!$C$23,(1-(1+Inversion!$C$22)^-(Inversion!$C$23))/Inversion!$C$22,0)","v":108.14668747119472},1216865.7503730953,209201.72548112948,{"$f":"C20*Inversion!$C$22","v":1007664.0248919658},128626843.1096971]
[{"$f":"IF(A20<Inversion!$C$23,A20+1,\"-\")","v":16},{"$f":"IF(A21<>\"-\",DATE(YEAR(Inversion!$C$7),MONTH(Inversion!$C$7)+A21,DAY(Inversion!$C$7)),\"-\")","v":"2026-11-10"},{"$f":"IF(A21<=Inversion!$C$23,IF(H20>0,H20,0),0)","v":128626843.1096971},{"$f":"IF(A21<=Inversion!$C$23,(1-(1+Inversion!$C$22)^-(Inversion!$C$23))/Inversion!$C$22,0)","v":108.14668747119472},1216865.7503730953,210837.95277281897,{"$f":"C21*Inversion!$C$22","v":1006027.7976002763},128416005.15692428]
[{"$f":"IF(A21<Inversion!$C$23,A21+1,\"-\")","v":17},{"$f":"IF(A22<>\"-\",DATE(YEAR(Inversion!$C$7),MONTH(Inversion!$C$7)+A22,DAY(Inversion!$C$7)),\"-\")","v":"2026-12-10"},{"$f":"IF(A22<=Inversion!$C$23,IF(H21>0,H21,0),0)","v":128416005.15692428},{"$f":"IF(A22<=Inversion!$C$23,(1-(1+Inversion!$C$22)^-(Inversion!$C$23))/Inversion!$C$22,0)","v":108.14668747119472},1216865.7503730953,212486.97747210122,{"$f":"C22*Inversion!$C$22","v":1004378.7729009941},128203518.17945218]
[{"$f":"IF(A22<Inversion!$C$23,A22+1,\"-\")","v":18},{"$f":"IF(A23<>\"-\",DATE(YEAR(Inversion!$C$7),MONTH(Inversion!$C$7)+A23,DAY(Inversion!$C$7)),\"-\")","v":"2027-01-10"},{"$f":"IF(A23<=Inversion!$C$23,IF(H22>0,H22,0),0)","v":128203518.17945218},{"$f":"IF(A23<=Inversion!$C$23,(1-(1+Inversion!$C$22)^-(Inversion!$C$23))/Inversion!$C$22,0)","v":108.14668747119472},1216865.7503730953,214148.89967120776,{"$f":"C23*Inversion!$C$22","v":1002716.8507018875},127989369.27978097]
[{"$f":"IF(A23<Inversion!$C$23,A23+1,\"-\")","v":19},{"$f":"IF(A24<>\"-\",DATE(YEAR(Inversion!$C$7),MONTH(Inversion!$C$7)+A24,DAY(Inversion!$C$7)),\"-\")","v":"2027-02-10"},{"$f":"IF(A24<=Inversion!$C$23,IF(H23>0,H23,0),0)","v":127989369.27978097},{"$f":"IF(A24<=Inversion!$C$23,(1-(1+Inversion!$C$22)^-(Inversion!$C$23))/Inversion!$C$22,0)","v":108.14668747119472},1216865.7503730953,215823.82024522056,{"$f":"C24*Inversion!$C$22","v":1001041.9301278747},127773545.45953575]
[{"$f":"IF(A24<Inversion!$C$23,A24+1,\"-\")","v":20},{"$f":"IF(A25<>\"-\",DATE(YEAR(Inversion!$C$7),MONTH(Inversion!$C$7)+A25,DAY(Inversion!$C$7)),\"-\")","v":"2027-03-10"},{"$f":"IF(A25<=Inversion!$C$23,IF(H24>0,H24,0),0)","v":127773545.45953575},{"$f":"IF(A25<=Inversion!$C$23,(1-(1+Inversion!$C$22)^-(Inversion!$C$23))/Inversion!$C$22,0)","v":108.14668747119472},1216865.7503730953,217511.84085819486,{"$f":"C25*Inversion!$C$22","v":999353.90951490041},127556033.61867756]
[{"$f":"IF(A25<Inversion!$C$23,A25+1,\"-\")","v":21},{"$f":"IF(A26<>\"-\",DATE(YEAR(Inversion!$C$7),MONTH(Inversion!$C$7)+A26,DAY(Inversion!$C$7)),\"-\")","v":"2027-04-10"},{"$f":"IF(A26<=Inversion!$C$23,IF(H25>0,H25,0),0)","v":127556033.61867756},{"$f":"IF(A26<=Inversion!$C$23,(1-(1+Inversion!$C$22)^-(Inversion!$C$23))/Inversion!$C$22,0)","v":108.14668747119472},1216865.7503730953,219213.06396932981,{"$f":"C26*Inversion!$C$22","v":997652.68640376546},127336820.55470823]
[{"$f":"IF(A26<Inversion!$C$23,A26+1,\"-\")","v":22},{"$f":"IF(A27<>\"-\",DATE(YEAR(Inversion!$C$7),MONTH(Inversion!$C$7)+A27,DAY(Inversion!$C$7)),\"-\")","v":"2027-05-10"},{"$f":"IF(A27<=Inversion!$C$23,IF(H26>0,H26,0),0)","v":127336820.55470823},{"$f":"IF(A27<=Inversion!$C$23,(1-(1+Inversion!$C$22)^-(Inversion!$C$23))/Inversion!$C$22,0)","v":108.14668747119472},1216865.7503730953,220927.59283918783,{"$f":"C27*Inversion!$C$22","v":995938.15753390745},127115892.96186905]
[{"$f":"IF(A27<Inversion!$C$23,A27+1,\"-\")","v":23},{"$f":"IF(A28<>\"-\",DATE(YEAR(Inversion!$C$7),MONTH(Inversion!$C$7)+A28,DAY(Inversion!$C$7)),\"-\")","v":"2027-06-10"},{"$f":"IF(A28<=Inversion!$C$23,IF(H27>0,H27,0),0)","v":127115892.96186905},{"$f":"IF(A28<=Inversion!$C$23,(1-(1+Inversion!$C$22)^-(Inversion!$C$23))/Inversion!$C$22,0)","v":108.14668747119472},1216865.7503730953,222655.5315359619,{"$f":"C28*Inversion!$C$22","v":994210.21883713338},126893237.43033308]
[{"$f":"IF(A28<Inversion!$C$23,A28+1,\"-\")","v":24},{"$f":"IF(A29<>\"-\",DATE(YEAR(Inversion!$C$7),MONTH(Inversion!$C$7)+A29,DAY(Inversion!$C$7)),\"-\")","v":"2027-07-10"},{"$f":"IF(A29<=Inversion!$C$23,IF(H28>0,H28,0),0)","v":126893237.43033308},{"$f":"IF(A29<=Inversion!$C$23,(1-(1+Inversion!$C$22)^-(Inversion!$C$23))/Inversion!$C$22,0)","v":108.14668747119472},1216865.7503730953,224396.98494179267,{"$f":"C29*Inversion!$C$22","v":992468.7654313026},126668840.44539128]
[{"$f":"IF(A29<Inversion!$C$23,A29+1,\"-\")","v":25},{"$f":"IF(A30<>\"-\",DATE(YEAR(Inversion!$C$7),MONTH(Inversion!$C$7)+A30,DAY(Inversion!$C$7)),\"-\")","v":"2027-08-10"},{"$f":"IF(A30<=Inversion!$C$23,IF(H29>0,H29,0),0)","v":126668840.44539128},{"$f":"IF(A30<=Inversion!$C$23,(1-(1+Inversion!$C$22)^-(Inversion!$C$23))/Inversion!$C$22,0)","v":108.14668747119472},1216865.7503730953,226152.05875913426,{"$f":"C30*Inversion!$C$22","v":990713.69161396101},126442688.38663214]
[{"$f":"IF(A30<Inversion!$C$23,A30+1,\"-\")","v":26},{"$f":"IF(A31<>\"-\",DATE(YEAR(Inversion!$C$7),MONTH(Inversion!$C$7)+A31,DAY(Inversion!$C$7)),\"-\")","v":"2027-09-10"},{"$f":"IF(A31<=Inversion!$C$23,IF(H30>0,H30,0),0)","v":126442688.38663214},{"$f":"IF(A31<=Inversion!$C$23,(1-(1+Inversion!$C$22)^-(Inversion!$C$23))/Inversion!$C$22,0)","v":108.14668747119472},1216865.7503730953,227920.85951717035,{"$f":"C31*Inversion!$C$22","v":988944.89085592492},126214767.52711497]
[{"$f":"IF(A31<Inversion!$C$23,A31+1,\"-\")","v":27},{"$f":"IF(A32<>\"-\",DATE(YEAR(Inversion!$C$7),MONTH(Inversion!$C$7)+A32,DAY(Inversion!$C$7)),\"-\")","v":"2027-10-10"},{"$f":"IF(A32<=Inversion!$C$23,IF(H31>0,H31,0),0)","v":126214767.52711497},{"$f":"IF(A32<=Inversion!$C$23,(1-(1+Inversion!$C$22)^-(Inversion!$C$23))/Inversion!$C$22,0)","v":108.14668747119472},1216865.7503730953,229703.49457828025,{"$f":"C32*Inversion!$C$22","v":987162.25579481502},125985064.03253669]
[{"$f":"IF(A32<Inversion!$C$23,A32+1,\"-\")","v":28},{"$f":"IF(A33<>\"-\",DATE(YEAR(Inversion!$C$7),MONTH(Inversion!$C$7)+A33,DAY(Inversion!$C$7)),\"-\")","v":"2027-11-10"},{"$f":"IF(A33<=Inversion!$C$23,IF(H32>0,H32,0),0)","v":125985064.03253669},{"$f":"IF(A33<=Inversion!$C$23,(1-(1+Inversion!$C$22)^-(Inversion!$C$23))/Inversion!$C$22,0)","v":108.14668747119472},1216865.7503730953,231500.07214455551,{"$f":"C33*Inversion!$C$22","v":985365.67822853976},125753563.96039213]
[{"$f":"IF(A33<Inversion!$C$23,A33+1,\"-\")","v":29},{"$f":"IF(A34<>\"-\",DATE(YEAR(Inversion!$C$7),MONTH(Inversion!$C$7)+A34,DAY(Inversion!$C$7)),\"-\")","v":"2027-12-10"},{"$f":"IF(A34<=Inversion!$C$23,IF(H33>0,H33,0),0)","v":125753563.96039213},{"$f":"IF(A34<=Inversion!$C$23,(1-(1+Inversion!$C$22)^-(Inversion!$C$23))/Inversion!$C$22,0)","v":108.14668747119472},1216865.7503730953,233310.70126436732,{"$f":"C34*Inversion!$C$22","v":983555.04910872795},125520253.25912777]
[{"$f":"IF(A34<Inversion!$C$23,A34+1,\"-\")","v":30},{"$f":"IF(A35<>\"-\",DATE(YEAR(Inversion!$C$7),MONTH(Inversion!$C$7)+A35,DAY(Inversion!$C$7)),\"-\")","v":"2028-01-10"},{"$f":"IF(A35<=Inversion!$C$23,IF(H34>0,H34,0),0)","v":125520253.25912777},{"$f":"IF(A35<=Inversion!$C$23,(1-(1+Inversion!$C$22)^-(Inversion!$C$23))/Inversion!$C$22,0)","v":108.14668747119472},1216865.7503730953,235135.49183898629,{"$f":"C35*Inversion!$C$22","v":981730.25853410899},125285117.76728877]
[{"$f":"IF(A35<Inversion!$C$23,A35+1,\"-\")","v":31},{"$f":"IF(A36<>\"-\",DATE(YEAR(Inversion!$C$7),MONTH(Inversion!$C$7)+A36,DAY(Inversion!$C$7)),\"-\")","v":"2028-02-10"},{"$f":"IF(A36<=Inversion!$C$23,IF(H35>0,H35,0),0)","v":125285117.76728877},{"$f":"IF(A36<=Inversion!$C$23,(1-(1+Inversion!$C$22)^-(Inversion!$C$23))/Inversion!$C$22,0)","v":108.14668747119472},1216865.7503730953,236974.55462925241,{"$f":"C36*Inversion!$C$22","v":979891.19574384287},125048143.21265952]
[{"$f":"IF(A36<Inversion!$C$23,A36+1,\"-\")","v":32},{"$f":"IF(A37<>\"-\",DATE(YEAR(Inversion!$C$7),MONTH(Inversion!$C$7)+A37,DAY(Inversion!$C$7)),\"-\")","v":"2028-03-10"},{"$f":"IF(A37<=Inversion!$C$23,IF(H36>0,H36,0),0)","v":125048143.21265952},{"$f":"IF(A37<=Inversion!$C$23,(1-(1+Inversion!$C$22)^-(Inversion!$C$23))/Inversion!$C$22,0)","v":108.14668747119472},1216865.7503730953,238828.00126229809,{"$f":"C37*Inversion!$C$22","v":978037.74911079719},124809315.21139723]
[{"$f":"IF(A37<Inversion!$C$23,A37+1,\"-\")","v":33},{"$f":"IF(A38<>\"-\",DATE(YEAR(Inversion!$C$7),MONTH(Inversion!$C$7)+A38,DAY(Inversion!$C$7)),\"-\")","v":"2028-04-10"},{"$f":"IF(A38<=Inversion!$C$23,IF(H37>0,H37,0),0)","v":124809315.21139723},{"$f":"IF(A38<=Inversion!$C$23,(1-(1+Inversion!$C$22)^-(Inversion!$C$23))/Inversion!$C$22,0)","v":108.14668747119472},1216865.7503730953,240695.9442383243,{"$f":"C38*Inversion!$C$22","v":976169.80613477097},124568619.26715891]
[{"$f":"IF(A38<Inversion!$C$23,A38+1,\"-\")","v":34},{"$f":"IF(A39<>\"-\",DATE(YEAR(Inversion!$C$7),MONTH(Inversion!$C$7)+A39,DAY(Inversion!$C$7)),\"-\")","v":"2028-05-10"},{"$f":"IF(A39<=Inversion!$C$23,IF(H38>0,H38,0),0)","v":124568619.26715891},{"$f":"IF(A39<=Inversion!$C$23,(1-(1+Inversion!$C$22)^-(Inversion!$C$23))/Inversion!$C$22,0)","v":108.14668747119472},1216865.7503730953,242578.49693742837,{"$f":"C39*Inversion!$C$22","v":974287.25343566691},124326040.77022149]
[{"$f":"IF(A39<Inversion!$C$23,A39+1,\"-\")","v":35},{"$f":"IF(A40<>\"-\",DATE(YEAR(Inversion!$C$7),MONTH(Inversion!$C$7)+A40,DAY(Inversion!$C$7)),\"-\")","v":"2028-06-10"},{"$f":"IF(A40<=Inversion!$C$23,IF(H39>0,H39,0),0)","v":124326040.77022149},{"$f":"IF(A40<=Inversion!$C$23,(1-(1+Inversion!$C$22)^-(Inversion!$C$23))/Inversion!$C$22,0)","v":108.14668747119472},1216865.7503730953,244475.77362648631,{"$f":"C40*Inversion!$C$22","v":972389.97674660897},124081564.996595]
[{"$f":"IF(A40<Inversion!$C$23,A40+1,\"-\")","v":36},{"$f":"IF(A41<>\"-\",DATE(YEAR(Inversion!$C$7),MONTH(Inversion!$C$7)+A41,DAY(Inversion!$C$7)),\"-\")","v":"2028-07-10"},{"$f":"IF(A41<=Inversion!$C$23,IF(H40>0,H40,0),0)","v":124081564.996595},{"$f":"IF(A41<=Inversion!$C$23,(1-(1+Inversion!$C$22)^-(Inversion!$C$23))/Inversion!$C$22,0)","v":108.14668747119472},1216865.7503730953,246387.8894660885,{"$f":"C41*Inversion!$C$22","v":970477.86090700678},123835177.1071289]
[{"$f":"IF(A41<Inversion!$C$23,A41+1,\"-\")","v":37},{"$f":"IF(A42<>\"-\",DATE(YEAR(Inversion!$C$7),MONTH(Inversion!$C$7)+A42,DAY(Inversion!$C$7)),\"-\")","v":"2028-08-10"},{"$f":"IF(A42<=Inversion!$C$23,IF(H41>0,H41,0),0)","v":123835177.1071289},{"$f":"IF(A42<=Inversion!$C$23,(1-(1+Inversion!$C$22)^-(Inversion!$C$23))/Inversion!$C$22,0)","v":108.14668747119472},1216865.7503730953,248314.96051752963,{"$f":"C42*Inversion!$C$22","v":968550.78985556564},123586862.14661138]
[{"$f":"IF(A42<Inversion!$C$23,A42+1,\"-\")","v":38},{"$f":"IF(A43<>\"-\",DATE(YEAR(Inversion!$C$7),MONTH(Inversion!$C$7)+A43,DAY(Inversion!$C$7)),\"-\")","v":"2028-09-10"},{"$f":"IF(A43<=Inversion!$C$23,IF(H42>0,H42,0),0)","v":123586862.14661138},{"$f":"IF(A43<=Inversion!$C$23,(1-(1+Inversion!$C$22)^-(Inversion!$C$23))/Inversion!$C$22,0)","v":108.14668747119472},1216865.7503730953,250257.10374985321,{"$f":"C43*Inversion!$C$22","v":966608.64662324206},123336605.04286152]
[{"$f":"IF(A43<Inversion!$C$23,A43+1,\"-\")","v":39},{"$f":"IF(A44<>\"-\",DATE(YEAR(Inversion!$C$7),MONTH(Inversion!$C$7)+A44,DAY(Inversion!$C$7)),\"-\")","v":"2028-10-10"},{"$f":"IF(A44<=Inversion!$C$23,IF(H43>0,H43,0),0)","v":123336605.04286152},{"$f":"IF(A44<=Inversion!$C$23,(1-(1+Inversion!$C$22)^-(Inversion!$C$23))/Inversion!$C$22,0)","v":108.14668747119472},1216865.7503730953,252214.43704695185,{"$f":"C44*Inversion!$C$22","v":964651.31332614343},123084390.60581458]
[{"$f":"IF(A44<Inversion!$C$23,A44+1,\"-\")","v":40},{"$f":"IF(A45<>\"-\",DATE(YEAR(Inversion!$C$7),MONTH(Inversion!$C$7)+A45,DAY(Inversion!$C$7)),\"-\")","v":"2028-11-10"},{"$f":"IF(A45<=Inversion!$C$23,IF(H44>0,H44,0),0)","v":123084390.60581458},{"$f":"IF(A45<=Inversion!$C$23,(1-(1+Inversion!$C$22)^-(Inversion!$C$23))/Inversion!$C$22,0)","v":108.14668747119472},1216865.7503730953,254187.07921472192,{"$f":"C45*Inversion!$C$22","v":962678.67115837336},122830203.52659985]
[{"$f":"IF(A45<Inversion!$C$23,A45+1,\"-\")","v":41},{"$f":"IF(A46<>\"-\",DATE(YEAR(Inversion!$C$7),MONTH(Inversion!$C$7)+A46,DAY(Inversion!$C$7)),\"-\")","v":"2028-12-10"},{"$f":"IF(A46<=Inversion!$C$23,IF(H45>0,H45,0),0)","v":122830203.52659985},{"$f":"IF(A46<=Inversion!$C$23,(1-(1+Inversion!$C$22)^-(Inversion!$C$23))/Inversion!$C$22,0)","v":108.14668747119472},1216865.7503730953,256175.14998827537,{"$f":"C46*Inversion!$C$22","v":960690.6003848199},122574028.37661158]
[{"$f":"IF(A46<Inversion!$C$23,A46+1,\"-\")","v":42},{"$f":"IF(A47<>\"-\",DATE(YEAR(Inversion!$C$7),MONTH(Inversion!$C$7)+A47,DAY(Inversion!$C$7)),\"-\")","v":"2029-01-10"},{"$f":"IF(A47<=Inversion!$C$23,IF(H46>0,H46,0),0)","v":122574028.37661158},{"$f":"IF(A47<=Inversion!$C$23,(1-(1+Inversion!$C$22)^-(Inversion!$C$23))/Inversion!$C$22,0)","v":108.14668747119472},1216865.7503730953,258178.77003920707,{"$f":"C47*Inversion!$C$22","v":958686.9803338882},122315849.60657237]
[{"$f":"IF(A47<Inversion!$C$23,A47+1,\"-\")","v":43},{"$f":"IF(A48<>\"-\",DATE(YEAR(Inversion!$C$7),MONTH(Inversion!$C$7)+A48,DAY(Inversion!$C$7)),\"-\")","v":"2029-02-10"},{"$f":"IF(A48<=Inversion!$C$23,IF(H47>0,H47,0),0)","v":122315849.60657237},{"$f":"IF(A48<=Inversion!$C$23,(1-(1+Inversion!$C$22)^-(Inversion!$C$23))/Inversion!$C$22,0)","v":108.14668747119472},1216865.7503730953,260198.06098291907,{"$f":"C48*Inversion!$C$22","v":956667.68939017621},122055651.54558946]
[{"$f":"IF(A48<Inversion!$C$23,A48+1,\"-\")","v":44},{"$f":"IF(A49<>\"-\",DATE(YEAR(Inversion!$C$7),MONTH(Inversion!$C$7)+A49,DAY(Inversion!$C$7)),\"-\")","v":"2029-03-10"},{"$f":"IF(A49<=Inversion!$C$23,IF(H48>0,H48,0),0)","v":122055651.54558946},{"$f":"IF(A49<=Inversion!$C$23,(1-(1+Inversion!$C$22)^-(Inversion!$C$23))/Inversion!$C$22,0)","v":108.14668747119472},1216865.7503730953,262233.14538600331,{"$f":"C49*Inversion!$C$22","v":954632.60498709197},121793418.40020345]
[{"$f":"IF(A49<Inversion!$C$23,A49+1,\"-\")","v":45},{"$f":"IF(A50<>\"-\",DATE(YEAR(Inversion!$C$7),MONTH(Inversion!$C$7)+A50,DAY(Inversion!$C$7)),\"-\")","v":"2029-04-10"},{"$f":"IF(A50<=Inversion!$C$23,IF(H49>0,H49,0),0)","v":121793418.40020345},{"$f":"IF(A50<=Inversion!$C$23,(1-(1+Inversion!$C$22)^-(Inversion!$C$23))/Inversion!$C$22,0)","v":108.14668747119472},1216865.7503730953,264284.14677368011,{"$f":"C50*Inversion!$C$22","v":952581.60359941516},121529134.25342977]
[{"$f":"IF(A50<Inversion!$C$23,A50+1,\"-\")","v":46},{"$f":"IF(A51<>\"-\",DATE(YEAR(Inversion!$C$7),MONTH(Inversion!$C$7)+A51,DAY(Inversion!$C$7)),\"-\")","v":"2029-05-10"},{"$f":"IF(A51<=Inversion!$C$23,IF(H50>0,H50,0),0)","v":121529134.25342977},{"$f":"IF(A51<=Inversion!$C$23,(1-(1+Inversion!$C$22)^-(Inversion!$C$23))/Inversion!$C$22,0)","v":108.14668747119472},1216865.7503730953,266351.18963729648,{"$f":"C51*Inversion!$C$22","v":950514.56073579879},121262783.06379247]
[{"$f":"IF(A51<Inversion!$C$23,A51+1,\"-\")","v":47},{"$f":"IF(A52<>\"-\",DATE(YEAR(Inversion!$C$7),MONTH(Inversion!$C$7)+A52,DAY(Inversion!$C$7)),\"-\")","v":"2029-06-10"},{"$f":"IF(A52<=Inversion!$C$23,IF(H51>0,H51,0),0)","v":121262783.06379247},{"$f":"IF(A52<=Inversion!$C$23,(1-(1+Inversion!$C$22)^-(Inversion!$C$23))/Inversion!$C$22,0)","v":108.14668747119472},1216865.7503730953,268434.39944188215,{"$f":"C52*Inversion!$C$22","v":948431.35093121312},120994348.66435058]
[{"$f":"IF(A52<Inversion!$C$23,A52+1,\"-\")","v":48},{"$f":"IF(A53<>\"-\",DATE(YEAR(Inversion!$C$7),MONTH(Inversion!$C$7)+A53,DAY(Inversion!$C$7)),\"-\")","v":"2029-07-10"},{"$f":"IF(A53<=Inversion!$C$23,IF(H52>0,H52,0),0)","v":120994348.66435058},{"$f":"IF(A53<=Inversion!$C$23,(1-(1+Inversion!$C$22)^-(Inversion!$C$23))/Inversion!$C$22,0)","v":108.14668747119472},1216865.7503730953,270533.90263376536,{"$f":"C53*Inversion!$C$22","v":946331.84773932991},120723814.76171681]
[{"$f":"IF(A53<Inversion!$C$23,A53+1,\"-\")","v":49},{"$f":"IF(A54<>\"-\",DATE(YEAR(Inversion!$C$7),MONTH(Inversion!$C$7)+A54,DAY(Inversion!$C$7)),\"-\")","v":"2029-08-10"},{"$f":"IF(A54<=Inversion!$C$23,IF(H53>0,H53,0),0)","v":120723814.76171681},{"$f":"IF(A54<=Inversion!$C$23,(1-(1+Inversion!$C$22)^-(Inversion!$C$23))/Inversion!$C$22,0)","v":108.14668747119472},1216865.7503730953,272649.82664824766,{"$f":"C54*Inversion!$C$22","v":944215.92372484761},120451164.93506856]
[{"$f":"IF(A54<Inversion!$C$23,A54+1,\"-\")","v":50},{"$f":"IF(A55<>\"-\",DATE(YEAR(Inversion!$C$7),MONTH(Inversion!$C$7)+A55,DAY(Inversion!$C$7)),\"-\")","v":"2029-09-10"},{"$f":"IF(A55<=Inversion!$C$23,IF(H54>0,H54,0),0)","v":120451164.93506856},{"$f":"IF(A55<=Inversion!$C$23,(1-(1+Inversion!$C$22)^-(Inversion!$C$23))/Inversion!$C$22,0)","v":108.14668747119472},1216865.7503730953,274782.29991733911,{"$f":"C55*Inversion!$C$22","v":942083.45045575616},120176382.63515122]
[{"$f":"IF(A55<Inversion!$C$23,A55+1,\"-\")","v":51},{"$f":"IF(A56<>\"-\",DATE(YEAR(Inversion!$C$7),MONTH(Inversion!$C$7)+A56,DAY(Inversion!$C$7)),\"-\")","v":"2029-10-10"},{"$f":"IF(A56<=Inversion!$C$23,IF(H55>0,H55,0),0)","v":120176382.63515122},{"$f":"IF(A56<=Inversion!$C$23,(1-(1+Inversion!$C$22)^-(Inversion!$C$23))/Inversion!$C$22,0)","v":108.14668747119472},1216865.7503730953,276931.45187755337,{"$f":"C56*Inversion!$C$22","v":939934.29849554191},119899451.18327367]
[{"$f":"IF(A56<Inversion!$C$23,A56+1,\"-\")","v":52},{"$f":"IF(A57<>\"-\",DATE(YEAR(Inversion!$C$7),MONTH(Inversion!$C$7)+A57,DAY(Inversion!$C$7)),\"-\")","v":"2029-11-10"},{"$f":"IF(A57<=Inversion!$C$23,IF(H56>0,H56,0),0)","v":119899451.18327367},{"$f":"IF(A57<=Inversion!$C$23,(1-(1+Inversion!$C$22)^-(Inversion!$C$23))/Inversion!$C$22,0)","v":108.14668747119472},1216865.7503730953,279097.41297776485,{"$f":"C57*Inversion!$C$22","v":937768.33739533043},119620353.7702959]
[{"$f":"IF(A57<Inversion!$C$23,A57+1,\"-\")","v":53},{"$f":"IF(A58<>\"-\",DATE(YEAR(Inversion!$C$7),MONTH(Inversion!$C$7)+A58,DAY(Inversion!$C$7)),\"-\")","v":"2029-12-10"},{"$f":"IF(A58<=Inversion!$C$23,IF(H57>0,H57,0),0)","v":119620353.7702959},{"$f":"IF(A58<=Inversion!$C$23,(1-(1+Inversion!$C$22)^-(Inversion!$C$23))/Inversion!$C$22,0)","v":108.14668747119472},1216865.7503730953,281280.31468712667,{"$f":"C58*Inversion!$C$22","v":935585.43568596861},119339073.45560877]
[{"$f":"IF(A58<Inversion!$C$23,A58+1,\"-\")","v":54},{"$f":"IF(A59<>\"-\",DATE(YEAR(Inversion!$C$7),MONTH(Inversion!$C$7)+A59,DAY(Inversion!$C$7)),\"-\")","v":"2030-01-10"},{"$f":"IF(A59<=Inversion!$C$23,IF(H58>0,H58,0),0)","v":119339073.45560877},{"$f":"IF(A59<=Inversion!$C$23,(1-(1+Inversion!$C$22)^-(Inversion!$C$23))/Inversion!$C$22,0)","v":108.14668747119472},1216865.7503730953,283480.28950304957,{"$f":"C59*Inversion!$C$22","v":933385.4608700457},119055593.16610572]
[{"$f":"IF(A59<Inversion!$C$23,A59+1,\"-\")","v":55},{"$f":"IF(A60<>\"-\",DATE(YEAR(Inversion!$C$7),MONTH(Inversion!$C$7)+A60,DAY(Inversion!$C$7)),\"-\")","v":"2030-02-10"},{"$f":"IF(A60<=Inversion!$C$23,IF(H59>0,H59,0),0)","v":119055593.16610572},{"$f":"IF(A60<=Inversion!$C$23,(1-(1+Inversion!$C$22)^-(Inversion!$C$23))/Inversion!$C$22,0)","v":108.14668747119472},1216865.7503730953,285697.47095924558,{"$f":"C60*Inversion!$C$22","v":931168.2794138497},118769895.69514647]
[{"$f":"IF(A60<Inversion!$C$23,A60+1,\"-\")","v":56},{"$f":"IF(A61<>\"-\",DATE(YEAR(Inversion!$C$7),MONTH(Inversion!$C$7)+A61,DAY(Inversion!$C$7)),\"-\")","v":"2030-03-10"},{"$f":"IF(A61<=Inversion!$C$23,IF(H60>0,H60,0),0)","v":118769895.69514647},{"$f":"IF(A61<=Inversion!$C$23,(1-(1+Inversion!$C$22)^-(Inversion!$C$23))/Inversion!$C$22,0)","v":108.14668747119472},1216865.7503730953,287931.99363383208,{"$f":"C61*Inversion!$C$22","v":928933.75673926319},118481963.70151263]
[{"$f":"IF(A61<Inversion!$C$23,A61+1,\"-\")","v":57},{"$f":"IF(A62<>\"-\",DATE(YEAR(Inversion!$C$7),MONTH(Inversion!$C$7)+A62,DAY(Inversion!$C$7)),\"-\")","v":"2030-04-10"},{"$f":"IF(A62<=Inversion!$C$23,IF(H61>0,H61,0),0)","v":118481963.70151263},{"$f":"IF(A62<=Inversion!$C$23,(1-(1+Inversion!$C$22)^-(Inversion!$C$23))/Inversion!$C$22,0)","v":108.14668747119472},1216865.7503730953,290183.99315750122,{"$f":"C62*Inversion!$C$22","v":926681.75721559406},118191779.70835513]
[{"$f":"IF(A62<Inversion!$C$23,A62+1,\"-\")","v":58},{"$f":"IF(A63<>\"-\",DATE(YEAR(Inversion!$C$7),MONTH(Inversion!$C$7)+A63,DAY(Inversion!$C$7)),\"-\")","v":"2030-05-10"},{"$f":"IF(A63<=Inversion!$C$23,IF(H62>0,H62,0),0)","v":118191779.70835513},{"$f":"IF(A63<=Inversion!$C$23,(1-(1+Inversion!$C$22)^-(Inversion!$C$23))/Inversion!$C$22,0)","v":108.14668747119472},1216865.7503730953,292453.60622175189,{"$f":"C63*Inversion!$C$22","v":924412.14415134338},117899326.10213338]
[{"$f":"IF(A63<Inversion!$C$23,A63+1,\"-\")","v":59},{"$f":"IF(A64<>\"-\",DATE(YEAR(Inversion!$C$7),MONTH(Inversion!$C$7)+A64,DAY(Inversion!$C$7)),\"-\")","v":"2030-06-10"},{"$f":"IF(A64<=Inversion!$C$23,IF(H63>0,H63,0),0)","v":117899326.10213338},{"$f":"IF(A64<=Inversion!$C$23,(1-(1+Inversion!$C$22)^-(Inversion!$C$23))/Inversion!$C$22,0)","v":108.14668747119472},1216865.7503730953,294740.97058718698,{"$f":"C64*Inversion!$C$22","v":922124.77978590829},117604585.13154618]
[{"$f":"IF(A64<Inversion!$C$23,A64+1,\"-\")","v":60},{"$f":"IF(A65<>\"-\",DATE(YEAR(Inversion!$C$7),MONTH(Inversion!$C$7)+A65,DAY(Inversion!$C$7)),\"-\")","v":"2030-07-10"},{"$f":"IF(A65<=Inversion!$C$23,IF(H64>0,H64,0),0)","v":117604585.13154618},{"$f":"IF(A65<=Inversion!$C$23,(1-(1+Inversion!$C$22)^-(Inversion!$C$23))/Inversion!$C$22,0)","v":108.14668747119472},1216865.7503730953,297046.22509187483,{"$f":"C65*Inversion!$C$22","v":919819.52528122044},117307538.90645431]
[{"$f":"IF(A65<Inversion!$C$23,A65+1,\"-\")","v":61},{"$f":"IF(A66<>\"-\",DATE(YEAR(Inversion!$C$7),MONTH(Inversion!$C$7)+A66,DAY(Inversion!$C$7)),\"-\")","v":"2030-08-10"},{"$f":"IF(A66<=Inversion!$C$23,IF(H65>0,H65,0),0)","v":117307538.90645431},{"$f":"IF(A66<=Inversion!$C$23,(1-(1+Inversion!$C$22)^-(Inversion!$C$23))/Inversion!$C$22,0)","v":108.14668747119472},1216865.7503730953,299369.50965977635,{"$f":"C66*Inversion!$C$22","v":917496.24071331893},117008169.39679453]
[{"$f":"IF(A66<Inversion!$C$23,A66+1,\"-\")","v":62},{"$f":"IF(A67<>\"-\",DATE(YEAR(Inversion!$C$7),MONTH(Inversion!$C$7)+A67,DAY(Inversion!$C$7)),\"-\")","v":"2030-09-10"},{"$f":"IF(A67<=Inversion!$C$23,IF(H66>0,H66,0),0)","v":117008169.39679453},{"$f":"IF(A67<=Inversion!$C$23,(1-(1+Inversion!$C$22)^-(Inversion!$C$23))/Inversion!$C$22,0)","v":108.14668747119472},1216865.7503730953,301710.96530923876,{"$f":"C67*Inversion!$C$22","v":915154.78506385651},116706458.4314853]
[{"$f":"IF(A67<Inversion!$C$23,A67+1,\"-\")","v":63},{"$f":"IF(A68<>\"-\",DATE(YEAR(Inversion!$C$7),MONTH(Inversion!$C$7)+A68,DAY(Inversion!$C$7)),\"-\")","v":"2030-10-10"},{"$f":"IF(A68<=Inversion!$C$23,IF(H67>0,H67,0),0)","v":116706458.4314853},{"$f":"IF(A68<=Inversion!$C$23,(1-(1+Inversion!$C$22)^-(Inversion!$C$23))/Inversion!$C$22,0)","v":108.14668747119472},1216865.7503730953,304070.7341615539,{"$f":"C68*Inversion!$C$22","v":912795.01621154137},116402387.69732374]
[{"$f":"IF(A68<Inversion!$C$23,A68+1,\"-\")","v":64},{"$f":"IF(A69<>\"-\",DATE(YEAR(Inversion!$C$7),MONTH(Inversion!$C$7)+A69,DAY(Inversion!$C$7)),\"-\")","v":"2030-11-10"},{"$f":"IF(A69<=Inversion!$C$23,IF(H68>0,H68,0),0)","v":116402387.69732374},{"$f":"IF(A69<=Inversion!$C$23,(1-(1+Inversion!$C$22)^-(Inversion!$C$23))/Inversion!$C$22,0)","v":108.14668747119472},1216865.7503730953,306448.95944958623,{"$f":"C69*Inversion!$C$22","v":910416.79092350905},116095938.73787415]
[{"$f":"IF(A69<Inversion!$C$23,A69+1,\"-\")","v":65},{"$f":"IF(A70<>\"-\",DATE(YEAR(Inversion!$C$7),MONTH(Inversion!$C$7)+A70,DAY(Inversion!$C$7)),\"-\")","v":"2030-12-10"},{"$f":"IF(A70<=Inversion!$C$23,IF(H69>0,H69,0),0)","v":116095938.73787415},{"$f":"IF(A70<=Inversion!$C$23,(1-(1+Inversion!$C$22)^-(Inversion!$C$23))/Inversion!$C$22,0)","v":108.14668747119472},1216865.7503730953,308845.78552646539,{"$f":"C70*Inversion!$C$22","v":908019.96484662988},115787092.95234768]
[{"$f":"IF(A70<Inversion!$C$23,A70+1,\"-\")","v":66},{"$f":"IF(A71<>\"-\",DATE(YEAR(Inversion!$C$7),MONTH(Inversion!$C$7)+A71,DAY(Inversion!$C$7)),\"-\")","v":"2031-01-10"},{"$f":"IF(A71<=Inversion!$C$23,IF(H70>0,H70,0),0)","v":115787092.95234768},{"$f":"IF(A71<=Inversion!$C$23,(1-(1+Inversion!$C$22)^-(Inversion!$C$23))/Inversion!$C$22,0)","v":108.14668747119472},1216865.7503730953,311261.35787434888,{"$f":"C71*Inversion!$C$22","v":905604.3924987464},115475831.59447333]
[{"$f":"IF(A71<Inversion!$C$23,A71+1,\"-\")","v":67},{"$f":"IF(A72<>\"-\",DATE(YEAR(Inversion!$C$7),MONTH(Inversion!$C$7)+A72,DAY(Inversion!$C$7)),\"-\")","v":"2031-02-10"},{"$f":"IF(A72<=Inversion!$C$23,IF(H71>0,H71,0),0)","v":115475831.59447333},{"$f":"IF(A72<=Inversion!$C$23,(1-(1+Inversion!$C$22)^-(Inversion!$C$23))/Inversion!$C$22,0)","v":108.14668747119472},1216865.7503730953,313695.82311325194,{"$f":"C72*Inversion!$C$22","v":903169.92725984333},115162135.77136008]
[{"$f":"IF(A72<Inversion!$C$23,A72+1,\"-\")","v":68},{"$f":"IF(A73<>\"-\",DATE(YEAR(Inversion!$C$7),MONTH(Inversion!$C$7)+A73,DAY(Inversion!$C$7)),\"-\")","v":"2031-03-10"},{"$f":"IF(A73<=Inversion!$C$23,IF(H72>0,H72,0),0)","v":115162135.77136008},{"$f":"IF(A73<=Inversion!$C$23,(1-(1+Inversion!$C$22)^-(Inversion!$C$23))/Inversion!$C$22,0)","v":108.14668747119472},1216865.7503730953,{"$f":"E73-G73","v":316149.32900994795},{"$f":"C73*Inversion!$C$22","v":900716.42136314732},114845986.44235013]
[{"$f":"IF(A73<Inversion!$C$23,A73+1,\"-\")","v":69},{"$f":"IF(A74<>\"-\",DATE(YEAR(Inversion!$C$7),MONTH(Inversion!$C$7)+A74,DAY(Inversion!$C$7)),\"-\")","v":"2031-04-10"},{"$f":"IF(A74<=Inversion!$C$23,IF(H73>0,H73,0),0)","v":114845986.44235013},{"$f":"IF(A74<=Inversion!$C$23,(1-(1+Inversion!$C$22)^-(Inversion!$C$23))/Inversion!$C$22,0)","v":108.14668747119472},1216865.7503730953,318622.02448693663,{"$f":"C74*Inversion!$C$22","v":898243.72588615865},114527364.41786319]
[{"$f":"IF(A74<Inversion!$C$23,A74+1,\"-\")","v":70},{"$f":"IF(A75<>\"-\",DATE(YEAR(Inversion!$C$7),MONTH(Inversion!$C$7)+A75,DAY(Inversion!$C$7)),\"-\")","v":"2031-05-10"},{"$f":"IF(A75<=Inversion!$C$23,IF(H74>0,H74,0),0)","v":114527364.41786319},{"$f":"IF(A75<=Inversion!$C$23,(1-(1+Inversion!$C$22)^-(Inversion!$C$23))/Inversion!$C$22,0)","v":108.14668747119472},1216865.7503730953,321114.05963148398,{"$f":"C75*Inversion!$C$22","v":895751.6907416113},114206250.35823171]
[{"$f":"IF(A75<Inversion!$C$23,A75+1,\"-\")","v":71},{"$f":"IF(A76<>\"-\",DATE(YEAR(Inversion!$C$7),MONTH(Inversion!$C$7)+A76,DAY(Inversion!$C$7)),\"-\")","v":"2031-06-10"},{"$f":"IF(A76<=Inversion!$C$23,IF(H75>0,H75,0),0)","v":114206250.35823171},{"$f":"IF(A76<=Inversion!$C$23,(1-(1+Inversion!$C$22)^-(Inversion!$C$23))/Inversion!$C$22,0)","v":108.14668747119472},1216865.7503730953,323625.58570473164,{"$f":"C76*Inversion!$C$22","v":893240.16466836364},113882624.77252698]
[{"$f":"IF(A76<Inversion!$C$23,A76+1,\"-\")","v":72},{"$f":"IF(A77<>\"-\",DATE(YEAR(Inversion!$C$7),MONTH(Inversion!$C$7)+A77,DAY(Inversion!$C$7)),\"-\")","v":"2031-07-10"},{"$f":"IF(A77<=Inversion!$C$23,IF(H76>0,H76,0),0)","v":113882624.77252698},{"$f":"IF(A77<=Inversion!$C$23,(1-(1+Inversion!$C$22)^-(Inversion!$C$23))/Inversion!$C$22,0)","v":108.14668747119472},1216865.7503730953,326156.7551508788,{"$f":"C77*Inversion!$C$22","v":890708.99522221647},113556468.0173761]
[{"$f":"IF(A77<Inversion!$C$23,A77+1,\"-\")","v":73},{"$f":"IF(A78<>\"-\",DATE(YEAR(Inversion!$C$7),MONTH(Inversion!$C$7)+A78,DAY(Inversion!$C$7)),\"-\")","v":"2031-08-10"},{"$f":"IF(A78<=Inversion!$C$23,IF(H77>0,H77,0),0)","v":113556468.0173761},{"$f":"IF(A78<=Inversion!$C$23,(1-(1+Inversion!$C$22)^-(Inversion!$C$23))/Inversion!$C$22,0)","v":108.14668747119472},1216865.7503730953,328707.72160643479,{"$f":"C78*Inversion!$C$22","v":888158.02876666049},113227760.29576966]
[{"$f":"IF(A78<Inversion!$C$23,A78+1,\"-\")","v":74},{"$f":"IF(A79<>\"-\",DATE(YEAR(Inversion!$C$7),MONTH(Inversion!$C$7)+A79,DAY(Inversion!$C$7)),\"-\")","v":"2031-09-10"},{"$f":"IF(A79<=Inversion!$C$23,IF(H78>0,H78,0),0)","v":113227760.29576966},{"$f":"IF(A79<=Inversion!$C$23,(1-(1+Inversion!$C$22)^-(Inversion!$C$23))/Inversion!$C$22,0)","v":108.14668747119472},1216865.7503730953,331278.63990954438,{"$f":"C79*Inversion!$C$22","v":885587.1104635509},112896481.65586011]
[{"$f":"IF(A79<Inversion!$C$23,A79+1,\"-\")","v":75},{"$f":"IF(A80<>\"-\",DATE(YEAR(Inversion!$C$7),MONTH(Inversion!$C$7)+A80,DAY(Inversion!$C$7)),\"-\")","v":"2031-10-10"},{"$f":"IF(A80<=Inversion!$C$23,IF(H79>0,H79,0),0)","v":112896481.65586011},{"$f":"IF(A80<=Inversion!$C$23,(1-(1+Inversion!$C$22)^-(Inversion!$C$23))/Inversion!$C$22,0)","v":108.14668747119472},{"$f":"IF(C80<E79-G80,C80+G80,IF(C80=0,0,$C$6/D80))","v":1216865.7503730953},333869.6661093866,{"$f":"C80*Inversion!$C$22","v":882996.08426370868},{"$f":"C80-F80","v":112562611.98975073}]
[{"$f":"IF(A80<Inversion!$C$23,A80+1,\"-\")","v":76},{"$f":"IF(A81<>\"-\",DATE(YEAR(Inversion!$C$7),MONTH(Inversion!$C$7)+A81,DAY(Inversion!$C$7)),\"-\")","v":"2031-11-10"},{"$f":"IF(A81<=Inversion!$C$23,IF(H80>0,H80,0),0)","v":112562611.98975073},{"$f":"IF(A81<=Inversion!$C$23,(1-(1+Inversion!$C$22)^-(Inversion!$C$23))/Inversion!$C$22,0)","v":108.14668747119472},1216865.7503730953,336480.95747564605,{"$f":"C81*Inversion!$C$22","v":880384.79289744922},112226131.03227508]
[{"$f":"IF(A81<Inversion!$C$23,A81+1,\"-\")","v":77},{"$f":"IF(A82<>\"-\",DATE(YEAR(Inversion!$C$7),MONTH(Inversion!$C$7)+A82,DAY(Inversion!$C$7)),\"-\")","v":"2031-12-10"},{"$f":"IF(A82<=Inversion!$C$23,IF(H81>0,H81,0),0)","v":112226131.03227508},{"$f":"IF(A82<=Inversion!$C$23,(1-(1+Inversion!$C$22)^-(Inversion!$C$23))/Inversion!$C$22,0)","v":108.14668747119472},1216865.7503730953,339112.6725080593,{"$f":"C82*Inversion!$C$22","v":877753.07786503597},111887018.35976702]
[{"$f":"IF(A82<Inversion!$C$23,A82+1,\"-\")","v":78},{"$f":"IF(A83<>\"-\",DATE(YEAR(Inversion!$C$7),MONTH(Inversion!$C$7)+A83,DAY(Inversion!$C$7)),\"-\")","v":"2032-01-10"},{"$f":"IF(A83<=Inversion!$C$23,IF(H82>0,H82,0),0)","v":111887018.35976702},{"$f":"IF(A83<=Inversion!$C$23,(1-(1+Inversion!$C$22)^-(Inversion!$C$23))/Inversion!$C$22,0)","v":108.14668747119472},1216865.7503730953,341764.97094603523,{"$f":"C83*Inversion!$C$22","v":875100.77942706004},111545253.38882099]
[{"$f":"IF(A83<Inversion!$C$23,A83+1,\"-\")","v":79},{"$f":"IF(A84<>\"-\",DATE(YEAR(Inversion!$C$7),MONTH(Inversion!$C$7)+A84,DAY(Inversion!$C$7)),\"-\")","v":"2032-02-10"},{"$f":"IF(A84<=Inversion!$C$23,IF(H83>0,H83,0),0)","v":111545253.38882099},{"$f":"IF(A84<=Inversion!$C$23,(1-(1+Inversion!$C$22)^-(Inversion!$C$23))/Inversion!$C$22,0)","v":108.14668747119472},1216865.7503730953,344438.0137783509,{"$f":"C84*Inversion!$C$22","v":872427.73659474438},111200815.37504265]
[{"$f":"IF(A84<Inversion!$C$23,A84+1,\"-\")","v":80},{"$f":"IF(A85<>\"-\",DATE(YEAR(Inversion!$C$7),MONTH(Inversion!$C$7)+A85,DAY(Inversion!$C$7)),\"-\")","v":"2032-03-10"},{"$f":"IF(A85<=Inversion!$C$23,IF(H84>0,H84,0),0)","v":111200815.37504265},{"$f":"IF(A85<=Inversion!$C$23,(1-(1+Inversion!$C$22)^-(Inversion!$C$23))/Inversion!$C$22,0)","v":108.14668747119472},1216865.7503730953,347131.96325292299,{"$f":"C85*Inversion!$C$22","v":869733.78712017229},110853683.41178973]
[{"$f":"IF(A85<Inversion!$C$23,A85+1,\"-\")","v":81},{"$f":"IF(A86<>\"-\",DATE(YEAR(Inversion!$C$7),MONTH(Inversion!$C$7)+A86,DAY(Inversion!$C$7)),\"-\")","v":"2032-04-10"},{"$f":"IF(A86<=Inversion!$C$23,IF(H85>0,H85,0),0)","v":110853683.41178973},{"$f":"IF(A86<=Inversion!$C$23,(1-(1+Inversion!$C$22)^-(Inversion!$C$23))/Inversion!$C$22,0)","v":108.14668747119472},1216865.7503730953,349846.98288665654,{"$f":"C86*Inversion!$C$22","v":867018.76748643874},110503836.42890307]
[{"$f":"IF(A86<Inversion!$C$23,A86+1,\"-\")","v":82},{"$f":"IF(A87<>\"-\",DATE(YEAR(Inversion!$C$7),MONTH(Inversion!$C$7)+A87,DAY(Inversion!$C$7)),\"-\")","v":"2032-05-10"},{"$f":"IF(A87<=Inversion!$C$23,IF(H86>0,H86,0),0)","v":110503836.42890307},{"$f":"IF(A87<=Inversion!$C$23,(1-(1+Inversion!$C$22)^-(Inversion!$C$23))/Inversion!$C$22,0)","v":108.14668747119472},1216865.7503730953,352583.23747536947,{"$f":"C87*Inversion!$C$22","v":864282.5128977258},110151253.19142771]
[{"$f":"IF(A87<Inversion!$C$23,A87+1,\"-\")","v":83},{"$f":"IF(A88<>\"-\",DATE(YEAR(Inversion!$C$7),MONTH(Inversion!$C$7)+A88,DAY(Inversion!$C$7)),\"-\")","v":"2032-06-10"},{"$f":"IF(A88<=Inversion!$C$23,IF(H87>0,H87,0),0)","v":110151253.19142771},{"$f":"IF(A88<=Inversion!$C$23,(1-(1+Inversion!$C$22)^-(Inversion!$C$23))/Inversion!$C$22,0)","v":108.14668747119472},1216865.7503730953,355340.89310379536,{"$f":"C88*Inversion!$C$22","v":861524.85726929992},109795912.29832391]
[{"$f":"IF(A88<Inversion!$C$23,A88+1,\"-\")","v":84},{"$f":"IF(A89<>\"-\",DATE(YEAR(Inversion!$C$7),MONTH(Inversion!$C$7)+A89,DAY(Inversion!$C$7)),\"-\")","v":"2032-07-10"},{"$f":"IF(A89<=Inversion!$C$23,IF(H88>0,H88,0),0)","v":109795912.29832391},{"$f":"IF(A89<=Inversion!$C$23,(1-(1+Inversion!$C$22)^-(Inversion!$C$23))/Inversion!$C$22,0)","v":108.14668747119472},1216865.7503730953,358120.11715566495,{"$f":"C89*Inversion!$C$22","v":858745.63321743032},109437792.18116824]
[{"$f":"IF(A89<Inversion!$C$23,A89+1,\"-\")","v":85},{"$f":"IF(A90<>\"-\",DATE(YEAR(Inversion!$C$7),MONTH(Inversion!$C$7)+A90,DAY(Inversion!$C$7)),\"-\")","v":"2032-08-10"},{"$f":"IF(A90<=Inversion!$C$23,IF(H89>0,H89,0),0)","v":109437792.18116824},{"$f":"IF(A90<=Inversion!$C$23,(1-(1+Inversion!$C$22)^-(Inversion!$C$23))/Inversion!$C$22,0)","v":108.14668747119472},1216865.7503730953,360921.07832386543,{"$f":"C90*Inversion!$C$22","v":855944.67204922985},109076871.10284437]
[{"$f":"IF(A90<Inversion!$C$23,A90+1,\"-\")","v":86},{"$f":"IF(A91<>\"-\",DATE(YEAR(Inversion!$C$7),MONTH(Inversion!$C$7)+A91,DAY(Inversion!$C$7)),\"-\")","v":"2032-09-10"},{"$f":"IF(A91<=Inversion!$C$23,IF(H90>0,H90,0),0)","v":109076871.10284437},{"$f":"IF(A91<=Inversion!$C$23,(1-(1+Inversion!$C$22)^-(Inversion!$C$23))/Inversion!$C$22,0)","v":108.14668747119472},1216865.7503730953,363743.94662067981,{"$f":"C91*Inversion!$C$22","v":853121.80375241546},108713127.1562237]
[{"$f":"IF(A91<Inversion!$C$23,A91+1,\"-\")","v":87},{"$f":"IF(A92<>\"-\",DATE(YEAR(Inversion!$C$7),MONTH(Inversion!$C$7)+A92,DAY(Inversion!$C$7)),\"-\")","v":"2032-10-10"},{"$f":"IF(A92<=Inversion!$C$23,IF(H91>0,H91,0),0)","v":108713127.1562237},{"$f":"IF(A92<=Inversion!$C$23,(1-(1+Inversion!$C$22)^-(Inversion!$C$23))/Inversion!$C$22,0)","v":108.14668747119472},1216865.7503730953,366588.89338810649,{"$f":"C92*Inversion!$C$22","v":850276.85698498879},108346538.26283559]
[{"$f":"IF(A92<Inversion!$C$23,A92+1,\"-\")","v":88},{"$f":"IF(A93<>\"-\",DATE(YEAR(Inversion!$C$7),MONTH(Inversion!$C$7)+A93,DAY(Inversion!$C$7)),\"-\")","v":"2032-11-10"},{"$f":"IF(A93<=Inversion!$C$23,IF(H92>0,H92,0),0)","v":108346538.26283559},{"$f":"IF(A93<=Inversion!$C$23,(1-(1+Inversion!$C$22)^-(Inversion!$C$23))/Inversion!$C$22,0)","v":108.14668747119472},1216865.7503730953,369456.09130825941,{"$f":"C93*Inversion!$C$22","v":847409.65906483587},107977082.17152733]
[{"$f":"IF(A93<Inversion!$C$23,A93+1,\"-\")","v":89},{"$f":"IF(A94<>\"-\",DATE(YEAR(Inversion!$C$7),MONTH(Inversion!$C$7)+A94,DAY(Inversion!$C$7)),\"-\")","v":"2032-12-10"},{"$f":"IF(A94<=Inversion!$C$23,IF(H93>0,H93,0),0)","v":107977082.17152733},{"$f":"IF(A94<=Inversion!$C$23,(1-(1+Inversion!$C$22)^-(Inversion!$C$23))/Inversion!$C$22,0)","v":108.14668747119472},1216865.7503730953,372345.71441384917,{"$f":"C94*Inversion!$C$22","v":844520.0359592461},107604736.45711347]
[{"$f":"IF(A94<Inversion!$C$23,A94+1,\"-\")","v":90},{"$f":"IF(A95<>\"-\",DATE(YEAR(Inversion!$C$7),MONTH(Inversion!$C$7)+A95,DAY(Inversion!$C$7)),\"-\")","v":"2033-01-10"},{"$f":"IF(A95<=Inversion!$C$23,IF(H94>0,H94,0),0)","v":107604736.45711347},{"$f":"IF(A95<=Inversion!$C$23,(1-(1+Inversion!$C$22)^-(Inversion!$C$23))/Inversion!$C$22,0)","v":108.14668747119472},1216865.7503730953,375257.93809874682,{"$f":"C95*Inversion!$C$22","v":841607.81227434846},107229478.51901473]
[{"$f":"IF(A95<Inversion!$C$23,A95+1,\"-\")","v":91},{"$f":"IF(A96<>\"-\",DATE(YEAR(Inversion!$C$7),MONTH(Inversion!$C$7)+A96,DAY(Inversion!$C$7)),\"-\")","v":"2033-02-10"},{"$f":"IF(A96<=Inversion!$C$23,IF(H95>0,H95,0),0)","v":107229478.51901473},{"$f":"IF(A96<=Inversion!$C$23,(1-(1+Inversion!$C$22)^-(Inversion!$C$23))/Inversion!$C$22,0)","v":108.14668747119472},1216865.7503730953,378192.9391286294,{"$f":"C96*Inversion!$C$22","v":838672.81124446588},106851285.57988611]
[{"$f":"IF(A96<Inversion!$C$23,A96+1,\"-\")","v":92},{"$f":"IF(A97<>\"-\",DATE(YEAR(Inversion!$C$7),MONTH(Inversion!$C$7)+A97,DAY(Inversion!$C$7)),\"-\")","v":"2033-03-10"},{"$f":"IF(A97<=Inversion!$C$23,IF(H96>0,H96,0),0)","v":106851285.57988611},{"$f":"IF(A97<=Inversion!$C$23,(1-(1+Inversion!$C$22)^-(Inversion!$C$23))/Inversion!$C$22,0)","v":108.14668747119472},1216865.7503730953,381150.89565170952,{"$f":"C97*Inversion!$C$22","v":835714.85472138575},106470134.6842344]
[{"$f":"IF(A97<Inversion!$C$23,A97+1,\"-\")","v":93},{"$f":"IF(A98<>\"-\",DATE(YEAR(Inversion!$C$7),MONTH(Inversion!$C$7)+A98,DAY(Inversion!$C$7)),\"-\")","v":"2033-04-10"},{"$f":"IF(A98<=Inversion!$C$23,IF(H97>0,H97,0),0)","v":106470134.6842344},{"$f":"IF(A98<=Inversion!$C$23,(1-(1+Inversion!$C$22)^-(Inversion!$C$23))/Inversion!$C$22,0)","v":108.14668747119472},1216865.7503730953,384131.98720954906,{"$f":"C98*Inversion!$C$22","v":832733.76316354622},106086002.69702485]
[{"$f":"IF(A98<Inversion!$C$23,A98+1,\"-\")","v":94},{"$f":"IF(A99<>\"-\",DATE(YEAR(Inversion!$C$7),MONTH(Inversion!$C$7)+A99,DAY(Inversion!$C$7)),\"-\")","v":"2033-05-10"},{"$f":"IF(A99<=Inversion!$C$23,IF(H98>0,H98,0),0)","v":106086002.69702485},{"$f":"IF(A99<=Inversion!$C$23,(1-(1+Inversion!$C$22)^-(Inversion!$C$23))/Inversion!$C$22,0)","v":108.14668747119472},1216865.7503730953,387136.39474795584,{"$f":"C99*Inversion!$C$22","v":829729.35562513943},105698866.30227689]
[{"$f":"IF(A99<Inversion!$C$23,A99+1,\"-\")","v":95},{"$f":"IF(A100<>\"-\",DATE(YEAR(Inversion!$C$7),MONTH(Inversion!$C$7)+A100,DAY(Inversion!$C$7)),\"-\")","v":"2033-06-10"},{"$f":"IF(A100<=Inversion!$C$23,IF(H99>0,H99,0),0)","v":105698866.30227689},{"$f":"IF(A100<=Inversion!$C$23,(1-(1+Inversion!$C$22)^-(Inversion!$C$23))/Inversion!$C$22,0)","v":108.14668747119472},1216865.7503730953,390164.30062796758,{"$f":"C100*Inversion!$C$22","v":826701.4497451277},105308702.00164893]
[{"$f":"IF(A100<Inversion!$C$23,A100+1,\"-\")","v":96},{"$f":"IF(A101<>\"-\",DATE(YEAR(Inversion!$C$7),MONTH(Inversion!$C$7)+A101,DAY(Inversion!$C$7)),\"-\")","v":"2033-07-10"},{"$f":"IF(A101<=Inversion!$C$23,IF(H100>0,H100,0),0)","v":105308702.00164893},{"$f":"IF(A101<=Inversion!$C$23,(1-(1+Inversion!$C$22)^-(Inversion!$C$23))/Inversion!$C$22,0)","v":108.14668747119472},1216865.7503730953,393215.88863692037,{"$f":"C101*Inversion!$C$22","v":823649.86173617491},104915486.11301202]
[{"$f":"IF(A101<Inversion!$C$23,A101+1,\"-\")","v":97},{"$f":"IF(A102<>\"-\",DATE(YEAR(Inversion!$C$7),MONTH(Inversion!$C$7)+A102,DAY(Inversion!$C$7)),\"-\")","v":"2033-08-10"},{"$f":"IF(A102<=Inversion!$C$23,IF(H101>0,H101,0),0)","v":104915486.11301202},{"$f":"IF(A102<=Inversion!$C$23,(1-(1+Inversion!$C$22)^-(Inversion!$C$23))/Inversion!$C$22,0)","v":108.14668747119472},1216865.7503730953,396291.34399960435,{"$f":"C102*Inversion!$C$22","v":820574.40637349093},104519194.76901241]
[{"$f":"IF(A102<Inversion!$C$23,A102+1,\"-\")","v":98},{"$f":"IF(A103<>\"-\",DATE(YEAR(Inversion!$C$7),MONTH(Inversion!$C$7)+A103,DAY(Inversion!$C$7)),\"-\")","v":"2033-09-10"},{"$f":"IF(A103<=Inversion!$C$23,IF(H102>0,H102,0),0)","v":104519194.76901241},{"$f":"IF(A103<=Inversion!$C$23,(1-(1+Inversion!$C$22)^-(Inversion!$C$23))/Inversion!$C$22,0)","v":108.14668747119472},1216865.7503730953,399390.85338950646,{"$f":"C103*Inversion!$C$22","v":817474.89698358881},104119803.9156229]
[{"$f":"IF(A103<Inversion!$C$23,A103+1,\"-\")","v":99},{"$f":"IF(A104<>\"-\",DATE(YEAR(Inversion!$C$7),MONTH(Inversion!$C$7)+A104,DAY(Inversion!$C$7)),\"-\")","v":"2033-10-10"},{"$f":"IF(A104<=Inversion!$C$23,IF(H103>0,H103,0),0)","v":104119803.9156229},{"$f":"IF(A104<=Inversion!$C$23,(1-(1+Inversion!$C$22)^-(Inversion!$C$23))/Inversion!$C$22,0)","v":108.14668747119472},1216865.7503730953,402514.60494014097,{"$f":"C104*Inversion!$C$22","v":814351.1454329543},103717289.31068276]
[{"$f":"IF(A104<Inversion!$C$23,A104+1,\"-\")","v":100},{"$f":"IF(A105<>\"-\",DATE(YEAR(Inversion!$C$7),MONTH(Inversion!$C$7)+A105,DAY(Inversion!$C$7)),\"-\")","v":"2033-11-10"},{"$f":"IF(A105<=Inversion!$C$23,IF(H104>0,H104,0),0)","v":103717289.31068276},{"$f":"IF(A105<=Inversion!$C$23,(1-(1+Inversion!$C$22)^-(Inversion!$C$23))/Inversion!$C$22,0)","v":108.14668747119472},1216865.7503730953,405662.78825646895,{"$f":"C105*Inversion!$C$22","v":811202.96211662632},103311626.52242629]
[{"$f":"IF(A105<Inversion!$C$23,A105+1,\"-\")","v":101},{"$f":"IF(A106<>\"-\",DATE(YEAR(Inversion!$C$7),MONTH(Inversion!$C$7)+A106,DAY(Inversion!$C$7)),\"-\")","v":"2033-12-10"},{"$f":"IF(A106<=Inversion!$C$23,IF(H105>0,H105,0),0)","v":103311626.52242629},{"$f":"IF(A106<=Inversion!$C$23,(1-(1+Inversion!$C$22)^-(Inversion!$C$23))/Inversion!$C$22,0)","v":108.14668747119472},1216865.7503730953,408835.59442640655,{"$f":"C106*Inversion!$C$22","v":808030.15594668873},102902790.92799988]
[{"$f":"IF(A106<Inversion!$C$23,A106+1,\"-\")","v":102},{"$f":"IF(A107<>\"-\",DATE(YEAR(Inversion!$C$7),MONTH(Inversion!$C$7)+A107,DAY(Inversion!$C$7)),\"-\")","v":"2034-01-10"},{"$f":"IF(A107<=Inversion!$C$23,IF(H106>0,H106,0),0)","v":102902790.92799988},{"$f":"IF(A107<=Inversion!$C$23,(1-(1+Inversion!$C$22)^-(Inversion!$C$23))/Inversion!$C$22,0)","v":108.14668747119472},1216865.7503730953,412033.21603242413,{"$f":"C107*Inversion!$C$22","v":804832.53434067115},102490757.71196745]
[{"$f":"IF(A107<Inversion!$C$23,A107+1,\"-\")","v":103},{"$f":"IF(A108<>\"-\",DATE(YEAR(Inversion!$C$7),MONTH(Inversion!$C$7)+A108,DAY(Inversion!$C$7)),\"-\")","v":"2034-02-10"},{"$f":"IF(A108<=Inversion!$C$23,IF(H107>0,H107,0),0)","v":102490757.71196745},{"$f":"IF(A108<=Inversion!$C$23,(1-(1+Inversion!$C$22)^-(Inversion!$C$23))/Inversion!$C$22,0)","v":108.14668747119472},1216865.7503730953,415255.84716323519,{"$f":"C108*Inversion!$C$22","v":801609.90320986009},102075501.86480422]
[{"$f":"IF(A108<Inversion!$C$23,A108+1,\"-\")","v":104},{"$f":"IF(A109<>\"-\",DATE(YEAR(Inversion!$C$7),MONTH(Inversion!$C$7)+A109,DAY(Inversion!$C$7)),\"-\")","v":"2034-03-10"},{"$f":"IF(A109<=Inversion!$C$23,IF(H108>0,H108,0),0)","v":102075501.86480422},{"$f":"IF(A109<=Inversion!$C$23,(1-(1+Inversion!$C$22)^-(Inversion!$C$23))/Inversion!$C$22,0)","v":108.14668747119472},1216865.7503730953,418503.68342557724,{"$f":"C109*Inversion!$C$22","v":798362.06694751803},101656998.18137865]
[{"$f":"IF(A109<Inversion!$C$23,A109+1,\"-\")","v":105},{"$f":"IF(A110<>\"-\",DATE(YEAR(Inversion!$C$7),MONTH(Inversion!$C$7)+A110,DAY(Inversion!$C$7)),\"-\")","v":"2034-04-10"},{"$f":"IF(A110<=Inversion!$C$23,IF(H109>0,H109,0),0)","v":101656998.18137865},{"$f":"IF(A110<=Inversion!$C$23,(1-(1+Inversion!$C$22)^-(Inversion!$C$23))/Inversion!$C$22,0)","v":108.14668747119472},1216865.7503730953,421776.92195608502,{"$f":"C110*Inversion!$C$22","v":795088.82841701026},101235221.25942256]
[{"$f":"IF(A110<Inversion!$C$23,A110+1,\"-\")","v":106},{"$f":"IF(A111<>\"-\",DATE(YEAR(Inversion!$C$7),MONTH(Inversion!$C$7)+A111,DAY(Inversion!$C$7)),\"-\")","v":"2034-05-10"},{"$f":"IF(A111<=Inversion!$C$23,IF(H110>0,H110,0),0)","v":101235221.25942256},{"$f":"IF(A111<=Inversion!$C$23,(1-(1+Inversion!$C$22)^-(Inversion!$C$23))/Inversion!$C$22,0)","v":108.14668747119472},1216865.7503730953,425075.76143325574,{"$f":"C111*Inversion!$C$22","v":791789.98893983953},100810145.4979893]
[{"$f":"IF(A111<Inversion!$C$23,A111+1,\"-\")","v":107},{"$f":"IF(A112<>\"-\",DATE(YEAR(Inversion!$C$7),MONTH(Inversion!$C$7)+A112,DAY(Inversion!$C$7)),\"-\")","v":"2034-06-10"},{"$f":"IF(A112<=Inversion!$C$23,IF(H111>0,H111,0),0)","v":100810145.4979893},{"$f":"IF(A112<=Inversion!$C$23,(1-(1+Inversion!$C$22)^-(Inversion!$C$23))/Inversion!$C$22,0)","v":108.14668747119472},1216865.7503730953,428400.4020895086,{"$f":"C112*Inversion!$C$22","v":788465.34828358667},100381745.09589979]
[{"$f":"IF(A112<Inversion!$C$23,A112+1,\"-\")","v":108},{"$f":"IF(A113<>\"-\",DATE(YEAR(Inversion!$C$7),MONTH(Inversion!$C$7)+A113,DAY(Inversion!$C$7)),\"-\")","v":"2034-07-10"},{"$f":"IF(A113<=Inversion!$C$23,IF(H112>0,H112,0),0)","v":100381745.09589979},{"$f":"IF(A113<=Inversion!$C$23,(1-(1+Inversion!$C$22)^-(Inversion!$C$23))/Inversion!$C$22,0)","v":108.14668747119472},1216865.7503730953,431751.04572333884,{"$f":"C113*Inversion!$C$22","v":785114.70464975643},99949994.050176457]
[{"$f":"IF(A113<Inversion!$C$23,A113+1,\"-\")","v":109},{"$f":"IF(A114<>\"-\",DATE(YEAR(Inversion!$C$7),MONTH(Inversion!$C$7)+A114,DAY(Inversion!$C$7)),\"-\")","v":"2034-08-10"},{"$f":"IF(A114<=Inversion!$C$23,IF(H113>0,H113,0),0)","v":99949994.050176457},{"$f":"IF(A114<=Inversion!$C$23,(1-(1+Inversion!$C$22)^-(Inversion!$C$23))/Inversion!$C$22,0)","v":108.14668747119472},1216865.7503730953,435127.89571156586,{"$f":"C114*Inversion!$C$22","v":781737.85466152942},99514866.154464886]
[{"$f":"IF(A114<Inversion!$C$23,A114+1,\"-\")","v":110},{"$f":"IF(A115<>\"-\",DATE(YEAR(Inversion!$C$7),MONTH(Inversion!$C$7)+A115,DAY(Inversion!$C$7)),\"-\")","v":"2034-09-10"},{"$f":"IF(A115<=Inversion!$C$23,IF(H114>0,H114,0),0)","v":99514866.154464886},{"$f":"IF(A115<=Inversion!$C$23,(1-(1+Inversion!$C$22)^-(Inversion!$C$23))/Inversion!$C$22,0)","v":108.14668747119472},1216865.7503730953,438531.1570216784,{"$f":"C115*Inversion!$C$22","v":778334.59335141687},99076334.997443214]
[{"$f":"IF(A115<Inversion!$C$23,A115+1,\"-\")","v":111},{"$f":"IF(A116<>\"-\",DATE(YEAR(Inversion!$C$7),MONTH(Inversion!$C$7)+A116,DAY(Inversion!$C$7)),\"-\")","v":"2034-10-10"},{"$f":"IF(A116<=Inversion!$C$23,IF(H115>0,H115,0),0)","v":99076334.997443214},{"$f":"IF(A116<=Inversion!$C$23,(1-(1+Inversion!$C$22)^-(Inversion!$C$23))/Inversion!$C$22,0)","v":108.14668747119472},1216865.7503730953,441961.03622427513,{"$f":"C116*Inversion!$C$22","v":774904.71414882015},98634373.961218938]
[{"$f":"IF(A116<Inversion!$C$23,A116+1,\"-\")","v":112},{"$f":"IF(A117<>\"-\",DATE(YEAR(Inversion!$C$7),MONTH(Inversion!$C$7)+A117,DAY(Inversion!$C$7)),\"-\")","v":"2034-11-10"},{"$f":"IF(A117<=Inversion!$C$23,IF(H116>0,H116,0),0)","v":98634373.961218938},{"$f":"IF(A117<=Inversion!$C$23,(1-(1+Inversion!$C$22)^-(Inversion!$C$23))/Inversion!$C$22,0)","v":108.14668747119472},1216865.7503730953,445417.74150560307,{"$f":"C117*Inversion!$C$22","v":771448.0088674922},98188956.21971333]
[{"$f":"IF(A117<Inversion!$C$23,A117+1,\"-\")","v":113},{"$f":"IF(A118<>\"-\",DATE(YEAR(Inversion!$C$7),MONTH(Inversion!$C$7)+A118,DAY(Inversion!$C$7)),\"-\")","v":"2034-12-10"},{"$f":"IF(A118<=Inversion!$C$23,IF(H117>0,H117,0),0)","v":98188956.21971333},{"$f":"IF(A118<=Inversion!$C$23,(1-(1+Inversion!$C$22)^-(Inversion!$C$23))/Inversion!$C$22,0)","v":108.14668747119472},1216865.7503730953,448901.48268019466,{"$f":"C118*Inversion!$C$22","v":767964.26769290061},97740054.737033129]
[{"$f":"IF(A118<Inversion!$C$23,A118+1,\"-\")","v":114},{"$f":"IF(A119<>\"-\",DATE(YEAR(Inversion!$C$7),MONTH(Inversion!$C$7)+A119,DAY(Inversion!$C$7)),\"-\")","v":"2035-01-10"},{"$f":"IF(A119<=Inversion!$C$23,IF(H118>0,H118,0),0)","v":97740054.737033129},{"$f":"IF(A119<=Inversion!$C$23,(1-(1+Inversion!$C$22)^-(Inversion!$C$23))/Inversion!$C$22,0)","v":108.14668747119472},1216865.7503730953,452412.47120360204,{"$f":"C119*Inversion!$C$22","v":764453.27916949324},97287642.265829533]
[{"$f":"IF(A119<Inversion!$C$23,A119+1,\"-\")","v":115},{"$f":"IF(A120<>\"-\",DATE(YEAR(Inversion!$C$7),MONTH(Inversion!$C$7)+A120,DAY(Inversion!$C$7)),\"-\")","v":"2035-02-10"},{"$f":"IF(A120<=Inversion!$C$23,IF(H119>0,H119,0),0)","v":97287642.265829533},{"$f":"IF(A120<=Inversion!$C$23,(1-(1+Inversion!$C$22)^-(Inversion!$C$23))/Inversion!$C$22,0)","v":108.14668747119472},1216865.7503730953,455950.92018523242,{"$f":"C120*Inversion!$C$22","v":760914.83018786286},96831691.345644295]
[{"$f":"IF(A120<Inversion!$C$23,A120+1,\"-\")","v":116},{"$f":"IF(A121<>\"-\",DATE(YEAR(Inversion!$C$7),MONTH(Inversion!$C$7)+A121,DAY(Inversion!$C$7)),\"-\")","v":"2035-03-10"},{"$f":"IF(A121<=Inversion!$C$23,IF(H120>0,H120,0),0)","v":96831691.345644295},{"$f":"IF(A121<=Inversion!$C$23,(1-(1+Inversion!$C$22)^-(Inversion!$C$23))/Inversion!$C$22,0)","v":108.14668747119472},1216865.7503730953,459517.04440128419,{"$f":"C121*Inversion!$C$22","v":757348.70597181108},96372174.301243007]
[{"$f":"IF(A121<Inversion!$C$23,A121+1,\"-\")","v":117},{"$f":"IF(A122<>\"-\",DATE(YEAR(Inversion!$C$7),MONTH(Inversion!$C$7)+A122,DAY(Inversion!$C$7)),\"-\")","v":"2035-04-10"},{"$f":"IF(A122<=Inversion!$C$23,IF(H121>0,H121,0),0)","v":96372174.301243007},{"$f":"IF(A122<=Inversion!$C$23,(1-(1+Inversion!$C$22)^-(Inversion!$C$23))/Inversion!$C$22,0)","v":108.14668747119472},1216865.7503730953,463111.06030778168,{"$f":"C122*Inversion!$C$22","v":753754.6900653136},95909063.240935221]
[{"$f":"IF(A122<Inversion!$C$23,A122+1,\"-\")","v":118},{"$f":"IF(A123<>\"-\",DATE(YEAR(Inversion!$C$7),MONTH(Inversion!$C$7)+A123,DAY(Inversion!$C$7)),\"-\")","v":"2035-05-10"},{"$f":"IF(A123<=Inversion!$C$23,IF(H122>0,H122,0),0)","v":95909063.240935221},{"$f":"IF(A123<=Inversion!$C$23,(1-(1+Inversion!$C$22)^-(Inversion!$C$23))/Inversion!$C$22,0)","v":108.14668747119472},1216865.7503730953,466733.18605371518,{"$f":"C123*Inversion!$C$22","v":750132.56431938009},95442330.054881513]
[{"$f":"IF(A123<Inversion!$C$23,A123+1,\"-\")","v":119},{"$f":"IF(A124<>\"-\",DATE(YEAR(Inversion!$C$7),MONTH(Inversion!$C$7)+A124,DAY(Inversion!$C$7)),\"-\")","v":"2035-06-10"},{"$f":"IF(A124<=Inversion!$C$23,IF(H123>0,H123,0),0)","v":95442330.054881513},{"$f":"IF(A124<=Inversion!$C$23,(1-(1+Inversion!$C$22)^-(Inversion!$C$23))/Inversion!$C$22,0)","v":108.14668747119472},1216865.7503730953,470383.64149428078,{"$f":"C124*Inversion!$C$22","v":746482.1088788145},94971946.413387239]
[{"$f":"IF(A124<Inversion!$C$23,A124+1,\"-\")","v":120},{"$f":"IF(A125<>\"-\",DATE(YEAR(Inversion!$C$7),MONTH(Inversion!$C$7)+A125,DAY(Inversion!$C$7)),\"-\")","v":"2035-07-10"},{"$f":"IF(A125<=Inversion!$C$23,IF(H124>0,H124,0),0)","v":94971946.413387239},{"$f":"IF(A125<=Inversion!$C$23,(1-(1+Inversion!$C$22)^-(Inversion!$C$23))/Inversion!$C$22,0)","v":108.14668747119472},1216865.7503730953,474062.64820422628,{"$f":"C125*Inversion!$C$22","v":742803.10216886899},94497883.765183017]
[{"$f":"IF(A125<Inversion!$C$23,A125+1,\"-\")","v":121},{"$f":"IF(A126<>\"-\",DATE(YEAR(Inversion!$C$7),MONTH(Inversion!$C$7)+A126,DAY(Inversion!$C$7)),\"-\")","v":"2035-08-10"},{"$f":"IF(A126<=Inversion!$C$23,IF(H125>0,H125,0),0)","v":94497883.765183017},{"$f":"IF(A126<=Inversion!$C$23,(1-(1+Inversion!$C$22)^-(Inversion!$C$23))/Inversion!$C$22,0)","v":108.14668747119472},1216865.7503730953,477770.42949129955,{"$f":"C126*Inversion!$C$22","v":739095.32088179572},94020113.33569172]
[{"$f":"IF(A126<Inversion!$C$23,A126+1,\"-\")","v":122},{"$f":"IF(A127<>\"-\",DATE(YEAR(Inversion!$C$7),MONTH(Inversion!$C$7)+A127,DAY(Inversion!$C$7)),\"-\")","v":"2035-09-10"},{"$f":"IF(A127<=Inversion!$C$23,IF(H126>0,H126,0),0)","v":94020113.33569172},{"$f":"IF(A127<=Inversion!$C$23,(1-(1+Inversion!$C$22)^-(Inversion!$C$23))/Inversion!$C$22,0)","v":108.14668747119472},1216865.7503730953,481507.21040980308,{"$f":"C127*Inversion!$C$22","v":735358.53996329219},93538606.125281915]
[{"$f":"IF(A127<Inversion!$C$23,A127+1,\"-\")","v":123},{"$f":"IF(A128<>\"-\",DATE(YEAR(Inversion!$C$7),MONTH(Inversion!$C$7)+A128,DAY(Inversion!$C$7)),\"-\")","v":"2035-10-10"},{"$f":"IF(A128<=Inversion!$C$23,IF(H127>0,H127,0),0)","v":93538606.125281915},{"$f":"IF(A128<=Inversion!$C$23,(1-(1+Inversion!$C$22)^-(Inversion!$C$23))/Inversion!$C$22,0)","v":108.14668747119472},1216865.7503730953,485273.21777425427,{"$f":"C128*Inversion!$C$22","v":731592.532598841},93053332.907507658]
[{"$f":"IF(A128<Inversion!$C$23,A128+1,\"-\")","v":124},{"$f":"IF(A129<>\"-\",DATE(YEAR(Inversion!$C$7),MONTH(Inversion!$C$7)+A129,DAY(Inversion!$C$7)),\"-\")","v":"2035-11-10"},{"$f":"IF(A129<=Inversion!$C$23,IF(H128>0,H128,0),0)","v":93053332.907507658},{"$f":"IF(A129<=Inversion!$C$23,(1-(1+Inversion!$C$22)^-(Inversion!$C$23))/Inversion!$C$22,0)","v":108.14668747119472},1216865.7503730953,489068.68017315248,{"$f":"C129*Inversion!$C$22","v":727797.0701999428},92564264.227334499]
[{"$f":"IF(A129<Inversion!$C$23,A129+1,\"-\")","v":125},{"$f":"IF(A130<>\"-\",DATE(YEAR(Inversion!$C$7),MONTH(Inversion!$C$7)+A130,DAY(Inversion!$C$7)),\"-\")","v":"2035-12-10"},{"$f":"IF(A130<=Inversion!$C$23,IF(H129>0,H129,0),0)","v":92564264.227334499},{"$f":"IF(A130<=Inversion!$C$23,(1-(1+Inversion!$C$22)^-(Inversion!$C$23))/Inversion!$C$22,0)","v":108.14668747119472},1216865.7503730953,492893.82798285398,{"$f":"C130*Inversion!$C$22","v":723971.92239024129},92071370.399351642]
[{"$f":"IF(A130<Inversion!$C$23,A130+1,\"-\")","v":126},{"$f":"IF(A131<>\"-\",DATE(YEAR(Inversion!$C$7),MONTH(Inversion!$C$7)+A131,DAY(Inversion!$C$7)),\"-\")","v":"2036-01-10"},{"$f":"IF(A131<=Inversion!$C$23,IF(H130>0,H130,0),0)","v":92071370.399351642},{"$f":"IF(A131<=Inversion!$C$23,(1-(1+Inversion!$C$22)^-(Inversion!$C$23))/Inversion!$C$22,0)","v":108.14668747119472},1216865.7503730953,496748.89338155522,{"$f":"C131*Inversion!$C$22","v":720116.85699154006},91574621.505970091]
[{"$f":"IF(A131<Inversion!$C$23,A131+1,\"-\")","v":127},{"$f":"IF(A132<>\"-\",DATE(YEAR(Inversion!$C$7),MONTH(Inversion!$C$7)+A132,DAY(Inversion!$C$7)),\"-\")","v":"2036-02-10"},{"$f":"IF(A132<=Inversion!$C$23,IF(H131>0,H131,0),0)","v":91574621.505970091},{"$f":"IF(A132<=Inversion!$C$23,(1-(1+Inversion!$C$22)^-(Inversion!$C$23))/Inversion!$C$22,0)","v":108.14668747119472},1216865.7503730953,500634.11036338552,{"$f":"C132*Inversion!$C$22","v":716231.64000970975},91073987.395606712]
[{"$f":"IF(A132<Inversion!$C$23,A132+1,\"-\")","v":128},{"$f":"IF(A133<>\"-\",DATE(YEAR(Inversion!$C$7),MONTH(Inversion!$C$7)+A133,DAY(Inversion!$C$7)),\"-\")","v":"2036-03-10"},{"$f":"IF(A133<=Inversion!$C$23,IF(H132>0,H132,0),0)","v":91073987.395606712},{"$f":"IF(A133<=Inversion!$C$23,(1-(1+Inversion!$C$22)^-(Inversion!$C$23))/Inversion!$C$22,0)","v":108.14668747119472},1216865.7503730953,504549.71475261019,{"$f":"C133*Inversion!$C$22","v":712316.03562048508},90569437.680854097]
[{"$f":"IF(A133<Inversion!$C$23,A133+1,\"-\")","v":129},{"$f":"IF(A134<>\"-\",DATE(YEAR(Inversion!$C$7),MONTH(Inversion!$C$7)+A134,DAY(Inversion!$C$7)),\"-\")","v":"2036-04-10"},{"$f":"IF(A134<=Inversion!$C$23,IF(H133>0,H133,0),0)","v":90569437.680854097},{"$f":"IF(A134<=Inversion!$C$23,(1-(1+Inversion!$C$22)^-(Inversion!$C$23))/Inversion!$C$22,0)","v":108.14668747119472},1216865.7503730953,508495.94421794452,{"$f":"C134*Inversion!$C$22","v":708369.80615515076},90060941.736636147]
[{"$f":"IF(A134<Inversion!$C$23,A134+1,\"-\")","v":130},{"$f":"IF(A135<>\"-\",DATE(YEAR(Inversion!$C$7),MONTH(Inversion!$C$7)+A135,DAY(Inversion!$C$7)),\"-\")","v":"2036-05-10"},{"$f":"IF(A135<=Inversion!$C$23,IF(H134>0,H134,0),0)","v":90060941.736636147},{"$f":"IF(A135<=Inversion!$C$23,(1-(1+Inversion!$C$22)^-(Inversion!$C$23))/Inversion!$C$22,0)","v":108.14668747119472},1216865.7503730953,512473.03828697943,{"$f":"C135*Inversion!$C$22","v":704392.71208611585},89548468.698349163]
[{"$f":"IF(A135<Inversion!$C$23,A135+1,\"-\")","v":131},{"$f":"IF(A136<>\"-\",DATE(YEAR(Inversion!$C$7),MONTH(Inversion!$C$7)+A136,DAY(Inversion!$C$7)),\"-\")","v":"2036-06-10"},{"$f":"IF(A136<=Inversion!$C$23,IF(H135>0,H135,0),0)","v":89548468.698349163},{"$f":"IF(A136<=Inversion!$C$23,(1-(1+Inversion!$C$22)^-(Inversion!$C$23))/Inversion!$C$22,0)","v":108.14668747119472},1216865.7503730953,516481.23836072057,{"$f":"C136*Inversion!$C$22","v":700384.5120123747},89031987.459988445]
[{"$f":"IF(A136<Inversion!$C$23,A136+1,\"-\")","v":132},{"$f":"IF(A137<>\"-\",DATE(YEAR(Inversion!$C$7),MONTH(Inversion!$C$7)+A137,DAY(Inversion!$C$7)),\"-\")","v":"2036-07-10"},{"$f":"IF(A137<=Inversion!$C$23,IF(H136>0,H136,0),0)","v":89031987.459988445},{"$f":"IF(A137<=Inversion!$C$23,(1-(1+Inversion!$C$22)^-(Inversion!$C$23))/Inversion!$C$22,0)","v":108.14668747119472},1216865.7503730953,{"$f":"E137-G137","v":520520.78772824071},{"$f":"C137*Inversion!$C$22","v":696344.96264485456},88511466.67226021]
[{"$f":"IF(A137<Inversion!$C$23,A137+1,\"-\")","v":133},{"$f":"IF(A138<>\"-\",DATE(YEAR(Inversion!$C$7),MONTH(Inversion!$C$7)+A138,DAY(Inversion!$C$7)),\"-\")","v":"2036-08-10"},{"$f":"IF(A138<=Inversion!$C$23,IF(H137>0,H137,0),0)","v":88511466.67226021},{"$f":"IF(A138<=Inversion!$C$23,(1-(1+Inversion!$C$22)^-(Inversion!$C$23))/Inversion!$C$22,0)","v":108.14668747119472},1216865.7503730953,524591.93158144725,{"$f":"C138*Inversion!$C$22","v":692273.81879164802},87986874.740678757]
[{"$f":"IF(A138<Inversion!$C$23,A138+1,\"-\")","v":134},{"$f":"IF(A139<>\"-\",DATE(YEAR(Inversion!$C$7),MONTH(Inversion!$C$7)+A139,DAY(Inversion!$C$7)),\"-\")","v":"2036-09-10"},{"$f":"IF(A139<=Inversion!$C$23,IF(H138>0,H138,0),0)","v":87986874.740678757},{"$f":"IF(A139<=Inversion!$C$23,(1-(1+Inversion!$C$22)^-(Inversion!$C$23))/Inversion!$C$22,0)","v":108.14668747119472},1216865.7503730953,528694.91702996416,{"$f":"C139*Inversion!$C$22","v":688170.83334313112},87458179.823648795]
[{"$f":"IF(A139<Inversion!$C$23,A139+1,\"-\")","v":135},{"$f":"IF(A140<>\"-\",DATE(YEAR(Inversion!$C$7),MONTH(Inversion!$C$7)+A140,DAY(Inversion!$C$7)),\"-\")","v":"2036-10-10"},{"$f":"IF(A140<=Inversion!$C$23,IF(H139>0,H139,0),0)","v":87458179.823648795},{"$f":"IF(A140<=Inversion!$C$23,(1-(1+Inversion!$C$22)^-(Inversion!$C$23))/Inversion!$C$22,0)","v":108.14668747119472},1216865.7503730953,532829.99311613152,{"$f":"C140*Inversion!$C$22","v":684035.75725696376},86925349.83053267]
[{"$f":"IF(A140<Inversion!$C$23,A140+1,\"-\")","v":136},{"$f":"IF(A141<>\"-\",DATE(YEAR(Inversion!$C$7),MONTH(Inversion!$C$7)+A141,DAY(Inversion!$C$7)),\"-\")","v":"2036-11-10"},{"$f":"IF(A141<=Inversion!$C$23,IF(H140>0,H140,0),0)","v":86925349.83053267},{"$f":"IF(A141<=Inversion!$C$23,(1-(1+Inversion!$C$22)^-(Inversion!$C$23))/Inversion!$C$22,0)","v":108.14668747119472},1216865.7503730953,536997.41083012172,{"$f":"C141*Inversion!$C$22","v":679868.33954297355},86388352.419702545]
[{"$f":"IF(A141<Inversion!$C$23,A141+1,\"-\")","v":137},{"$f":"IF(A142<>\"-\",DATE(YEAR(Inversion!$C$7),MONTH(Inversion!$C$7)+A142,DAY(Inversion!$C$7)),\"-\")","v":"2036-12-10"},{"$f":"IF(A142<=Inversion!$C$23,IF(H141>0,H141,0),0)","v":86388352.419702545},{"$f":"IF(A142<=Inversion!$C$23,(1-(1+Inversion!$C$22)^-(Inversion!$C$23))/Inversion!$C$22,0)","v":108.14668747119472},1216865.7503730953,541197.42312517401,{"$f":"C142*Inversion!$C$22","v":675668.32724792126},85847154.996577367]
[{"$f":"IF(A142<Inversion!$C$23,A142+1,\"-\")","v":138},{"$f":"IF(A143<>\"-\",DATE(YEAR(Inversion!$C$7),MONTH(Inversion!$C$7)+A143,DAY(Inversion!$C$7)),\"-\")","v":"2037-01-10"},{"$f":"IF(A143<=Inversion!$C$23,IF(H142>0,H142,0),0)","v":85847154.996577367},{"$f":"IF(A143<=Inversion!$C$23,(1-(1+Inversion!$C$22)^-(Inversion!$C$23))/Inversion!$C$22,0)","v":108.14668747119472},1216865.7503730953,545430.28493294795,{"$f":"C143*Inversion!$C$22","v":671435.46544014732},85301724.711644426]
[{"$f":"IF(A143<Inversion!$C$23,A143+1,\"-\")","v":139},{"$f":"IF(A144<>\"-\",DATE(YEAR(Inversion!$C$7),MONTH(Inversion!$C$7)+A144,DAY(Inversion!$C$7)),\"-\")","v":"2037-02-10"},{"$f":"IF(A144<=Inversion!$C$23,IF(H143>0,H143,0),0)","v":85301724.711644426},{"$f":"IF(A144<=Inversion!$C$23,(1-(1+Inversion!$C$22)^-(Inversion!$C$23))/Inversion!$C$22,0)","v":108.14668747119472},{"$f":"IF(C144<E143-G144,C144+G144,IF(C144=0,0,$C$6/D144))","v":1216865.7503730953},549696.25317899755,{"$f":"C144*Inversion!$C$22","v":667169.49719409773},{"$f":"C144-F144","v":84752028.458465427}]
[{"$f":"IF(A144<Inversion!$C$23,A144+1,\"-\")","v":140},{"$f":"IF(A145<>\"-\",DATE(YEAR(Inversion!$C$7),MONTH(Inversion!$C$7)+A145,DAY(Inversion!$C$7)),\"-\")","v":"2037-03-10"},{"$f":"IF(A145<=Inversion!$C$23,IF(H144>0,H144,0),0)","v":84752028.458465427},{"$f":"IF(A145<=Inversion!$C$23,(1-(1+Inversion!$C$22)^-(Inversion!$C$23))/Inversion!$C$22,0)","v":108.14668747119472},1216865.7503730953,553995.58679836628,{"$f":"C145*Inversion!$C$22","v":662870.163574729},84198032.871667057]
[{"$f":"IF(A145<Inversion!$C$23,A145+1,\"-\")","v":141},{"$f":"IF(A146<>\"-\",DATE(YEAR(Inversion!$C$7),MONTH(Inversion!$C$7)+A146,DAY(Inversion!$C$7)),\"-\")","v":"2037-04-10"},{"$f":"IF(A146<=Inversion!$C$23,IF(H145>0,H145,0),0)","v":84198032.871667057},{"$f":"IF(A146<=Inversion!$C$23,(1-(1+Inversion!$C$22)^-(Inversion!$C$23))/Inversion!$C$22,0)","v":108.14668747119472},1216865.7503730953,558328.54675130337,{"$f":"C146*Inversion!$C$22","v":658537.20362179191},83639704.324915752]
[{"$f":"IF(A146<Inversion!$C$23,A146+1,\"-\")","v":142},{"$f":"IF(A147<>\"-\",DATE(YEAR(Inversion!$C$7),MONTH(Inversion!$C$7)+A147,DAY(Inversion!$C$7)),\"-\")","v":"2037-05-10"},{"$f":"IF(A147<=Inversion!$C$23,IF(H146>0,H146,0),0)","v":83639704.324915752},{"$f":"IF(A147<=Inversion!$C$23,(1-(1+Inversion!$C$22)^-(Inversion!$C$23))/Inversion!$C$22,0)","v":108.14668747119472},1216865.7503730953,562695.39603910362,{"$f":"C147*Inversion!$C$22","v":654170.35433399165},83077008.928876653]
[{"$f":"IF(A147<Inversion!$C$23,A147+1,\"-\")","v":143},{"$f":"IF(A148<>\"-\",DATE(YEAR(Inversion!$C$7),MONTH(Inversion!$C$7)+A148,DAY(Inversion!$C$7)),\"-\")","v":"2037-06-10"},{"$f":"IF(A148<=Inversion!$C$23,IF(H147>0,H147,0),0)","v":83077008.928876653},{"$f":"IF(A148<=Inversion!$C$23,(1-(1+Inversion!$C$22)^-(Inversion!$C$23))/Inversion!$C$22,0)","v":108.14668747119472},1216865.7503730953,567096.39972007135,{"$f":"C148*Inversion!$C$22","v":649769.35065302392},82509912.529156581]
[{"$f":"IF(A148<Inversion!$C$23,A148+1,\"-\")","v":144},{"$f":"IF(A149<>\"-\",DATE(YEAR(Inversion!$C$7),MONTH(Inversion!$C$7)+A149,DAY(Inversion!$C$7)),\"-\")","v":"2037-07-10"},{"$f":"IF(A149<=Inversion!$C$23,IF(H148>0,H148,0),0)","v":82509912.529156581},{"$f":"IF(A149<=Inversion!$C$23,(1-(1+Inversion!$C$22)^-(Inversion!$C$23))/Inversion!$C$22,0)","v":108.14668747119472},1216865.7503730953,571531.82492560858,{"$f":"C149*Inversion!$C$22","v":645333.92544748669},81938380.704230979]
[{"$f":"IF(A149<Inversion!$C$23,A149+1,\"-\")","v":145},{"$f":"IF(A150<>\"-\",DATE(YEAR(Inversion!$C$7),MONTH(Inversion!$C$7)+A150,DAY(Inversion!$C$7)),\"-\")","v":"2037-08-10"},{"$f":"IF(A150<=Inversion!$C$23,IF(H149>0,H149,0),0)","v":81938380.704230979},{"$f":"IF(A150<=Inversion!$C$23,(1-(1+Inversion!$C$22)^-(Inversion!$C$23))/Inversion!$C$22,0)","v":108.14668747119472},1216865.7503730953,576001.94087642932,{"$f":"C150*Inversion!$C$22","v":640863.80949666596},81362378.763354555]
[{"$f":"IF(A150<Inversion!$C$23,A150+1,\"-\")","v":146},{"$f":"IF(A151<>\"-\",DATE(YEAR(Inversion!$C$7),MONTH(Inversion!$C$7)+A151,DAY(Inversion!$C$7)),\"-\")","v":"2037-09-10"},{"$f":"IF(A151<=Inversion!$C$23,IF(H150>0,H150,0),0)","v":81362378.763354555},{"$f":"IF(A151<=Inversion!$C$23,(1-(1+Inversion!$C$22)^-(Inversion!$C$23))/Inversion!$C$22,0)","v":108.14668747119472},1216865.7503730953,580507.01889890083,{"$f":"C151*Inversion!$C$22","v":636358.73147419444},80781871.74445565]
[{"$f":"IF(A151<Inversion!$C$23,A151+1,\"-\")","v":147},{"$f":"IF(A152<>\"-\",DATE(YEAR(Inversion!$C$7),MONTH(Inversion!$C$7)+A152,DAY(Inversion!$C$7)),\"-\")","v":"2037-10-10"},{"$f":"IF(A152<=Inversion!$C$23,IF(H151>0,H151,0),0)","v":80781871.74445565},{"$f":"IF(A152<=Inversion!$C$23,(1-(1+Inversion!$C$22)^-(Inversion!$C$23))/Inversion!$C$22,0)","v":108.14668747119472},1216865.7503730953,585047.33244151261,{"$f":"C152*Inversion!$C$22","v":631818.41793158266},80196824.412014142]
[{"$f":"IF(A152<Inversion!$C$23,A152+1,\"-\")","v":148},{"$f":"IF(A153<>\"-\",DATE(YEAR(Inversion!$C$7),MONTH(Inversion!$C$7)+A153,DAY(Inversion!$C$7)),\"-\")","v":"2037-11-10"},{"$f":"IF(A153<=Inversion!$C$23,IF(H152>0,H152,0),0)","v":80196824.412014142},{"$f":"IF(A153<=Inversion!$C$23,(1-(1+Inversion!$C$22)^-(Inversion!$C$23))/Inversion!$C$22,0)","v":108.14668747119472},1216865.7503730953,589623.15709147393,{"$f":"C153*Inversion!$C$22","v":627242.59328162135},79607201.254922673]
[{"$f":"IF(A153<Inversion!$C$23,A153+1,\"-\")","v":149},{"$f":"IF(A154<>\"-\",DATE(YEAR(Inversion!$C$7),MONTH(Inversion!$C$7)+A154,DAY(Inversion!$C$7)),\"-\")","v":"2037-12-10"},{"$f":"IF(A154<=Inversion!$C$23,IF(H153>0,H153,0),0)","v":79607201.254922673},{"$f":"IF(A154<=Inversion!$C$23,(1-(1+Inversion!$C$22)^-(Inversion!$C$23))/Inversion!$C$22,0)","v":108.14668747119472},1216865.7503730953,594234.77059144119,{"$f":"C154*Inversion!$C$22","v":622630.97978165408},79012966.484331235]
[{"$f":"IF(A154<Inversion!$C$23,A154+1,\"-\")","v":150},{"$f":"IF(A155<>\"-\",DATE(YEAR(Inversion!$C$7),MONTH(Inversion!$C$7)+A155,DAY(Inversion!$C$7)),\"-\")","v":"2038-01-10"},{"$f":"IF(A155<=Inversion!$C$23,IF(H154>0,H154,0),0)","v":79012966.484331235},{"$f":"IF(A155<=Inversion!$C$23,(1-(1+Inversion!$C$22)^-(Inversion!$C$23))/Inversion!$C$22,0)","v":108.14668747119472},1216865.7503730953,598882.45285637688,{"$f":"C155*Inversion!$C$22","v":617983.29751671839},78414084.031474859]
[{"$f":"IF(A155<Inversion!$C$23,A155+1,\"-\")","v":151},{"$f":"IF(A156<>\"-\",DATE(YEAR(Inversion!$C$7),MONTH(Inversion!$C$7)+A156,DAY(Inversion!$C$7)),\"-\")","v":"2038-02-10"},{"$f":"IF(A156<=Inversion!$C$23,IF(H155>0,H155,0),0)","v":78414084.031474859},{"$f":"IF(A156<=Inversion!$C$23,(1-(1+Inversion!$C$22)^-(Inversion!$C$23))/Inversion!$C$22,0)","v":108.14668747119472},1216865.7503730953,603566.48599053943,{"$f":"C156*Inversion!$C$22","v":613299.26438255585},77810517.545484319]
[{"$f":"IF(A156<Inversion!$C$23,A156+1,\"-\")","v":152},{"$f":"IF(A157<>\"-\",DATE(YEAR(Inversion!$C$7),MONTH(Inversion!$C$7)+A157,DAY(Inversion!$C$7)),\"-\")","v":"2038-03-10"},{"$f":"IF(A157<=Inversion!$C$23,IF(H156>0,H156,0),0)","v":77810517.545484319},{"$f":"IF(A157<=Inversion!$C$23,(1-(1+Inversion!$C$22)^-(Inversion!$C$23))/Inversion!$C$22,0)","v":108.14668747119472},1216865.7503730953,608287.15430460637,{"$f":"C157*Inversion!$C$22","v":608578.5960684889},77202230.391179711]
[{"$f":"IF(A157<Inversion!$C$23,A157+1,\"-\")","v":153},{"$f":"IF(A158<>\"-\",DATE(YEAR(Inversion!$C$7),MONTH(Inversion!$C$7)+A158,DAY(Inversion!$C$7)),\"-\")","v":"2038-04-10"},{"$f":"IF(A158<=Inversion!$C$23,IF(H157>0,H157,0),0)","v":77202230.391179711},{"$f":"IF(A158<=Inversion!$C$23,(1-(1+Inversion!$C$22)^-(Inversion!$C$23))/Inversion!$C$22,0)","v":108.14668747119472},1216865.7503730953,613044.74433293124,{"$f":"C158*Inversion!$C$22","v":603821.00604016404},76589185.646846786]
[{"$f":"IF(A158<Inversion!$C$23,A158+1,\"-\")","v":154},{"$f":"IF(A159<>\"-\",DATE(YEAR(Inversion!$C$7),MONTH(Inversion!$C$7)+A159,DAY(Inversion!$C$7)),\"-\")","v":"2038-05-10"},{"$f":"IF(A159<=Inversion!$C$23,IF(H158>0,H158,0),0)","v":76589185.646846786},{"$f":"IF(A159<=Inversion!$C$23,(1-(1+Inversion!$C$22)^-(Inversion!$C$23))/Inversion!$C$22,0)","v":108.14668747119472},1216865.7503730953,617839.54485093593,{"$f":"C159*Inversion!$C$22","v":599026.20552215935},75971346.101995856]
[{"$f":"IF(A159<Inversion!$C$23,A159+1,\"-\")","v":155},{"$f":"IF(A160<>\"-\",DATE(YEAR(Inversion!$C$7),MONTH(Inversion!$C$7)+A160,DAY(Inversion!$C$7)),\"-\")","v":"2038-06-10"},{"$f":"IF(A160<=Inversion!$C$23,IF(H159>0,H159,0),0)","v":75971346.101995856},{"$f":"IF(A160<=Inversion!$C$23,(1-(1+Inversion!$C$22)^-(Inversion!$C$23))/Inversion!$C$22,0)","v":108.14668747119472},1216865.7503730953,622671.84689263836,{"$f":"C160*Inversion!$C$22","v":594193.90348045691},75348674.255103216]
[{"$f":"IF(A160<Inversion!$C$23,A160+1,\"-\")","v":156},{"$f":"IF(A161<>\"-\",DATE(YEAR(Inversion!$C$7),MONTH(Inversion!$C$7)+A161,DAY(Inversion!$C$7)),\"-\")","v":"2038-07-10"},{"$f":"IF(A161<=Inversion!$C$23,IF(H160>0,H160,0),0)","v":75348674.255103216},{"$f":"IF(A161<=Inversion!$C$23,(1-(1+Inversion!$C$22)^-(Inversion!$C$23))/Inversion!$C$22,0)","v":108.14668747119472},1216865.7503730953,627541.94376831828,{"$f":"C161*Inversion!$C$22","v":589323.806604777},74721132.311334893]
[{"$f":"IF(A161<Inversion!$C$23,A161+1,\"-\")","v":157},{"$f":"IF(A162<>\"-\",DATE(YEAR(Inversion!$C$7),MONTH(Inversion!$C$7)+A162,DAY(Inversion!$C$7)),\"-\")","v":"2038-08-10"},{"$f":"IF(A162<=Inversion!$C$23,IF(H161>0,H161,0),0)","v":74721132.311334893},{"$f":"IF(A162<=Inversion!$C$23,(1-(1+Inversion!$C$22)^-(Inversion!$C$23))/Inversion!$C$22,0)","v":108.14668747119472},1216865.7503730953,632450.13108231954,{"$f":"C162*Inversion!$C$22","v":584415.61929077574},74088682.180252567]
[{"$f":"IF(A162<Inversion!$C$23,A162+1,\"-\")","v":158},{"$f":"IF(A163<>\"-\",DATE(YEAR(Inversion!$C$7),MONTH(Inversion!$C$7)+A163,DAY(Inversion!$C$7)),\"-\")","v":"2038-09-10"},{"$f":"IF(A163<=Inversion!$C$23,IF(H162>0,H162,0),0)","v":74088682.180252567},{"$f":"IF(A163<=Inversion!$C$23,(1-(1+Inversion!$C$22)^-(Inversion!$C$23))/Inversion!$C$22,0)","v":108.14668747119472},1216865.7503730953,637396.70675099338,{"$f":"C163*Inversion!$C$22","v":579469.04362210189},73451285.473501578]
[{"$f":"IF(A163<Inversion!$C$23,A163+1,\"-\")","v":159},{"$f":"IF(A164<>\"-\",DATE(YEAR(Inversion!$C$7),MONTH(Inversion!$C$7)+A164,DAY(Inversion!$C$7)),\"-\")","v":"2038-10-10"},{"$f":"IF(A164<=Inversion!$C$23,IF(H163>0,H163,0),0)","v":73451285.473501578},{"$f":"IF(A164<=Inversion!$C$23,(1-(1+Inversion!$C$22)^-(Inversion!$C$23))/Inversion!$C$22,0)","v":108.14668747119472},1216865.7503730953,642381.97102078109,{"$f":"C164*Inversion!$C$22","v":574483.77935231419},72808903.50248079]
[{"$f":"IF(A164<Inversion!$C$23,A164+1,\"-\")","v":160},{"$f":"IF(A165<>\"-\",DATE(YEAR(Inversion!$C$7),MONTH(Inversion!$C$7)+A165,DAY(Inversion!$C$7)),\"-\")","v":"2038-11-10"},{"$f":"IF(A165<=Inversion!$C$23,IF(H164>0,H164,0),0)","v":72808903.50248079},{"$f":"IF(A165<=Inversion!$C$23,(1-(1+Inversion!$C$22)^-(Inversion!$C$23))/Inversion!$C$22,0)","v":108.14668747119472},1216865.7503730953,647406.22648643865,{"$f":"C165*Inversion!$C$22","v":569459.52388665662},72161497.275994346]
[{"$f":"IF(A165<Inversion!$C$23,A165+1,\"-\")","v":161},{"$f":"IF(A166<>\"-\",DATE(YEAR(Inversion!$C$7),MONTH(Inversion!$C$7)+A166,DAY(Inversion!$C$7)),\"-\")","v":"2038-12-10"},{"$f":"IF(A166<=Inversion!$C$23,IF(H165>0,H165,0),0)","v":72161497.275994346},{"$f":"IF(A166<=Inversion!$C$23,(1-(1+Inversion!$C$22)^-(Inversion!$C$23))/Inversion!$C$22,0)","v":108.14668747119472},1216865.7503730953,652469.77810940275,{"$f":"C166*Inversion!$C$22","v":564395.97226369253},71509027.497884944]
[{"$f":"IF(A166<Inversion!$C$23,A166+1,\"-\")","v":162},{"$f":"IF(A167<>\"-\",DATE(YEAR(Inversion!$C$7),MONTH(Inversion!$C$7)+A167,DAY(Inversion!$C$7)),\"-\")","v":"2039-01-10"},{"$f":"IF(A167<=Inversion!$C$23,IF(H166>0,H166,0),0)","v":71509027.497884944},{"$f":"IF(A167<=Inversion!$C$23,(1-(1+Inversion!$C$22)^-(Inversion!$C$23))/Inversion!$C$22,0)","v":108.14668747119472},1216865.7503730953,657572.93323630223,{"$f":"C167*Inversion!$C$22","v":559292.81713679305},70851454.564648643]
[{"$f":"IF(A167<Inversion!$C$23,A167+1,\"-\")","v":163},{"$f":"IF(A168<>\"-\",DATE(YEAR(Inversion!$C$7),MONTH(Inversion!$C$7)+A168,DAY(Inversion!$C$7)),\"-\")","v":"2039-02-10"},{"$f":"IF(A168<=Inversion!$C$23,IF(H167>0,H167,0),0)","v":70851454.564648643},{"$f":"IF(A168<=Inversion!$C$23,(1-(1+Inversion!$C$22)^-(Inversion!$C$23))/Inversion!$C$22,0)","v":108.14668747119472},1216865.7503730953,662716.00161761278,{"$f":"C168*Inversion!$C$22","v":554149.74875548249},70188738.563031033]
[{"$f":"IF(A168<Inversion!$C$23,A168+1,\"-\")","v":164},{"$f":"IF(A169<>\"-\",DATE(YEAR(Inversion!$C$7),MONTH(Inversion!$C$7)+A169,DAY(Inversion!$C$7)),\"-\")","v":"2039-03-10"},{"$f":"IF(A169<=Inversion!$C$23,IF(H168>0,H168,0),0)","v":70188738.563031033},{"$f":"IF(A169<=Inversion!$C$23,(1-(1+Inversion!$C$22)^-(Inversion!$C$23))/Inversion!$C$22,0)","v":108.14668747119472},1216865.7503730953,667899.29542645812,{"$f":"C169*Inversion!$C$22","v":548966.45494663715},69520839.267604575]
[{"$f":"IF(A169<Inversion!$C$23,A169+1,\"-\")","v":165},{"$f":"IF(A170<>\"-\",DATE(YEAR(Inversion!$C$7),MONTH(Inversion!$C$7)+A170,DAY(Inversion!$C$7)),\"-\")","v":"2039-04-10"},{"$f":"IF(A170<=Inversion!$C$23,IF(H169>0,H169,0),0)","v":69520839.267604575},{"$f":"IF(A170<=Inversion!$C$23,(1-(1+Inversion!$C$22)^-(Inversion!$C$23))/Inversion!$C$22,0)","v":108.14668747119472},1216865.7503730953,673123.12927755888,{"$f":"C170*Inversion!$C$22","v":543742.62109553639},68847716.138327017]
[{"$f":"IF(A170<Inversion!$C$23,A170+1,\"-\")","v":166},{"$f":"IF(A171<>\"-\",DATE(YEAR(Inversion!$C$7),MONTH(Inversion!$C$7)+A171,DAY(Inversion!$C$7)),\"-\")","v":"2039-05-10"},{"$f":"IF(A171<=Inversion!$C$23,IF(H170>0,H170,0),0)","v":68847716.138327017},{"$f":"IF(A171<=Inversion!$C$23,(1-(1+Inversion!$C$22)^-(Inversion!$C$23))/Inversion!$C$22,0)","v":108.14668747119472},1216865.7503730953,678387.82024632802,{"$f":"C171*Inversion!$C$22","v":538477.93012676726},68169328.318080693]
[{"$f":"IF(A171<Inversion!$C$23,A171+1,\"-\")","v":167},{"$f":"IF(A172<>\"-\",DATE(YEAR(Inversion!$C$7),MONTH(Inversion!$C$7)+A172,DAY(Inversion!$C$7)),\"-\")","v":"2039-06-10"},{"$f":"IF(A172<=Inversion!$C$23,IF(H171>0,H171,0),0)","v":68169328.318080693},{"$f":"IF(A172<=Inversion!$C$23,(1-(1+Inversion!$C$22)^-(Inversion!$C$23))/Inversion!$C$22,0)","v":108.14668747119472},1216865.7503730953,683693.68788811739,{"$f":"C172*Inversion!$C$22","v":533172.06248497788},67485634.630192578]
[{"$f":"IF(A172<Inversion!$C$23,A172+1,\"-\")","v":168},{"$f":"IF(A173<>\"-\",DATE(YEAR(Inversion!$C$7),MONTH(Inversion!$C$7)+A173,DAY(Inversion!$C$7)),\"-\")","v":"2039-07-10"},{"$f":"IF(A173<=Inversion!$C$23,IF(H172>0,H172,0),0)","v":67485634.630192578},{"$f":"IF(A173<=Inversion!$C$23,(1-(1+Inversion!$C$22)^-(Inversion!$C$23))/Inversion!$C$22,0)","v":108.14668747119472},1216865.7503730953,689041.05425761384,{"$f":"C173*Inversion!$C$22","v":527824.69611548143},66796593.575934961]
[{"$f":"IF(A173<Inversion!$C$23,A173+1,\"-\")","v":169},{"$f":"IF(A174<>\"-\",DATE(YEAR(Inversion!$C$7),MONTH(Inversion!$C$7)+A174,DAY(Inversion!$C$7)),\"-\")","v":"2039-08-10"},{"$f":"IF(A174<=Inversion!$C$23,IF(H173>0,H173,0),0)","v":66796593.575934961},{"$f":"IF(A174<=Inversion!$C$23,(1-(1+Inversion!$C$22)^-(Inversion!$C$23))/Inversion!$C$22,0)","v":108.14668747119472},1216865.7503730953,694430.24392838718,{"$f":"C174*Inversion!$C$22","v":522435.50644470809},66102163.332006574]
[{"$f":"IF(A174<Inversion!$C$23,A174+1,\"-\")","v":170},{"$f":"IF(A175<>\"-\",DATE(YEAR(Inversion!$C$7),MONTH(Inversion!$C$7)+A175,DAY(Inversion!$C$7)),\"-\")","v":"2039-09-10"},{"$f":"IF(A175<=Inversion!$C$23,IF(H174>0,H174,0),0)","v":66102163.332006574},{"$f":"IF(A175<=Inversion!$C$23,(1-(1+Inversion!$C$22)^-(Inversion!$C$23))/Inversion!$C$22,0)","v":108.14668747119472},1216865.7503730953,699861.58401259105,{"$f":"C175*Inversion!$C$22","v":517004.16636050423},65402301.747993983]
[{"$f":"IF(A175<Inversion!$C$23,A175+1,\"-\")","v":171},{"$f":"IF(A176<>\"-\",DATE(YEAR(Inversion!$C$7),MONTH(Inversion!$C$7)+A176,DAY(Inversion!$C$7)),\"-\")","v":"2039-10-10"},{"$f":"IF(A176<=Inversion!$C$23,IF(H175>0,H175,0),0)","v":65402301.747993983},{"$f":"IF(A176<=Inversion!$C$23,(1-(1+Inversion!$C$22)^-(Inversion!$C$23))/Inversion!$C$22,0)","v":108.14668747119472},1216865.7503730953,705335.404180818,{"$f":"C176*Inversion!$C$22","v":511530.34619227727},64696966.343813166]
[{"$f":"IF(A176<Inversion!$C$23,A176+1,\"-\")","v":172},{"$f":"IF(A177<>\"-\",DATE(YEAR(Inversion!$C$7),MONTH(Inversion!$C$7)+A177,DAY(Inversion!$C$7)),\"-\")","v":"2039-11-10"},{"$f":"IF(A177<=Inversion!$C$23,IF(H176>0,H176,0),0)","v":64696966.343813166},{"$f":"IF(A177<=Inversion!$C$23,(1-(1+Inversion!$C$22)^-(Inversion!$C$23))/Inversion!$C$22,0)","v":108.14668747119472},1216865.7503730953,710852.03668210993,{"$f":"C177*Inversion!$C$22","v":506013.71369098534},63986114.307131059]
[{"$f":"IF(A177<Inversion!$C$23,A177+1,\"-\")","v":173},{"$f":"IF(A178<>\"-\",DATE(YEAR(Inversion!$C$7),MONTH(Inversion!$C$7)+A178,DAY(Inversion!$C$7)),\"-\")","v":"2039-12-10"},{"$f":"IF(A178<=Inversion!$C$23,IF(H177>0,H177,0),0)","v":63986114.307131059},{"$f":"IF(A178<=Inversion!$C$23,(1-(1+Inversion!$C$22)^-(Inversion!$C$23))/Inversion!$C$22,0)","v":108.14668747119472},1216865.7503730953,716411.81636412442,{"$f":"C178*Inversion!$C$22","v":500453.9340089708},63269702.490766935]
[{"$f":"IF(A178<Inversion!$C$23,A178+1,\"-\")","v":174},{"$f":"IF(A179<>\"-\",DATE(YEAR(Inversion!$C$7),MONTH(Inversion!$C$7)+A179,DAY(Inversion!$C$7)),\"-\")","v":"2040-01-10"},{"$f":"IF(A179<=Inversion!$C$23,IF(H178>0,H178,0),0)","v":63269702.490766935},{"$f":"IF(A179<=Inversion!$C$23,(1-(1+Inversion!$C$22)^-(Inversion!$C$23))/Inversion!$C$22,0)","v":108.14668747119472},1216865.7503730953,722015.08069346007,{"$f":"C179*Inversion!$C$22","v":494850.66967963515},62547687.410073474]
[{"$f":"IF(A179<Inversion!$C$23,A179+1,\"-\")","v":175},{"$f":"IF(A180<>\"-\",DATE(YEAR(Inversion!$C$7),MONTH(Inversion!$C$7)+A180,DAY(Inversion!$C$7)),\"-\")","v":"2040-02-10"},{"$f":"IF(A180<=Inversion!$C$23,IF(H179>0,H179,0),0)","v":62547687.410073474},{"$f":"IF(A180<=Inversion!$C$23,(1-(1+Inversion!$C$22)^-(Inversion!$C$23))/Inversion!$C$22,0)","v":108.14668747119472},1216865.7503730953,727662.16977613908,{"$f":"C180*Inversion!$C$22","v":489203.58059695619},61820025.240297332]
[{"$f":"IF(A180<Inversion!$C$23,A180+1,\"-\")","v":176},{"$f":"IF(A181<>\"-\",DATE(YEAR(Inversion!$C$7),MONTH(Inversion!$C$7)+A181,DAY(Inversion!$C$7)),\"-\")","v":"2040-03-10"},{"$f":"IF(A181<=Inversion!$C$23,IF(H180>0,H180,0),0)","v":61820025.240297332},{"$f":"IF(A181<=Inversion!$C$23,(1-(1+Inversion!$C$22)^-(Inversion!$C$23))/Inversion!$C$22,0)","v":108.14668747119472},1216865.7503730953,733353.4263782514,{"$f":"C181*Inversion!$C$22","v":483512.32399484387},61086671.813919082]
[{"$f":"IF(A181<Inversion!$C$23,A181+1,\"-\")","v":177},{"$f":"IF(A182<>\"-\",DATE(YEAR(Inversion!$C$7),MONTH(Inversion!$C$7)+A182,DAY(Inversion!$C$7)),\"-\")","v":"2040-04-10"},{"$f":"IF(A182<=Inversion!$C$23,IF(H181>0,H181,0),0)","v":61086671.813919082},{"$f":"IF(A182<=Inversion!$C$23,(1-(1+Inversion!$C$22)^-(Inversion!$C$23))/Inversion!$C$22,0)","v":108.14668747119472},1216865.7503730953,739089.19594676001,{"$f":"C182*Inversion!$C$22","v":477776.55442633532},60347582.617972322]
[{"$f":"IF(A182<Inversion!$C$23,A182+1,\"-\")","v":178},{"$f":"IF(A183<>\"-\",DATE(YEAR(Inversion!$C$7),MONTH(Inversion!$C$7)+A183,DAY(Inversion!$C$7)),\"-\")","v":"2040-05-10"},{"$f":"IF(A183<=Inversion!$C$23,IF(H182>0,H182,0),0)","v":60347582.617972322},{"$f":"IF(A183<=Inversion!$C$23,(1-(1+Inversion!$C$22)^-(Inversion!$C$23))/Inversion!$C$22,0)","v":108.14668747119472},1216865.7503730953,744869.82663046848,{"$f":"C183*Inversion!$C$22","v":471995.92374262679},59602712.791341856]
[{"$f":"IF(A183<Inversion!$C$23,A183+1,\"-\")","v":179},{"$f":"IF(A184<>\"-\",DATE(YEAR(Inversion!$C$7),MONTH(Inversion!$C$7)+A184,DAY(Inversion!$C$7)),\"-\")","v":"2040-06-10"},{"$f":"IF(A184<=Inversion!$C$23,IF(H183>0,H183,0),0)","v":59602712.791341856},{"$f":"IF(A184<=Inversion!$C$23,(1-(1+Inversion!$C$22)^-(Inversion!$C$23))/Inversion!$C$22,0)","v":108.14668747119472},1216865.7503730953,750695.66930115328,{"$f":"C184*Inversion!$C$22","v":466170.081071942},58852017.122040704]
[{"$f":"IF(A184<Inversion!$C$23,A184+1,\"-\")","v":180},{"$f":"IF(A185<>\"-\",DATE(YEAR(Inversion!$C$7),MONTH(Inversion!$C$7)+A185,DAY(Inversion!$C$7)),\"-\")","v":"2040-07-10"},{"$f":"IF(A185<=Inversion!$C$23,IF(H184>0,H184,0),0)","v":58852017.122040704},{"$f":"IF(A185<=Inversion!$C$23,(1-(1+Inversion!$C$22)^-(Inversion!$C$23))/Inversion!$C$22,0)","v":108.14668747119472},1216865.7503730953,756567.0775748603,{"$f":"C185*Inversion!$C$22","v":460298.67279823491},58095450.04446584]
[{"$f":"IF(A185<Inversion!$C$23,A185+1,\"-\")","v":181},{"$f":"IF(A186<>\"-\",DATE(YEAR(Inversion!$C$7),MONTH(Inversion!$C$7)+A186,DAY(Inversion!$C$7)),\"-\")","v":"2040-08-10"},{"$f":"IF(A186<=Inversion!$C$23,IF(H185>0,H185,0),0)","v":58095450.04446584},{"$f":"IF(A186<=Inversion!$C$23,(1-(1+Inversion!$C$22)^-(Inversion!$C$23))/Inversion!$C$22,0)","v":108.14668747119472},1216865.7503730953,762484.40783336945,{"$f":"C186*Inversion!$C$22","v":454381.34253972577},57332965.636632472]
[{"$f":"IF(A186<Inversion!$C$23,A186+1,\"-\")","v":182},{"$f":"IF(A187<>\"-\",DATE(YEAR(Inversion!$C$7),MONTH(Inversion!$C$7)+A187,DAY(Inversion!$C$7)),\"-\")","v":"2040-09-10"},{"$f":"IF(A187<=Inversion!$C$23,IF(H186>0,H186,0),0)","v":57332965.636632472},{"$f":"IF(A187<=Inversion!$C$23,(1-(1+Inversion!$C$22)^-(Inversion!$C$23))/Inversion!$C$22,0)","v":108.14668747119472},1216865.7503730953,768448.01924582524,{"$f":"C187*Inversion!$C$22","v":448417.73112726997},56564517.617386647]
[{"$f":"IF(A187<Inversion!$C$23,A187+1,\"-\")","v":183},{"$f":"IF(A188<>\"-\",DATE(YEAR(Inversion!$C$7),MONTH(Inversion!$C$7)+A188,DAY(Inversion!$C$7)),\"-\")","v":"2040-10-10"},{"$f":"IF(A188<=Inversion!$C$23,IF(H187>0,H187,0),0)","v":56564517.617386647},{"$f":"IF(A188<=Inversion!$C$23,(1-(1+Inversion!$C$22)^-(Inversion!$C$23))/Inversion!$C$22,0)","v":108.14668747119472},1216865.7503730953,774458.27379053854,{"$f":"C188*Inversion!$C$22","v":442407.47658255673},55790059.343596108]
[{"$f":"IF(A188<Inversion!$C$23,A188+1,\"-\")","v":184},{"$f":"IF(A189<>\"-\",DATE(YEAR(Inversion!$C$7),MONTH(Inversion!$C$7)+A189,DAY(Inversion!$C$7)),\"-\")","v":"2040-11-10"},{"$f":"IF(A189<=Inversion!$C$23,IF(H188>0,H188,0),0)","v":55790059.343596108},{"$f":"IF(A189<=Inversion!$C$23,(1-(1+Inversion!$C$22)^-(Inversion!$C$23))/Inversion!$C$22,0)","v":108.14668747119472},1216865.7503730953,780515.53627695702,{"$f":"C189*Inversion!$C$22","v":436350.2140961382},55009543.807319149]
[{"$f":"IF(A189<Inversion!$C$23,A189+1,\"-\")","v":185},{"$f":"IF(A190<>\"-\",DATE(YEAR(Inversion!$C$7),MONTH(Inversion!$C$7)+A190,DAY(Inversion!$C$7)),\"-\")","v":"2040-12-10"},{"$f":"IF(A190<=Inversion!$C$23,IF(H189>0,H189,0),0)","v":55009543.807319149},{"$f":"IF(A190<=Inversion!$C$23,(1-(1+Inversion!$C$22)^-(Inversion!$C$23))/Inversion!$C$22,0)","v":108.14668747119472},1216865.7503730953,786620.17436780909,{"$f":"C190*Inversion!$C$22","v":430245.57600528619},54222923.632951342]
[{"$f":"IF(A190<Inversion!$C$23,A190+1,\"-\")","v":186},{"$f":"IF(A191<>\"-\",DATE(YEAR(Inversion!$C$7),MONTH(Inversion!$C$7)+A191,DAY(Inversion!$C$7)),\"-\")","v":"2041-01-10"},{"$f":"IF(A191<=Inversion!$C$23,IF(H190>0,H190,0),0)","v":54222923.632951342},{"$f":"IF(A191<=Inversion!$C$23,(1-(1+Inversion!$C$22)^-(Inversion!$C$23))/Inversion!$C$22,0)","v":108.14668747119472},1216865.7503730953,792772.55860141967,{"$f":"C191*Inversion!$C$22","v":424093.19177167566},53430151.074349925]
[{"$f":"IF(A191<Inversion!$C$23,A191+1,\"-\")","v":187},{"$f":"IF(A192<>\"-\",DATE(YEAR(Inversion!$C$7),MONTH(Inversion!$C$7)+A192,DAY(Inversion!$C$7)),\"-\")","v":"2041-02-10"},{"$f":"IF(A192<=Inversion!$C$23,IF(H191>0,H191,0),0)","v":53430151.074349925},{"$f":"IF(A192<=Inversion!$C$23,(1-(1+Inversion!$C$22)^-(Inversion!$C$23))/Inversion!$C$22,0)","v":108.14668747119472},1216865.7503730953,798973.06241420109,{"$f":"C192*Inversion!$C$22","v":417892.68795889418},52631178.011935726]
[{"$f":"IF(A192<Inversion!$C$23,A192+1,\"-\")","v":188},{"$f":"IF(A193<>\"-\",DATE(YEAR(Inversion!$C$7),MONTH(Inversion!$C$7)+A193,DAY(Inversion!$C$7)),\"-\")","v":"2041-03-10"},{"$f":"IF(A193<=Inversion!$C$23,IF(H192>0,H192,0),0)","v":52631178.011935726},{"$f":"IF(A193<=Inversion!$C$23,(1-(1+Inversion!$C$22)^-(Inversion!$C$23))/Inversion!$C$22,0)","v":108.14668747119472},1216865.7503730953,805222.06216332037,{"$f":"C193*Inversion!$C$22","v":411643.6882097749},51825955.949772403]
[{"$f":"IF(A193<Inversion!$C$23,A193+1,\"-\")","v":189},{"$f":"IF(A194<>\"-\",DATE(YEAR(Inversion!$C$7),MONTH(Inversion!$C$7)+A194,DAY(Inversion!$C$7)),\"-\")","v":"2041-04-10"},{"$f":"IF(A194<=Inversion!$C$23,IF(H193>0,H193,0),0)","v":51825955.949772403},{"$f":"IF(A194<=Inversion!$C$23,(1-(1+Inversion!$C$22)^-(Inversion!$C$23))/Inversion!$C$22,0)","v":108.14668747119472},1216865.7503730953,811519.93714954285,{"$f":"C194*Inversion!$C$22","v":405345.81322355248},51014436.012622863]
[{"$f":"IF(A194<Inversion!$C$23,A194+1,\"-\")","v":190},{"$f":"IF(A195<>\"-\",DATE(YEAR(Inversion!$C$7),MONTH(Inversion!$C$7)+A195,DAY(Inversion!$C$7)),\"-\")","v":"2041-05-10"},{"$f":"IF(A195<=Inversion!$C$23,IF(H194>0,H194,0),0)","v":51014436.012622863},{"$f":"IF(A195<=Inversion!$C$23,(1-(1+Inversion!$C$22)^-(Inversion!$C$23))/Inversion!$C$22,0)","v":108.14668747119472},1216865.7503730953,817867.06964025483,{"$f":"C195*Inversion!$C$22","v":398998.6807328405},50196568.942982607]
[{"$f":"IF(A195<Inversion!$C$23,A195+1,\"-\")","v":191},{"$f":"IF(A196<>\"-\",DATE(YEAR(Inversion!$C$7),MONTH(Inversion!$C$7)+A196,DAY(Inversion!$C$7)),\"-\")","v":"2041-06-10"},{"$f":"IF(A196<=Inversion!$C$23,IF(H195>0,H195,0),0)","v":50196568.942982607},{"$f":"IF(A196<=Inversion!$C$23,(1-(1+Inversion!$C$22)^-(Inversion!$C$23))/Inversion!$C$22,0)","v":108.14668747119472},1216865.7503730953,824263.84489266668,{"$f":"C196*Inversion!$C$22","v":392601.9054804286},49372305.098089941]
[{"$f":"IF(A196<Inversion!$C$23,A196+1,\"-\")","v":192},{"$f":"IF(A197<>\"-\",DATE(YEAR(Inversion!$C$7),MONTH(Inversion!$C$7)+A197,DAY(Inversion!$C$7)),\"-\")","v":"2041-07-10"},{"$f":"IF(A197<=Inversion!$C$23,IF(H196>0,H196,0),0)","v":49372305.098089941},{"$f":"IF(A197<=Inversion!$C$23,(1-(1+Inversion!$C$22)^-(Inversion!$C$23))/Inversion!$C$22,0)","v":108.14668747119472},1216865.7503730953,830710.65117719711,{"$f":"C197*Inversion!$C$22","v":386155.09919589816},48541594.446912743]
[{"$f":"IF(A197<Inversion!$C$23,A197+1,\"-\")","v":193},{"$f":"IF(A198<>\"-\",DATE(YEAR(Inversion!$C$7),MONTH(Inversion!$C$7)+A198,DAY(Inversion!$C$7)),\"-\")","v":"2041-08-10"},{"$f":"IF(A198<=Inversion!$C$23,IF(H197>0,H197,0),0)","v":48541594.446912743},{"$f":"IF(A198<=Inversion!$C$23,(1-(1+Inversion!$C$22)^-(Inversion!$C$23))/Inversion!$C$22,0)","v":108.14668747119472},1216865.7503730953,837207.87980104005,{"$f":"C198*Inversion!$C$22","v":379657.87057205517},47704386.567111701]
[{"$f":"IF(A198<Inversion!$C$23,A198+1,\"-\")","v":194},{"$f":"IF(A199<>\"-\",DATE(YEAR(Inversion!$C$7),MONTH(Inversion!$C$7)+A199,DAY(Inversion!$C$7)),\"-\")","v":"2041-09-10"},{"$f":"IF(A199<=Inversion!$C$23,IF(H198>0,H198,0),0)","v":47704386.567111701},{"$f":"IF(A199<=Inversion!$C$23,(1-(1+Inversion!$C$22)^-(Inversion!$C$23))/Inversion!$C$22,0)","v":108.14668747119472},1216865.7503730953,843755.92513191653,{"$f":"C199*Inversion!$C$22","v":373109.82524117868},46860630.641979784]
[{"$f":"IF(A199<Inversion!$C$23,A199+1,\"-\")","v":195},{"$f":"IF(A200<>\"-\",DATE(YEAR(Inversion!$C$7),MONTH(Inversion!$C$7)+A200,DAY(Inversion!$C$7)),\"-\")","v":"2041-10-10"},{"$f":"IF(A200<=Inversion!$C$23,IF(H199>0,H199,0),0)","v":46860630.641979784},{"$f":"IF(A200<=Inversion!$C$23,(1-(1+Inversion!$C$22)^-(Inversion!$C$23))/Inversion!$C$22,0)","v":108.14668747119472},1216865.7503730953,850355.18462201173,{"$f":"C200*Inversion!$C$22","v":366510.56575108354},46010275.457357772]
[{"$f":"IF(A200<Inversion!$C$23,A200+1,\"-\")","v":196},{"$f":"IF(A201<>\"-\",DATE(YEAR(Inversion!$C$7),MONTH(Inversion!$C$7)+A201,DAY(Inversion!$C$7)),\"-\")","v":"2041-11-10"},{"$f":"IF(A201<=Inversion!$C$23,IF(H200>0,H200,0),0)","v":46010275.457357772},{"$f":"IF(A201<=Inversion!$C$23,(1-(1+Inversion!$C$22)^-(Inversion!$C$23))/Inversion!$C$22,0)","v":108.14668747119472},1216865.7503730953,{"$f":"E201-G201","v":857006.0588320992},{"$f":"C201*Inversion!$C$22","v":359859.69154099602},45153269.39852567]
[{"$f":"IF(A201<Inversion!$C$23,A201+1,\"-\")","v":197},{"$f":"IF(A202<>\"-\",DATE(YEAR(Inversion!$C$7),MONTH(Inversion!$C$7)+A202,DAY(Inversion!$C$7)),\"-\")","v":"2041-12-10"},{"$f":"IF(A202<=Inversion!$C$23,IF(H201>0,H201,0),0)","v":45153269.39852567},{"$f":"IF(A202<=Inversion!$C$23,(1-(1+Inversion!$C$22)^-(Inversion!$C$23))/Inversion!$C$22,0)","v":108.14668747119472},1216865.7503730953,863708.95145585481,{"$f":"C202*Inversion!$C$22","v":353156.79891724046},44289560.447069816]
[{"$f":"IF(A202<Inversion!$C$23,A202+1,\"-\")","v":198},{"$f":"IF(A203<>\"-\",DATE(YEAR(Inversion!$C$7),MONTH(Inversion!$C$7)+A203,DAY(Inversion!$C$7)),\"-\")","v":"2042-01-10"},{"$f":"IF(A203<=Inversion!$C$23,IF(H202>0,H202,0),0)","v":44289560.447069816},{"$f":"IF(A203<=Inversion!$C$23,(1-(1+Inversion!$C$22)^-(Inversion!$C$23))/Inversion!$C$22,0)","v":108.14668747119472},1216865.7503730953,870464.26934435917,{"$f":"C203*Inversion!$C$22","v":346401.4810287361},43419096.177725457]
[{"$f":"IF(A203<Inversion!$C$23,A203+1,\"-\")","v":199},{"$f":"IF(A204<>\"-\",DATE(YEAR(Inversion!$C$7),MONTH(Inversion!$C$7)+A204,DAY(Inversion!$C$7)),\"-\")","v":"2042-02-10"},{"$f":"IF(A204<=Inversion!$C$23,IF(H203>0,H203,0),0)","v":43419096.177725457},{"$f":"IF(A204<=Inversion!$C$23,(1-(1+Inversion!$C$22)^-(Inversion!$C$23))/Inversion!$C$22,0)","v":108.14668747119472},1216865.7503730953,877272.42253079324,{"$f":"C204*Inversion!$C$22","v":339593.32784230204},42541823.755194664]
[{"$f":"IF(A204<Inversion!$C$23,A204+1,\"-\")","v":200},{"$f":"IF(A205<>\"-\",DATE(YEAR(Inversion!$C$7),MONTH(Inversion!$C$7)+A205,DAY(Inversion!$C$7)),\"-\")","v":"2042-03-10"},{"$f":"IF(A205<=Inversion!$C$23,IF(H204>0,H204,0),0)","v":42541823.755194664},{"$f":"IF(A205<=Inversion!$C$23,(1-(1+Inversion!$C$22)^-(Inversion!$C$23))/Inversion!$C$22,0)","v":108.14668747119472},1216865.7503730953,884133.8242553263,{"$f":"C205*Inversion!$C$22","v":332731.92611776904},41657689.930939339]
[{"$f":"IF(A205<Inversion!$C$23,A205+1,\"-\")","v":201},{"$f":"IF(A206<>\"-\",DATE(YEAR(Inversion!$C$7),MONTH(Inversion!$C$7)+A206,DAY(Inversion!$C$7)),\"-\")","v":"2042-04-10"},{"$f":"IF(A206<=Inversion!$C$23,IF(H205>0,H205,0),0)","v":41657689.930939339},{"$f":"IF(A206<=Inversion!$C$23,(1-(1+Inversion!$C$22)^-(Inversion!$C$23))/Inversion!$C$22,0)","v":108.14668747119472},1216865.7503730953,891048.89099019847,{"$f":"C206*Inversion!$C$22","v":325816.8593828968},40766641.039949141]
[{"$f":"IF(A206<Inversion!$C$23,A206+1,\"-\")","v":202},{"$f":"IF(A207<>\"-\",DATE(YEAR(Inversion!$C$7),MONTH(Inversion!$C$7)+A207,DAY(Inversion!$C$7)),\"-\")","v":"2042-05-10"},{"$f":"IF(A207<=Inversion!$C$23,IF(H206>0,H206,0),0)","v":40766641.039949141},{"$f":"IF(A207<=Inversion!$C$23,(1-(1+Inversion!$C$22)^-(Inversion!$C$23))/Inversion!$C$22,0)","v":108.14668747119472},1216865.7503730953,898018.04246500018,{"$f":"C207*Inversion!$C$22","v":318847.70790809509},39868622.99748414]
[{"$f":"IF(A207<Inversion!$C$23,A207+1,\"-\")","v":203},{"$f":"IF(A208<>\"-\",DATE(YEAR(Inversion!$C$7),MONTH(Inversion!$C$7)+A208,DAY(Inversion!$C$7)),\"-\")","v":"2042-06-10"},{"$f":"IF(A208<=Inversion!$C$23,IF(H207>0,H207,0),0)","v":39868622.99748414},{"$f":"IF(A208<=Inversion!$C$23,(1-(1+Inversion!$C$22)^-(Inversion!$C$23))/Inversion!$C$22,0)","v":108.14668747119472},{"$f":"IF(C208<E207-G208,C208+G208,IF(C208=0,0,$C$6/D208))","v":1216865.7503730953},905041.70169214846,{"$f":"C208*Inversion!$C$22","v":311824.04868094681},{"$f":"C208-F208","v":38963581.295791991}]
[{"$f":"IF(A208<Inversion!$C$23,A208+1,\"-\")","v":204},{"$f":"IF(A209<>\"-\",DATE(YEAR(Inversion!$C$7),MONTH(Inversion!$C$7)+A209,DAY(Inversion!$C$7)),\"-\")","v":"2042-07-10"},{"$f":"IF(A209<=Inversion!$C$23,IF(H208>0,H208,0),0)","v":38963581.295791991},{"$f":"IF(A209<=Inversion!$C$23,(1-(1+Inversion!$C$22)^-(Inversion!$C$23))/Inversion!$C$22,0)","v":108.14668747119472},1216865.7503730953,912120.29499256285,{"$f":"C209*Inversion!$C$22","v":304745.45538053237},38051461.000799425]
[{"$f":"IF(A209<Inversion!$C$23,A209+1,\"-\")","v":205},{"$f":"IF(A210<>\"-\",DATE(YEAR(Inversion!$C$7),MONTH(Inversion!$C$7)+A210,DAY(Inversion!$C$7)),\"-\")","v":"2042-08-10"},{"$f":"IF(A210<=Inversion!$C$23,IF(H209>0,H209,0),0)","v":38051461.000799425},{"$f":"IF(A210<=Inversion!$C$23,(1-(1+Inversion!$C$22)^-(Inversion!$C$23))/Inversion!$C$22,0)","v":108.14668747119472},1216865.7503730953,919254.25202154252,{"$f":"C210*Inversion!$C$22","v":297611.49835155276},37132206.748777881]
[{"$f":"IF(A210<Inversion!$C$23,A210+1,\"-\")","v":206},{"$f":"IF(A211<>\"-\",DATE(YEAR(Inversion!$C$7),MONTH(Inversion!$C$7)+A211,DAY(Inversion!$C$7)),\"-\")","v":"2042-09-10"},{"$f":"IF(A211<=Inversion!$C$23,IF(H210>0,H210,0),0)","v":37132206.748777881},{"$f":"IF(A211<=Inversion!$C$23,(1-(1+Inversion!$C$22)^-(Inversion!$C$23))/Inversion!$C$22,0)","v":108.14668747119472},1216865.7503730953,926444.00579484494,{"$f":"C211*Inversion!$C$22","v":290421.74457825033},36205762.742983036]
[{"$f":"IF(A211<Inversion!$C$23,A211+1,\"-\")","v":207},{"$f":"IF(A212<>\"-\",DATE(YEAR(Inversion!$C$7),MONTH(Inversion!$C$7)+A212,DAY(Inversion!$C$7)),\"-\")","v":"2042-10-10"},{"$f":"IF(A212<=Inversion!$C$23,IF(H211>0,H211,0),0)","v":36205762.742983036},{"$f":"IF(A212<=Inversion!$C$23,(1-(1+Inversion!$C$22)^-(Inversion!$C$23))/Inversion!$C$22,0)","v":108.14668747119472},1216865.7503730953,933689.99271496944,{"$f":"C212*Inversion!$C$22","v":283175.75765812583},35272072.750268064]
[{"$f":"IF(A212<Inversion!$C$23,A212+1,\"-\")","v":208},{"$f":"IF(A213<>\"-\",DATE(YEAR(Inversion!$C$7),MONTH(Inversion!$C$7)+A213,DAY(Inversion!$C$7)),\"-\")","v":"2042-11-10"},{"$f":"IF(A213<=Inversion!$C$23,IF(H212>0,H212,0),0)","v":35272072.750268064},{"$f":"IF(A213<=Inversion!$C$23,(1-(1+Inversion!$C$22)^-(Inversion!$C$23))/Inversion!$C$22,0)","v":108.14668747119472},1216865.7503730953,940992.65259764553,{"$f":"C213*Inversion!$C$22","v":275873.09777544974},34331080.097670421]
[{"$f":"IF(A213<Inversion!$C$23,A213+1,\"-\")","v":209},{"$f":"IF(A214<>\"-\",DATE(YEAR(Inversion!$C$7),MONTH(Inversion!$C$7)+A214,DAY(Inversion!$C$7)),\"-\")","v":"2042-12-10"},{"$f":"IF(A214<=Inversion!$C$23,IF(H213>0,H213,0),0)","v":34331080.097670421},{"$f":"IF(A214<=Inversion!$C$23,(1-(1+Inversion!$C$22)^-(Inversion!$C$23))/Inversion!$C$22,0)","v":108.14668747119472},1216865.7503730953,948352.42869852902,{"$f":"C214*Inversion!$C$22","v":268513.32167456619},33382727.668971892]
[{"$f":"IF(A214<Inversion!$C$23,A214+1,\"-\")","v":210},{"$f":"IF(A215<>\"-\",DATE(YEAR(Inversion!$C$7),MONTH(Inversion!$C$7)+A215,DAY(Inversion!$C$7)),\"-\")","v":"2043-01-10"},{"$f":"IF(A215<=Inversion!$C$23,IF(H214>0,H214,0),0)","v":33382727.668971892},{"$f":"IF(A215<=Inversion!$C$23,(1-(1+Inversion!$C$22)^-(Inversion!$C$23))/Inversion!$C$22,0)","v":108.14668747119472},1216865.7503730953,955769.76774010691,{"$f":"C215*Inversion!$C$22","v":261095.98263298839},32426957.901231784]
[{"$f":"IF(A215<Inversion!$C$23,A215+1,\"-\")","v":211},{"$f":"IF(A216<>\"-\",DATE(YEAR(Inversion!$C$7),MONTH(Inversion!$C$7)+A216,DAY(Inversion!$C$7)),\"-\")","v":"2043-02-10"},{"$f":"IF(A216<=Inversion!$C$23,IF(H215>0,H215,0),0)","v":32426957.901231784},{"$f":"IF(A216<=Inversion!$C$23,(1-(1+Inversion!$C$22)^-(Inversion!$C$23))/Inversion!$C$22,0)","v":108.14668747119472},1216865.7503730953,963245.11993881152,{"$f":"C216*Inversion!$C$22","v":253620.63043428378},31463712.781292971]
[{"$f":"IF(A216<Inversion!$C$23,A216+1,\"-\")","v":212},{"$f":"IF(A217<>\"-\",DATE(YEAR(Inversion!$C$7),MONTH(Inversion!$C$7)+A217,DAY(Inversion!$C$7)),\"-\")","v":"2043-03-10"},{"$f":"IF(A217<=Inversion!$C$23,IF(H216>0,H216,0),0)","v":31463712.781292971},{"$f":"IF(A217<=Inversion!$C$23,(1-(1+Inversion!$C$22)^-(Inversion!$C$23))/Inversion!$C$22,0)","v":108.14668747119472},1216865.7503730953,970778.9390323488,{"$f":"C217*Inversion!$C$22","v":246086.81134074653},30492933.842260621]
[{"$f":"IF(A217<Inversion!$C$23,A217+1,\"-\")","v":213},{"$f":"IF(A218<>\"-\",DATE(YEAR(Inversion!$C$7),MONTH(Inversion!$C$7)+A218,DAY(Inversion!$C$7)),\"-\")","v":"2043-04-10"},{"$f":"IF(A218<=Inversion!$C$23,IF(H217>0,H217,0),0)","v":30492933.842260621},{"$f":"IF(A218<=Inversion!$C$23,(1-(1+Inversion!$C$22)^-(Inversion!$C$23))/Inversion!$C$22,0)","v":108.14668747119472},1216865.7503730953,978371.68230723846,{"$f":"C218*Inversion!$C$22","v":238494.06806585682},29514562.159953382]
[{"$f":"IF(A218<Inversion!$C$23,A218+1,\"-\")","v":214},{"$f":"IF(A219<>\"-\",DATE(YEAR(Inversion!$C$7),MONTH(Inversion!$C$7)+A219,DAY(Inversion!$C$7)),\"-\")","v":"2043-05-10"},{"$f":"IF(A219<=Inversion!$C$23,IF(H218>0,H218,0),0)","v":29514562.159953382},{"$f":"IF(A219<=Inversion!$C$23,(1-(1+Inversion!$C$22)^-(Inversion!$C$23))/Inversion!$C$22,0)","v":108.14668747119472},1216865.7503730953,986023.81062657083,{"$f":"C219*Inversion!$C$22","v":230841.93974652447},28528538.349326812]
[{"$f":"IF(A219<Inversion!$C$23,A219+1,\"-\")","v":215},{"$f":"IF(A220<>\"-\",DATE(YEAR(Inversion!$C$7),MONTH(Inversion!$C$7)+A220,DAY(Inversion!$C$7)),\"-\")","v":"2043-06-10"},{"$f":"IF(A220<=Inversion!$C$23,IF(H219>0,H219,0),0)","v":28528538.349326812},{"$f":"IF(A220<=Inversion!$C$23,(1-(1+Inversion!$C$22)^-(Inversion!$C$23))/Inversion!$C$22,0)","v":108.14668747119472},1216865.7503730953,993735.78845797956,{"$f":"C220*Inversion!$C$22","v":223129.96191511568},27534802.560868833]
[{"$f":"IF(A220<Inversion!$C$23,A220+1,\"-\")","v":216},{"$f":"IF(A221<>\"-\",DATE(YEAR(Inversion!$C$7),MONTH(Inversion!$C$7)+A221,DAY(Inversion!$C$7)),\"-\")","v":"2043-07-10"},{"$f":"IF(A221<=Inversion!$C$23,IF(H220>0,H220,0),0)","v":27534802.560868833},{"$f":"IF(A221<=Inversion!$C$23,(1-(1+Inversion!$C$22)^-(Inversion!$C$23))/Inversion!$C$22,0)","v":108.14668747119472},1216865.7503730953,1001508.0839018347,{"$f":"C221*Inversion!$C$22","v":215357.66647126066},26533294.476966999]
[{"$f":"IF(A221<Inversion!$C$23,A221+1,\"-\")","v":217},{"$f":"IF(A222<>\"-\",DATE(YEAR(Inversion!$C$7),MONTH(Inversion!$C$7)+A222,DAY(Inversion!$C$7)),\"-\")","v":"2043-08-10"},{"$f":"IF(A222<=Inversion!$C$23,IF(H221>0,H221,0),0)","v":26533294.476966999},{"$f":"IF(A222<=Inversion!$C$23,(1-(1+Inversion!$C$22)^-(Inversion!$C$23))/Inversion!$C$22,0)","v":108.14668747119472},1216865.7503730953,1009341.1687196542,{"$f":"C222*Inversion!$C$22","v":207524.58165344104},25523953.308247346]
[{"$f":"IF(A222<Inversion!$C$23,A222+1,\"-\")","v":218},{"$f":"IF(A223<>\"-\",DATE(YEAR(Inversion!$C$7),MONTH(Inversion!$C$7)+A223,DAY(Inversion!$C$7)),\"-\")","v":"2043-09-10"},{"$f":"IF(A223<=Inversion!$C$23,IF(H222>0,H222,0),0)","v":25523953.308247346},{"$f":"IF(A223<=Inversion!$C$23,(1-(1+Inversion!$C$22)^-(Inversion!$C$23))/Inversion!$C$22,0)","v":108.14668747119472},1216865.7503730953,1017235.5183627403,{"$f":"C223*Inversion!$C$22","v":199630.23201035499},24506717.789884605]
[{"$f":"IF(A223<Inversion!$C$23,A223+1,\"-\")","v":219},{"$f":"IF(A224<>\"-\",DATE(YEAR(Inversion!$C$7),MONTH(Inversion!$C$7)+A224,DAY(Inversion!$C$7)),\"-\")","v":"2043-10-10"},{"$f":"IF(A224<=Inversion!$C$23,IF(H223>0,H223,0),0)","v":24506717.789884605},{"$f":"IF(A224<=Inversion!$C$23,(1-(1+Inversion!$C$22)^-(Inversion!$C$23))/Inversion!$C$22,0)","v":108.14668747119472},1216865.7503730953,1025191.612001037,{"$f":"C224*Inversion!$C$22","v":191674.13837205834},23481526.177883569]
[{"$f":"IF(A224<Inversion!$C$23,A224+1,\"-\")","v":220},{"$f":"IF(A225<>\"-\",DATE(YEAR(Inversion!$C$7),MONTH(Inversion!$C$7)+A225,DAY(Inversion!$C$7)),\"-\")","v":"2043-11-10"},{"$f":"IF(A225<=Inversion!$C$23,IF(H224>0,H224,0),0)","v":23481526.177883569},{"$f":"IF(A225<=Inversion!$C$23,(1-(1+Inversion!$C$22)^-(Inversion!$C$23))/Inversion!$C$22,0)","v":108.14668747119472},1216865.7503730953,1033209.9325522153,{"$f":"C225*Inversion!$C$22","v":183655.81782087998},22448316.245331354]
[{"$f":"IF(A225<Inversion!$C$23,A225+1,\"-\")","v":221},{"$f":"IF(A226<>\"-\",DATE(YEAR(Inversion!$C$7),MONTH(Inversion!$C$7)+A226,DAY(Inversion!$C$7)),\"-\")","v":"2043-12-10"},{"$f":"IF(A226<=Inversion!$C$23,IF(H225>0,H225,0),0)","v":22448316.245331354},{"$f":"IF(A226<=Inversion!$C$23,(1-(1+Inversion!$C$22)^-(Inversion!$C$23))/Inversion!$C$22,0)","v":108.14668747119472},1216865.7503730953,1041290.9667109854,{"$f":"C226*Inversion!$C$22","v":175574.78366210981},21407025.27862037]
[{"$f":"IF(A226<Inversion!$C$23,A226+1,\"-\")","v":222},{"$f":"IF(A227<>\"-\",DATE(YEAR(Inversion!$C$7),MONTH(Inversion!$C$7)+A227,DAY(Inversion!$C$7)),\"-\")","v":"2044-01-10"},{"$f":"IF(A227<=Inversion!$C$23,IF(H226>0,H226,0),0)","v":21407025.27862037},{"$f":"IF(A227<=Inversion!$C$23,(1-(1+Inversion!$C$22)^-(Inversion!$C$23))/Inversion!$C$22,0)","v":108.14668747119472},1216865.7503730953,1049435.2049786379,{"$f":"C227*Inversion!$C$22","v":167430.54539445741},20357590.073641732]
[{"$f":"IF(A227<Inversion!$C$23,A227+1,\"-\")","v":223},{"$f":"IF(A228<>\"-\",DATE(YEAR(Inversion!$C$7),MONTH(Inversion!$C$7)+A228,DAY(Inversion!$C$7)),\"-\")","v":"2044-02-10"},{"$f":"IF(A228<=Inversion!$C$23,IF(H227>0,H227,0),0)","v":20357590.073641732},{"$f":"IF(A228<=Inversion!$C$23,(1-(1+Inversion!$C$22)^-(Inversion!$C$23))/Inversion!$C$22,0)","v":108.14668747119472},1216865.7503730953,1057643.1416928156,{"$f":"C228*Inversion!$C$22","v":159222.60868027975},19299946.931948915]
[{"$f":"IF(A228<Inversion!$C$23,A228+1,\"-\")","v":224},{"$f":"IF(A229<>\"-\",DATE(YEAR(Inversion!$C$7),MONTH(Inversion!$C$7)+A229,DAY(Inversion!$C$7)),\"-\")","v":"2044-03-10"},{"$f":"IF(A229<=Inversion!$C$23,IF(H228>0,H228,0),0)","v":19299946.931948915},{"$f":"IF(A229<=Inversion!$C$23,(1-(1+Inversion!$C$22)^-(Inversion!$C$23))/Inversion!$C$22,0)","v":108.14668747119472},1216865.7503730953,1065915.2750575193,{"$f":"C229*Inversion!$C$22","v":150950.47531557584},18234031.656891394]
[{"$f":"IF(A229<Inversion!$C$23,A229+1,\"-\")","v":225},{"$f":"IF(A230<>\"-\",DATE(YEAR(Inversion!$C$7),MONTH(Inversion!$C$7)+A230,DAY(Inversion!$C$7)),\"-\")","v":"2044-04-10"},{"$f":"IF(A230<=Inversion!$C$23,IF(H229>0,H229,0),0)","v":18234031.656891394},{"$f":"IF(A230<=Inversion!$C$23,(1-(1+Inversion!$C$22)^-(Inversion!$C$23))/Inversion!$C$22,0)","v":108.14668747119472},1216865.7503730953,1074252.1071733483,{"$f":"C230*Inversion!$C$22","v":142613.6431997469},17159779.549718045]
[{"$f":"IF(A230<Inversion!$C$23,A230+1,\"-\")","v":226},{"$f":"IF(A231<>\"-\",DATE(YEAR(Inversion!$C$7),MONTH(Inversion!$C$7)+A231,DAY(Inversion!$C$7)),\"-\")","v":"2044-05-10"},{"$f":"IF(A231<=Inversion!$C$23,IF(H230>0,H230,0),0)","v":17159779.549718045},{"$f":"IF(A231<=Inversion!$C$23,(1-(1+Inversion!$C$22)^-(Inversion!$C$23))/Inversion!$C$22,0)","v":108.14668747119472},1216865.7503730953,1082654.1440679752,{"$f":"C231*Inversion!$C$22","v":134211.60630512002},16077125.40565007]
[{"$f":"IF(A231<Inversion!$C$23,A231+1,\"-\")","v":227},{"$f":"IF(A232<>\"-\",DATE(YEAR(Inversion!$C$7),MONTH(Inversion!$C$7)+A232,DAY(Inversion!$C$7)),\"-\")","v":"2044-06-10"},{"$f":"IF(A232<=Inversion!$C$23,IF(H231>0,H231,0),0)","v":16077125.40565007},{"$f":"IF(A232<=Inversion!$C$23,(1-(1+Inversion!$C$22)^-(Inversion!$C$23))/Inversion!$C$22,0)","v":108.14668747119472},1216865.7503730953,1091121.8957268621,{"$f":"C232*Inversion!$C$22","v":125743.85464623316},14986003.509923209]
[{"$f":"IF(A232<Inversion!$C$23,A232+1,\"-\")","v":228},{"$f":"IF(A233<>\"-\",DATE(YEAR(Inversion!$C$7),MONTH(Inversion!$C$7)+A233,DAY(Inversion!$C$7)),\"-\")","v":"2044-07-10"},{"$f":"IF(A233<=Inversion!$C$23,IF(H232>0,H232,0),0)","v":14986003.509923209},{"$f":"IF(A233<=Inversion!$C$23,(1-(1+Inversion!$C$22)^-(Inversion!$C$23))/Inversion!$C$22,0)","v":108.14668747119472},1216865.7503730953,1099655.8761242148,{"$f":"C233*Inversion!$C$22","v":117209.87424888033},13886347.633798994]
[{"$f":"IF(A233<Inversion!$C$23,A233+1,\"-\")","v":229},{"$f":"IF(A234<>\"-\",DATE(YEAR(Inversion!$C$7),MONTH(Inversion!$C$7)+A234,DAY(Inversion!$C$7)),\"-\")","v":"2044-08-10"},{"$f":"IF(A234<=Inversion!$C$23,IF(H233>0,H233,0),0)","v":13886347.633798994},{"$f":"IF(A234<=Inversion!$C$23,(1-(1+Inversion!$C$22)^-(Inversion!$C$23))/Inversion!$C$22,0)","v":108.14668747119472},1216865.7503730953,1108256.6032541809,{"$f":"C234*Inversion!$C$22","v":108609.14711891438},12778091.030544814]
[{"$f":"IF(A234<Inversion!$C$23,A234+1,\"-\")","v":230},{"$f":"IF(A235<>\"-\",DATE(YEAR(Inversion!$C$7),MONTH(Inversion!$C$7)+A235,DAY(Inversion!$C$7)),\"-\")","v":"2044-09-10"},{"$f":"IF(A235<=Inversion!$C$23,IF(H234>0,H234,0),0)","v":12778091.030544814},{"$f":"IF(A235<=Inversion!$C$23,(1-(1+Inversion!$C$22)^-(Inversion!$C$23))/Inversion!$C$22,0)","v":108.14668747119472},1216865.7503730953,1116924.5991622894,{"$f":"C235*Inversion!$C$22","v":99941.151210805896},11661166.431382524]
[{"$f":"IF(A235<Inversion!$C$23,A235+1,\"-\")","v":231},{"$f":"IF(A236<>\"-\",DATE(YEAR(Inversion!$C$7),MONTH(Inversion!$C$7)+A236,DAY(Inversion!$C$7)),\"-\")","v":"2044-10-10"},{"$f":"IF(A236<=Inversion!$C$23,IF(H235>0,H235,0),0)","v":11661166.431382524},{"$f":"IF(A236<=Inversion!$C$23,(1-(1+Inversion!$C$22)^-(Inversion!$C$23))/Inversion!$C$22,0)","v":108.14668747119472},1216865.7503730953,1125660.3899771392,{"$f":"C236*Inversion!$C$22","v":91205.360395956159},10535506.041405385]
[{"$f":"IF(A236<Inversion!$C$23,A236+1,\"-\")","v":232},{"$f":"IF(A237<>\"-\",DATE(YEAR(Inversion!$C$7),MONTH(Inversion!$C$7)+A237,DAY(Inversion!$C$7)),\"-\")","v":"2044-11-10"},{"$f":"IF(A237<=Inversion!$C$23,IF(H236>0,H236,0),0)","v":10535506.041405385},{"$f":"IF(A237<=Inversion!$C$23,(1-(1+Inversion!$C$22)^-(Inversion!$C$23))/Inversion!$C$22,0)","v":108.14668747119472},1216865.7503730953,1134464.505942333,{"$f":"C237*Inversion!$C$22","v":82401.244430762308},9401041.5354630519]
[{"$f":"IF(A237<Inversion!$C$23,A237+1,\"-\")","v":233},{"$f":"IF(A238<>\"-\",DATE(YEAR(Inversion!$C$7),MONTH(Inversion!$C$7)+A238,DAY(Inversion!$C$7)),\"-\")","v":"2044-12-10"},{"$f":"IF(A238<=Inversion!$C$23,IF(H237>0,H237,0),0)","v":9401041.5354630519},{"$f":"IF(A238<=Inversion!$C$23,(1-(1+Inversion!$C$22)^-(Inversion!$C$23))/Inversion!$C$22,0)","v":108.14668747119472},1216865.7503730953,1143337.4814486627,{"$f":"C238*Inversion!$C$22","v":73528.268924432647},8257704.0540143894]
[{"$f":"IF(A238<Inversion!$C$23,A238+1,\"-\")","v":234},{"$f":"IF(A239<>\"-\",DATE(YEAR(Inversion!$C$7),MONTH(Inversion!$C$7)+A239,DAY(Inversion!$C$7)),\"-\")","v":"2045-01-10"},{"$f":"IF(A239<=Inversion!$C$23,IF(H238>0,H238,0),0)","v":8257704.0540143894},{"$f":"IF(A239<=Inversion!$C$23,(1-(1+Inversion!$C$22)^-(Inversion!$C$23))/Inversion!$C$22,0)","v":108.14668747119472},1216865.7503730953,1152279.8550665448,{"$f":"C239*Inversion!$C$22","v":64585.895306550316},7105424.198947845]
[{"$f":"IF(A239<Inversion!$C$23,A239+1,\"-\")","v":235},{"$f":"IF(A240<>\"-\",DATE(YEAR(Inversion!$C$7),MONTH(Inversion!$C$7)+A240,DAY(Inversion!$C$7)),\"-\")","v":"2045-02-10"},{"$f":"IF(A240<=Inversion!$C$23,IF(H239>0,H239,0),0)","v":7105424.198947845},{"$f":"IF(A240<=Inversion!$C$23,(1-(1+Inversion!$C$22)^-(Inversion!$C$23))/Inversion!$C$22,0)","v":108.14668747119472},1216865.7503730953,1161292.169578712,{"$f":"C240*Inversion!$C$22","v":55573.580794383233},5944132.0293691326]
[{"$f":"IF(A240<Inversion!$C$23,A240+1,\"-\")","v":236},{"$f":"IF(A241<>\"-\",DATE(YEAR(Inversion!$C$7),MONTH(Inversion!$C$7)+A241,DAY(Inversion!$C$7)),\"-\")","v":"2045-03-10"},{"$f":"IF(A241<=Inversion!$C$23,IF(H240>0,H240,0),0)","v":5944132.0293691326},{"$f":"IF(A241<=Inversion!$C$23,(1-(1+Inversion!$C$22)^-(Inversion!$C$23))/Inversion!$C$22,0)","v":108.14668747119472},1216865.7503730953,1170374.9720131569,{"$f":"C241*Inversion!$C$22","v":46490.778359938333},4773757.0573559757]
[{"$f":"IF(A241<Inversion!$C$23,A241+1,\"-\")","v":237},{"$f":"IF(A242<>\"-\",DATE(YEAR(Inversion!$C$7),MONTH(Inversion!$C$7)+A242,DAY(Inversion!$C$7)),\"-\")","v":"2045-04-10"},{"$f":"IF(A242<=Inversion!$C$23,IF(H241>0,H241,0),0)","v":4773757.0573559757},{"$f":"IF(A242<=Inversion!$C$23,(1-(1+Inversion!$C$22)^-(Inversion!$C$23))/Inversion!$C$22,0)","v":108.14668747119472},1216865.7503730953,1179528.813676337,{"$f":"C242*Inversion!$C$22","v":37336.936696758188},3594228.243679639]
[{"$f":"IF(A242<Inversion!$C$23,A242+1,\"-\")","v":238},{"$f":"IF(A243<>\"-\",DATE(YEAR(Inversion!$C$7),MONTH(Inversion!$C$7)+A243,DAY(Inversion!$C$7)),\"-\")","v":"2045-05-10"},{"$f":"IF(A243<=Inversion!$C$23,IF(H242>0,H242,0),0)","v":3594228.243679639},{"$f":"IF(A243<=Inversion!$C$23,(1-(1+Inversion!$C$22)^-(Inversion!$C$23))/Inversion!$C$22,0)","v":108.14668747119472},1216865.7503730953,1188754.2501866375,{"$f":"C243*Inversion!$C$22","v":28111.500186457863},2405473.9934930014]
[{"$f":"IF(A243<Inversion!$C$23,A243+1,\"-\")","v":239},{"$f":"IF(A244<>\"-\",DATE(YEAR(Inversion!$C$7),MONTH(Inversion!$C$7)+A244,DAY(Inversion!$C$7)),\"-\")","v":"2045-06-10"},{"$f":"IF(A244<=Inversion!$C$23,IF(H243>0,H243,0),0)","v":2405473.9934930014},{"$f":"IF(A244<=Inversion!$C$23,(1-(1+Inversion!$C$22)^-(Inversion!$C$23))/Inversion!$C$22,0)","v":108.14668747119472},1216865.7503730953,1198051.8415080952,{"$f":"C244*Inversion!$C$22","v":18813.908865000089},1207422.1519849063]
[{"$f":"IF(A244<Inversion!$C$23,A244+1,\"-\")","v":240},{"$f":"IF(A245<>\"-\",DATE(YEAR(Inversion!$C$7),MONTH(Inversion!$C$7)+A245,DAY(Inversion!$C$7)),\"-\")","v":"2045-07-10"},{"$f":"IF(A245<=Inversion!$C$23,IF(H244>0,H244,0),0)","v":1207422.1519849063},{"$f":"IF(A245<=Inversion!$C$23,(1-(1+Inversion!$C$22)^-(Inversion!$C$23))/Inversion!$C$22,0)","v":108.14668747119472},1216865.7503730953,1207422.1519843887,{"$f":"C245*Inversion!$C$22","v":9443.5983887066723},5.1758252084255219E-7]
[{"$f":"IF(A245<Inversion!$C$23,A245+1,\"-\")","v":"-"},{"$f":"IF(A246<>\"-\",DATE(YEAR(Inversion!$C$7),MONTH(Inversion!$C$7)+A246,DAY(Inversion!$C$7)),\"-\")","v":"-"},{"$f":"IF(A246<=Inversion!$C$23,IF(H245>0,H245,0),0)","v":0},{"$f":"IF(A246<=Inversion!$C$23,(1-(1+Inversion!$C$22)^-(Inversion!$C$23))/Inversion!$C$22,0)","v":0},0,0,{"$f":"C246*Inversion!$C$22","v":0},0]
[{"$f":"IF(A246<Inversion!$C$23,A246+1,\"-\")","v":"-"},{"$f":"IF(A247<>\"-\",DATE(YEAR(Inversion!$C$7),MONTH(Inversion!$C$7)+A247,DAY(Inversion!$C$7)),\"-\")","v":"-"},{"$f":"IF(A247<=Inversion!$C$23,IF(H246>0,H246,0),0)","v":0},{"$f":"IF(A247<=Inversion!$C$23,(1-(1+Inversion!$C$22)^-(Inversion!$C$23))/Inversion!$C$22,0)","v":0},0,0,{"$f":"C247*Inversion!$C$22","v":0},0]
[{"$f":"IF(A247<Inversion!$C$23,A247+1,\"-\")","v":"-"},{"$f":"IF(A248<>\"-\",DATE(YEAR(Inversion!$C$7),MONTH(Inversion!$C$7)+A248,DAY(Inversion!$C$7)),\"-\")","v":"-"},{"$f":"IF(A248<=Inversion!$C$23,IF(H247>0,H247,0),0)","v":0},{"$f":"IF(A248<=Inversion!$C$23,(1-(1+Inversion!$C$22)^-(Inversion!$C$23))/Inversion!$C$22,0)","v":0},0,0,{"$f":"C248*Inversion!$C$22","v":0},0]
[{"$f":"IF(A248<Inversion!$C$23,A248+1,\"-\")","v":"-"},{"$f":"IF(A249<>\"-\",DATE(YEAR(Inversion!$C$7),MONTH(Inversion!$C$7)+A249,DAY(Inversion!$C$7)),\"-\")","v":"-"},{"$f":"IF(A249<=Inversion!$C$23,IF(H248>0,H248,0),0)","v":0},{"$f":"IF(A249<=Inversion!$C$23,(1-(1+Inversion!$C$22)^-(Inversion!$C$23))/Inversion!$C$22,0)","v":0},0,0,{"$f":"C249*Inversion!$C$22","v":0},0]
[{"$f":"IF(A249<Inversion!$C$23,A249+1,\"-\")","v":"-"},{"$f":"IF(A250<>\"-\",DATE(YEAR(Inversion!$C$7),MONTH(Inversion!$C$7)+A250,DAY(Inversion!$C$7)),\"-\")","v":"-"},{"$f":"IF(A250<=Inversion!$C$23,IF(H249>0,H249,0),0)","v":0},{"$f":"IF(A250<=Inversion!$C$23,(1-(1+Inversion!$C$22)^-(Inversion!$C$23))/Inversion!$C$22,0)","v":0},0,0,{"$f":"C250*Inversion!$C$22","v":0},0]
[{"$f":"IF(A250<Inversion!$C$23,A250+1,\"-\")","v":"-"},{"$f":"IF(A251<>\"-\",DATE(YEAR(Inversion!$C$7),MONTH(Inversion!$C$7)+A251,DAY(Inversion!$C$7)),\"-\")","v":"-"},{"$f":"IF(A251<=Inversion!$C$23,IF(H250>0,H250,0),0)","v":0},{"$f":"IF(A251<=Inversion!$C$23,(1-(1+Inversion!$C$22)^-(Inversion!$C$23))/Inversion!$C$22,0)","v":0},0,0,{"$f":"C251*Inversion!$C$22","v":0},0]
[{"$f":"IF(A251<Inversion!$C$23,A251+1,\"-\")","v":"-"},{"$f":"IF(A252<>\"-\",DATE(YEAR(Inversion!$C$7),MONTH(Inversion!$C$7)+A252,DAY(Inversion!$C$7)),\"-\")","v":"-"},{"$f":"IF(A252<=Inversion!$C$23,IF(H251>0,H251,0),0)","v":0},{"$f":"IF(A252<=Inversion!$C$23,(1-(1+Inversion!$C$22)^-(Inversion!$C$23))/Inversion!$C$22,0)","v":0},0,0,{"$f":"C252*Inversion!$C$22","v":0},0]
[{"$f":"IF(A252<Inversion!$C$23,A252+1,\"-\")","v":"-"},{"$f":"IF(A253<>\"-\",DATE(YEAR(Inversion!$C$7),MONTH(Inversion!$C$7)+A253,DAY(Inversion!$C$7)),\"-\")","v":"-"},{"$f":"IF(A253<=Inversion!$C$23,IF(H252>0,H252,0),0)","v":0},{"$f":"IF(A253<=Inversion!$C$23,(1-(1+Inversion!$C$22)^-(Inversion!$C$23))/Inversion!$C$22,0)","v":0},0,0,{"$f":"C253*Inversion!$C$22","v":0},0]
[{"$f":"IF(A253<Inversion!$C$23,A253+1,\"-\")","v":"-"},{"$f":"IF(A254<>\"-\",DATE(YEAR(Inversion!$C$7),MONTH(Inversion!$C$7)+A254,DAY(Inversion!$C$7)),\"-\")","v":"-"},{"$f":"IF(A254<=Inversion!$C$23,IF(H253>0,H253,0),0)","v":0},{"$f":"IF(A254<=Inversion!$C$23,(1-(1+Inversion!$C$22)^-(Inversion!$C$23))/Inversion!$C$22,0)","v":0},0,0,{"$f":"C254*Inversion!$C$22","v":0},0]
[{"$f":"IF(A254<Inversion!$C$23,A254+1,\"-\")","v":"-"},{"$f":"IF(A255<>\"-\",DATE(YEAR(Inversion!$C$7),MONTH(Inversion!$C$7)+A255,DAY(Inversion!$C$7)),\"-\")","v":"-"},{"$f":"IF(A255<=Inversion!$C$23,IF(H254>0,H254,0),0)","v":0},{"$f":"IF(A255<=Inversion!$C$23,(1-(1+Inversion!$C$22)^-(Inversion!$C$23))/Inversion!$C$22,0)","v":0},0,0,{"$f":"C255*Inversion!$C$22","v":0},0]
[{"$f":"IF(A255<Inversion!$C$23,A255+1,\"-\")","v":"-"},{"$f":"IF(A256<>\"-\",DATE(YEAR(Inversion!$C$7),MONTH(Inversion!$C$7)+A256,DAY(Inversion!$C$7)),\"-\")","v":"-"},{"$f":"IF(A256<=Inversion!$C$23,IF(H255>0,H255,0),0)","v":0},{"$f":"IF(A256<=Inversion!$C$23,(1-(1+Inversion!$C$22)^-(Inversion!$C$23))/Inversion!$C$22,0)","v":0},0,0,{"$f":"C256*Inversion!$C$22","v":0},0]
[{"$f":"IF(A256<Inversion!$C$23,A256+1,\"-\")","v":"-"},{"$f":"IF(A257<>\"-\",DATE(YEAR(Inversion!$C$7),MONTH(Inversion!$C$7)+A257,DAY(Inversion!$C$7)),\"-\")","v":"-"},{"$f":"IF(A257<=Inversion!$C$23,IF(H256>0,H256,0),0)","v":0},{"$f":"IF(A257<=Inversion!$C$23,(1-(1+Inversion!$C$22)^-(Inversion!$C$23))/Inversion!$C$22,0)","v":0},0,0,{"$f":"C257*Inversion!$C$22","v":0},0]
[{"$f":"IF(A257<Inversion!$C$23,A257+1,\"-\")","v":"-"},{"$f":"IF(A258<>\"-\",DATE(YEAR(Inversion!$C$7),MONTH(Inversion!$C$7)+A258,DAY(Inversion!$C$7)),\"-\")","v":"-"},{"$f":"IF(A258<=Inversion!$C$23,IF(H257>0,H257,0),0)","v":0},{"$f":"IF(A258<=Inversion!$C$23,(1-(1+Inversion!$C$22)^-(Inversion!$C$23))/Inversion!$C$22,0)","v":0},0,0,{"$f":"C258*Inversion!$C$22","v":0},0]
[{"$f":"IF(A258<Inversion!$C$23,A258+1,\"-\")","v":"-"},{"$f":"IF(A259<>\"-\",DATE(YEAR(Inversion!$C$7),MONTH(Inversion!$C$7)+A259,DAY(Inversion!$C$7)),\"-\")","v":"-"},{"$f":"IF(A259<=Inversion!$C$23,IF(H258>0,H258,0),0)","v":0},{"$f":"IF(A259<=Inversion!$C$23,(1-(1+Inversion!$C$22)^-(Inversion!$C$23))/Inversion!$C$22,0)","v":0},0,0,{"$f":"C259*Inversion!$C$22","v":0},0]
[{"$f":"IF(A259<Inversion!$C$23,A259+1,\"-\")","v":"-"},{"$f":"IF(A260<>\"-\",DATE(YEAR(Inversion!$C$7),MONTH(Inversion!$C$7)+A260,DAY(Inversion!$C$7)),\"-\")","v":"-"},{"$f":"IF(A260<=Inversion!$C$23,IF(H259>0,H259,0),0)","v":0},{"$f":"IF(A260<=Inversion!$C$23,(1-(1+Inversion!$C$22)^-(Inversion!$C$23))/Inversion!$C$22,0)","v":0},0,0,{"$f":"C260*Inversion!$C$22","v":0},0]
[{"$f":"IF(A260<Inversion!$C$23,A260+1,\"-\")","v":"-"},{"$f":"IF(A261<>\"-\",DATE(YEAR(Inversion!$C$7),MONTH(Inversion!$C$7)+A261,DAY(Inversion!$C$7)),\"-\")","v":"-"},{"$f":"IF(A261<=Inversion!$C$23,IF(H260>0,H260,0),0)","v":0},{"$f":"IF(A261<=Inversion!$C$23,(1-(1+Inversion!$C$22)^-(Inversion!$C$23))/Inversion!$C$22,0)","v":0},0,0,{"$f":"C261*Inversion!$C$22","v":0},0]
[{"$f":"IF(A261<Inversion!$C$23,A261+1,\"-\")","v":"-"},{"$f":"IF(A262<>\"-\",DATE(YEAR(Inversion!$C$7),MONTH(Inversion!$C$7)+A262,DAY(Inversion!$C$7)),\"-\")","v":"-"},{"$f":"IF(A262<=Inversion!$C$23,IF(H261>0,H261,0),0)","v":0},{"$f":"IF(A262<=Inversion!$C$23,(1-(1+Inversion!$C$22)^-(Inversion!$C$23))/Inversion!$C$22,0)","v":0},0,0,{"$f":"C262*Inversion!$C$22","v":0},0]
[{"$f":"IF(A262<Inversion!$C$23,A262+1,\"-\")","v":"-"},{"$f":"IF(A263<>\"-\",DATE(YEAR(Inversion!$C$7),MONTH(Inversion!$C$7)+A263,DAY(Inversion!$C$7)),\"-\")","v":"-"},{"$f":"IF(A263<=Inversion!$C$23,IF(H262>0,H262,0),0)","v":0},{"$f":"IF(A263<=Inversion!$C$23,(1-(1+Inversion!$C$22)^-(Inversion!$C$23))/Inversion!$C$22,0)","v":0},0,0,{"$f":"C263*Inversion!$C$22","v":0},0]
[{"$f":"IF(A263<Inversion!$C$23,A263+1,\"-\")","v":"-"},{"$f":"IF(A264<>\"-\",DATE(YEAR(Inversion!$C$7),MONTH(Inversion!$C$7)+A264,DAY(Inversion!$C$7)),\"-\")","v":"-"},{"$f":"IF(A264<=Inversion!$C$23,IF(H263>0,H263,0),0)","v":0},{"$f":"IF(A264<=Inversion!$C$23,(1-(1+Inversion!$C$22)^-(Inversion!$C$23))/Inversion!$C$22,0)","v":0},0,0,{"$f":"C264*Inversion!$C$22","v":0},0]
[{"$f":"IF(A264<Inversion!$C$23,A264+1,\"-\")","v":"-"},{"$f":"IF(A265<>\"-\",DATE(YEAR(Inversion!$C$7),MONTH(Inversion!$C$7)+A265,DAY(Inversion!$C$7)),\"-\")","v":"-"},{"$f":"IF(A265<=Inversion!$C$23,IF(H264>0,H264,0),0)","v":0},{"$f":"IF(A265<=Inversion!$C$23,(1-(1+Inversion!$C$22)^-(Inversion!$C$23))/Inversion!$C$22,0)","v":0},0,{"$f":"E265-G265","v":0},{"$f":"C265*Inversion!$C$22","v":0},0]
[{"$f":"IF(A265<Inversion!$C$23,A265+1,\"-\")","v":"-"},{"$f":"IF(A266<>\"-\",DATE(YEAR(Inversion!$C$7),MONTH(Inversion!$C$7)+A266,DAY(Inversion!$C$7)),\"-\")","v":"-"},{"$f":"IF(A266<=Inversion!$C$23,IF(H265>0,H265,0),0)","v":0},{"$f":"IF(A266<=Inversion!$C$23,(1-(1+Inversion!$C$22)^-(Inversion!$C$23))/Inversion!$C$22,0)","v":0},0,0,{"$f":"C266*Inversion!$C$22","v":0},0]
[{"$f":"IF(A266<Inversion!$C$23,A266+1,\"-\")","v":"-"},{"$f":"IF(A267<>\"-\",DATE(YEAR(Inversion!$C$7),MONTH(Inversion!$C$7)+A267,DAY(Inversion!$C$7)),\"-\")","v":"-"},{"$f":"IF(A267<=Inversion!$C$23,IF(H266>0,H266,0),0)","v":0},{"$f":"IF(A267<=Inversion!$C$23,(1-(1+Inversion!$C$22)^-(Inversion!$C$23))/Inversion!$C$22,0)","v":0},0,0,{"$f":"C267*Inversion!$C$22","v":0},0]
[{"$f":"IF(A267<Inversion!$C$23,A267+1,\"-\")","v":"-"},{"$f":"IF(A268<>\"-\",DATE(YEAR(Inversion!$C$7),MONTH(Inversion!$C$7)+A268,DAY(Inversion!$C$7)),\"-\")","v":"-"},{"$f":"IF(A268<=Inversion!$C$23,IF(H267>0,H267,0),0)","v":0},{"$f":"IF(A268<=Inversion!$C$23,(1-(1+Inversion!$C$22)^-(Inversion!$C$23))/Inversion!$C$22,0)","v":0},0,0,{"$f":"C268*Inversion!$C$22","v":0},0]
[{"$f":"IF(A268<Inversion!$C$23,A268+1,\"-\")","v":"-"},{"$f":"IF(A269<>\"-\",DATE(YEAR(Inversion!$C$7),MONTH(Inversion!$C$7)+A269,DAY(Inversion!$C$7)),\"-\")","v":"-"},{"$f":"IF(A269<=Inversion!$C$23,IF(H268>0,H268,0),0)","v":0},{"$f":"IF(A269<=Inversion!$C$23,(1-(1+Inversion!$C$22)^-(Inversion!$C$23))/Inversion!$C$22,0)","v":0},0,0,{"$f":"C269*Inversion!$C$22","v":0},0]
[{"$f":"IF(A269<Inversion!$C$23,A269+1,\"-\")","v":"-"},{"$f":"IF(A270<>\"-\",DATE(YEAR(Inversion!$C$7),MONTH(Inversion!$C$7)+A270,DAY(Inversion!$C$7)),\"-\")","v":"-"},{"$f":"IF(A270<=Inversion!$C$23,IF(H269>0,H269,0),0)","v":0},{"$f":"IF(A270<=Inversion!$C$23,(1-(1+Inversion!$C$22)^-(Inversion!$C$23))/Inversion!$C$22,0)","v":0},0,0,{"$f":"C270*Inversion!$C$22","v":0},0]
[{"$f":"IF(A270<Inversion!$C$23,A270+1,\"-\")","v":"-"},{"$f":"IF(A271<>\"-\",DATE(YEAR(Inversion!$C$7),MONTH(Inversion!$C$7)+A271,DAY(Inversion!$C$7)),\"-\")","v":"-"},{"$f":"IF(A271<=Inversion!$C$23,IF(H270>0,H270,0),0)","v":0},{"$f":"IF(A271<=Inversion!$C$23,(1-(1+Inversion!$C$22)^-(Inversion!$C$23))/Inversion!$C$22,0)","v":0},0,0,{"$f":"C271*Inversion!$C$22","v":0},0]
[{"$f":"IF(A271<Inversion!$C$23,A271+1,\"-\")","v":"-"},{"$f":"IF(A272<>\"-\",DATE(YEAR(Inversion!$C$7),MONTH(Inversion!$C$7)+A272,DAY(Inversion!$C$7)),\"-\")","v":"-"},{"$f":"IF(A272<=Inversion!$C$23,IF(H271>0,H271,0),0)","v":0},{"$f":"IF(A272<=Inversion!$C$23,(1-(1+Inversion!$C$22)^-(Inversion!$C$23))/Inversion!$C$22,0)","v":0},{"$f":"IF(C272<E271-G272,C272+G272,IF(C272=0,0,$C$6/D272))","v":0},0,{"$f":"C272*Inversion!$C$22","v":0},{"$f":"C272-F272","v":0}]
[{"$f":"IF(A272<Inversion!$C$23,A272+1,\"-\")","v":"-"},{"$f":"IF(A273<>\"-\",DATE(YEAR(Inversion!$C$7),MONTH(Inversion!$C$7)+A273,DAY(Inversion!$C$7)),\"-\")","v":"-"},{"$f":"IF(A273<=Inversion!$C$23,IF(H272>0,H272,0),0)","v":0},{"$f":"IF(A273<=Inversion!$C$23,(1-(1+Inversion!$C$22)^-(Inversion!$C$23))/Inversion!$C$22,0)","v":0},0,0,{"$f":"C273*Inversion!$C$22","v":0},0]
[{"$f":"IF(A273<Inversion!$C$23,A273+1,\"-\")","v":"-"},{"$f":"IF(A274<>\"-\",DATE(YEAR(Inversion!$C$7),MONTH(Inversion!$C$7)+A274,DAY(Inversion!$C$7)),\"-\")","v":"-"},{"$f":"IF(A274<=Inversion!$C$23,IF(H273>0,H273,0),0)","v":0},{"$f":"IF(A274<=Inversion!$C$23,(1-(1+Inversion!$C$22)^-(Inversion!$C$23))/Inversion!$C$22,0)","v":0},0,0,{"$f":"C274*Inversion!$C$22","v":0},0]
[{"$f":"IF(A274<Inversion!$C$23,A274+1,\"-\")","v":"-"},{"$f":"IF(A275<>\"-\",DATE(YEAR(Inversion!$C$7),MONTH(Inversion!$C$7)+A275,DAY(Inversion!$C$7)),\"-\")","v":"-"},{"$f":"IF(A275<=Inversion!$C$23,IF(H274>0,H274,0),0)","v":0},{"$f":"IF(A275<=Inversion!$C$23,(1-(1+Inversion!$C$22)^-(Inversion!$C$23))/Inversion!$C$22,0)","v":0},0,0,{"$f":"C275*Inversion!$C$22","v":0},0]
[{"$f":"IF(A275<Inversion!$C$23,A275+1,\"-\")","v":"-"},{"$f":"IF(A276<>\"-\",DATE(YEAR(Inversion!$C$7),MONTH(Inversion!$C$7)+A276,DAY(Inversion!$C$7)),\"-\")","v":"-"},{"$f":"IF(A276<=Inversion!$C$23,IF(H275>0,H275,0),0)","v":0},{"$f":"IF(A276<=Inversion!$C$23,(1-(1+Inversion!$C$22)^-(Inversion!$C$23))/Inversion!$C$22,0)","v":0},0,0,{"$f":"C276*Inversion!$C$22","v":0},0]
[{"$f":"IF(A276<Inversion!$C$23,A276+1,\"-\")","v":"-"},{"$f":"IF(A277<>\"-\",DATE(YEAR(Inversion!$C$7),MONTH(Inversion!$C$7)+A277,DAY(Inversion!$C$7)),\"-\")","v":"-"},{"$f":"IF(A277<=Inversion!$C$23,IF(H276>0,H276,0),0)","v":0},{"$f":"IF(A277<=Inversion!$C$23,(1-(1+Inversion!$C$22)^-(Inversion!$C$23))/Inversion!$C$22,0)","v":0},0,0,{"$f":"C277*Inversion!$C$22","v":0},0]
[{"$f":"IF(A277<Inversion!$C$23,A277+1,\"-\")","v":"-"},{"$f":"IF(A278<>\"-\",DATE(YEAR(Inversion!$C$7),MONTH(Inversion!$C$7)+A278,DAY(Inversion!$C$7)),\"-\")","v":"-"},{"$f":"IF(A278<=Inversion!$C$23,IF(H277>0,H277,0),0)","v":0},{"$f":"IF(A278<=Inversion!$C$23,(1-(1+Inversion!$C$22)^-(Inversion!$C$23))/Inversion!$C$22,0)","v":0},0,0,{"$f":"C278*Inversion!$C$22","v":0},0]
[{"$f":"IF(A278<Inversion!$C$23,A278+1,\"-\")","v":"-"},{"$f":"IF(A279<>\"-\",DATE(YEAR(Inversion!$C$7),MONTH(Inversion!$C$7)+A279,DAY(Inversion!$C$7)),\"-\")","v":"-"},{"$f":"IF(A279<=Inversion!$C$23,IF(H278>0,H278,0),0)","v":0},{"$f":"IF(A279<=Inversion!$C$23,(1-(1+Inversion!$C$22)^-(Inversion!$C$23))/Inversion!$C$22,0)","v":0},0,0,{"$f":"C279*Inversion!$C$22","v":0},0]
[{"$f":"IF(A279<Inversion!$C$23,A279+1,\"-\")","v":"-"},{"$f":"IF(A280<>\"-\",DATE(YEAR(Inversion!$C$7),MONTH(Inversion!$C$7)+A280,DAY(Inversion!$C$7)),\"-\")","v":"-"},{"$f":"IF(A280<=Inversion!$C$23,IF(H279>0,H279,0),0)","v":0},{"$f":"IF(A280<=Inversion!$C$23,(1-(1+Inversion!$C$22)^-(Inversion!$C$23))/Inversion!$C$22,0)","v":0},0,0,{"$f":"C280*Inversion!$C$22","v":0},0]
[{"$f":"IF(A280<Inversion!$C$23,A280+1,\"-\")","v":"-"},{"$f":"IF(A281<>\"-\",DATE(YEAR(Inversion!$C$7),MONTH(Inversion!$C$7)+A281,DAY(Inversion!$C$7)),\"-\")","v":"-"},{"$f":"IF(A281<=Inversion!$C$23,IF(H280>0,H280,0),0)","v":0},{"$f":"IF(A281<=Inversion!$C$23,(1-(1+Inversion!$C$22)^-(Inversion!$C$23))/Inversion!$C$22,0)","v":0},0,0,{"$f":"C281*Inversion!$C$22","v":0},0]
[{"$f":"IF(A281<Inversion!$C$23,A281+1,\"-\")","v":"-"},{"$f":"IF(A282<>\"-\",DATE(YEAR(Inversion!$C$7),MONTH(Inversion!$C$7)+A282,DAY(Inversion!$C$7)),\"-\")","v":"-"},{"$f":"IF(A282<=Inversion!$C$23,IF(H281>0,H281,0),0)","v":0},{"$f":"IF(A282<=Inversion!$C$23,(1-(1+Inversion!$C$22)^-(Inversion!$C$23))/Inversion!$C$22,0)","v":0},0,0,{"$f":"C282*Inversion!$C$22","v":0},0]
[{"$f":"IF(A282<Inversion!$C$23,A282+1,\"-\")","v":"-"},{"$f":"IF(A283<>\"-\",DATE(YEAR(Inversion!$C$7),MONTH(Inversion!$C$7)+A283,DAY(Inversion!$C$7)),\"-\")","v":"-"},{"$f":"IF(A283<=Inversion!$C$23,IF(H282>0,H282,0),0)","v":0},{"$f":"IF(A283<=Inversion!$C$23,(1-(1+Inversion!$C$22)^-(Inversion!$C$23))/Inversion!$C$22,0)","v":0},0,0,{"$f":"C283*Inversion!$C$22","v":0},0]
[{"$f":"IF(A283<Inversion!$C$23,A283+1,\"-\")","v":"-"},{"$f":"IF(A284<>\"-\",DATE(YEAR(Inversion!$C$7),MONTH(Inversion!$C$7)+A284,DAY(Inversion!$C$7)),\"-\")","v":"-"},{"$f":"IF(A284<=Inversion!$C$23,IF(H283>0,H283,0),0)","v":0},{"$f":"IF(A284<=Inversion!$C$23,(1-(1+Inversion!$C$22)^-(Inversion!$C$23))/Inversion!$C$22,0)","v":0},0,0,{"$f":"C284*Inversion!$C$22","v":0},0]
[{"$f":"IF(A284<Inversion!$C$23,A284+1,\"-\")","v":"-"},{"$f":"IF(A285<>\"-\",DATE(YEAR(Inversion!$C$7),MONTH(Inversion!$C$7)+A285,DAY(Inversion!$C$7)),\"-\")","v":"-"},{"$f":"IF(A285<=Inversion!$C$23,IF(H284>0,H284,0),0)","v":0},{"$f":"IF(A285<=Inversion!$C$23,(1-(1+Inversion!$C$22)^-(Inversion!$C$23))/Inversion!$C$22,0)","v":0},0,0,{"$f":"C285*Inversion!$C$22","v":0},0]
[{"$f":"IF(A285<Inversion!$C$23,A285+1,\"-\")","v":"-"},{"$f":"IF(A286<>\"-\",DATE(YEAR(Inversion!$C$7),MONTH(Inversion!$C$7)+A286,DAY(Inversion!$C$7)),\"-\")","v":"-"},{"$f":"IF(A286<=Inversion!$C$23,IF(H285>0,H285,0),0)","v":0},{"$f":"IF(A286<=Inversion!$C$23,(1-(1+Inversion!$C$22)^-(Inversion!$C$23))/Inversion!$C$22,0)","v":0},0,0,{"$f":"C286*Inversion!$C$22","v":0},0]
[{"$f":"IF(A286<Inversion!$C$23,A286+1,\"-\")","v":"-"},{"$f":"IF(A287<>\"-\",DATE(YEAR(Inversion!$C$7),MONTH(Inversion!$C$7)+A287,DAY(Inversion!$C$7)),\"-\")","v":"-"},{"$f":"IF(A287<=Inversion!$C$23,IF(H286>0,H286,0),0)","v":0},{"$f":"IF(A287<=Inversion!$C$23,(1-(1+Inversion!$C$22)^-(Inversion!$C$23))/Inversion!$C$22,0)","v":0},0,0,{"$f":"C287*Inversion!$C$22","v":0},0]
[{"$f":"IF(A287<Inversion!$C$23,A287+1,\"-\")","v":"-"},{"$f":"IF(A288<>\"-\",DATE(YEAR(Inversion!$C$7),MONTH(Inversion!$C$7)+A288,DAY(Inversion!$C$7)),\"-\")","v":"-"},{"$f":"IF(A288<=Inversion!$C$23,IF(H287>0,H287,0),0)","v":0},{"$f":"IF(A288<=Inversion!$C$23,(1-(1+Inversion!$C$22)^-(Inversion!$C$23))/Inversion!$C$22,0)","v":0},0,0,{"$f":"C288*Inversion!$C$22","v":0},0]
[{"$f":"IF(A288<Inversion!$C$23,A288+1,\"-\")","v":"-"},{"$f":"IF(A289<>\"-\",DATE(YEAR(Inversion!$C$7),MONTH(Inversion!$C$7)+A289,DAY(Inversion!$C$7)),\"-\")","v":"-"},{"$f":"IF(A289<=Inversion!$C$23,IF(H288>0,H288,0),0)","v":0},{"$f":"IF(A289<=Inversion!$C$23,(1-(1+Inversion!$C$22)^-(Inversion!$C$23))/Inversion!$C$22,0)","v":0},0,0,{"$f":"C289*Inversion!$C$22","v":0},0]
[{"$f":"IF(A289<Inversion!$C$23,A289+1,\"-\")","v":"-"},{"$f":"IF(A290<>\"-\",DATE(YEAR(Inversion!$C$7),MONTH(Inversion!$C$7)+A290,DAY(Inversion!$C$7)),\"-\")","v":"-"},{"$f":"IF(A290<=Inversion!$C$23,IF(H289>0,H289,0),0)","v":0},{"$f":"IF(A290<=Inversion!$C$23,(1-(1+Inversion!$C$22)^-(Inversion!$C$23))/Inversion!$C$22,0)","v":0},0,0,{"$f":"C290*Inversion!$C$22","v":0},0]
[{"$f":"IF(A290<Inversion!$C$23,A290+1,\"-\")","v":"-"},{"$f":"IF(A291<>\"-\",DATE(YEAR(Inversion!$C$7),MONTH(Inversion!$C$7)+A291,DAY(Inversion!$C$7)),\"-\")","v":"-"},{"$f":"IF(A291<=Inversion!$C$23,IF(H290>0,H290,0),0)","v":0},{"$f":"IF(A291<=Inversion!$C$23,(1-(1+Inversion!$C$22)^-(Inversion!$C$23))/Inversion!$C$22,0)","v":0},0,0,{"$f":"C291*Inversion!$C$22","v":0},0]
[{"$f":"IF(A291<Inversion!$C$23,A291+1,\"-\")","v":"-"},{"$f":"IF(A292<>\"-\",DATE(YEAR(Inversion!$C$7),MONTH(Inversion!$C$7)+A292,DAY(Inversion!$C$7)),\"-\")","v":"-"},{"$f":"IF(A292<=Inversion!$C$23,IF(H291>0,H291,0),0)","v":0},{"$f":"IF(A292<=Inversion!$C$23,(1-(1+Inversion!$C$22)^-(Inversion!$C$23))/Inversion!$C$22,0)","v":0},0,0,{"$f":"C292*Inversion!$C$22","v":0},0]
[{"$f":"IF(A292<Inversion!$C$23,A292+1,\"-\")","v":"-"},{"$f":"IF(A293<>\"-\",DATE(YEAR(Inversion!$C$7),MONTH(Inversion!$C$7)+A293,DAY(Inversion!$C$7)),\"-\")","v":"-"},{"$f":"IF(A293<=Inversion!$C$23,IF(H292>0,H292,0),0)","v":0},{"$f":"IF(A293<=Inversion!$C$23,(1-(1+Inversion!$C$22)^-(Inversion!$C$23))/Inversion!$C$22,0)","v":0},0,0,{"$f":"C293*Inversion!$C$22","v":0},0]
[{"$f":"IF(A293<Inversion!$C$23,A293+1,\"-\")","v":"-"},{"$f":"IF(A294<>\"-\",DATE(YEAR(Inversion!$C$7),MONTH(Inversion!$C$7)+A294,DAY(Inversion!$C$7)),\"-\")","v":"-"},{"$f":"IF(A294<=Inversion!$C$23,IF(H293>0,H293,0),0)","v":0},{"$f":"IF(A294<=Inversion!$C$23,(1-(1+Inversion!$C$22)^-(Inversion!$C$23))/Inversion!$C$22,0)","v":0},0,0,{"$f":"C294*Inversion!$C$22","v":0},0]
[{"$f":"IF(A294<Inversion!$C$23,A294+1,\"-\")","v":"-"},{"$f":"IF(A295<>\"-\",DATE(YEAR(Inversion!$C$7),MONTH(Inversion!$C$7)+A295,DAY(Inversion!$C$7)),\"-\")","v":"-"},{"$f":"IF(A295<=Inversion!$C$23,IF(H294>0,H294,0),0)","v":0},{"$f":"IF(A295<=Inversion!$C$23,(1-(1+Inversion!$C$22)^-(Inversion!$C$23))/Inversion!$C$22,0)","v":0},0,0,{"$f":"C295*Inversion!$C$22","v":0},0]
[{"$f":"IF(A295<Inversion!$C$23,A295+1,\"-\")","v":"-"},{"$f":"IF(A296<>\"-\",DATE(YEAR(Inversion!$C$7),MONTH(Inversion!$C$7)+A296,DAY(Inversion!$C$7)),\"-\")","v":"-"},{"$f":"IF(A296<=Inversion!$C$23,IF(H295>0,H295,0),0)","v":0},{"$f":"IF(A296<=Inversion!$C$23,(1-(1+Inversion!$C$22)^-(Inversion!$C$23))/Inversion!$C$22,0)","v":0},0,0,{"$f":"C296*Inversion!$C$22","v":0},0]
[{"$f":"IF(A296<Inversion!$C$23,A296+1,\"-\")","v":"-"},{"$f":"IF(A297<>\"-\",DATE(YEAR(Inversion!$C$7),MONTH(Inversion!$C$7)+A297,DAY(Inversion!$C$7)),\"-\")","v":"-"},{"$f":"IF(A297<=Inversion!$C$23,IF(H296>0,H296,0),0)","v":0},{"$f":"IF(A297<=Inversion!$C$23,(1-(1+Inversion!$C$22)^-(Inversion!$C$23))/Inversion!$C$22,0)","v":0},0,0,{"$f":"C297*Inversion!$C$22","v":0},0]
[{"$f":"IF(A297<Inversion!$C$23,A297+1,\"-\")","v":"-"},{"$f":"IF(A298<>\"-\",DATE(YEAR(Inversion!$C$7),MONTH(Inversion!$C$7)+A298,DAY(Inversion!$C$7)),\"-\")","v":"-"},{"$f":"IF(A298<=Inversion!$C$23,IF(H297>0,H297,0),0)","v":0},{"$f":"IF(A298<=Inversion!$C$23,(1-(1+Inversion!$C$22)^-(Inversion!$C$23))/Inversion!$C$22,0)","v":0},0,0,{"$f":"C298*Inversion!$C$22","v":0},0]
[{"$f":"IF(A298<Inversion!$C$23,A298+1,\"-\")","v":"-"},{"$f":"IF(A299<>\"-\",DATE(YEAR(Inversion!$C$7),MONTH(Inversion!$C$7)+A299,DAY(Inversion!$C$7)),\"-\")","v":"-"},{"$f":"IF(A299<=Inversion!$C$23,IF(H298>0,H298,0),0)","v":0},{"$f":"IF(A299<=Inversion!$C$23,(1-(1+Inversion!$C$22)^-(Inversion!$C$23))/Inversion!$C$22,0)","v":0},0,0,{"$f":"C299*Inversion!$C$22","v":0},0]
[{"$f":"IF(A299<Inversion!$C$23,A299+1,\"-\")","v":"-"},{"$f":"IF(A300<>\"-\",DATE(YEAR(Inversion!$C$7),MONTH(Inversion!$C$7)+A300,DAY(Inversion!$C$7)),\"-\")","v":"-"},{"$f":"IF(A300<=Inversion!$C$23,IF(H299>0,H299,0),0)","v":0},{"$f":"IF(A300<=Inversion!$C$23,(1-(1+Inversion!$C$22)^-(Inversion!$C$23))/Inversion!$C$22,0)","v":0},0,0,{"$f":"C300*Inversion!$C$22","v":0},0]
[{"$f":"IF(A300<Inversion!$C$23,A300+1,\"-\")","v":"-"},{"$f":"IF(A301<>\"-\",DATE(YEAR(Inversion!$C$7),MONTH(Inversion!$C$7)+A301,DAY(Inversion!$C$7)),\"-\")","v":"-"},{"$f":"IF(A301<=Inversion!$C$23,IF(H300>0,H300,0),0)","v":0},{"$f":"IF(A301<=Inversion!$C$23,(1-(1+Inversion!$C$22)^-(Inversion!$C$23))/Inversion!$C$22,0)","v":0},0,0,{"$f":"C301*Inversion!$C$22","v":0},0]
[{"$f":"IF(A301<Inversion!$C$23,A301+1,\"-\")","v":"-"},{"$f":"IF(A302<>\"-\",DATE(YEAR(Inversion!$C$7),MONTH(Inversion!$C$7)+A302,DAY(Inversion!$C$7)),\"-\")","v":"-"},{"$f":"IF(A302<=Inversion!$C$23,IF(H301>0,H301,0),0)","v":0},{"$f":"IF(A302<=Inversion!$C$23,(1-(1+Inversion!$C$22)^-(Inversion!$C$23))/Inversion!$C$22,0)","v":0},0,0,{"$f":"C302*Inversion!$C$22","v":0},0]
[{"$f":"IF(A302<Inversion!$C$23,A302+1,\"-\")","v":"-"},{"$f":"IF(A303<>\"-\",DATE(YEAR(Inversion!$C$7),MONTH(Inversion!$C$7)+A303,DAY(Inversion!$C$7)),\"-\")","v":"-"},{"$f":"IF(A303<=Inversion!$C$23,IF(H302>0,H302,0),0)","v":0},{"$f":"IF(A303<=Inversion!$C$23,(1-(1+Inversion!$C$22)^-(Inversion!$C$23))/Inversion!$C$22,0)","v":0},0,0,{"$f":"C303*Inversion!$C$22","v":0},0]
[{"$f":"IF(A303<Inversion!$C$23,A303+1,\"-\")","v":"-"},{"$f":"IF(A304<>\"-\",DATE(YEAR(Inversion!$C$7),MONTH(Inversion!$C$7)+A304,DAY(Inversion!$C$7)),\"-\")","v":"-"},{"$f":"IF(A304<=Inversion!$C$23,IF(H303>0,H303,0),0)","v":0},{"$f":"IF(A304<=Inversion!$C$23,(1-(1+Inversion!$C$22)^-(Inversion!$C$23))/Inversion!$C$22,0)","v":0},0,0,{"$f":"C304*Inversion!$C$22","v":0},0]
[{"$f":"IF(A304<Inversion!$C$23,A304+1,\"-\")","v":"-"},{"$f":"IF(A305<>\"-\",DATE(YEAR(Inversion!$C$7),MONTH(Inversion!$C$7)+A305,DAY(Inversion!$C$7)),\"-\")","v":"-"},{"$f":"IF(A305<=Inversion!$C$23,IF(H304>0,H304,0),0)","v":0},{"$f":"IF(A305<=Inversion!$C$23,(1-(1+Inversion!$C$22)^-(Inversion!$C$23))/Inversion!$C$22,0)","v":0},0,0,{"$f":"C305*Inversion!$C$22","v":0},0]
[{"$f":"IF(A305<Inversion!$C$23,A305+1,\"-\")","v":"-"},{"$f":"IF(A306<>\"-\",DATE(YEAR(Inversion!$C$7),MONTH(Inversion!$C$7)+A306,DAY(Inversion!$C$7)),\"-\")","v":"-"},{"$f":"IF(A306<=Inversion!$C$23,IF(H305>0,H305,0),0)","v":0},{"$f":"IF(A306<=Inversion!$C$23,(1-(1+Inversion!$C$22)^-(Inversion!$C$23))/Inversion!$C$22,0)","v":0},0,0,{"$f":"C306*Inversion!$C$22","v":0},0]
[{"$f":"IF(A306<Inversion!$C$23,A306+1,\"-\")","v":"-"},{"$f":"IF(A307<>\"-\",DATE(YEAR(Inversion!$C$7),MONTH(Inversion!$C$7)+A307,DAY(Inversion!$C$7)),\"-\")","v":"-"},{"$f":"IF(A307<=Inversion!$C$23,IF(H306>0,H306,0),0)","v":0},{"$f":"IF(A307<=Inversion!$C$23,(1-(1+Inversion!$C$22)^-(Inversion!$C$23))/Inversion!$C$22,0)","v":0},0,0,{"$f":"C307*Inversion!$C$22","v":0},0]
[{"$f":"IF(A307<Inversion!$C$23,A307+1,\"-\")","v":"-"},{"$f":"IF(A308<>\"-\",DATE(YEAR(Inversion!$C$7),MONTH(Inversion!$C$7)+A308,DAY(Inversion!$C$7)),\"-\")","v":"-"},{"$f":"IF(A308<=Inversion!$C$23,IF(H307>0,H307,0),0)","v":0},{"$f":"IF(A308<=Inversion!$C$23,(1-(1+Inversion!$C$22)^-(Inversion!$C$23))/Inversion!$C$22,0)","v":0},0,0,{"$f":"C308*Inversion!$C$22","v":0},0]
[{"$f":"IF(A308<Inversion!$C$23,A308+1,\"-\")","v":"-"},{"$f":"IF(A309<>\"-\",DATE(YEAR(Inversion!$C$7),MONTH(Inversion!$C$7)+A309,DAY(Inversion!$C$7)),\"-\")","v":"-"},{"$f":"IF(A309<=Inversion!$C$23,IF(H308>0,H308,0),0)","v":0},{"$f":"IF(A309<=Inversion!$C$23,(1-(1+Inversion!$C$22)^-(Inversion!$C$23))/Inversion!$C$22,0)","v":0},0,0,{"$f":"C309*Inversion!$C$22","v":0},0]
[{"$f":"IF(A309<Inversion!$C$23,A309+1,\"-\")","v":"-"},{"$f":"IF(A310<>\"-\",DATE(YEAR(Inversion!$C$7),MONTH(Inversion!$C$7)+A310,DAY(Inversion!$C$7)),\"-\")","v":"-"},{"$f":"IF(A310<=Inversion!$C$23,IF(H309>0,H309,0),0)","v":0},{"$f":"IF(A310<=Inversion!$C$23,(1-(1+Inversion!$C$22)^-(Inversion!$C$23))/Inversion!$C$22,0)","v":0},0,0,{"$f":"C310*Inversion!$C$22","v":0},0]
[{"$f":"IF(A310<Inversion!$C$23,A310+1,\"-\")","v":"-"},{"$f":"IF(A311<>\"-\",DATE(YEAR(Inversion!$C$7),MONTH(Inversion!$C$7)+A311,DAY(Inversion!$C$7)),\"-\")","v":"-"},{"$f":"IF(A311<=Inversion!$C$23,IF(H310>0,H310,0),0)","v":0},{"$f":"IF(A311<=Inversion!$C$23,(1-(1+Inversion!$C$22)^-(Inversion!$C$23))/Inversion!$C$22,0)","v":0},0,0,{"$f":"C311*Inversion!$C$22","v":0},0]
[{"$f":"IF(A311<Inversion!$C$23,A311+1,\"-\")","v":"-"},{"$f":"IF(A312<>\"-\",DATE(YEAR(Inversion!$C$7),MONTH(Inversion!$C$7)+A312,DAY(Inversion!$C$7)),\"-\")","v":"-"},{"$f":"IF(A312<=Inversion!$C$23,IF(H311>0,H311,0),0)","v":0},{"$f":"IF(A312<=Inversion!$C$23,(1-(1+Inversion!$C$22)^-(Inversion!$C$23))/Inversion!$C$22,0)","v":0},0,0,{"$f":"C312*Inversion!$C$22","v":0},0]
[{"$f":"IF(A312<Inversion!$C$23,A312+1,\"-\")","v":"-"},{"$f":"IF(A313<>\"-\",DATE(YEAR(Inversion!$C$7),MONTH(Inversion!$C$7)+A313,DAY(Inversion!$C$7)),\"-\")","v":"-"},{"$f":"IF(A313<=Inversion!$C$23,IF(H312>0,H312,0),0)","v":0},{"$f":"IF(A313<=Inversion!$C$23,(1-(1+Inversion!$C$22)^-(Inversion!$C$23))/Inversion!$C$22,0)","v":0},0,0,{"$f":"C313*Inversion!$C$22","v":0},0]
[{"$f":"IF(A313<Inversion!$C$23,A313+1,\"-\")","v":"-"},{"$f":"IF(A314<>\"-\",DATE(YEAR(Inversion!$C$7),MONTH(Inversion!$C$7)+A314,DAY(Inversion!$C$7)),\"-\")","v":"-"},{"$f":"IF(A314<=Inversion!$C$23,IF(H313>0,H313,0),0)","v":0},{"$f":"IF(A314<=Inversion!$C$23,(1-(1+Inversion!$C$22)^-(Inversion!$C$23))/Inversion!$C$22,0)","v":0},0,0,{"$f":"C314*Inversion!$C$22","v":0},0]
[{"$f":"IF(A314<Inversion!$C$23,A314+1,\"-\")","v":"-"},{"$f":"IF(A315<>\"-\",DATE(YEAR(Inversion!$C$7),MONTH(Inversion!$C$7)+A315,DAY(Inversion!$C$7)),\"-\")","v":"-"},{"$f":"IF(A315<=Inversion!$C$23,IF(H314>0,H314,0),0)","v":0},{"$f":"IF(A315<=Inversion!$C$23,(1-(1+Inversion!$C$22)^-(Inversion!$C$23))/Inversion!$C$22,0)","v":0},0,0,{"$f":"C315*Inversion!$C$22","v":0},0]
[{"$f":"IF(A315<Inversion!$C$23,A315+1,\"-\")","v":"-"},{"$f":"IF(A316<>\"-\",DATE(YEAR(Inversion!$C$7),MONTH(Inversion!$C$7)+A316,DAY(Inversion!$C$7)),\"-\")","v":"-"},{"$f":"IF(A316<=Inversion!$C$23,IF(H315>0,H315,0),0)","v":0},{"$f":"IF(A316<=Inversion!$C$23,(1-(1+Inversion!$C$22)^-(Inversion!$C$23))/Inversion!$C$22,0)","v":0},0,0,{"$f":"C316*Inversion!$C$22","v":0},0]
[{"$f":"IF(A316<Inversion!$C$23,A316+1,\"-\")","v":"-"},{"$f":"IF(A317<>\"-\",DATE(YEAR(Inversion!$C$7),MONTH(Inversion!$C$7)+A317,DAY(Inversion!$C$7)),\"-\")","v":"-"},{"$f":"IF(A317<=Inversion!$C$23,IF(H316>0,H316,0),0)","v":0},{"$f":"IF(A317<=Inversion!$C$23,(1-(1+Inversion!$C$22)^-(Inversion!$C$23))/Inversion!$C$22,0)","v":0},0,0,{"$f":"C317*Inversion!$C$22","v":0},0]
[{"$f":"IF(A317<Inversion!$C$23,A317+1,\"-\")","v":"-"},{"$f":"IF(A318<>\"-\",DATE(YEAR(Inversion!$C$7),MONTH(Inversion!$C$7)+A318,DAY(Inversion!$C$7)),\"-\")","v":"-"},{"$f":"IF(A318<=Inversion!$C$23,IF(H317>0,H317,0),0)","v":0},{"$f":"IF(A318<=Inversion!$C$23,(1-(1+Inversion!$C$22)^-(Inversion!$C$23))/Inversion!$C$22,0)","v":0},0,0,{"$f":"C318*Inversion!$C$22","v":0},0]
[{"$f":"IF(A318<Inversion!$C$23,A318+1,\"-\")","v":"-"},{"$f":"IF(A319<>\"-\",DATE(YEAR(Inversion!$C$7),MONTH(Inversion!$C$7)+A319,DAY(Inversion!$C$7)),\"-\")","v":"-"},{"$f":"IF(A319<=Inversion!$C$23,IF(H318>0,H318,0),0)","v":0},{"$f":"IF(A319<=Inversion!$C$23,(1-(1+Inversion!$C$22)^-(Inversion!$C$23))/Inversion!$C$22,0)","v":0},0,0,{"$f":"C319*Inversion!$C$22","v":0},0]
[{"$f":"IF(A319<Inversion!$C$23,A319+1,\"-\")","v":"-"},{"$f":"IF(A320<>\"-\",DATE(YEAR(Inversion!$C$7),MONTH(Inversion!$C$7)+A320,DAY(Inversion!$C$7)),\"-\")","v":"-"},{"$f":"IF(A320<=Inversion!$C$23,IF(H319>0,H319,0),0)","v":0},{"$f":"IF(A320<=Inversion!$C$23,(1-(1+Inversion!$C$22)^-(Inversion!$C$23))/Inversion!$C$22,0)","v":0},0,0,{"$f":"C320*Inversion!$C$22","v":0},0]
[{"$f":"IF(A320<Inversion!$C$23,A320+1,\"-\")","v":"-"},{"$f":"IF(A321<>\"-\",DATE(YEAR(Inversion!$C$7),MONTH(Inversion!$C$7)+A321,DAY(Inversion!$C$7)),\"-\")","v":"-"},{"$f":"IF(A321<=Inversion!$C$23,IF(H320>0,H320,0),0)","v":0},{"$f":"IF(A321<=Inversion!$C$23,(1-(1+Inversion!$C$22)^-(Inversion!$C$23))/Inversion!$C$22,0)","v":0},0,0,{"$f":"C321*Inversion!$C$22","v":0},0]
[{"$f":"IF(A321<Inversion!$C$23,A321+1,\"-\")","v":"-"},{"$f":"IF(A322<>\"-\",DATE(YEAR(Inversion!$C$7),MONTH(Inversion!$C$7)+A322,DAY(Inversion!$C$7)),\"-\")","v":"-"},{"$f":"IF(A322<=Inversion!$C$23,IF(H321>0,H321,0),0)","v":0},{"$f":"IF(A322<=Inversion!$C$23,(1-(1+Inversion!$C$22)^-(Inversion!$C$23))/Inversion!$C$22,0)","v":0},0,0,{"$f":"C322*Inversion!$C$22","v":0},0]
[{"$f":"IF(A322<Inversion!$C$23,A322+1,\"-\")","v":"-"},{"$f":"IF(A323<>\"-\",DATE(YEAR(Inversion!$C$7),MONTH(Inversion!$C$7)+A323,DAY(Inversion!$C$7)),\"-\")","v":"-"},{"$f":"IF(A323<=Inversion!$C$23,IF(H322>0,H322,0),0)","v":0},{"$f":"IF(A323<=Inversion!$C$23,(1-(1+Inversion!$C$22)^-(Inversion!$C$23))/Inversion!$C$22,0)","v":0},0,0,{"$f":"C323*Inversion!$C$22","v":0},0]
[{"$f":"IF(A323<Inversion!$C$23,A323+1,\"-\")","v":"-"},{"$f":"IF(A324<>\"-\",DATE(YEAR(Inversion!$C$7),MONTH(Inversion!$C$7)+A324,DAY(Inversion!$C$7)),\"-\")","v":"-"},{"$f":"IF(A324<=Inversion!$C$23,IF(H323>0,H323,0),0)","v":0},{"$f":"IF(A324<=Inversion!$C$23,(1-(1+Inversion!$C$22)^-(Inversion!$C$23))/Inversion!$C$22,0)","v":0},0,0,{"$f":"C324*Inversion!$C$22","v":0},0]
[{"$f":"IF(A324<Inversion!$C$23,A324+1,\"-\")","v":"-"},{"$f":"IF(A325<>\"-\",DATE(YEAR(Inversion!$C$7),MONTH(Inversion!$C$7)+A325,DAY(Inversion!$C$7)),\"-\")","v":"-"},{"$f":"IF(A325<=Inversion!$C$23,IF(H324>0,H324,0),0)","v":0},{"$f":"IF(A325<=Inversion!$C$23,(1-(1+Inversion!$C$22)^-(Inversion!$C$23))/Inversion!$C$22,0)","v":0},0,0,{"$f":"C325*Inversion!$C$22","v":0},0]
[{"$f":"IF(A325<Inversion!$C$23,A325+1,\"-\")","v":"-"},{"$f":"IF(A326<>\"-\",DATE(YEAR(Inversion!$C$7),MONTH(Inversion!$C$7)+A326,DAY(Inversion!$C$7)),\"-\")","v":"-"},{"$f":"IF(A326<=Inversion!$C$23,IF(H325>0,H325,0),0)","v":0},{"$f":"IF(A326<=Inversion!$C$23,(1-(1+Inversion!$C$22)^-(Inversion!$C$23))/Inversion!$C$22,0)","v":0},0,0,{"$f":"C326*Inversion!$C$22","v":0},0]
[{"$f":"IF(A326<Inversion!$C$23,A326+1,\"-\")","v":"-"},{"$f":"IF(A327<>\"-\",DATE(YEAR(Inversion!$C$7),MONTH(Inversion!$C$7)+A327,DAY(Inversion!$C$7)),\"-\")","v":"-"},{"$f":"IF(A327<=Inversion!$C$23,IF(H326>0,H326,0),0)","v":0},{"$f":"IF(A327<=Inversion!$C$23,(1-(1+Inversion!$C$22)^-(Inversion!$C$23))/Inversion!$C$22,0)","v":0},0,0,{"$f":"C327*Inversion!$C$22","v":0},0]
[{"$f":"IF(A327<Inversion!$C$23,A327+1,\"-\")","v":"-"},{"$f":"IF(A328<>\"-\",DATE(YEAR(Inversion!$C$7),MONTH(Inversion!$C$7)+A328,DAY(Inversion!$C$7)),\"-\")","v":"-"},{"$f":"IF(A328<=Inversion!$C$23,IF(H327>0,H327,0),0)","v":0},{"$f":"IF(A328<=Inversion!$C$23,(1-(1+Inversion!$C$22)^-(Inversion!$C$23))/Inversion!$C$22,0)","v":0},0,0,{"$f":"C328*Inversion!$C$22","v":0},0]
[{"$f":"IF(A328<Inversion!$C$23,A328+1,\"-\")","v":"-"},{"$f":"IF(A329<>\"-\",DATE(YEAR(Inversion!$C$7),MONTH(Inversion!$C$7)+A329,DAY(Inversion!$C$7)),\"-\")","v":"-"},{"$f":"IF(A329<=Inversion!$C$23,IF(H328>0,H328,0),0)","v":0},{"$f":"IF(A329<=Inversion!$C$23,(1-(1+Inversion!$C$22)^-(Inversion!$C$23))/Inversion!$C$22,0)","v":0},0,{"$f":"E329-G329","v":0},{"$f":"C329*Inversion!$C$22","v":0},0]
[{"$f":"IF(A329<Inversion!$C$23,A329+1,\"-\")","v":"-"},{"$f":"IF(A330<>\"-\",DATE(YEAR(Inversion!$C$7),MONTH(Inversion!$C$7)+A330,DAY(Inversion!$C$7)),\"-\")","v":"-"},{"$f":"IF(A330<=Inversion!$C$23,IF(H329>0,H329,0),0)","v":0},{"$f":"IF(A330<=Inversion!$C$23,(1-(1+Inversion!$C$22)^-(Inversion!$C$23))/Inversion!$C$22,0)","v":0},0,0,{"$f":"C330*Inversion!$C$22","v":0},0]
[{"$f":"IF(A330<Inversion!$C$23,A330+1,\"-\")","v":"-"},{"$f":"IF(A331<>\"-\",DATE(YEAR(Inversion!$C$7),MONTH(Inversion!$C$7)+A331,DAY(Inversion!$C$7)),\"-\")","v":"-"},{"$f":"IF(A331<=Inversion!$C$23,IF(H330>0,H330,0),0)","v":0},{"$f":"IF(A331<=Inversion!$C$23,(1-(1+Inversion!$C$22)^-(Inversion!$C$23))/Inversion!$C$22,0)","v":0},0,0,{"$f":"C331*Inversion!$C$22","v":0},0]
[{"$f":"IF(A331<Inversion!$C$23,A331+1,\"-\")","v":"-"},{"$f":"IF(A332<>\"-\",DATE(YEAR(Inversion!$C$7),MONTH(Inversion!$C$7)+A332,DAY(Inversion!$C$7)),\"-\")","v":"-"},{"$f":"IF(A332<=Inversion!$C$23,IF(H331>0,H331,0),0)","v":0},{"$f":"IF(A332<=Inversion!$C$23,(1-(1+Inversion!$C$22)^-(Inversion!$C$23))/Inversion!$C$22,0)","v":0},0,0,{"$f":"C332*Inversion!$C$22","v":0},0]
[{"$f":"IF(A332<Inversion!$C$23,A332+1,\"-\")","v":"-"},{"$f":"IF(A333<>\"-\",DATE(YEAR(Inversion!$C$7),MONTH(Inversion!$C$7)+A333,DAY(Inversion!$C$7)),\"-\")","v":"-"},{"$f":"IF(A333<=Inversion!$C$23,IF(H332>0,H332,0),0)","v":0},{"$f":"IF(A333<=Inversion!$C$23,(1-(1+Inversion!$C$22)^-(Inversion!$C$23))/Inversion!$C$22,0)","v":0},0,0,{"$f":"C333*Inversion!$C$22","v":0},0]
[{"$f":"IF(A333<Inversion!$C$23,A333+1,\"-\")","v":"-"},{"$f":"IF(A334<>\"-\",DATE(YEAR(Inversion!$C$7),MONTH(Inversion!$C$7)+A334,DAY(Inversion!$C$7)),\"-\")","v":"-"},{"$f":"IF(A334<=Inversion!$C$23,IF(H333>0,H333,0),0)","v":0},{"$f":"IF(A334<=Inversion!$C$23,(1-(1+Inversion!$C$22)^-(Inversion!$C$23))/Inversion!$C$22,0)","v":0},0,0,{"$f":"C334*Inversion!$C$22","v":0},0]
[{"$f":"IF(A334<Inversion!$C$23,A334+1,\"-\")","v":"-"},{"$f":"IF(A335<>\"-\",DATE(YEAR(Inversion!$C$7),MONTH(Inversion!$C$7)+A335,DAY(Inversion!$C$7)),\"-\")","v":"-"},{"$f":"IF(A335<=Inversion!$C$23,IF(H334>0,H334,0),0)","v":0},{"$f":"IF(A335<=Inversion!$C$23,(1-(1+Inversion!$C$22)^-(Inversion!$C$23))/Inversion!$C$22,0)","v":0},0,0,{"$f":"C335*Inversion!$C$22","v":0},0]
[{"$f":"IF(A335<Inversion!$C$23,A335+1,\"-\")","v":"-"},{"$f":"IF(A336<>\"-\",DATE(YEAR(Inversion!$C$7),MONTH(Inversion!$C$7)+A336,DAY(Inversion!$C$7)),\"-\")","v":"-"},{"$f":"IF(A336<=Inversion!$C$23,IF(H335>0,H335,0),0)","v":0},{"$f":"IF(A336<=Inversion!$C$23,(1-(1+Inversion!$C$22)^-(Inversion!$C$23))/Inversion!$C$22,0)","v":0},{"$f":"IF(C336<E335-G336,C336+G336,IF(C336=0,0,$C$6/D336))","v":0},0,{"$f":"C336*Inversion!$C$22","v":0},{"$f":"C336-F336","v":0}]
[{"$f":"IF(A336<Inversion!$C$23,A336+1,\"-\")","v":"-"},{"$f":"IF(A337<>\"-\",DATE(YEAR(Inversion!$C$7),MONTH(Inversion!$C$7)+A337,DAY(Inversion!$C$7)),\"-\")","v":"-"},{"$f":"IF(A337<=Inversion!$C$23,IF(H336>0,H336,0),0)","v":0},{"$f":"IF(A337<=Inversion!$C$23,(1-(1+Inversion!$C$22)^-(Inversion!$C$23))/Inversion!$C$22,0)","v":0},0,0,{"$f":"C337*Inversion!$C$22","v":0},0]
[{"$f":"IF(A337<Inversion!$C$23,A337+1,\"-\")","v":"-"},{"$f":"IF(A338<>\"-\",DATE(YEAR(Inversion!$C$7),MONTH(Inversion!$C$7)+A338,DAY(Inversion!$C$7)),\"-\")","v":"-"},{"$f":"IF(A338<=Inversion!$C$23,IF(H337>0,H337,0),0)","v":0},{"$f":"IF(A338<=Inversion!$C$23,(1-(1+Inversion!$C$22)^-(Inversion!$C$23))/Inversion!$C$22,0)","v":0},0,0,{"$f":"C338*Inversion!$C$22","v":0},0]
[{"$f":"IF(A338<Inversion!$C$23,A338+1,\"-\")","v":"-"},{"$f":"IF(A339<>\"-\",DATE(YEAR(Inversion!$C$7),MONTH(Inversion!$C$7)+A339,DAY(Inversion!$C$7)),\"-\")","v":"-"},{"$f":"IF(A339<=Inversion!$C$23,IF(H338>0,H338,0),0)","v":0},{"$f":"IF(A339<=Inversion!$C$23,(1-(1+Inversion!$C$22)^-(Inversion!$C$23))/Inversion!$C$22,0)","v":0},0,0,{"$f":"C339*Inversion!$C$22","v":0},0]
[{"$f":"IF(A339<Inversion!$C$23,A339+1,\"-\")","v":"-"},{"$f":"IF(A340<>\"-\",DATE(YEAR(Inversion!$C$7),MONTH(Inversion!$C$7)+A340,DAY(Inversion!$C$7)),\"-\")","v":"-"},{"$f":"IF(A340<=Inversion!$C$23,IF(H339>0,H339,0),0)","v":0},{"$f":"IF(A340<=Inversion!$C$23,(1-(1+Inversion!$C$22)^-(Inversion!$C$23))/Inversion!$C$22,0)","v":0},0,0,{"$f":"C340*Inversion!$C$22","v":0},0]
[{"$f":"IF(A340<Inversion!$C$23,A340+1,\"-\")","v":"-"},{"$f":"IF(A341<>\"-\",DATE(YEAR(Inversion!$C$7),MONTH(Inversion!$C$7)+A341,DAY(Inversion!$C$7)),\"-\")","v":"-"},{"$f":"IF(A341<=Inversion!$C$23,IF(H340>0,H340,0),0)","v":0},{"$f":"IF(A341<=Inversion!$C$23,(1-(1+Inversion!$C$22)^-(Inversion!$C$23))/Inversion!$C$22,0)","v":0},0,0,{"$f":"C341*Inversion!$C$22","v":0},0]
[{"$f":"IF(A341<Inversion!$C$23,A341+1,\"-\")","v":"-"},{"$f":"IF(A342<>\"-\",DATE(YEAR(Inversion!$C$7),MONTH(Inversion!$C$7)+A342,DAY(Inversion!$C$7)),\"-\")","v":"-"},{"$f":"IF(A342<=Inversion!$C$23,IF(H341>0,H341,0),0)","v":0},{"$f":"IF(A342<=Inversion!$C$23,(1-(1+Inversion!$C$22)^-(Inversion!$C$23))/Inversion!$C$22,0)","v":0},0,0,{"$f":"C342*Inversion!$C$22","v":0},0]
[{"$f":"IF(A342<Inversion!$C$23,A342+1,\"-\")","v":"-"},{"$f":"IF(A343<>\"-\",DATE(YEAR(Inversion!$C$7),MONTH(Inversion!$C$7)+A343,DAY(Inversion!$C$7)),\"-\")","v":"-"},{"$f":"IF(A343<=Inversion!$C$23,IF(H342>0,H342,0),0)","v":0},{"$f":"IF(A343<=Inversion!$C$23,(1-(1+Inversion!$C$22)^-(Inversion!$C$23))/Inversion!$C$22,0)","v":0},0,0,{"$f":"C343*Inversion!$C$22","v":0},0]
[{"$f":"IF(A343<Inversion!$C$23,A343+1,\"-\")","v":"-"},{"$f":"IF(A344<>\"-\",DATE(YEAR(Inversion!$C$7),MONTH(Inversion!$C$7)+A344,DAY(Inversion!$C$7)),\"-\")","v":"-"},{"$f":"IF(A344<=Inversion!$C$23,IF(H343>0,H343,0),0)","v":0},{"$f":"IF(A344<=Inversion!$C$23,(1-(1+Inversion!$C$22)^-(Inversion!$C$23))/Inversion!$C$22,0)","v":0},0,0,{"$f":"C344*Inversion!$C$22","v":0},0]
[{"$f":"IF(A344<Inversion!$C$23,A344+1,\"-\")","v":"-"},{"$f":"IF(A345<>\"-\",DATE(YEAR(Inversion!$C$7),MONTH(Inversion!$C$7)+A345,DAY(Inversion!$C$7)),\"-\")","v":"-"},{"$f":"IF(A345<=Inversion!$C$23,IF(H344>0,H344,0),0)","v":0},{"$f":"IF(A345<=Inversion!$C$23,(1-(1+Inversion!$C$22)^-(Inversion!$C$23))/Inversion!$C$22,0)","v":0},0,0,{"$f":"C345*Inversion!$C$22","v":0},0]
[{"$f":"IF(A345<Inversion!$C$23,A345+1,\"-\")","v":"-"},{"$f":"IF(A346<>\"-\",DATE(YEAR(Inversion!$C$7),MONTH(Inversion!$C$7)+A346,DAY(Inversion!$C$7)),\"-\")","v":"-"},{"$f":"IF(A346<=Inversion!$C$23,IF(H345>0,H345,0),0)","v":0},{"$f":"IF(A346<=Inversion!$C$23,(1-(1+Inversion!$C$22)^-(Inversion!$C$23))/Inversion!$C$22,0)","v":0},0,0,{"$f":"C346*Inversion!$C$22","v":0},0]
[{"$f":"IF(A346<Inversion!$C$23,A346+1,\"-\")","v":"-"},{"$f":"IF(A347<>\"-\",DATE(YEAR(Inversion!$C$7),MONTH(Inversion!$C$7)+A347,DAY(Inversion!$C$7)),\"-\")","v":"-"},{"$f":"IF(A347<=Inversion!$C$23,IF(H346>0,H346,0),0)","v":0},{"$f":"IF(A347<=Inversion!$C$23,(1-(1+Inversion!$C$22)^-(Inversion!$C$23))/Inversion!$C$22,0)","v":0},0,0,{"$f":"C347*Inversion!$C$22","v":0},0]
[{"$f":"IF(A347<Inversion!$C$23,A347+1,\"-\")","v":"-"},{"$f":"IF(A348<>\"-\",DATE(YEAR(Inversion!$C$7),MONTH(Inversion!$C$7)+A348,DAY(Inversion!$C$7)),\"-\")","v":"-"},{"$f":"IF(A348<=Inversion!$C$23,IF(H347>0,H347,0),0)","v":0},{"$f":"IF(A348<=Inversion!$C$23,(1-(1+Inversion!$C$22)^-(Inversion!$C$23))/Inversion!$C$22,0)","v":0},0,0,{"$f":"C348*Inversion!$C$22","v":0},0]
[{"$f":"IF(A348<Inversion!$C$23,A348+1,\"-\")","v":"-"},{"$f":"IF(A349<>\"-\",DATE(YEAR(Inversion!$C$7),MONTH(Inversion!$C$7)+A349,DAY(Inversion!$C$7)),\"-\")","v":"-"},{"$f":"IF(A349<=Inversion!$C$23,IF(H348>0,H348,0),0)","v":0},{"$f":"IF(A349<=Inversion!$C$23,(1-(1+Inversion!$C$22)^-(Inversion!$C$23))/Inversion!$C$22,0)","v":0},0,0,{"$f":"C349*Inversion!$C$22","v":0},0]
[{"$f":"IF(A349<Inversion!$C$23,A349+1,\"-\")","v":"-"},{"$f":"IF(A350<>\"-\",DATE(YEAR(Inversion!$C$7),MONTH(Inversion!$C$7)+A350,DAY(Inversion!$C$7)),\"-\")","v":"-"},{"$f":"IF(A350<=Inversion!$C$23,IF(H349>0,H349,0),0)","v":0},{"$f":"IF(A350<=Inversion!$C$23,(1-(1+Inversion!$C$22)^-(Inversion!$C$23))/Inversion!$C$22,0)","v":0},0,0,{"$f":"C350*Inversion!$C$22","v":0},0]
[{"$f":"IF(A350<Inversion!$C$23,A350+1,\"-\")","v":"-"},{"$f":"IF(A351<>\"-\",DATE(YEAR(Inversion!$C$7),MONTH(Inversion!$C$7)+A351,DAY(Inversion!$C$7)),\"-\")","v":"-"},{"$f":"IF(A351<=Inversion!$C$23,IF(H350>0,H350,0),0)","v":0},{"$f":"IF(A351<=Inversion!$C$23,(1-(1+Inversion!$C$22)^-(Inversion!$C$23))/Inversion!$C$22,0)","v":0},0,0,{"$f":"C351*Inversion!$C$22","v":0},0]
[{"$f":"IF(A351<Inversion!$C$23,A351+1,\"-\")","v":"-"},{"$f":"IF(A352<>\"-\",DATE(YEAR(Inversion!$C$7),MONTH(Inversion!$C$7)+A352,DAY(Inversion!$C$7)),\"-\")","v":"-"},{"$f":"IF(A352<=Inversion!$C$23,IF(H351>0,H351,0),0)","v":0},{"$f":"IF(A352<=Inversion!$C$23,(1-(1+Inversion!$C$22)^-(Inversion!$C$23))/Inversion!$C$22,0)","v":0},0,0,{"$f":"C352*Inversion!$C$22","v":0},0]
[{"$f":"IF(A352<Inversion!$C$23,A352+1,\"-\")","v":"-"},{"$f":"IF(A353<>\"-\",DATE(YEAR(Inversion!$C$7),MONTH(Inversion!$C$7)+A353,DAY(Inversion!$C$7)),\"-\")","v":"-"},{"$f":"IF(A353<=Inversion!$C$23,IF(H352>0,H352,0),0)","v":0},{"$f":"IF(A353<=Inversion!$C$23,(1-(1+Inversion!$C$22)^-(Inversion!$C$23))/Inversion!$C$22,0)","v":0},0,0,{"$f":"C353*Inversion!$C$22","v":0},0]
[{"$f":"IF(A353<Inversion!$C$23,A353+1,\"-\")","v":"-"},{"$f":"IF(A354<>\"-\",DATE(YEAR(Inversion!$C$7),MONTH(Inversion!$C$7)+A354,DAY(Inversion!$C$7)),\"-\")","v":"-"},{"$f":"IF(A354<=Inversion!$C$23,IF(H353>0,H353,0),0)","v":0},{"$f":"IF(A354<=Inversion!$C$23,(1-(1+Inversion!$C$22)^-(Inversion!$C$23))/Inversion!$C$22,0)","v":0},0,0,{"$f":"C354*Inversion!$C$22","v":0},0]
[{"$f":"IF(A354<Inversion!$C$23,A354+1,\"-\")","v":"-"},{"$f":"IF(A355<>\"-\",DATE(YEAR(Inversion!$C$7),MONTH(Inversion!$C$7)+A355,DAY(Inversion!$C$7)),\"-\")","v":"-"},{"$f":"IF(A355<=Inversion!$C$23,IF(H354>0,H354,0),0)","v":0},{"$f":"IF(A355<=Inversion!$C$23,(1-(1+Inversion!$C$22)^-(Inversion!$C$23))/Inversion!$C$22,0)","v":0},0,0,{"$f":"C355*Inversion!$C$22","v":0},0]
[{"$f":"IF(A355<Inversion!$C$23,A355+1,\"-\")","v":"-"},{"$f":"IF(A356<>\"-\",DATE(YEAR(Inversion!$C$7),MONTH(Inversion!$C$7)+A356,DAY(Inversion!$C$7)),\"-\")","v":"-"},{"$f":"IF(A356<=Inversion!$C$23,IF(H355>0,H355,0),0)","v":0},{"$f":"IF(A356<=Inversion!$C$23,(1-(1+Inversion!$C$22)^-(Inversion!$C$23))/Inversion!$C$22,0)","v":0},0,0,{"$f":"C356*Inversion!$C$22","v":0},0]
[{"$f":"IF(A356<Inversion!$C$23,A356+1,\"-\")","v":"-"},{"$f":"IF(A357<>\"-\",DATE(YEAR(Inversion!$C$7),MONTH(Inversion!$C$7)+A357,DAY(Inversion!$C$7)),\"-\")","v":"-"},{"$f":"IF(A357<=Inversion!$C$23,IF(H356>0,H356,0),0)","v":0},{"$f":"IF(A357<=Inversion!$C$23,(1-(1+Inversion!$C$22)^-(Inversion!$C$23))/Inversion!$C$22,0)","v":0},0,0,{"$f":"C357*Inversion!$C$22","v":0},0]
[{"$f":"IF(A357<Inversion!$C$23,A357+1,\"-\")","v":"-"},{"$f":"IF(A358<>\"-\",DATE(YEAR(Inversion!$C$7),MONTH(Inversion!$C$7)+A358,DAY(Inversion!$C$7)),\"-\")","v":"-"},{"$f":"IF(A358<=Inversion!$C$23,IF(H357>0,H357,0),0)","v":0},{"$f":"IF(A358<=Inversion!$C$23,(1-(1+Inversion!$C$22)^-(Inversion!$C$23))/Inversion!$C$22,0)","v":0},0,0,{"$f":"C358*Inversion!$C$22","v":0},0]
[{"$f":"IF(A358<Inversion!$C$23,A358+1,\"-\")","v":"-"},{"$f":"IF(A359<>\"-\",DATE(YEAR(Inversion!$C$7),MONTH(Inversion!$C$7)+A359,DAY(Inversion!$C$7)),\"-\")","v":"-"},{"$f":"IF(A359<=Inversion!$C$23,IF(H358>0,H358,0),0)","v":0},{"$f":"IF(A359<=Inversion!$C$23,(1-(1+Inversion!$C$22)^-(Inversion!$C$23))/Inversion!$C$22,0)","v":0},0,0,{"$f":"C359*Inversion!$C$22","v":0},0]
[{"$f":"IF(A359<Inversion!$C$23,A359+1,\"-\")","v":"-"},{"$f":"IF(A360<>\"-\",DATE(YEAR(Inversion!$C$7),MONTH(Inversion!$C$7)+A360,DAY(Inversion!$C$7)),\"-\")","v":"-"},{"$f":"IF(A360<=Inversion!$C$23,IF(H359>0,H359,0),0)","v":0},{"$f":"IF(A360<=Inversion!$C$23,(1-(1+Inversion!$C$22)^-(Inversion!$C$23))/Inversion!$C$22,0)","v":0},0,0,{"$f":"C360*Inversion!$C$22","v":0},0]
[{"$f":"IF(A360<Inversion!$C$23,A360+1,\"-\")","v":"-"},{"$f":"IF(A361<>\"-\",DATE(YEAR(Inversion!$C$7),MONTH(Inversion!$C$7)+A361,DAY(Inversion!$C$7)),\"-\")","v":"-"},{"$f":"IF(A361<=Inversion!$C$23,IF(H360>0,H360,0),0)","v":0},{"$f":"IF(A361<=Inversion!$C$23,(1-(1+Inversion!$C$22)^-(Inversion!$C$23))/Inversion!$C$22,0)","v":0},0,0,{"$f":"C361*Inversion!$C$22","v":0},0]
[{"$f":"IF(A361<Inversion!$C$23,A361+1,\"-\")","v":"-"},{"$f":"IF(A362<>\"-\",DATE(YEAR(Inversion!$C$7),MONTH(Inversion!$C$7)+A362,DAY(Inversion!$C$7)),\"-\")","v":"-"},{"$f":"IF(A362<=Inversion!$C$23,IF(H361>0,H361,0),0)","v":0},{"$f":"IF(A362<=Inversion!$C$23,(1-(1+Inversion!$C$22)^-(Inversion!$C$23))/Inversion!$C$22,0)","v":0},0,0,{"$f":"C362*Inversion!$C$22","v":0},0]
[{"$f":"IF(A362<Inversion!$C$23,A362+1,\"-\")","v":"-"},{"$f":"IF(A363<>\"-\",DATE(YEAR(Inversion!$C$7),MONTH(Inversion!$C$7)+A363,DAY(Inversion!$C$7)),\"-\")","v":"-"},{"$f":"IF(A363<=Inversion!$C$23,IF(H362>0,H362,0),0)","v":0},{"$f":"IF(A363<=Inversion!$C$23,(1-(1+Inversion!$C$22)^-(Inversion!$C$23))/Inversion!$C$22,0)","v":0},0,0,{"$f":"C363*Inversion!$C$22","v":0},0]
[{"$f":"IF(A363<Inversion!$C$23,A363+1,\"-\")","v":"-"},{"$f":"IF(A364<>\"-\",DATE(YEAR(Inversion!$C$7),MONTH(Inversion!$C$7)+A364,DAY(Inversion!$C$7)),\"-\")","v":"-"},{"$f":"IF(A364<=Inversion!$C$23,IF(H363>0,H363,0),0)","v":0},{"$f":"IF(A364<=Inversion!$C$23,(1-(1+Inversion!$C$22)^-(Inversion!$C$23))/Inversion!$C$22,0)","v":0},0,0,{"$f":"C364*Inversion!$C$22","v":0},0]
[{"$f":"IF(A364<Inversion!$C$23,A364+1,\"-\")","v":"-"},{"$f":"IF(A365<>\"-\",DATE(YEAR(Inversion!$C$7),MONTH(Inversion!$C$7)+A365,DAY(Inversion!$C$7)),\"-\")","v":"-"},{"$f":"IF(A365<=Inversion!$C$23,IF(H364>0,H364,0),0)","v":0},{"$f":"IF(A365<=Inversion!$C$23,(1-(1+Inversion!$C$22)^-(Inversion!$C$23))/Inversion!$C$22,0)","v":0},0,0,{"$f":"C365*Inversion!$C$22","v":0},0]
["Totales",null,null,null,"Cuota mensual\nsin seguros","Capital mensual","Intereses mensual"]
[null,null,null,null,{"$f":"SUM(E5:E365)","v":292047780.08954346},{"$f":"SUM(F5:F365)","v":131599999.99999943},{"$f":"SUM(G5:G365)","v":160447780.08954349}]

{"sheet":"Hipotecario (UVR)","index":3,"n_rows":367,"n_cols":15,"rows_kept":367,"cut":false,"hidden":true,"merged":[[0,0,1,6],[365,8,366,8],[3,0,3,1],[365,0,366,2]]}
["Hipotecario (UVR) - Cuota Integral\nEsta es una simulación, los datos son aproximados"]
[]
[]
["Mes",null,"Saldo inicial Pesos","Abono a capital pesos","Intereses pesos","Cuota total pesos sin seguros","Saldo final pesos",null,"Saldo inicial UVR","Abono a capital UVR","Intereses UVR","Cuota total UVR sin seguros","Saldo final UVR",null,"Proyeccion Cotizacion UVR"]
[0,{"$f":"IF(A5<>\"-\",DATE(YEAR(Inversion!$C$7),MONTH(Inversion!$C$7)+A5,DAY(Inversion!$C$7)),\"-\")","v":"2025-07-10"},0,0,0,0,0,null,{"$f":"Inversion!C18/Inversion!C28","v":350130.83346303605},0,0,0,0,null,{"$f":"Inversion!C28","v":375.85950000000003}]
[{"$f":"IF(A5<Inversion!$C$23,A5+1,\"-\")","v":1},{"$f":"IF(A6<>\"-\",DATE(YEAR(Inversion!$C$7),MONTH(Inversion!$C$7)+A6,DAY(Inversion!$C$7)),\"-\")","v":"2025-08-10"},{"$f":"'Hipotecario (Pesos)'!C6","v":131600000},{"$f":"J6*O6","v":188497.10629742459},{"$f":"K6*O6","v":1034291.7996468458},{"$f":"L6*O6","v":1222788.9059442705},{"$f":"M6*O6","v":132052072.54810172},null,{"$f":"I5-J6","v":349631.75327073369},{"$f":"'Hipotecario (Pesos)'!F6/Inversion!$C$28","v":499.08019230233435},{"$f":"'Hipotecario (Pesos)'!G6/Inversion!$C$28","v":2738.4746662900257},{"$f":"'Hipotecario (Pesos)'!E6/Inversion!$C$28","v":3237.5548585923602},{"$f":"'Hipotecario (Pesos)'!H6/Inversion!$C$28","v":349631.75327073369},null,{"$f":"O5*(1+Inversion!$C$27)","v":377.68901512171459}]
[{"$f":"IF(A6<Inversion!$C$23,A6+1,\"-\")","v":2},{"$f":"IF(A7<>\"-\",DATE(YEAR(Inversion!$C$7),MONTH(Inversion!$C$7)+A7,DAY(Inversion!$C$7)),\"-\")","v":"2025-09-10"},{"$f":"'Hipotecario (Pesos)'!C7","v":131412415.96846133},190896.09214496851,1037844.8006297261,1228740.8927746946,132503946.59634297,null,{"$f":"I6-J7","v":349128.76962768537},{"$f":"'Hipotecario (Pesos)'!F7/Inversion!$C$28","v":502.98364304830096},{"$f":"'Hipotecario (Pesos)'!G7/Inversion!$C$28","v":2734.5712155440592},{"$f":"'Hipotecario (Pesos)'!E7/Inversion!$C$28","v":3237.5548585923602},{"$f":"'Hipotecario (Pesos)'!H7/Inversion!$C$28","v":349128.76962768537},null,{"$f":"O6*(1+Inversion!$C$27)","v":379.52743550079413}]
[{"$f":"IF(A7<Inversion!$C$23,A7+1,\"-\")","v":3},{"$f":"IF(A8<>\"-\",DATE(YEAR(Inversion!$C$7),MONTH(Inversion!$C$7)+A8,DAY(Inversion!$C$7)),\"-\")","v":"2025-10-10"},{"$f":"'Hipotecario (Pesos)'!C8","v":131223364.78787702},193325.60967127254,1041396.2415307076,1234721.8512019801,132955590.64683691,null,{"$f":"I7-J8","v":348621.85200387216},{"$f":"'Hipotecario (Pesos)'!F8/Inversion!$C$28","v":506.9176238132124},{"$f":"'Hipotecario (Pesos)'!G8/Inversion!$C$28","v":2730.6372347791475},{"$f":"'Hipotecario (Pesos)'!E8/Inversion!$C$28","v":3237.5548585923602},{"$f":"'Hipotecario (Pesos)'!H8/Inversion!$C$28","v":348621.85200387216},null,{"$f":"O7*(1+Inversion!$C$27)","v":381.3748044840292}]
[{"$f":"IF(A8<Inversion!$C$23,A8+1,\"-\")","v":4},{"$f":"IF(A9<>\"-\",DATE(YEAR(Inversion!$C$7),MONTH(Inversion!$C$7)+A9,DAY(Inversion!$C$7)),\"-\")","v":"2025-11-10"},{"$f":"'Hipotecario (Pesos)'!C9","v":131032834.9832494},195786.04745028747,1044945.8747965522,1240731.9222468399,133406972.65980513,null,348110.96963049099,{"$f":"'Hipotecario (Pesos)'!F9/Inversion!$C$28","v":510.8823733811908},{"$f":"'Hipotecario (Pesos)'!G9/Inversion!$C$28","v":2726.6724852111693},{"$f":"'Hipotecario (Pesos)'!E9/Inversion!$C$28","v":3237.5548585923602},{"$f":"'Hipotecario (Pesos)'!H9/Inversion!$C$28","v":348110.96963049093},null,{"$f":"O8*(1+Inversion!$C$27)","v":383.23116562920302}]
[{"$f":"IF(A9<Inversion!$C$23,A9+1,\"-\")","v":5},{"$f":"IF(A10<>\"-\",DATE(YEAR(Inversion!$C$7),MONTH(Inversion!$C$7)+A10,DAY(Inversion!$C$7)),\"-\")","v":"2025-12-10"},{"$f":"'Hipotecario (Pesos)'!C10","v":130840814.98983152},198277.79900130953,1048493.4486151019,1246771.2476164114,133858060.04599476,null,347596.09149808704,{"$f":"'Hipotecario (Pesos)'!F10/Inversion!$C$28","v":514.87813240395678},{"$f":"'Hipotecario (Pesos)'!G10/Inversion!$C$28","v":2722.6767261884033},{"$f":"'Hipotecario (Pesos)'!E10/Inversion!$C$28","v":3237.5548585923602},{"$f":"'Hipotecario (Pesos)'!H10/Inversion!$C$28","v":347596.09149808699},null,{"$f":"O9*(1+Inversion!$C$27)","v":385.0965627061185}]
[{"$f":"IF(A10<Inversion!$C$23,A10+1,\"-\")","v":6},{"$f":"IF(A11<>\"-\",DATE(YEAR(Inversion!$C$7),MONTH(Inversion!$C$7)+A11,DAY(Inversion!$C$7)),\"-\")","v":"2026-01-10"},{"$f":"'Hipotecario (Pesos)'!C11","v":130647293.15242524},200801.26285192015,1052038.7068556799,1252839.9697076001,134308819.65899545,null,347077.1863546716,{"$f":"'Hipotecario (Pesos)'!F11/Inversion!$C$28","v":518.90514341543837},{"$f":"'Hipotecario (Pesos)'!G11/Inversion!$C$28","v":2718.6497151769217},{"$f":"'Hipotecario (Pesos)'!E11/Inversion!$C$28","v":3237.5548585923602},{"$f":"'Hipotecario (Pesos)'!H11/Inversion!$C$28","v":347077.18635467155},null,{"$f":"O10*(1+Inversion!$C$27)","v":386.97103969763032}]
[{"$f":"IF(A11<Inversion!$C$23,A11+1,\"-\")","v":7},{"$f":"IF(A12<>\"-\",DATE(YEAR(Inversion!$C$7),MONTH(Inversion!$C$7)+A12,DAY(Inversion!$C$7)),\"-\")","v":"2026-02-10"},{"$f":"'Hipotecario (Pesos)'!C12","v":130452257.72467369},203356.84260172601,1055581.3890087088,1258938.2316104348,134759217.78745541,null,346554.2227038251,{"$f":"'Hipotecario (Pesos)'!F12/Inversion!$C$28","v":522.96365084649233},{"$f":"'Hipotecario (Pesos)'!G12/Inversion!$C$28","v":2714.5912077458679},{"$f":"'Hipotecario (Pesos)'!E12/Inversion!$C$28","v":3237.5548585923602},{"$f":"'Hipotecario (Pesos)'!H12/Inversion!$C$28","v":346554.22270382504},null,{"$f":"O11*(1+Inversion!$C$27)","v":388.85464080068192}]
[{"$f":"IF(A12<Inversion!$C$23,A12+1,\"-\")","v":8},{"$f":"IF(A13<>\"-\",DATE(YEAR(Inversion!$C$7),MONTH(Inversion!$C$7)+A13,DAY(Inversion!$C$7)),\"-\")","v":"2026-03-10"},{"$f":"'Hipotecario (Pesos)'!C13","v":130255696.86834835},205944.94698690943,1059121.2301245327,1265066.1771114422,135209220.14719501,null,346027.16880278534,{"$f":"'Hipotecario (Pesos)'!F13/Inversion!$C$28","v":527.05390103973878},{"$f":"'Hipotecario (Pesos)'!G13/Inversion!$C$28","v":2710.5009575526215},{"$f":"'Hipotecario (Pesos)'!E13/Inversion!$C$28","v":3237.5548585923602},{"$f":"'Hipotecario (Pesos)'!H13/Inversion!$C$28","v":346027.16880278528},null,{"$f":"O12*(1+Inversion!$C$27)","v":390.74741042734757}]
[{"$f":"IF(A13<Inversion!$C$23,A13+1,\"-\")","v":9},{"$f":"IF(A14<>\"-\",DATE(YEAR(Inversion!$C$7),MONTH(Inversion!$C$7)+A14,DAY(Inversion!$C$7)),\"-\")","v":"2026-04-10"},{"$f":"'Hipotecario (Pesos)'!C14","v":130057598.65263049},208565.98994560179,1062657.9607514355,1271223.9506970374,135658791.87321651,null,345495.99266052083,{"$f":"'Hipotecario (Pesos)'!F14/Inversion!$C$28","v":531.17614226451508},{"$f":"'Hipotecario (Pesos)'!G14/Inversion!$C$28","v":2706.3787163278448},{"$f":"'Hipotecario (Pesos)'!E14/Inversion!$C$28","v":3237.5548585923602},{"$f":"'Hipotecario (Pesos)'!H14/Inversion!$C$28","v":345495.99266052077},null,{"$f":"O13*(1+Inversion!$C$27)","v":392.64939320587956}]
[{"$f":"IF(A14<Inversion!$C$23,A14+1,\"-\")","v":10},{"$f":"IF(A15<>\"-\",DATE(YEAR(Inversion!$C$7),MONTH(Inversion!$C$7)+A15,DAY(Inversion!$C$7)),\"-\")","v":"2026-05-10"},{"$f":"'Hipotecario (Pesos)'!C15","v":129857951.05338702},211220.39068408852,1066191.3068728419,1277411.6975569304,136107897.51160863,null,344960.66203578888,{"$f":"'Hipotecario (Pesos)'!F15/Inversion!$C$28","v":535.33062473194605},{"$f":"'Hipotecario (Pesos)'!G15/Inversion!$C$28","v":2702.2242338604142},{"$f":"'Hipotecario (Pesos)'!E15/Inversion!$C$28","v":3237.5548585923602},{"$f":"'Hipotecario (Pesos)'!H15/Inversion!$C$28","v":344960.66203578882},null,{"$f":"O14*(1+Inversion!$C$27)","v":394.56063398176042}]
[{"$f":"IF(A15<Inversion!$C$23,A15+1,\"-\")","v":11},{"$f":"IF(A16<>\"-\",DATE(YEAR(Inversion!$C$7),MONTH(Inversion!$C$7)+A16,DAY(Inversion!$C$7)),\"-\")","v":"2026-06-10"},{"$f":"'Hipotecario (Pesos)'!C16","v":129656741.95244057},213908.57374385535,1069720.989843694,1283629.5635875494,136556501.01134506,null,344421.14443517872,{"$f":"'Hipotecario (Pesos)'!F16/Inversion!$C$28","v":539.51760061012851},{"$f":"'Hipotecario (Pesos)'!G16/Inversion!$C$28","v":2698.0372579822315},{"$f":"'Hipotecario (Pesos)'!E16/Inversion!$C$28","v":3237.5548585923602},{"$f":"'Hipotecario (Pesos)'!H16/Inversion!$C$28","v":344421.14443517872},null,{"$f":"O15*(1+Inversion!$C$27)","v":396.48117781876044}]
[{"$f":"IF(A16<Inversion!$C$23,A16+1,\"-\")","v":12},{"$f":"IF(A17<>\"-\",DATE(YEAR(Inversion!$C$7),MONTH(Inversion!$C$7)+A17,DAY(Inversion!$C$7)),\"-\")","v":"2026-07-10"},{"$f":"'Hipotecario (Pesos)'!C17","v":129453959.13683406},216630.96906949006,1073246.7263259911,1289877.6953954811,137004565.71597463,null,343877.40711113927,{"$f":"'Hipotecario (Pesos)'!F17/Inversion!$C$28","v":543.73732403944007},{"$f":"'Hipotecario (Pesos)'!G17/Inversion!$C$28","v":2693.8175345529203},{"$f":"'Hipotecario (Pesos)'!E17/Inversion!$C$28","v":3237.5548585923602},{"$f":"'Hipotecario (Pesos)'!H17/Inversion!$C$28","v":343877.40711113927},null,{"$f":"O16*(1+Inversion!$C$27)","v":398.41107000000005}]
[{"$f":"IF(A17<Inversion!$C$23,A17+1,\"-\")","v":13},{"$f":"IF(A18<>\"-\",DATE(YEAR(Inversion!$C$7),MONTH(Inversion!$C$7)+A18,DAY(Inversion!$C$7)),\"-\")","v":"2026-08-10"},{"$f":"'Hipotecario (Pesos)'!C18","v":129249590.29808925},219388.01207744697,1076768.2282234798,1296156.2403009266,137452054.35520253,null,343329.41705999133,{"$f":"'Hipotecario (Pesos)'!F18/Inversion!$C$28","v":547.99005114796421},{"$f":"'Hipotecario (Pesos)'!G18/Inversion!$C$28","v":2689.5648074443961},{"$f":"'Hipotecario (Pesos)'!E18/Inversion!$C$28","v":3237.5548585923602},{"$f":"'Hipotecario (Pesos)'!H18/Inversion!$C$28","v":343329.41705999128},null,{"$f":"O17*(1+Inversion!$C$27)","v":400.35035602901746}]
[{"$f":"IF(A18<Inversion!$C$23,A18+1,\"-\")","v":14},{"$f":"IF(A19<>\"-\",DATE(YEAR(Inversion!$C$7),MONTH(Inversion!$C$7)+A19,DAY(Inversion!$C$7)),\"-\")","v":"2026-09-10"},{"$f":"'Hipotecario (Pesos)'!C19","v":129043623.03145981},222180.14372568624,1080285.20261549,1302465.3463411764,137898929.03636107,null,342777.14101992431,{"$f":"'Hipotecario (Pesos)'!F19/Inversion!$C$28","v":552.27604006703518},{"$f":"'Hipotecario (Pesos)'!G19/Inversion!$C$28","v":2685.2788185253248},{"$f":"'Hipotecario (Pesos)'!E19/Inversion!$C$28","v":3237.5548585923602},{"$f":"'Hipotecario (Pesos)'!H19/Inversion!$C$28","v":342777.14101992425},null,{"$f":"O18*(1+Inversion!$C$27)","v":402.29908163084178}]
[{"$f":"IF(A19<Inversion!$C$23,A19+1,\"-\")","v":15},{"$f":"IF(A20<>\"-\",DATE(YEAR(Inversion!$C$7),MONTH(Inversion!$C$7)+A20,DAY(Inversion!$C$7)),\"-\")","v":"2026-10-10"},{"$f":"'Hipotecario (Pesos)'!C20","v":128836044.83517823},225007.81058420113,1083797.3516898982,1308805.1622740992,138345151.23576802,null,342220.54546897742,{"$f":"'Hipotecario (Pesos)'!F20/Inversion!$C$28","v":556.59555094690825},{"$f":"'Hipotecario (Pesos)'!G20/Inversion!$C$28","v":2680.9593076454521},{"$f":"'Hipotecario (Pesos)'!E20/Inversion!$C$28","v":3237.5548585923602},{"$f":"'Hipotecario (Pesos)'!H20/Inversion!$C$28","v":342220.54546897736},null,{"$f":"O19*(1+Inversion!$C$27)","v":404.257292753071}]
[{"$f":"IF(A20<Inversion!$C$23,A20+1,\"-\")","v":16},{"$f":"IF(A21<>\"-\",DATE(YEAR(Inversion!$C$7),MONTH(Inversion!$C$7)+A21,DAY(Inversion!$C$7)),\"-\")","v":"2026-11-10"},{"$f":"'Hipotecario (Pesos)'!C21","v":128626843.1096971},227871.4649064409,1087304.3726752095,1315175.8375816504,138790681.78997171,null,341659.59662300488,{"$f":"'Hipotecario (Pesos)'!F21/Inversion!$C$28","v":560.94884597254816},{"$f":"'Hipotecario (Pesos)'!G21/Inversion!$C$28","v":2676.6060126198122},{"$f":"'Hipotecario (Pesos)'!E21/Inversion!$C$28","v":3237.5548585923602},{"$f":"'Hipotecario (Pesos)'!H21/Inversion!$C$28","v":341659.59662300476},null,{"$f":"O20*(1+Inversion!$C$27)","v":406.22503556695528}]
[{"$f":"IF(A21<Inversion!$C$23,A21+1,\"-\")","v":17},{"$f":"IF(A22<>\"-\",DATE(YEAR(Inversion!$C$7),MONTH(Inversion!$C$7)+A22,DAY(Inversion!$C$7)),\"-\")","v":"2026-12-10"},{"$f":"'Hipotecario (Pesos)'!C22","v":128416005.15692428},230771.56470164453,1090805.957771752,1321577.5224733965,139235480.8868812,null,341094.26043362531,{"$f":"'Hipotecario (Pesos)'!F22/Inversion!$C$28","v":565.33618937954532},{"$f":"'Hipotecario (Pesos)'!G22/Inversion!$C$28","v":2672.2186692128148},{"$f":"'Hipotecario (Pesos)'!E22/Inversion!$C$28","v":3237.5548585923602},{"$f":"'Hipotecario (Pesos)'!H22/Inversion!$C$28","v":341094.26043362526},null,{"$f":"O21*(1+Inversion!$C$27)","v":408.20235646848573}]
[{"$f":"IF(A22<Inversion!$C$23,A22+1,\"-\")","v":18},{"$f":"IF(A23<>\"-\",DATE(YEAR(Inversion!$C$7),MONTH(Inversion!$C$7)+A23,DAY(Inversion!$C$7)),\"-\")","v":"2027-01-10"},{"$f":"'Hipotecario (Pesos)'!C23","v":128203518.17945218},233708.57380809338,1094301.7940819631,1328010.3678900567,139679508.05677986,null,340524.50258615514,{"$f":"'Hipotecario (Pesos)'!F23/Inversion!$C$28","v":569.75784747015246},{"$f":"'Hipotecario (Pesos)'!G23/Inversion!$C$28","v":2667.7970111222076},{"$f":"'Hipotecario (Pesos)'!E23/Inversion!$C$28","v":3237.5548585923602},{"$f":"'Hipotecario (Pesos)'!H23/Inversion!$C$28","v":340524.50258615508},null,{"$f":"O22*(1+Inversion!$C$27)","v":410.1893020794883}]
[{"$f":"IF(A23<Inversion!$C$23,A23+1,\"-\")","v":19},{"$f":"IF(A24<>\"-\",DATE(YEAR(Inversion!$C$7),MONTH(Inversion!$C$7)+A24,DAY(Inversion!$C$7)),\"-\")","v":"2027-02-10"},{"$f":"'Hipotecario (Pesos)'!C24","v":127989369.27978097},236682.96196729731,1097791.5635397639,1334474.5255070615,140122722.16322118,null,339950.28849752567,{"$f":"'Hipotecario (Pesos)'!F24/Inversion!$C$28","v":574.21408862944941},{"$f":"'Hipotecario (Pesos)'!G24/Inversion!$C$28","v":2663.3407699629106},{"$f":"'Hipotecario (Pesos)'!E24/Inversion!$C$28","v":3237.5548585923602},{"$f":"'Hipotecario (Pesos)'!H24/Inversion!$C$28","v":339950.28849752562},null,{"$f":"O23*(1+Inversion!$C$27)","v":412.185919248723}]
[{"$f":"IF(A24<Inversion!$C$23,A24+1,\"-\")","v":20},{"$f":"IF(A25<>\"-\",DATE(YEAR(Inversion!$C$7),MONTH(Inversion!$C$7)+A25,DAY(Inversion!$C$7)),\"-\")","v":"2027-03-10"},{"$f":"'Hipotecario (Pesos)'!C25","v":127773545.45953575},239695.20489912454,1101274.9428390046,1340970.1477381291,140565081.39380509,null,339371.58331418404,{"$f":"'Hipotecario (Pesos)'!F25/Inversion!$C$28","v":578.70518334163387},{"$f":"'Hipotecario (Pesos)'!G25/Inversion!$C$28","v":2658.8496752507262},{"$f":"'Hipotecario (Pesos)'!E25/Inversion!$C$28","v":3237.5548585923602},{"$f":"'Hipotecario (Pesos)'!H25/Inversion!$C$28","v":339371.58331418404},null,{"$f":"O24*(1+Inversion!$C$27)","v":414.19225505298857}]
[{"$f":"IF(A25<Inversion!$C$23,A25+1,\"-\")","v":21},{"$f":"IF(A26<>\"-\",DATE(YEAR(Inversion!$C$7),MONTH(Inversion!$C$7)+A26,DAY(Inversion!$C$7)),\"-\")","v":"2027-04-10"},{"$f":"'Hipotecario (Pesos)'!C26","v":127556033.61867756},242745.78437788741,1104751.6033609726,1347497.38773886,141006543.25083306,null,338788.35190997762,{"$f":"'Hipotecario (Pesos)'!F26/Inversion!$C$28","v":583.23140420643836},{"$f":"'Hipotecario (Pesos)'!G26/Inversion!$C$28","v":2654.3234543859217},{"$f":"'Hipotecario (Pesos)'!E26/Inversion!$C$28","v":3237.5548585923602},{"$f":"'Hipotecario (Pesos)'!H26/Inversion!$C$28","v":338788.35190997756},null,{"$f":"O25*(1+Inversion!$C$27)","v":416.20835679823244}]
[{"$f":"IF(A26<Inversion!$C$23,A26+1,\"-\")","v":22},{"$f":"IF(A27<>\"-\",DATE(YEAR(Inversion!$C$7),MONTH(Inversion!$C$7)+A27,DAY(Inversion!$C$7)),\"-\")","v":"2027-05-10"},{"$f":"'Hipotecario (Pesos)'!C27","v":127336820.55470823},245835.18830939714,1108221.2111009497,1354056.3994103468,141447064.54184136,null,338200.55888402194,{"$f":"'Hipotecario (Pesos)'!F27/Inversion!$C$28","v":587.79302595567708},{"$f":"'Hipotecario (Pesos)'!G27/Inversion!$C$28","v":2649.7618326366833},{"$f":"'Hipotecario (Pesos)'!E27/Inversion!$C$28","v":3237.5548585923602},{"$f":"'Hipotecario (Pesos)'!H27/Inversion!$C$28","v":338200.55888402194},null,{"$f":"O26*(1+Inversion!$C$27)","v":418.2342720206662}]
[{"$f":"IF(A27<Inversion!$C$23,A27+1,\"-\")","v":23},{"$f":"IF(A28<>\"-\",DATE(YEAR(Inversion!$C$7),MONTH(Inversion!$C$7)+A28,DAY(Inversion!$C$7)),\"-\")","v":"2027-06-10"},{"$f":"'Hipotecario (Pesos)'!C28","v":127115892.96186905},248963.91080899854,1111683.4265938045,1360647.3374028029,141886601.37000912,null,337608.16855855205,{"$f":"'Hipotecario (Pesos)'!F28/Inversion!$C$28","v":592.39032546992132},{"$f":"'Hipotecario (Pesos)'!G28/Inversion!$C$28","v":2645.164533122439},{"$f":"'Hipotecario (Pesos)'!E28/Inversion!$C$28","v":3237.5548585923602},{"$f":"'Hipotecario (Pesos)'!H28/Inversion!$C$28","v":337608.16855855199},null,{"$f":"O27*(1+Inversion!$C$27)","v":420.27004848788624}]
[{"$f":"IF(A28<Inversion!$C$23,A28+1,\"-\")","v":24},{"$f":"IF(A29<>\"-\",DATE(YEAR(Inversion!$C$7),MONTH(Inversion!$C$7)+A29,DAY(Inversion!$C$7)),\"-\")","v":"2027-07-10"},{"$f":"'Hipotecario (Pesos)'!C29","v":126893237.43033308},252132.45228059837,1115137.9048386121,1367270.3571192103,142325109.12444168,null,337011.14497675677,{"$f":"'Hipotecario (Pesos)'!F29/Inversion!$C$28","v":597.02358179530563},{"$f":"'Hipotecario (Pesos)'!G29/Inversion!$C$28","v":2640.5312767970545},{"$f":"'Hipotecario (Pesos)'!E29/Inversion!$C$28","v":3237.5548585923602},{"$f":"'Hipotecario (Pesos)'!H29/Inversion!$C$28","v":337011.14497675665},null,{"$f":"O28*(1+Inversion!$C$27)","v":422.31573420000018}]
[{"$f":"IF(A29<Inversion!$C$23,A29+1,\"-\")","v":25},{"$f":"IF(A30<>\"-\",DATE(YEAR(Inversion!$C$7),MONTH(Inversion!$C$7)+A30,DAY(Inversion!$C$7)),\"-\")","v":"2027-08-10"},{"$f":"'Hipotecario (Pesos)'!C30","v":126668840.44539128},255341.31949669914,1118584.2952222836,1373925.6147189827,142762542.47032619,null,336409.45190059632,{"$f":"'Hipotecario (Pesos)'!F30/Inversion!$C$28","v":601.6930761604649},{"$f":"'Hipotecario (Pesos)'!G30/Inversion!$C$28","v":2635.8617824318953},{"$f":"'Hipotecario (Pesos)'!E30/Inversion!$C$28","v":3237.5548585923602},{"$f":"'Hipotecario (Pesos)'!H30/Inversion!$C$28","v":336409.45190059621},null,{"$f":"O29*(1+Inversion!$C$27)","v":424.37137739075865}]
[{"$f":"IF(A30<Inversion!$C$23,A30+1,\"-\")","v":26},{"$f":"IF(A31<>\"-\",DATE(YEAR(Inversion!$C$7),MONTH(Inversion!$C$7)+A31,DAY(Inversion!$C$7)),\"-\")","v":"2027-09-10"},{"$f":"'Hipotecario (Pesos)'!C31","v":126442688.38663214},258591.02567945191,1122022.2414421956,1380613.2671216475,143198855.33895797,null,335803.05280860269,{"$f":"'Hipotecario (Pesos)'!F31/Inversion!$C$28","v":606.39909199360488},{"$f":"'Hipotecario (Pesos)'!G31/Inversion!$C$28","v":2631.1557665987552},{"$f":"'Hipotecario (Pesos)'!E31/Inversion!$C$28","v":3237.5548585923602},{"$f":"'Hipotecario (Pesos)'!H31/Inversion!$C$28","v":335803.05280860257},null,{"$f":"O30*(1+Inversion!$C$27)","v":426.43702652869246}]
[{"$f":"IF(A31<Inversion!$C$23,A31+1,\"-\")","v":27},{"$f":"IF(A32<>\"-\",DATE(YEAR(Inversion!$C$7),MONTH(Inversion!$C$7)+A32,DAY(Inversion!$C$7)),\"-\")","v":"2027-10-10"},{"$f":"'Hipotecario (Pesos)'!C32","v":126214767.52711497},261882.09058274023,1125451.3814278054,1387333.4720105457,143634000.91763687,null,335191.91089366301,{"$f":"'Hipotecario (Pesos)'!F32/Inversion!$C$28","v":611.14191493970554},{"$f":"'Hipotecario (Pesos)'!G32/Inversion!$C$28","v":2626.4129436526546},{"$f":"'Hipotecario (Pesos)'!E32/Inversion!$C$28","v":3237.5548585923602},{"$f":"'Hipotecario (Pesos)'!H32/Inversion!$C$28","v":335191.91089366289},null,{"$f":"O31*(1+Inversion!$C$27)","v":428.51273031825542}]
[{"$f":"IF(A32<Inversion!$C$23,A32+1,\"-\")","v":28},{"$f":"IF(A33<>\"-\",DATE(YEAR(Inversion!$C$7),MONTH(Inversion!$C$7)+A33,DAY(Inversion!$C$7)),\"-\")","v":"2027-11-10"},{"$f":"'Hipotecario (Pesos)'!C33","v":125985064.03253669},265215.04057530884,1128871.3472612409,1394086.3878365499,144067931.63943067,null,334575.98906078516,{"$f":"'Hipotecario (Pesos)'!F33/Inversion!$C$28","v":615.92183287785861},{"$f":"'Hipotecario (Pesos)'!G33/Inversion!$C$28","v":2621.6330257145014},{"$f":"'Hipotecario (Pesos)'!E33/Inversion!$C$28","v":3237.5548585923602},{"$f":"'Hipotecario (Pesos)'!H33/Inversion!$C$28","v":334575.98906078504},null,{"$f":"O32*(1+Inversion!$C$27)","v":430.59853770097271}]
[{"$f":"IF(A33<Inversion!$C$23,A33+1,\"-\")","v":29},{"$f":"IF(A34<>\"-\",DATE(YEAR(Inversion!$C$7),MONTH(Inversion!$C$7)+A34,DAY(Inversion!$C$7)),\"-\")","v":"2027-12-10"},{"$f":"'Hipotecario (Pesos)'!C34","v":125753563.96039213},268590.40872495028,1132281.7650968505,1400872.1738218006,144500599.17280504,null,333955.2499248464,{"$f":"'Hipotecario (Pesos)'!F34/Inversion!$C$28","v":620.73913593874124},{"$f":"'Hipotecario (Pesos)'!G34/Inversion!$C$28","v":2616.8157226536191},{"$f":"'Hipotecario (Pesos)'!E34/Inversion!$C$28","v":3237.5548585923602},{"$f":"'Hipotecario (Pesos)'!H34/Inversion!$C$28","v":333955.24992484628},null,{"$f":"O33*(1+Inversion!$C$27)","v":432.69449785659498}]
[{"$f":"IF(A34<Inversion!$C$23,A34+1,\"-\")","v":30},{"$f":"IF(A35<>\"-\",DATE(YEAR(Inversion!$C$7),MONTH(Inversion!$C$7)+A35,DAY(Inversion!$C$7)),\"-\")","v":"2028-01-10"},{"$f":"'Hipotecario (Pesos)'!C35","v":125520253.25912777},272008.73488376394,1135682.2550796962,1407690.9899634602,144931954.41111726,null,333329.65580832417,{"$f":"'Hipotecario (Pesos)'!F35/Inversion!$C$28","v":625.59411652222775},{"$f":"'Hipotecario (Pesos)'!G35/Inversion!$C$28","v":2611.9607420701323},{"$f":"'Hipotecario (Pesos)'!E35/Inversion!$C$28","v":3237.5548585923602},{"$f":"'Hipotecario (Pesos)'!H35/Inversion!$C$28","v":333329.65580832405},null,{"$f":"O34*(1+Inversion!$C$27)","v":434.80066020425767}]
[{"$f":"IF(A35<Inversion!$C$23,A35+1,\"-\")","v":31},{"$f":"IF(A36<>\"-\",DATE(YEAR(Inversion!$C$7),MONTH(Inversion!$C$7)+A36,DAY(Inversion!$C$7)),\"-\")","v":"2028-02-10"},{"$f":"'Hipotecario (Pesos)'!C36","v":125285117.76728877},275470.56577449827,1139072.431262987,1414542.9970374852,145361947.46197286,null,332699.16873900901,{"$f":"'Hipotecario (Pesos)'!F36/Inversion!$C$28","v":630.48706931513607},{"$f":"'Hipotecario (Pesos)'!G36/Inversion!$C$28","v":2607.0677892772242},{"$f":"'Hipotecario (Pesos)'!E36/Inversion!$C$28","v":3237.5548585923602},{"$f":"'Hipotecario (Pesos)'!H36/Inversion!$C$28","v":332699.16873900889},null,{"$f":"O35*(1+Inversion!$C$27)","v":436.91707440364644}]
[{"$f":"IF(A36<Inversion!$C$23,A36+1,\"-\")","v":32},{"$f":"IF(A37<>\"-\",DATE(YEAR(Inversion!$C$7),MONTH(Inversion!$C$7)+A37,DAY(Inversion!$C$7)),\"-\")","v":"2028-03-10"},{"$f":"'Hipotecario (Pesos)'!C37","v":125048143.21265952},278976.45507799328,1142451.9015244239,1421428.3566024173,145790527.63644278,null,332063.75044769992,{"$f":"'Hipotecario (Pesos)'!F37/Inversion!$C$28","v":635.41829130911435},{"$f":"'Hipotecario (Pesos)'!G37/Inversion!$C$28","v":2602.1365672832458},{"$f":"'Hipotecario (Pesos)'!E37/Inversion!$C$28","v":3237.5548585923602},{"$f":"'Hipotecario (Pesos)'!H37/Inversion!$C$28","v":332063.7504476998},null,{"$f":"O36*(1+Inversion!$C$27)","v":439.04379035616796}]
[{"$f":"IF(A37<Inversion!$C$23,A37+1,\"-\")","v":33},{"$f":"IF(A38<>\"-\",DATE(YEAR(Inversion!$C$7),MONTH(Inversion!$C$7)+A38,DAY(Inversion!$C$7)),\"-\")","v":"2028-04-10"},{"$f":"'Hipotecario (Pesos)'!C38","v":124809315.21139723},282526.9635217358,1145820.267481456,1428347.2310031918,146217643.43813947,null,331423.36236588127,{"$f":"'Hipotecario (Pesos)'!F38/Inversion!$C$28","v":640.38808181866966},{"$f":"'Hipotecario (Pesos)'!G38/Inversion!$C$28","v":2597.1667767736903},{"$f":"'Hipotecario (Pesos)'!E38/Inversion!$C$28","v":3237.5548585923602},{"$f":"'Hipotecario (Pesos)'!H38/Inversion!$C$28","v":331423.36236588116},null,{"$f":"O37*(1+Inversion!$C$27)","v":441.18085820612646}]
[{"$f":"IF(A38<Inversion!$C$23,A38+1,\"-\")","v":34},{"$f":"IF(A39<>\"-\",DATE(YEAR(Inversion!$C$7),MONTH(Inversion!$C$7)+A39,DAY(Inversion!$C$7)),\"-\")","v":"2028-05-10"},{"$f":"'Hipotecario (Pesos)'!C39","v":124568619.26715891},286122.65896954131,1149177.1244054262,1435299.7833749678,146643242.5521504,null,330777.96562338196,{"$f":"'Hipotecario (Pesos)'!F39/Inversion!$C$28","v":645.39674249933375},{"$f":"'Hipotecario (Pesos)'!G39/Inversion!$C$28","v":2592.1581160930264},{"$f":"'Hipotecario (Pesos)'!E39/Inversion!$C$28","v":3237.5548585923602},{"$f":"'Hipotecario (Pesos)'!H39/Inversion!$C$28","v":330777.96562338184},null,{"$f":"O38*(1+Inversion!$C$27)","v":443.32832834190623}]
[{"$f":"IF(A39<Inversion!$C$23,A39+1,\"-\")","v":35},{"$f":"IF(A40<>\"-\",DATE(YEAR(Inversion!$C$7),MONTH(Inversion!$C$7)+A40,DAY(Inversion!$C$7)),\"-\")","v":"2028-06-10"},{"$f":"'Hipotecario (Pesos)'!C40","v":124326040.77022149},289764.1165123774,1152522.0611345938,1442286.1776469711,147067271.83382645,null,330127.52104601596,{"$f":"'Hipotecario (Pesos)'!F40/Inversion!$C$28","v":650.44457736597394},{"$f":"'Hipotecario (Pesos)'!G40/Inversion!$C$28","v":2587.1102812263862},{"$f":"'Hipotecario (Pesos)'!E40/Inversion!$C$28","v":3237.5548585923602},{"$f":"'Hipotecario (Pesos)'!H40/Inversion!$C$28","v":330127.52104601584},null,{"$f":"O39*(1+Inversion!$C$27)","v":445.48625139715944}]
[{"$f":"IF(A40<Inversion!$C$23,A40+1,\"-\")","v":36},{"$f":"IF(A41<>\"-\",DATE(YEAR(Inversion!$C$7),MONTH(Inversion!$C$7)+A41,DAY(Inversion!$C$7)),\"-\")","v":"2028-07-10"},{"$f":"'Hipotecario (Pesos)'!C41","v":124081564.996595},293451.91856034298,1155854.6599860201,1449306.5785463632,147489677.29742432,null,329471.98915320472,{"$f":"'Hipotecario (Pesos)'!F41/Inversion!$C$28","v":655.53189281124594},{"$f":"'Hipotecario (Pesos)'!G41/Inversion!$C$28","v":2582.0229657811142},{"$f":"'Hipotecario (Pesos)'!E41/Inversion!$C$28","v":3237.5548585923602},{"$f":"'Hipotecario (Pesos)'!H41/Inversion!$C$28","v":329471.9891532046},null,{"$f":"O40*(1+Inversion!$C$27)","v":447.65467825200022}]
[{"$f":"IF(A41<Inversion!$C$23,A41+1,\"-\")","v":37},{"$f":"IF(A42<>\"-\",DATE(YEAR(Inversion!$C$7),MONTH(Inversion!$C$7)+A42,DAY(Inversion!$C$7)),\"-\")","v":"2028-08-10"},{"$f":"'Hipotecario (Pesos)'!C42","v":123835177.1071289},297186.65493581846,1159174.4966663034,1456361.151602122,147910404.10459983,null,328811.33015558054,{"$f":"'Hipotecario (Pesos)'!F42/Inversion!$C$28","v":660.65899762419099},{"$f":"'Hipotecario (Pesos)'!G42/Inversion!$C$28","v":2576.895860968169},{"$f":"'Hipotecario (Pesos)'!E42/Inversion!$C$28","v":3237.5548585923602},{"$f":"'Hipotecario (Pesos)'!H42/Inversion!$C$28","v":328811.33015558042},null,{"$f":"O41*(1+Inversion!$C$27)","v":449.83366003420423}]
[{"$f":"IF(A42<Inversion!$C$23,A42+1,\"-\")","v":38},{"$f":"IF(A43<>\"-\",DATE(YEAR(Inversion!$C$7),MONTH(Inversion!$C$7)+A43,DAY(Inversion!$C$7)),\"-\")","v":"2028-09-10"},{"$f":"'Hipotecario (Pesos)'!C43","v":123586862.14661138},300968.9229678007,1162481.1401811459,1463450.0631489465,148329396.55275151,null,328145.50395257154,{"$f":"'Hipotecario (Pesos)'!F43/Inversion!$C$28","v":665.82620300897861},{"$f":"'Hipotecario (Pesos)'!G43/Inversion!$C$28","v":2571.7286555833816},{"$f":"'Hipotecario (Pesos)'!E43/Inversion!$C$28","v":3237.5548585923602},{"$f":"'Hipotecario (Pesos)'!H43/Inversion!$C$28","v":328145.50395257142},null,{"$f":"O42*(1+Inversion!$C$27)","v":452.02324812041405}]
[{"$f":"IF(A43<Inversion!$C$23,A43+1,\"-\")","v":39},{"$f":"IF(A44<>\"-\",DATE(YEAR(Inversion!$C$7),MONTH(Inversion!$C$7)+A44,DAY(Inversion!$C$7)),\"-\")","v":"2028-10-10"},{"$f":"'Hipotecario (Pesos)'!C44","v":123336605.04286152},304799.32758743985,1165774.1527437386,1470573.4803311785,148746598.06321138,null,327474.47012996773,{"$f":"'Hipotecario (Pesos)'!F44/Inversion!$C$28","v":671.03382260379692},{"$f":"'Hipotecario (Pesos)'!G44/Inversion!$C$28","v":2566.5210359885632},{"$f":"'Hipotecario (Pesos)'!E44/Inversion!$C$28","v":3237.5548585923602},{"$f":"'Hipotecario (Pesos)'!H44/Inversion!$C$28","v":327474.47012996761},null,{"$f":"O43*(1+Inversion!$C$27)","v":454.22349413735077}]
[{"$f":"IF(A44<Inversion!$C$23,A44+1,\"-\")","v":40},{"$f":"IF(A45<>\"-\",DATE(YEAR(Inversion!$C$7),MONTH(Inversion!$C$7)+A45,DAY(Inversion!$C$7)),\"-\")","v":"2028-11-10"},{"$f":"'Hipotecario (Pesos)'!C45","v":123084390.60581458},308678.4814247904,1169053.0896819525,1477731.5711067428,149161951.16928205,null,326798.18795746786,{"$f":"'Hipotecario (Pesos)'!F45/Inversion!$C$28","v":676.2821724998887},{"$f":"'Hipotecario (Pesos)'!G45/Inversion!$C$28","v":2561.2726860924713},{"$f":"'Hipotecario (Pesos)'!E45/Inversion!$C$28","v":3237.5548585923602},{"$f":"'Hipotecario (Pesos)'!H45/Inversion!$C$28","v":326798.18795746774},null,{"$f":"O44*(1+Inversion!$C$27)","v":456.43444996303111}]
[{"$f":"IF(A45<Inversion!$C$23,A45+1,\"-\")","v":41},{"$f":"IF(A46<>\"-\",DATE(YEAR(Inversion!$C$7),MONTH(Inversion!$C$7)+A46,DAY(Inversion!$C$7)),\"-\")","v":"2028-12-10"},{"$f":"'Hipotecario (Pesos)'!C46","v":122830203.52659985},312607.00490679522,1172317.4993443135,1484924.5042511087,149575397.50411695,null,326116.61638620711,{"$f":"'Hipotecario (Pesos)'!F46/Inversion!$C$28","v":681.57157126073798},{"$f":"'Hipotecario (Pesos)'!G46/Inversion!$C$28","v":2555.9832873316223},{"$f":"'Hipotecario (Pesos)'!E46/Inversion!$C$28","v":3237.5548585923602},{"$f":"'Hipotecario (Pesos)'!H46/Inversion!$C$28","v":326116.616386207},null,{"$f":"O45*(1+Inversion!$C$27)","v":458.65616772799069}]
[{"$f":"IF(A46<Inversion!$C$23,A46+1,\"-\")","v":42},{"$f":"IF(A47<>\"-\",DATE(YEAR(Inversion!$C$7),MONTH(Inversion!$C$7)+A47,DAY(Inversion!$C$7)),\"-\")","v":"2029-01-10"},{"$f":"'Hipotecario (Pesos)'!C47","v":122574028.37661158},316585.52635651536,1175566.9230047527,1492152.449361268,149986877.78844303,null,325429.7140462657,{"$f":"'Hipotecario (Pesos)'!F47/Inversion!$C$28","v":686.90233994140647},{"$f":"'Hipotecario (Pesos)'!G47/Inversion!$C$28","v":2550.6525186509539},{"$f":"'Hipotecario (Pesos)'!E47/Inversion!$C$28","v":3237.5548585923602},{"$f":"'Hipotecario (Pesos)'!H47/Inversion!$C$28","v":325429.71404626558},null,{"$f":"O46*(1+Inversion!$C$27)","v":460.88869981651317}]
[{"$f":"IF(A47<Inversion!$C$23,A47+1,\"-\")","v":43},{"$f":"IF(A48<>\"-\",DATE(YEAR(Inversion!$C$7),MONTH(Inversion!$C$7)+A48,DAY(Inversion!$C$7)),\"-\")","v":"2029-02-10"},{"$f":"'Hipotecario (Pesos)'!C48","v":122315849.60657237},320614.68209362298,1178800.8947661114,1499415.5768597345,150396331.81812257,null,324737.43924415769,{"$f":"'Hipotecario (Pesos)'!F48/Inversion!$C$28","v":692.27480210801923},{"$f":"'Hipotecario (Pesos)'!G48/Inversion!$C$28","v":2545.280056484341},{"$f":"'Hipotecario (Pesos)'!E48/Inversion!$C$28","v":3237.5548585923602},{"$f":"'Hipotecario (Pesos)'!H48/Inversion!$C$28","v":324737.43924415758},null,{"$f":"O47*(1+Inversion!$C$27)","v":463.13209886786524}]
[{"$f":"IF(A48<Inversion!$C$23,A48+1,\"-\")","v":44},{"$f":"IF(A49<>\"-\",DATE(YEAR(Inversion!$C$7),MONTH(Inversion!$C$7)+A49,DAY(Inversion!$C$7)),\"-\")","v":"2029-03-10"},{"$f":"'Hipotecario (Pesos)'!C49","v":122055651.54558946},324695.11653617484,1182018.9414623873,1506714.0579985622,150803698.45155323,null,324039.74996030028,{"$f":"'Hipotecario (Pesos)'!F49/Inversion!$C$28","v":697.68928385740764},{"$f":"'Hipotecario (Pesos)'!G49/Inversion!$C$28","v":2539.8655747349526},{"$f":"'Hipotecario (Pesos)'!E49/Inversion!$C$28","v":3237.5548585923602},{"$f":"'Hipotecario (Pesos)'!H49/Inversion!$C$28","v":324039.74996030016},null,{"$f":"O48*(1+Inversion!$C$27)","v":465.38641777753804}]
[{"$f":"IF(A49<Inversion!$C$23,A49+1,\"-\")","v":45},{"$f":"IF(A50<>\"-\",DATE(YEAR(Inversion!$C$7),MONTH(Inversion!$C$7)+A50,DAY(Inversion!$C$7)),\"-\")","v":"2029-04-10"},{"$f":"'Hipotecario (Pesos)'!C50","v":121793418.40020345},328827.48230367794,1185220.5825597055,1514048.0648633835,151208915.5969032,null,323336.60384646337,{"$f":"'Hipotecario (Pesos)'!F50/Inversion!$C$28","v":703.14611383689942},{"$f":"'Hipotecario (Pesos)'!G50/Inversion!$C$28","v":2534.4087447554607},{"$f":"'Hipotecario (Pesos)'!E50/Inversion!$C$28","v":3237.5548585923602},{"$f":"'Hipotecario (Pesos)'!H50/Inversion!$C$28","v":323336.60384646326},null,{"$f":"O49*(1+Inversion!$C$27)","v":467.65170969849407}]
[{"$f":"IF(A50<Inversion!$C$23,A50+1,\"-\")","v":46},{"$f":"IF(A51<>\"-\",DATE(YEAR(Inversion!$C$7),MONTH(Inversion!$C$7)+A51,DAY(Inversion!$C$7)),\"-\")","v":"2029-05-10"},{"$f":"'Hipotecario (Pesos)'!C51","v":121529134.25342977},333012.44032147003,1188405.3300559958,1521417.7703774658,151611920.19918036,null,322627.95822319912,{"$f":"'Hipotecario (Pesos)'!F51/Inversion!$C$28","v":708.64562326426892},{"$f":"'Hipotecario (Pesos)'!G51/Inversion!$C$28","v":2528.9092353280912},{"$f":"'Hipotecario (Pesos)'!E51/Inversion!$C$28","v":3237.5548585923602},{"$f":"'Hipotecario (Pesos)'!H51/Inversion!$C$28","v":322627.95822319901},null,{"$f":"O50*(1+Inversion!$C$27)","v":469.92802804242064}]
[{"$f":"IF(A51<Inversion!$C$23,A51+1,\"-\")","v":47},{"$f":"IF(A52<>\"-\",DATE(YEAR(Inversion!$C$7),MONTH(Inversion!$C$7)+A52,DAY(Inversion!$C$7)),\"-\")","v":"2029-06-10"},{"$f":"'Hipotecario (Pesos)'!C52","v":121262783.06379247},337250.65992642607,1191572.6883793634,1528823.3483057895,152012648.2271322,null,321913.77007725131,{"$f":"'Hipotecario (Pesos)'!F52/Inversion!$C$28","v":714.18814594783987},{"$f":"'Hipotecario (Pesos)'!G52/Inversion!$C$28","v":2523.3667126445202},{"$f":"'Hipotecario (Pesos)'!E52/Inversion!$C$28","v":3237.5548585923602},{"$f":"'Hipotecario (Pesos)'!H52/Inversion!$C$28","v":321913.77007725113},null,{"$f":"O51*(1+Inversion!$C$27)","v":472.21542648098904}]
[{"$f":"IF(A52<Inversion!$C$23,A52+1,\"-\")","v":48},{"$f":"IF(A53<>\"-\",DATE(YEAR(Inversion!$C$7),MONTH(Inversion!$C$7)+A53,DAY(Inversion!$C$7)),\"-\")","v":"2029-07-10"},{"$f":"'Hipotecario (Pesos)'!C53","v":120994348.66435058},341542.81897401228,1194722.1542851327,1536264.9732591449,152411034.65997544,null,321193.99605894455,{"$f":"'Hipotecario (Pesos)'!F53/Inversion!$C$28","v":719.77401830674853},{"$f":"'Hipotecario (Pesos)'!G53/Inversion!$C$28","v":2517.7808402856117},{"$f":"'Hipotecario (Pesos)'!E53/Inversion!$C$28","v":3237.5548585923602},{"$f":"'Hipotecario (Pesos)'!H53/Inversion!$C$28","v":321193.99605894438},null,{"$f":"O52*(1+Inversion!$C$27)","v":474.51395894712027}]
[{"$f":"IF(A53<Inversion!$C$23,A53+1,\"-\")","v":49},{"$f":"IF(A54<>\"-\",DATE(YEAR(Inversion!$C$7),MONTH(Inversion!$C$7)+A54,DAY(Inversion!$C$7)),\"-\")","v":"2029-08-10"},{"$f":"'Hipotecario (Pesos)'!C54","v":120723814.76171681},345889.60394670058,1197853.2167515487,1543742.8206982492,152807013.47395241,null,320468.59247955319,{"$f":"'Hipotecario (Pesos)'!F54/Inversion!$C$28","v":725.40357939136209},{"$f":"'Hipotecario (Pesos)'!G54/Inversion!$C$28","v":2512.151279200998},{"$f":"'Hipotecario (Pesos)'!E54/Inversion!$C$28","v":3237.5548585923602},{"$f":"'Hipotecario (Pesos)'!H54/Inversion!$C$28","v":320468.59247955302},null,{"$f":"O53*(1+Inversion!$C$27)","v":476.82367963625649}]
[{"$f":"IF(A54<Inversion!$C$23,A54+1,\"-\")","v":50},{"$f":"IF(A55<>\"-\",DATE(YEAR(Inversion!$C$7),MONTH(Inversion!$C$7)+A55,DAY(Inversion!$C$7)),\"-\")","v":"2029-09-10"},{"$f":"'Hipotecario (Pesos)'!C55","v":120451164.93506856},350291.71006376424,1200965.3568741188,1551257.0669378832,153200517.62871218,null,319737.51530864934,{"$f":"'Hipotecario (Pesos)'!F55/Inversion!$C$28","v":731.07717090385927},{"$f":"'Hipotecario (Pesos)'!G55/Inversion!$C$28","v":2506.4776876885007},{"$f":"'Hipotecario (Pesos)'!E55/Inversion!$C$28","v":3237.5548585923602},{"$f":"'Hipotecario (Pesos)'!H55/Inversion!$C$28","v":319737.51530864916},null,{"$f":"O54*(1+Inversion!$C$27)","v":479.14464300763888}]
[{"$f":"IF(A55<Inversion!$C$23,A55+1,\"-\")","v":51},{"$f":"IF(A56<>\"-\",DATE(YEAR(Inversion!$C$7),MONTH(Inversion!$C$7)+A56,DAY(Inversion!$C$7)),\"-\")","v":"2029-10-10"},{"$f":"'Hipotecario (Pesos)'!C56","v":120176382.63515122},354749.84139246977,1204058.047758579,1558807.8891510491,153591479.05351418,null,319000.72017143038,{"$f":"'Hipotecario (Pesos)'!F56/Inversion!$C$28","v":736.79513721896967},{"$f":"'Hipotecario (Pesos)'!G56/Inversion!$C$28","v":2500.7597213733902},{"$f":"'Hipotecario (Pesos)'!E56/Inversion!$C$28","v":3237.5548585923602},{"$f":"'Hipotecario (Pesos)'!H56/Inversion!$C$28","v":319000.72017143021},null,{"$f":"O55*(1+Inversion!$C$27)","v":481.47690378559179}]
[{"$f":"IF(A56<Inversion!$C$23,A56+1,\"-\")","v":52},{"$f":"IF(A57<>\"-\",DATE(YEAR(Inversion!$C$7),MONTH(Inversion!$C$7)+A57,DAY(Inversion!$C$7)),\"-\")","v":"2029-11-10"},{"$f":"'Hipotecario (Pesos)'!C57","v":119899451.18327367},359264.71096068528,1207130.754412462,1566395.4653731473,153979828.63325229,null,318258.16234602552,{"$f":"'Hipotecario (Pesos)'!F57/Inversion!$C$28","v":742.55782540487826},{"$f":"'Hipotecario (Pesos)'!G57/Inversion!$C$28","v":2494.997033187482},{"$f":"'Hipotecario (Pesos)'!E57/Inversion!$C$28","v":3237.5548585923602},{"$f":"'Hipotecario (Pesos)'!H57/Inversion!$C$28","v":318258.16234602529},null,{"$f":"O56*(1+Inversion!$C$27)","v":483.82051696081294}]
[{"$f":"IF(A57<Inversion!$C$23,A57+1,\"-\")","v":53},{"$f":"IF(A58<>\"-\",DATE(YEAR(Inversion!$C$7),MONTH(Inversion!$C$7)+A58,DAY(Inversion!$C$7)),\"-\")","v":"2029-12-10"},{"$f":"'Hipotecario (Pesos)'!C58","v":119620353.7702959},363837.04087092122,1210182.9336352539,1574019.9745061751,154365496.19429657,null,317509.7967607812,{"$f":"'Hipotecario (Pesos)'!F58/Inversion!$C$28","v":748.3655852442912},{"$f":"'Hipotecario (Pesos)'!G58/Inversion!$C$28","v":2489.189273348069},{"$f":"'Hipotecario (Pesos)'!E58/Inversion!$C$28","v":3237.5548585923602},{"$f":"'Hipotecario (Pesos)'!H58/Inversion!$C$28","v":317509.79676078097},null,{"$f":"O57*(1+Inversion!$C$27)","v":486.17553779167008}]
[{"$f":"IF(A58<Inversion!$C$23,A58+1,\"-\")","v":54},{"$f":"IF(A59<>\"-\",DATE(YEAR(Inversion!$C$7),MONTH(Inversion!$C$7)+A59,DAY(Inversion!$C$7)),\"-\")","v":"2030-01-10"},{"$f":"'Hipotecario (Pesos)'!C59","v":119339073.45560877},368467.5624158213,1213214.0339071227,1581681.5963229439,154748410.49015075,null,316755.57799152553,{"$f":"'Hipotecario (Pesos)'!F59/Inversion!$C$28","v":754.21876925566482},{"$f":"'Hipotecario (Pesos)'!G59/Inversion!$C$28","v":2483.3360893366953},{"$f":"'Hipotecario (Pesos)'!E59/Inversion!$C$28","v":3237.5548585923602},{"$f":"'Hipotecario (Pesos)'!H59/Inversion!$C$28","v":316755.57799152529},null,{"$f":"O58*(1+Inversion!$C$27)","v":488.54202180550391}]
[{"$f":"IF(A59<Inversion!$C$23,A59+1,\"-\")","v":55},{"$f":"IF(A60<>\"-\",DATE(YEAR(Inversion!$C$7),MONTH(Inversion!$C$7)+A60,DAY(Inversion!$C$7)),\"-\")","v":"2030-02-10"},{"$f":"'Hipotecario (Pesos)'!C60","v":119055593.16610572},373157.01619512646,1216223.4952761917,1589380.5114713183,155128499.18692291,null,315995.4602588109,{"$f":"'Hipotecario (Pesos)'!F60/Inversion!$C$28","v":760.11773271460629},{"$f":"'Hipotecario (Pesos)'!G60/Inversion!$C$28","v":2477.4371258777537},{"$f":"'Hipotecario (Pesos)'!E60/Inversion!$C$28","v":3237.5548585923602},{"$f":"'Hipotecario (Pesos)'!H60/Inversion!$C$28","v":315995.46025881072},null,{"$f":"O59*(1+Inversion!$C$27)","v":490.9200247999371}]
[{"$f":"IF(A60<Inversion!$C$23,A60+1,\"-\")","v":56},{"$f":"IF(A61<>\"-\",DATE(YEAR(Inversion!$C$7),MONTH(Inversion!$C$7)+A61,DAY(Inversion!$C$7)),\"-\")","v":"2030-03-10"},{"$f":"'Hipotecario (Pesos)'!C61","v":118769895.69514647},377906.15223412367,1219210.7492443521,1597116.9014784757,155505688.84860688,null,315229.39742513548,{"$f":"'Hipotecario (Pesos)'!F61/Inversion!$C$28","v":766.06283367543472},{"$f":"'Hipotecario (Pesos)'!G61/Inversion!$C$28","v":2471.4920249169254},{"$f":"'Hipotecario (Pesos)'!E61/Inversion!$C$28","v":3237.5548585923602},{"$f":"'Hipotecario (Pesos)'!H61/Inversion!$C$28","v":315229.39742513525},null,{"$f":"O60*(1+Inversion!$C$27)","v":493.30960284419024}]
[{"$f":"IF(A61<Inversion!$C$23,A61+1,\"-\")","v":57},{"$f":"IF(A62<>\"-\",DATE(YEAR(Inversion!$C$7),MONTH(Inversion!$C$7)+A62,DAY(Inversion!$C$7)),\"-\")","v":"2030-04-10"},{"$f":"'Hipotecario (Pesos)'!C62","v":118481963.70151263},382715.73010360519,1222175.2186515811,1604890.9487551861,155879904.92217234,null,314457.34299214254,{"$f":"'Hipotecario (Pesos)'!F62/Inversion!$C$28","v":772.05443299291676},{"$f":"'Hipotecario (Pesos)'!G62/Inversion!$C$28","v":2465.5004255994436},{"$f":"'Hipotecario (Pesos)'!E62/Inversion!$C$28","v":3237.5548585923602},{"$f":"'Hipotecario (Pesos)'!H62/Inversion!$C$28","v":314457.34299214231},null,{"$f":"O61*(1+Inversion!$C$27)","v":495.71081228040362}]
[{"$f":"IF(A62<Inversion!$C$23,A62+1,\"-\")","v":58},{"$f":"IF(A63<>\"-\",DATE(YEAR(Inversion!$C$7),MONTH(Inversion!$C$7)+A63,DAY(Inversion!$C$7)),\"-\")","v":"2030-05-10"},{"$f":"'Hipotecario (Pesos)'!C63","v":118191779.70835513},387586.51904135285,1225116.3175587605,1612702.8366001134,156251071.72246057,null,313679.25009779836,{"$f":"'Hipotecario (Pesos)'!F63/Inversion!$C$28","v":778.09289434416814},{"$f":"'Hipotecario (Pesos)'!G63/Inversion!$C$28","v":2459.4619642481921},{"$f":"'Hipotecario (Pesos)'!E63/Inversion!$C$28","v":3237.5548585923602},{"$f":"'Hipotecario (Pesos)'!H63/Inversion!$C$28","v":313679.25009779818},null,{"$f":"O62*(1+Inversion!$C$27)","v":498.12370972496575}]
[{"$f":"IF(A63<Inversion!$C$23,A63+1,\"-\")","v":59},{"$f":"IF(A64<>\"-\",DATE(YEAR(Inversion!$C$7),MONTH(Inversion!$C$7)+A64,DAY(Inversion!$C$7)),\"-\")","v":"2030-06-10"},{"$f":"'Hipotecario (Pesos)'!C64","v":117899326.10213338},392519.29807516927,1228033.4511289673,1620552.7492041367,156619112.4168835,null,312895.07151354762,{"$f":"'Hipotecario (Pesos)'!F64/Inversion!$C$28","v":784.17858425072927},{"$f":"'Hipotecario (Pesos)'!G64/Inversion!$C$28","v":2453.376274341631},{"$f":"'Hipotecario (Pesos)'!E64/Inversion!$C$28","v":3237.5548585923602},{"$f":"'Hipotecario (Pesos)'!H64/Inversion!$C$28","v":312895.07151354745},null,{"$f":"O63*(1+Inversion!$C$27)","v":500.54835206984831}]
[{"$f":"IF(A64<Inversion!$C$23,A64+1,\"-\")","v":60},{"$f":"IF(A65<>\"-\",DATE(YEAR(Inversion!$C$7),MONTH(Inversion!$C$7)+A65,DAY(Inversion!$C$7)),\"-\")","v":"2030-07-10"},{"$f":"'Hipotecario (Pesos)'!C65","v":117604585.13154618},397514.85614747397,1230926.0155072194,1628440.8716546935,156983949.00992435,null,312104.75964144681,{"$f":"'Hipotecario (Pesos)'!F65/Inversion!$C$28","v":790.31187210081112},{"$f":"'Hipotecario (Pesos)'!G65/Inversion!$C$28","v":2447.2429864915489},{"$f":"'Hipotecario (Pesos)'!E65/Inversion!$C$28","v":3237.5548585923602},{"$f":"'Hipotecario (Pesos)'!H65/Inversion!$C$28","v":312104.75964144658},null,{"$f":"O64*(1+Inversion!$C$27)","v":502.98479648394743}]
[{"$f":"IF(A65<Inversion!$C$23,A65+1,\"-\")","v":61},{"$f":"IF(A66<>\"-\",DATE(YEAR(Inversion!$C$7),MONTH(Inversion!$C$7)+A66,DAY(Inversion!$C$7)),\"-\")","v":"2030-08-10"},{"$f":"'Hipotecario (Pesos)'!C66","v":117307538.90645431},402573.99224148638,1233793.3976986576,1636367.389940144,157345502.32743588,null,311308.26651127508,{"$f":"'Hipotecario (Pesos)'!F66/Inversion!$C$28","v":796.49313017171664},{"$f":"'Hipotecario (Pesos)'!G66/Inversion!$C$28","v":2441.0617284206437},{"$f":"'Hipotecario (Pesos)'!E66/Inversion!$C$28","v":3237.5548585923602},{"$f":"'Hipotecario (Pesos)'!H66/Inversion!$C$28","v":311308.26651127485},null,{"$f":"O65*(1+Inversion!$C$27)","v":505.43310041443181}]
[{"$f":"IF(A66<Inversion!$C$23,A66+1,\"-\")","v":62},{"$f":"IF(A67<>\"-\",DATE(YEAR(Inversion!$C$7),MONTH(Inversion!$C$7)+A67,DAY(Inversion!$C$7)),\"-\")","v":"2030-09-10"},{"$f":"'Hipotecario (Pesos)'!C67","v":117008169.39679453},407697.51550901443,1236634.9754451413,1644332.490954156,157703692.00073498,null,310505.54377762263,{"$f":"'Hipotecario (Pesos)'!F67/Inversion!$C$28","v":802.72273365243859},{"$f":"'Hipotecario (Pesos)'!G67/Inversion!$C$28","v":2434.8321249399214},{"$f":"'Hipotecario (Pesos)'!E67/Inversion!$C$28","v":3237.5548585923602},{"$f":"'Hipotecario (Pesos)'!H67/Inversion!$C$28","v":310505.54377762246},null,{"$f":"O66*(1+Inversion!$C$27)","v":507.89332158809714}]
[{"$f":"IF(A67<Inversion!$C$23,A67+1,\"-\")","v":63},{"$f":"IF(A68<>\"-\",DATE(YEAR(Inversion!$C$7),MONTH(Inversion!$C$7)+A68,DAY(Inversion!$C$7)),\"-\")","v":"2030-10-10"},{"$f":"'Hipotecario (Pesos)'!C68","v":116706458.4314853},412886.24539986812,1239450.1171002437,1652336.3625001118,158058436.45048997,null,309696.54271695617,{"$f":"'Hipotecario (Pesos)'!F68/Inversion!$C$28","v":809.00106066642957},{"$f":"'Hipotecario (Pesos)'!G68/Inversion!$C$28","v":2428.5537979259307},{"$f":"'Hipotecario (Pesos)'!E68/Inversion!$C$28","v":3237.5548585923602},{"$f":"'Hipotecario (Pesos)'!H68/Inversion!$C$28","v":309696.542716956},null,{"$f":"O67*(1+Inversion!$C$27)","v":510.36551801272725}]
[{"$f":"IF(A68<Inversion!$C$23,A68+1,\"-\")","v":64},{"$f":"IF(A69<>\"-\",DATE(YEAR(Inversion!$C$7),MONTH(Inversion!$C$7)+A69,DAY(Inversion!$C$7)),\"-\")","v":"2030-11-10"},{"$f":"'Hipotecario (Pesos)'!C69","v":116402387.69732374},418141.01179292292,1242238.181502613,1660379.1932955361,158409652.87039885,null,308881.21422466164,{"$f":"'Hipotecario (Pesos)'!F69/Inversion!$C$28","v":815.32849229455746},{"$f":"'Hipotecario (Pesos)'!G69/Inversion!$C$28","v":2422.2263662978025},{"$f":"'Hipotecario (Pesos)'!E69/Inversion!$C$28","v":3237.5548585923602},{"$f":"'Hipotecario (Pesos)'!H69/Inversion!$C$28","v":308881.21422466147},null,{"$f":"O68*(1+Inversion!$C$27)","v":512.84974797846166}]
[{"$f":"IF(A69<Inversion!$C$23,A69+1,\"-\")","v":65},{"$f":"IF(A70<>\"-\",DATE(YEAR(Inversion!$C$7),MONTH(Inversion!$C$7)+A70,DAY(Inversion!$C$7)),\"-\")","v":"2030-12-10"},{"$f":"'Hipotecario (Pesos)'!C70","v":116095938.73787415},{"$f":"J70*O70","v":423462.65512884822},{"$f":"K70*O70","v":1244998.5178476975},{"$f":"L70*O70","v":1668461.1729765458},{"$f":"M70*O70","v":158757257.21065512},null,308059.50881206343,{"$f":"'Hipotecario (Pesos)'!F70/Inversion!$C$28","v":821.70541259823256},{"$f":"'Hipotecario (Pesos)'!G70/Inversion!$C$28","v":2415.8494459941276},{"$f":"'Hipotecario (Pesos)'!E70/Inversion!$C$28","v":3237.5548585923602},{"$f":"'Hipotecario (Pesos)'!H70/Inversion!$C$28","v":308059.5088120632},null,{"$f":"O69*(1+Inversion!$C$27)","v":515.3460700591703}]
[{"$f":"IF(A70<Inversion!$C$23,A70+1,\"-\")","v":66},{"$f":"IF(A71<>\"-\",DATE(YEAR(Inversion!$C$7),MONTH(Inversion!$C$7)+A71,DAY(Inversion!$C$7)),\"-\")","v":"2031-01-10"},{"$f":"'Hipotecario (Pesos)'!C71","v":115787092.95234768},428852.02654452669,1247730.4655577936,1676582.4921023205,159101164.16119862,null,307231.37660342071,{"$f":"'Hipotecario (Pesos)'!F71/Inversion!$C$28","v":828.13220864272114},{"$f":"'Hipotecario (Pesos)'!G71/Inversion!$C$28","v":2409.422649949639},{"$f":"'Hipotecario (Pesos)'!E71/Inversion!$C$28","v":3237.5548585923602},{"$f":"'Hipotecario (Pesos)'!H71/Inversion!$C$28","v":307231.37660342047},null,{"$f":"O70*(1+Inversion!$C$27)","v":517.8545431138341}]
[{"$f":"IF(A71<Inversion!$C$23,A71+1,\"-\")","v":67},{"$f":"IF(A72<>\"-\",DATE(YEAR(Inversion!$C$7),MONTH(Inversion!$C$7)+A72,DAY(Inversion!$C$7)),\"-\")","v":"2031-02-10"},{"$f":"'Hipotecario (Pesos)'!C72","v":115475831.59447333},434309.98800918419,1250433.3541504133,1684743.3421595972,159441287.134749,null,{"$f":"I71-J72","v":306396.76733290008},{"$f":"'Hipotecario (Pesos)'!F72/Inversion!$C$28","v":834.60927052063846},{"$f":"'Hipotecario (Pesos)'!G72/Inversion!$C$28","v":2402.9455880717219},{"$f":"'Hipotecario (Pesos)'!E72/Inversion!$C$28","v":3237.5548585923602},{"$f":"'Hipotecario (Pesos)'!H72/Inversion!$C$28","v":306396.76733289985},null,{"$f":"O71*(1+Inversion!$C$27)","v":520.37522628793329}]
[{"$f":"IF(A72<Inversion!$C$23,A72+1,\"-\")","v":68},{"$f":"IF(A73<>\"-\",DATE(YEAR(Inversion!$C$7),MONTH(Inversion!$C$7)+A73,DAY(Inversion!$C$7)),\"-\")","v":"2031-03-10"},{"$f":"'Hipotecario (Pesos)'!C73","v":115162135.77136008},439837.41246225225,1253106.5031049317,1692943.9155671841,159777538.24961853,null,305555.63034152443,{"$f":"'Hipotecario (Pesos)'!F73/Inversion!$C$28","v":841.13699137562821},{"$f":"'Hipotecario (Pesos)'!G73/Inversion!$C$28","v":2396.4178672167318},{"$f":"'Hipotecario (Pesos)'!E73/Inversion!$C$28","v":3237.5548585923602},{"$f":"'Hipotecario (Pesos)'!H73/Inversion!$C$28","v":305555.63034152426},null,{"$f":"O72*(1+Inversion!$C$27)","v":522.90817901484161}]
[{"$f":"IF(A73<Inversion!$C$23,A73+1,\"-\")","v":69},{"$f":"IF(A74<>\"-\",DATE(YEAR(Inversion!$C$7),MONTH(Inversion!$C$7)+A74,DAY(Inversion!$C$7)),\"-\")","v":"2031-04-10"},{"$f":"'Hipotecario (Pesos)'!C74","v":114845986.44235013},445435.1839529844,1255749.2217275128,1701184.4056804974,160109828.31230158,null,304707.91457409819,{"$f":"'Hipotecario (Pesos)'!F74/Inversion!$C$28","v":847.71576742622335},{"$f":"'Hipotecario (Pesos)'!G74/Inversion!$C$28","v":2389.8390911661368},{"$f":"'Hipotecario (Pesos)'!E74/Inversion!$C$28","v":3237.5548585923602},{"$f":"'Hipotecario (Pesos)'!H74/Inversion!$C$28","v":304707.91457409796},null,{"$f":"O73*(1+Inversion!$C$27)","v":525.45346101722782}]
[{"$f":"IF(A74<Inversion!$C$23,A74+1,\"-\")","v":70},{"$f":"IF(A75<>\"-\",DATE(YEAR(Inversion!$C$7),MONTH(Inversion!$C$7)+A75,DAY(Inversion!$C$7)),\"-\")","v":"2031-05-10"},{"$f":"'Hipotecario (Pesos)'!C75","v":114527364.41786319},451104.19778185035,1258360.8090142701,1709465.0067961204,160438066.79983827,null,303853.56857610832,{"$f":"'Hipotecario (Pesos)'!F75/Inversion!$C$28","v":854.34599798989768},{"$f":"'Hipotecario (Pesos)'!G75/Inversion!$C$28","v":2383.2088606024627},{"$f":"'Hipotecario (Pesos)'!E75/Inversion!$C$28","v":3237.5548585923602},{"$f":"'Hipotecario (Pesos)'!H75/Inversion!$C$28","v":303853.56857610808},null,{"$f":"O74*(1+Inversion!$C$27)","v":528.01113230846374}]
[{"$f":"IF(A75<Inversion!$C$23,A75+1,\"-\")","v":71},{"$f":"IF(A76<>\"-\",DATE(YEAR(Inversion!$C$7),MONTH(Inversion!$C$7)+A76,DAY(Inversion!$C$7)),\"-\")","v":"2031-06-10"},{"$f":"'Hipotecario (Pesos)'!C76","v":114206250.35823171},456845.36064372852,1260940.5535126566,1717785.914156385,160762161.84194866,null,302992.54049060104,{"$f":"'Hipotecario (Pesos)'!F76/Inversion!$C$28","v":861.02808550730163},{"$f":"'Hipotecario (Pesos)'!G76/Inversion!$C$28","v":2376.5267730850587},{"$f":"'Hipotecario (Pesos)'!E76/Inversion!$C$28","v":3237.5548585923602},{"$f":"'Hipotecario (Pesos)'!H76/Inversion!$C$28","v":302992.5404906008},null,{"$f":"O75*(1+Inversion!$C$27)","v":530.58125319403928}]
[{"$f":"IF(A76<Inversion!$C$23,A76+1,\"-\")","v":72},{"$f":"IF(A77<>\"-\",DATE(YEAR(Inversion!$C$7),MONTH(Inversion!$C$7)+A77,DAY(Inversion!$C$7)),\"-\")","v":"2031-07-10"},{"$f":"'Hipotecario (Pesos)'!C77","v":113882624.77252698},462659.59077292238,1263487.7331810528,1726147.3239539752,161082020.20293528,null,302124.77805503435,{"$f":"'Hipotecario (Pesos)'!F77/Inversion!$C$28","v":867.76243556669124},{"$f":"'Hipotecario (Pesos)'!G77/Inversion!$C$28","v":2369.792423025669},{"$f":"'Hipotecario (Pesos)'!E77/Inversion!$C$28","v":3237.5548585923602},{"$f":"'Hipotecario (Pesos)'!H77/Inversion!$C$28","v":302124.77805503411},null,{"$f":"O76*(1+Inversion!$C$27)","v":533.16388427298432}]
[{"$f":"IF(A77<Inversion!$C$23,A77+1,\"-\")","v":73},{"$f":"IF(A78<>\"-\",DATE(YEAR(Inversion!$C$7),MONTH(Inversion!$C$7)+A78,DAY(Inversion!$C$7)),\"-\")","v":"2031-08-10"},{"$f":"'Hipotecario (Pesos)'!C78","v":113556468.0173761},468547.81809002173,1266001.6152465311,1734549.4333365529,161397547.26335064,null,301250.22859810578,{"$f":"'Hipotecario (Pesos)'!F78/Inversion!$C$28","v":874.54945692854585},{"$f":"'Hipotecario (Pesos)'!G78/Inversion!$C$28","v":2363.0054016638142},{"$f":"'Hipotecario (Pesos)'!E78/Inversion!$C$28","v":3237.5548585923602},{"$f":"'Hipotecario (Pesos)'!H78/Inversion!$C$28","v":301250.22859810555},null,{"$f":"O77*(1+Inversion!$C$27)","v":535.75908643929779}]
[{"$f":"IF(A78<Inversion!$C$23,A78+1,\"-\")","v":74},{"$f":"IF(A79<>\"-\",DATE(YEAR(Inversion!$C$7),MONTH(Inversion!$C$7)+A79,DAY(Inversion!$C$7)),\"-\")","v":"2031-09-10"},{"$f":"'Hipotecario (Pesos)'!C79","v":113227760.29576966},474510.98435063212,1268481.4560607735,1742992.4404114056,161708647.0014267,null,300368.83903655538,{"$f":"'Hipotecario (Pesos)'!F79/Inversion!$C$28","v":881.38956155037818},{"$f":"'Hipotecario (Pesos)'!G79/Inversion!$C$28","v":2356.1652970419818},{"$f":"'Hipotecario (Pesos)'!E79/Inversion!$C$28","v":3237.5548585923602},{"$f":"'Hipotecario (Pesos)'!H79/Inversion!$C$28","v":300368.83903655515},null,{"$f":"O78*(1+Inversion!$C$27)","v":538.36692088338305}]
[{"$f":"IF(A79<Inversion!$C$23,A79+1,\"-\")","v":75},{"$f":"IF(A80<>\"-\",DATE(YEAR(Inversion!$C$7),MONTH(Inversion!$C$7)+A80,DAY(Inversion!$C$7)),\"-\")","v":"2031-10-10"},{"$f":"'Hipotecario (Pesos)'!C80","v":112896481.65586011},480550.04329599912,1270926.5009541195,1751476.5442501185,162015221.97426334,null,299480.55587194365,{"$f":"'Hipotecario (Pesos)'!F80/Inversion!$C$28","v":888.28316461174074},{"$f":"'Hipotecario (Pesos)'!G80/Inversion!$C$28","v":2349.2716939806196},{"$f":"'Hipotecario (Pesos)'!E80/Inversion!$C$28","v":3237.5548585923602},{"$f":"'Hipotecario (Pesos)'!H80/Inversion!$C$28","v":299480.55587194342},null,{"$f":"O79*(1+Inversion!$C$27)","v":540.98744909349091}]
[{"$f":"IF(A80<Inversion!$C$23,A80+1,\"-\")","v":76},{"$f":"IF(A81<>\"-\",DATE(YEAR(Inversion!$C$7),MONTH(Inversion!$C$7)+A81,DAY(Inversion!$C$7)),\"-\")","v":"2031-11-10"},{"$f":"'Hipotecario (Pesos)'!C81","v":112562611.98975073},486665.96080554766,1273335.9840877207,1760001.9448932684,162317173.29877281,null,298585.32518740423,{"$f":"'Hipotecario (Pesos)'!F81/Inversion!$C$28","v":895.23068453942506},{"$f":"'Hipotecario (Pesos)'!G81/Inversion!$C$28","v":2342.3241740529352},{"$f":"'Hipotecario (Pesos)'!E81/Inversion!$C$28","v":3237.5548585923602},{"$f":"'Hipotecario (Pesos)'!H81/Inversion!$C$28","v":298585.325187404},null,{"$f":"O80*(1+Inversion!$C$27)","v":543.6207328571694}]
[{"$f":"IF(A81<Inversion!$C$23,A81+1,\"-\")","v":77},{"$f":"IF(A82<>\"-\",DATE(YEAR(Inversion!$C$7),MONTH(Inversion!$C$7)+A82,DAY(Inversion!$C$7)),\"-\")","v":"2031-12-10"},{"$f":"'Hipotecario (Pesos)'!C82","v":112226131.03227508},492859.71505136427,1275709.1283037742,1768568.8433551383,162614400.63237676,null,297683.09264437138,{"$f":"'Hipotecario (Pesos)'!F82/Inversion!$C$28","v":902.23254303286012},{"$f":"'Hipotecario (Pesos)'!G82/Inversion!$C$28","v":2335.3223155595001},{"$f":"'Hipotecario (Pesos)'!E82/Inversion!$C$28","v":3237.5548585923602},{"$f":"'Hipotecario (Pesos)'!H82/Inversion!$C$28","v":297683.09264437115},null,{"$f":"O81*(1+Inversion!$C$27)","v":546.26683426272052}]
[{"$f":"IF(A82<Inversion!$C$23,A82+1,\"-\")","v":78},{"$f":"IF(A83<>\"-\",DATE(YEAR(Inversion!$C$7),MONTH(Inversion!$C$7)+A83,DAY(Inversion!$C$7)),\"-\")","v":"2032-01-10"},{"$f":"'Hipotecario (Pesos)'!C83","v":111887018.35976702},499132.29665464401,1278045.1449738159,1777177.4416284598,162906802.15345317,null,296773.80347928166,{"$f":"'Hipotecario (Pesos)'!F83/Inversion!$C$28","v":909.28916508970826},{"$f":"'Hipotecario (Pesos)'!G83/Inversion!$C$28","v":2328.2656935026521},{"$f":"'Hipotecario (Pesos)'!E83/Inversion!$C$28","v":3237.5548585923602},{"$f":"'Hipotecario (Pesos)'!H83/Inversion!$C$28","v":296773.80347928143},null,{"$f":"O82*(1+Inversion!$C$27)","v":548.9258157006642}]
[{"$f":"IF(A83<Inversion!$C$23,A83+1,\"-\")","v":79},{"$f":"IF(A84<>\"-\",DATE(YEAR(Inversion!$C$7),MONTH(Inversion!$C$7)+A84,DAY(Inversion!$C$7)),\"-\")","v":"2032-02-10"},{"$f":"'Hipotecario (Pesos)'!C84","v":111545253.38882099},505484.70884412981,1280343.2338450437,1785827.9426891736,163194274.54152933,null,295857.40250025003,{"$f":"'Hipotecario (Pesos)'!F84/Inversion!$C$28","v":916.40097903166179},{"$f":"'Hipotecario (Pesos)'!G84/Inversion!$C$28","v":2321.1538795606984},{"$f":"'Hipotecario (Pesos)'!E84/Inversion!$C$28","v":3237.5548585923602},{"$f":"'Hipotecario (Pesos)'!H84/Inversion!$C$28","v":295857.40250024979},null,{"$f":"O83*(1+Inversion!$C$27)","v":551.59773986520941}]
[{"$f":"IF(A84<Inversion!$C$23,A84+1,\"-\")","v":80},{"$f":"IF(A85<>\"-\",DATE(YEAR(Inversion!$C$7),MONTH(Inversion!$C$7)+A85,DAY(Inversion!$C$7)),\"-\")","v":"2032-03-10"},{"$f":"'Hipotecario (Pesos)'!C85","v":111200815.37504265},511917.96761656652,1282602.5828846493,1794520.5505012157,163476712.95721814,null,294933.83408371959,{"$f":"'Hipotecario (Pesos)'!F85/Inversion!$C$28","v":923.56841653044012},{"$f":"'Hipotecario (Pesos)'!G85/Inversion!$C$28","v":2313.9864420619201},{"$f":"'Hipotecario (Pesos)'!E85/Inversion!$C$28","v":3237.5548585923602},{"$f":"'Hipotecario (Pesos)'!H85/Inversion!$C$28","v":294933.83408371935},null,{"$f":"O84*(1+Inversion!$C$27)","v":554.28266975573229}]
[{"$f":"IF(A85<Inversion!$C$23,A85+1,\"-\")","v":81},{"$f":"IF(A86<>\"-\",DATE(YEAR(Inversion!$C$7),MONTH(Inversion!$C$7)+A86,DAY(Inversion!$C$7)),\"-\")","v":"2032-04-10"},{"$f":"'Hipotecario (Pesos)'!C86","v":110853683.41178973},518433.10189919977,1284822.3681221276,1803255.4700213275,163754011.02189428,null,294003.0421710856,{"$f":"'Hipotecario (Pesos)'!F86/Inversion!$C$28","v":930.79191263399355},{"$f":"'Hipotecario (Pesos)'!G86/Inversion!$C$28","v":2306.7629459583663},{"$f":"'Hipotecario (Pesos)'!E86/Inversion!$C$28","v":3237.5548585923602},{"$f":"'Hipotecario (Pesos)'!H86/Inversion!$C$28","v":294003.04217108537},null,{"$f":"O85*(1+Inversion!$C$27)","v":556.98066867826162}]
[{"$f":"IF(A86<Inversion!$C$23,A86+1,\"-\")","v":82},{"$f":"IF(A87<>\"-\",DATE(YEAR(Inversion!$C$7),MONTH(Inversion!$C$7)+A87,DAY(Inversion!$C$7)),\"-\")","v":"2032-05-10"},{"$f":"'Hipotecario (Pesos)'!C87","v":110503836.42890307},525031.15371434018,1287001.7534895476,1812032.9072038878,164026060.79710677,null,293064.97026529268,{"$f":"'Hipotecario (Pesos)'!F87/Inversion!$C$28","v":938.07190579290784},{"$f":"'Hipotecario (Pesos)'!G87/Inversion!$C$28","v":2299.4829527994525},{"$f":"'Hipotecario (Pesos)'!E87/Inversion!$C$28","v":3237.5548585923602},{"$f":"'Hipotecario (Pesos)'!H87/Inversion!$C$28","v":293064.9702652925},null,{"$f":"O86*(1+Inversion!$C$27)","v":559.69180024697164}]
[{"$f":"IF(A87<Inversion!$C$23,A87+1,\"-\")","v":83},{"$f":"IF(A88<>\"-\",DATE(YEAR(Inversion!$C$7),MONTH(Inversion!$C$7)+A88,DAY(Inversion!$C$7)),\"-\")","v":"2032-06-10"},{"$f":"'Hipotecario (Pesos)'!C88","v":110151253.19142771},531713.17834602273,1289139.8906597453,1820853.0690057683,164292752.76372468,null,292119.56142740569,{"$f":"'Hipotecario (Pesos)'!F88/Inversion!$C$28","v":945.40883788701717},{"$f":"'Hipotecario (Pesos)'!G88/Inversion!$C$28","v":2292.1460207053428},{"$f":"'Hipotecario (Pesos)'!E88/Inversion!$C$28","v":3237.5548585923602},{"$f":"'Hipotecario (Pesos)'!H88/Inversion!$C$28","v":292119.56142740545},null,{"$f":"O87*(1+Inversion!$C$27)","v":562.41612838568165}]
[{"$f":"IF(A88<Inversion!$C$23,A88+1,\"-\")","v":84},{"$f":"IF(A89<>\"-\",DATE(YEAR(Inversion!$C$7),MONTH(Inversion!$C$7)+A89,DAY(Inversion!$C$7)),\"-\")","v":"2032-07-10"},{"$f":"'Hipotecario (Pesos)'!C89","v":109795912.29832391},538480.24450878892,1291235.9188824249,1829716.1633912139,164553975.80081272,null,291166.75827315345,{"$f":"'Hipotecario (Pesos)'!F89/Inversion!$C$28","v":952.80315425222705},{"$f":"'Hipotecario (Pesos)'!G89/Inversion!$C$28","v":2284.7517043401331},{"$f":"'Hipotecario (Pesos)'!E89/Inversion!$C$28","v":3237.5548585923602},{"$f":"'Hipotecario (Pesos)'!H89/Inversion!$C$28","v":291166.75827315322},null,{"$f":"O88*(1+Inversion!$C$27)","v":565.15371732936342}]
[{"$f":"IF(A89<Inversion!$C$23,A89+1,\"-\")","v":85},{"$f":"IF(A90<>\"-\",DATE(YEAR(Inversion!$C$7),MONTH(Inversion!$C$7)+A90,DAY(Inversion!$C$7)),\"-\")","v":"2032-08-10"},{"$f":"'Hipotecario (Pesos)'!C90","v":109437792.18116824},545333.43451861455,1293288.9648181316,1838622.3993367462,164809617.16423279,null,290206.50296944589,{"$f":"'Hipotecario (Pesos)'!F90/Inversion!$C$28","v":960.25530370754336},{"$f":"'Hipotecario (Pesos)'!G90/Inversion!$C$28","v":2277.2995548848166},{"$f":"'Hipotecario (Pesos)'!E90/Inversion!$C$28","v":3237.5548585923602},{"$f":"'Hipotecario (Pesos)'!H90/Inversion!$C$28","v":290206.50296944566},null,{"$f":"O89*(1+Inversion!$C$27)","v":567.90463162565572}]
[{"$f":"IF(A90<Inversion!$C$23,A90+1,\"-\")","v":86},{"$f":"IF(A91<>\"-\",DATE(YEAR(Inversion!$C$7),MONTH(Inversion!$C$7)+A91,DAY(Inversion!$C$7)),\"-\")","v":"2032-09-10"},{"$f":"'Hipotecario (Pesos)'!C91","v":109076871.10284437},552273.84446601395,1295298.1423700764,1847571.9868360902,165059562.46496853,null,289238.7372308636,{"$f":"'Hipotecario (Pesos)'!F91/Inversion!$C$28","v":967.76573858231541},{"$f":"'Hipotecario (Pesos)'!G91/Inversion!$C$28","v":2269.7891200100448},{"$f":"'Hipotecario (Pesos)'!E91/Inversion!$C$28","v":3237.5548585923602},{"$f":"'Hipotecario (Pesos)'!H91/Inversion!$C$28","v":289238.73723086336},null,{"$f":"O90*(1+Inversion!$C$27)","v":570.66893613638615}]
[{"$f":"IF(A91<Inversion!$C$23,A91+1,\"-\")","v":87},{"$f":"IF(A92<>\"-\",DATE(YEAR(Inversion!$C$7),MONTH(Inversion!$C$7)+A92,DAY(Inversion!$C$7)),\"-\")","v":"2032-10-10"},{"$f":"'Hipotecario (Pesos)'!C92","v":108713127.1562237},559302.5843913476,1297262.5525137784,1856565.1369051263,165303695.64716884,null,288263.40231611993,{"$f":"'Hipotecario (Pesos)'!F92/Inversion!$C$28","v":975.33491474369134},{"$f":"'Hipotecario (Pesos)'!G92/Inversion!$C$28","v":2262.2199438486687},{"$f":"'Hipotecario (Pesos)'!E92/Inversion!$C$28","v":3237.5548585923602},{"$f":"'Hipotecario (Pesos)'!H92/Inversion!$C$28","v":288263.4023161197},null,{"$f":"O91*(1+Inversion!$C$27)","v":573.44669603910052}]
[{"$f":"IF(A92<Inversion!$C$23,A92+1,\"-\")","v":88},{"$f":"IF(A93<>\"-\",DATE(YEAR(Inversion!$C$7),MONTH(Inversion!$C$7)+A93,DAY(Inversion!$C$7)),\"-\")","v":"2032-11-10"},{"$f":"'Hipotecario (Pesos)'!C93","v":108346538.26283559},566420.77846236096,1299181.2831245037,1865602.0615868648,165541898.9659071,null,287280.43902449566,{"$f":"'Hipotecario (Pesos)'!F93/Inversion!$C$28","v":982.96329162428879},{"$f":"'Hipotecario (Pesos)'!G93/Inversion!$C$28","v":2254.5915669680712},{"$f":"'Hipotecario (Pesos)'!E93/Inversion!$C$28","v":3237.5548585923602},{"$f":"'Hipotecario (Pesos)'!H93/Inversion!$C$28","v":287280.43902449537},null,{"$f":"O92*(1+Inversion!$C$27)","v":576.2379768285997}]
[{"$f":"IF(A93<Inversion!$C$23,A93+1,\"-\")","v":89},{"$f":"IF(A94<>\"-\",DATE(YEAR(Inversion!$C$7),MONTH(Inversion!$C$7)+A94,DAY(Inversion!$C$7)),\"-\")","v":"2032-12-10"},{"$f":"'Hipotecario (Pesos)'!C94","v":107977082.17152733},573629.56515398202,1301053.4088024651,1874682.9739564471,165774052.96465257,null,286289.78769224556,{"$f":"'Hipotecario (Pesos)'!F94/Inversion!$C$28","v":990.65133225008049},{"$f":"'Hipotecario (Pesos)'!G94/Inversion!$C$28","v":2246.9035263422797},{"$f":"'Hipotecario (Pesos)'!E94/Inversion!$C$28","v":3237.5548585923602},{"$f":"'Hipotecario (Pesos)'!H94/Inversion!$C$28","v":286289.78769224527},null,{"$f":"O93*(1+Inversion!$C$27)","v":579.04284431848384}]
[{"$f":"IF(A94<Inversion!$C$23,A94+1,\"-\")","v":90},{"$f":"IF(A95<>\"-\",DATE(YEAR(Inversion!$C$7),MONTH(Inversion!$C$7)+A95,DAY(Inversion!$C$7)),\"-\")","v":"2033-01-10"},{"$f":"'Hipotecario (Pesos)'!C95","v":107604736.45711347},580930.0974304073,1302877.9906957601,1883808.0881261677,166000036.45244947,null,285291.38818897709,{"$f":"'Hipotecario (Pesos)'!F95/Inversion!$C$28","v":998.3995032685001},{"$f":"'Hipotecario (Pesos)'!G95/Inversion!$C$28","v":2239.15535532386},{"$f":"'Hipotecario (Pesos)'!E95/Inversion!$C$28","v":3237.5548585923602},{"$f":"'Hipotecario (Pesos)'!H95/Inversion!$C$28","v":285291.38818897679},null,{"$f":"O94*(1+Inversion!$C$27)","v":581.86136464270407}]
[{"$f":"IF(A95<Inversion!$C$23,A95+1,\"-\")","v":91},{"$f":"IF(A96<>\"-\",DATE(YEAR(Inversion!$C$7),MONTH(Inversion!$C$7)+A96,DAY(Inversion!$C$7)),\"-\")","v":"2033-02-10"},{"$f":"'Hipotecario (Pesos)'!C96","v":107229478.51901473},588323.54292950593,1304654.0763210179,1892977.6192505239,166219726.48080105,null,284285.17991400033,{"$f":"'Hipotecario (Pesos)'!F96/Inversion!$C$28","v":1006.2082749767649},{"$f":"'Hipotecario (Pesos)'!G96/Inversion!$C$28","v":2231.3465836155951},{"$f":"'Hipotecario (Pesos)'!E96/Inversion!$C$28","v":3237.5548585923602},{"$f":"'Hipotecario (Pesos)'!H96/Inversion!$C$28","v":284285.17991400004},null,{"$f":"O95*(1+Inversion!$C$27)","v":584.69360425712193}]
[{"$f":"IF(A96<Inversion!$C$23,A96+1,\"-\")","v":92},{"$f":"IF(A97<>\"-\",DATE(YEAR(Inversion!$C$7),MONTH(Inversion!$C$7)+A97,DAY(Inversion!$C$7)),\"-\")","v":"2033-03-10"},{"$f":"'Hipotecario (Pesos)'!C97","v":106851285.57988611},595811.08414956939,1306380.6993817186,1902191.7835312884,166432998.32025424,null,283271.10179264989,{"$f":"'Hipotecario (Pesos)'!F97/Inversion!$C$28","v":1014.0781213504234},{"$f":"'Hipotecario (Pesos)'!G97/Inversion!$C$28","v":2223.4767372419365},{"$f":"'Hipotecario (Pesos)'!E97/Inversion!$C$28","v":3237.5548585923602},{"$f":"'Hipotecario (Pesos)'!H97/Inversion!$C$28","v":283271.1017926496},null,{"$f":"O96*(1+Inversion!$C$27)","v":587.5396299410761}]
[{"$f":"IF(A97<Inversion!$C$23,A97+1,\"-\")","v":93},{"$f":"IF(A98<>\"-\",DATE(YEAR(Inversion!$C$7),MONTH(Inversion!$C$7)+A98,DAY(Inversion!$C$7)),\"-\")","v":"2033-04-10"},{"$f":"'Hipotecario (Pesos)'!C98","v":106470134.6842344},603393.91863844078,1308056.8795841658,1911450.7982226068,166639725.4366813,null,282249.09227257775,{"$f":"'Hipotecario (Pesos)'!F98/Inversion!$C$28","v":1022.0095200721254},{"$f":"'Hipotecario (Pesos)'!G98/Inversion!$C$28","v":2215.5453385202345},{"$f":"'Hipotecario (Pesos)'!E98/Inversion!$C$28","v":3237.5548585923602},{"$f":"'Hipotecario (Pesos)'!H98/Inversion!$C$28","v":282249.09227257752},null,{"$f":"O97*(1+Inversion!$C$27)","v":590.39950879895719}]
[{"$f":"IF(A98<Inversion!$C$23,A98+1,\"-\")","v":94},{"$f":"IF(A99<>\"-\",DATE(YEAR(Inversion!$C$7),MONTH(Inversion!$C$7)+A99,DAY(Inversion!$C$7)),\"-\")","v":"2033-05-10"},{"$f":"'Hipotecario (Pesos)'!C99","v":106086002.69702485},611073.25918504631,1309681.6224510742,1920754.8816361206,166839779.46725419,null,281219.08932001714,{"$f":"'Hipotecario (Pesos)'!F99/Inversion!$C$28","v":1030.0029525606133},{"$f":"'Hipotecario (Pesos)'!G99/Inversion!$C$28","v":2207.551906031747},{"$f":"'Hipotecario (Pesos)'!E99/Inversion!$C$28","v":3237.5548585923602},{"$f":"'Hipotecario (Pesos)'!H99/Inversion!$C$28","v":281219.08932001691},null,{"$f":"O98*(1+Inversion!$C$27)","v":593.27330826178979}]
[{"$f":"IF(A99<Inversion!$C$23,A99+1,\"-\")","v":95},{"$f":"IF(A100<>\"-\",DATE(YEAR(Inversion!$C$7),MONTH(Inversion!$C$7)+A100,DAY(Inversion!$C$7)),\"-\")","v":"2033-06-10"},{"$f":"'Hipotecario (Pesos)'!C100","v":105698866.30227689},618850.33401336928,1311253.9191327447,1930104.2531461141,167033030.19610834,null,280181.03041601722,{"$f":"'Hipotecario (Pesos)'!F100/Inversion!$C$28","v":1038.0589039999456},{"$f":"'Hipotecario (Pesos)'!G100/Inversion!$C$28","v":2199.4959545924144},{"$f":"'Hipotecario (Pesos)'!E100/Inversion!$C$28","v":3237.5548585923602},{"$f":"'Hipotecario (Pesos)'!H100/Inversion!$C$28","v":280181.03041601693},null,{"$f":"O99*(1+Inversion!$C$27)","v":596.16109608882243}]
[{"$f":"IF(A100<Inversion!$C$23,A100+1,\"-\")","v":96},{"$f":"IF(A101<>\"-\",DATE(YEAR(Inversion!$C$7),MONTH(Inversion!$C$7)+A101,DAY(Inversion!$C$7)),\"-\")","v":"2033-07-10"},{"$f":"'Hipotecario (Pesos)'!C101","v":105308702.00164893},626726.3869788897,1312772.7462157968,1939499.1331946866,167219345.52969152,null,279134.85255264828,{"$f":"'Hipotecario (Pesos)'!F101/Inversion!$C$28","v":1046.177863368946},{"$f":"'Hipotecario (Pesos)'!G101/Inversion!$C$28","v":2191.3769952234143},{"$f":"'Hipotecario (Pesos)'!E101/Inversion!$C$28","v":3237.5548585923602},{"$f":"'Hipotecario (Pesos)'!H101/Inversion!$C$28","v":279134.85255264799},null,{"$f":"O100*(1+Inversion!$C$27)","v":599.06294036912516}]
[{"$f":"IF(A101<Inversion!$C$23,A101+1,\"-\")","v":97},{"$f":"IF(A102<>\"-\",DATE(YEAR(Inversion!$C$7),MONTH(Inversion!$C$7)+A102,DAY(Inversion!$C$7)),\"-\")","v":"2033-08-10"},{"$f":"'Hipotecario (Pesos)'!C102","v":104915486.11301202},634702.67776752519,1314237.0655294254,1948939.7432969506,167398591.47179335,null,278080.49222917738,{"$f":"'Hipotecario (Pesos)'!F102/Inversion!$C$28","v":1054.360323470883},{"$f":"'Hipotecario (Pesos)'!G102/Inversion!$C$28","v":2183.1945351214772},{"$f":"'Hipotecario (Pesos)'!E102/Inversion!$C$28","v":3237.5548585923602},{"$f":"'Hipotecario (Pesos)'!H102/Inversion!$C$28","v":278080.49222917715},null,{"$f":"O101*(1+Inversion!$C$27)","v":601.97890952319494}]
[{"$f":"IF(A102<Inversion!$C$23,A102+1,\"-\")","v":98},{"$f":"IF(A103<>\"-\",DATE(YEAR(Inversion!$C$7),MONTH(Inversion!$C$7)+A103,DAY(Inversion!$C$7)),\"-\")","v":"2033-09-10"},{"$f":"'Hipotecario (Pesos)'!C103","v":104519194.76901241},642780.48209710408,1315645.823949151,1958426.3060462552,167570632.09825239,null,277017.88544821402,{"$f":"'Hipotecario (Pesos)'!F103/Inversion!$C$28","v":1062.6067809633823},{"$f":"'Hipotecario (Pesos)'!G103/Inversion!$C$28","v":2174.9480776289779},{"$f":"'Hipotecario (Pesos)'!E103/Inversion!$C$28","v":3237.5548585923602},{"$f":"'Hipotecario (Pesos)'!H103/Inversion!$C$28","v":277017.88544821378},null,{"$f":"O102*(1+Inversion!$C$27)","v":604.90907230456912}]
[{"$f":"IF(A103<Inversion!$C$23,A103+1,\"-\")","v":99},{"$f":"IF(A104<>\"-\",DATE(YEAR(Inversion!$C$7),MONTH(Inversion!$C$7)+A104,DAY(Inversion!$C$7)),\"-\")","v":"2033-10-10"},{"$f":"'Hipotecario (Pesos)'!C104","v":104119803.9156229},650961.09192140156,1316997.9531980315,1967959.0451194332,167735329.53133568,null,275946.96771182545,{"$f":"'Hipotecario (Pesos)'!F104/Inversion!$C$28","v":1070.9177363885733},{"$f":"'Hipotecario (Pesos)'!G104/Inversion!$C$28","v":2166.6371222037869},{"$f":"'Hipotecario (Pesos)'!E104/Inversion!$C$28","v":3237.5548585923602},{"$f":"'Hipotecario (Pesos)'!H104/Inversion!$C$28","v":275946.96771182516},null,{"$f":"O103*(1+Inversion!$C$27)","v":607.85349780144634}]
[{"$f":"IF(A104<Inversion!$C$23,A104+1,\"-\")","v":100},{"$f":"IF(A105<>\"-\",DATE(YEAR(Inversion!$C$7),MONTH(Inversion!$C$7)+A105,DAY(Inversion!$C$7)),\"-\")","v":"2033-11-10"},{"$f":"'Hipotecario (Pesos)'!C105","v":103717289.31068276},659245.81563677278,1318292.3696453036,1977538.1852820762,167892543.91378722,null,274867.67401762196,{"$f":"'Hipotecario (Pesos)'!F105/Inversion!$C$28","v":1079.2936942034694},{"$f":"'Hipotecario (Pesos)'!G105/Inversion!$C$28","v":2158.2611643888908},{"$f":"'Hipotecario (Pesos)'!E105/Inversion!$C$28","v":3237.5548585923602},{"$f":"'Hipotecario (Pesos)'!H105/Inversion!$C$28","v":274867.67401762173},null,{"$f":"O104*(1+Inversion!$C$27)","v":610.81225543831556}]
[{"$f":"IF(A105<Inversion!$C$23,A105+1,\"-\")","v":101},{"$f":"IF(A106<>\"-\",DATE(YEAR(Inversion!$C$7),MONTH(Inversion!$C$7)+A106,DAY(Inversion!$C$7)),\"-\")","v":"2033-12-10"},{"$f":"'Hipotecario (Pesos)'!C106","v":103311626.52242629},667635.97829141677,1319527.974102417,1987163.9523938338,168042133.38254026,null,273779.93885481136,{"$f":"'Hipotecario (Pesos)'!F106/Inversion!$C$28","v":1087.7351628105889},{"$f":"'Hipotecario (Pesos)'!G106/Inversion!$C$28","v":2149.8196957817713},{"$f":"'Hipotecario (Pesos)'!E106/Inversion!$C$28","v":3237.5548585923602},{"$f":"'Hipotecario (Pesos)'!H106/Inversion!$C$28","v":273779.93885481113},null,{"$f":"O105*(1+Inversion!$C$27)","v":613.78541497759284}]
[{"$f":"IF(A106<Inversion!$C$23,A106+1,\"-\")","v":102},{"$f":"IF(A107<>\"-\",DATE(YEAR(Inversion!$C$7),MONTH(Inversion!$C$7)+A107,DAY(Inversion!$C$7)),\"-\")","v":"2034-01-10"},{"$f":"'Hipotecario (Pesos)'!C107","v":102902790.92799988},676132.92179730267,1320703.651616435,1996836.5734137376,168183954.04209056,null,272683.69620022253,{"$f":"'Hipotecario (Pesos)'!F107/Inversion!$C$28","v":1096.2426545888134},{"$f":"'Hipotecario (Pesos)'!G107/Inversion!$C$28","v":2141.3122040035469},{"$f":"'Hipotecario (Pesos)'!E107/Inversion!$C$28","v":3237.5548585923602},{"$f":"'Hipotecario (Pesos)'!H107/Inversion!$C$28","v":272683.6962002223},null,{"$f":"O106*(1+Inversion!$C$27)","v":616.77304652126634}]
[{"$f":"IF(A107<Inversion!$C$23,A107+1,\"-\")","v":103},{"$f":"IF(A108<>\"-\",DATE(YEAR(Inversion!$C$7),MONTH(Inversion!$C$7)+A108,DAY(Inversion!$C$7)),\"-\")","v":"2034-02-10"},{"$f":"'Hipotecario (Pesos)'!C108","v":102490757.71196745},684738.00514479354,1321818.2712607617,2006556.2764055552,168317859.93752497,null,271578.87951429805,{"$f":"'Hipotecario (Pesos)'!F108/Inversion!$C$28","v":1104.8166859244882},{"$f":"'Hipotecario (Pesos)'!G108/Inversion!$C$28","v":2132.7381726678718},{"$f":"'Hipotecario (Pesos)'!E108/Inversion!$C$28","v":3237.5548585923602},{"$f":"'Hipotecario (Pesos)'!H108/Inversion!$C$28","v":271578.87951429782},null,{"$f":"O107*(1+Inversion!$C$27)","v":619.77522051254925}]
[{"$f":"IF(A108<Inversion!$C$23,A108+1,\"-\")","v":104},{"$f":"IF(A109<>\"-\",DATE(YEAR(Inversion!$C$7),MONTH(Inversion!$C$7)+A109,DAY(Inversion!$C$7)),\"-\")","v":"2034-03-10"},{"$f":"'Hipotecario (Pesos)'!C109","v":102075501.86480422},693452.6046200014,1322870.6859231645,2016323.290543166,168443703.02720121,null,270465.42173705529,{"$f":"'Hipotecario (Pesos)'!F109/Inversion!$C$28","v":1113.4577772427656},{"$f":"'Hipotecario (Pesos)'!G109/Inversion!$C$28","v":2124.0970813495946},{"$f":"'Hipotecario (Pesos)'!E109/Inversion!$C$28","v":3237.5548585923602},{"$f":"'Hipotecario (Pesos)'!H109/Inversion!$C$28","v":270465.42173705506},null,{"$f":"O108*(1+Inversion!$C$27)","v":622.79200773754076}]
[{"$f":"IF(A109<Inversion!$C$23,A109+1,\"-\")","v":105},{"$f":"IF(A110<>\"-\",DATE(YEAR(Inversion!$C$7),MONTH(Inversion!$C$7)+A110,DAY(Inversion!$C$7)),\"-\")","v":"2034-04-10"},{"$f":"'Hipotecario (Pesos)'!C110","v":101656998.18137865},702278.11402490898,1323859.7320910548,2026137.8461159638,168561333.15507483,null,269343.25528401608,{"$f":"'Hipotecario (Pesos)'!F110/Inversion!$C$28","v":1122.166453039194},{"$f":"'Hipotecario (Pesos)'!G110/Inversion!$C$28","v":2115.3884055531662},{"$f":"'Hipotecario (Pesos)'!E110/Inversion!$C$28","v":3237.5548585923602},{"$f":"'Hipotecario (Pesos)'!H110/Inversion!$C$28","v":269343.25528401585},null,{"$f":"O109*(1+Inversion!$C$27)","v":625.82347932689481}]
[{"$f":"IF(A110<Inversion!$C$23,A110+1,\"-\")","v":106},{"$f":"IF(A111<>\"-\",DATE(YEAR(Inversion!$C$7),MONTH(Inversion!$C$7)+A111,DAY(Inversion!$C$7)),\"-\")","v":"2034-05-10"},{"$f":"'Hipotecario (Pesos)'!C111","v":101235221.25942256},711215.94490029244,1324784.229633996,2036000.1745342885,168670598.02266848,null,268212.31204210455,{"$f":"'Hipotecario (Pesos)'!F111/Inversion!$C$28","v":1130.943241911554},{"$f":"'Hipotecario (Pesos)'!G111/Inversion!$C$28","v":2106.611616680806},{"$f":"'Hipotecario (Pesos)'!E111/Inversion!$C$28","v":3237.5548585923602},{"$f":"'Hipotecario (Pesos)'!H111/Inversion!$C$28","v":268212.31204210425},null,{"$f":"O110*(1+Inversion!$C$27)","v":628.8697067574974}]
[{"$f":"IF(A111<Inversion!$C$23,A111+1,\"-\")","v":107},{"$f":"IF(A112<>\"-\",DATE(YEAR(Inversion!$C$7),MONTH(Inversion!$C$7)+A112,DAY(Inversion!$C$7)),\"-\")","v":"2034-06-10"},{"$f":"'Hipotecario (Pesos)'!C112","v":100810145.4979893},720267.52675148088,1325642.9815834009,2045910.5083348816,168771343.16067901,null,267072.52336551261,{"$f":"'Hipotecario (Pesos)'!F112/Inversion!$C$28","v":1139.7886765919409},{"$f":"'Hipotecario (Pesos)'!G112/Inversion!$C$28","v":2097.7661820004196},{"$f":"'Hipotecario (Pesos)'!E112/Inversion!$C$28","v":3237.5548585923602},{"$f":"'Hipotecario (Pesos)'!H112/Inversion!$C$28","v":267072.52336551232},null,{"$f":"O111*(1+Inversion!$C$27)","v":631.93076185415202}]
[{"$f":"IF(A112<Inversion!$C$23,A112+1,\"-\")","v":108},{"$f":"IF(A113<>\"-\",DATE(YEAR(Inversion!$C$7),MONTH(Inversion!$C$7)+A113,DAY(Inversion!$C$7)),\"-\")","v":"2034-07-10"},{"$f":"'Hipotecario (Pesos)'!C113","v":100381745.09589979},729434.30727699073,1326434.7739093776,2055869.0811863684,168863411.90021753,null,265923.8200715335,{"$f":"'Hipotecario (Pesos)'!F113/Inversion!$C$28","v":1148.7032939791034},{"$f":"'Hipotecario (Pesos)'!G113/Inversion!$C$28","v":2088.8515646132569},{"$f":"'Hipotecario (Pesos)'!E113/Inversion!$C$28","v":3237.5548585923602},{"$f":"'Hipotecario (Pesos)'!H113/Inversion!$C$28","v":265923.82007153326},null,{"$f":"O112*(1+Inversion!$C$27)","v":635.00671679127288}]
[{"$f":"IF(A113<Inversion!$C$23,A113+1,\"-\")","v":109},{"$f":"IF(A114<>\"-\",DATE(YEAR(Inversion!$C$7),MONTH(Inversion!$C$7)+A114,DAY(Inversion!$C$7)),\"-\")","v":"2034-08-10"},{"$f":"'Hipotecario (Pesos)'!C114","v":99949994.050176457},738717.75260006799,1327158.3752947003,2065876.1278947683,168946645.34367809,null,264766.13243636244,{"$f":"'Hipotecario (Pesos)'!F114/Inversion!$C$28","v":1157.6876351710303},{"$f":"'Hipotecario (Pesos)'!G114/Inversion!$C$28","v":2079.86722342133},{"$f":"'Hipotecario (Pesos)'!E114/Inversion!$C$28","v":3237.5548585923602},{"$f":"'Hipotecario (Pesos)'!H114/Inversion!$C$28","v":264766.13243636221},null,{"$f":"O113*(1+Inversion!$C$27)","v":638.09764409458683}]
[{"$f":"IF(A114<Inversion!$C$23,A114+1,\"-\")","v":110},{"$f":"IF(A115<>\"-\",DATE(YEAR(Inversion!$C$7),MONTH(Inversion!$C$7)+A115,DAY(Inversion!$C$7)),\"-\")","v":"2034-09-10"},{"$f":"'Hipotecario (Pesos)'!C115","v":99514866.154464886},748119.3475031784,1327812.5369058526,2075931.8844090311,169020882.33523035,null,263599.39019086462,{"$f":"'Hipotecario (Pesos)'!F115/Inversion!$C$28","v":1166.7422454977948},{"$f":"'Hipotecario (Pesos)'!G115/Inversion!$C$28","v":2070.8126130945652},{"$f":"'Hipotecario (Pesos)'!E115/Inversion!$C$28","v":3237.5548585923602},{"$f":"'Hipotecario (Pesos)'!H115/Inversion!$C$28","v":263599.39019086445},null,{"$f":"O114*(1+Inversion!$C$27)","v":641.20361664284349}]
[{"$f":"IF(A115<Inversion!$C$23,A115+1,\"-\")","v":111},{"$f":"IF(A116<>\"-\",DATE(YEAR(Inversion!$C$7),MONTH(Inversion!$C$7)+A116,DAY(Inversion!$C$7)),\"-\")","v":"2034-10-10"},{"$f":"'Hipotecario (Pesos)'!C116","v":99076334.997443214},757640.59566548164,1328395.9921611182,2086036.5878266001,169085959.4309305,null,262423.52251630998,{"$f":"'Hipotecario (Pesos)'!F116/Inversion!$C$28","v":1175.8676745546543},{"$f":"'Hipotecario (Pesos)'!G116/Inversion!$C$28","v":2061.6871840377057},{"$f":"'Hipotecario (Pesos)'!E116/Inversion!$C$28","v":3237.5548585923602},{"$f":"'Hipotecario (Pesos)'!H116/Inversion!$C$28","v":262423.52251630975},null,{"$f":"O115*(1+Inversion!$C$27)","v":644.32470766953338}]
[{"$f":"IF(A116<Inversion!$C$23,A116+1,\"-\")","v":112},{"$f":"IF(A117<>\"-\",DATE(YEAR(Inversion!$C$7),MONTH(Inversion!$C$7)+A117,DAY(Inversion!$C$7)),\"-\")","v":"2034-11-10"},{"$f":"'Hipotecario (Pesos)'!C117","v":98634373.961218938},767283.0199033278,1328907.4564956739,2096190.4763990017,169141710.86844677,null,261238.45804007456,{"$f":"'Hipotecario (Pesos)'!F117/Inversion!$C$28","v":1185.06447623541},{"$f":"'Hipotecario (Pesos)'!G117/Inversion!$C$28","v":2052.4903823569502},{"$f":"'Hipotecario (Pesos)'!E117/Inversion!$C$28","v":3237.5548585923602},{"$f":"'Hipotecario (Pesos)'!H117/Inversion!$C$28","v":261238.45804007436},null,{"$f":"O116*(1+Inversion!$C$27)","v":647.46099076461473}]
[{"$f":"IF(A117<Inversion!$C$23,A117+1,\"-\")","v":113},{"$f":"IF(A118<>\"-\",DATE(YEAR(Inversion!$C$7),MONTH(Inversion!$C$7)+A118,DAY(Inversion!$C$7)),\"-\")","v":"2034-12-10"},{"$f":"'Hipotecario (Pesos)'!C118","v":98188956.21971333},777048.16241381504,1329345.6271236495,2106393.7895374647,169187968.53639376,null,260044.12483130852,{"$f":"'Hipotecario (Pesos)'!F118/Inversion!$C$28","v":1194.3332087660274},{"$f":"'Hipotecario (Pesos)'!G118/Inversion!$C$28","v":2043.2216498263329},{"$f":"'Hipotecario (Pesos)'!E118/Inversion!$C$28","v":3237.5548585923602},{"$f":"'Hipotecario (Pesos)'!H118/Inversion!$C$28","v":260044.12483130829},null,{"$f":"O117*(1+Inversion!$C$27)","v":650.61253987624866}]
[{"$f":"IF(A118<Inversion!$C$23,A118+1,\"-\")","v":114},{"$f":"IF(A119<>\"-\",DATE(YEAR(Inversion!$C$7),MONTH(Inversion!$C$7)+A119,DAY(Inversion!$C$7)),\"-\")","v":"2035-01-10"},{"$f":"'Hipotecario (Pesos)'!C119","v":97740054.737033129},786937.58502144553,1329709.1827971172,2116646.7678185627,169224561.94327089,null,258840.45039657,{"$f":"'Hipotecario (Pesos)'!F119/Inversion!$C$28","v":1203.6744347385179},{"$f":"'Hipotecario (Pesos)'!G119/Inversion!$C$28","v":2033.8804238538421},{"$f":"'Hipotecario (Pesos)'!E119/Inversion!$C$28","v":3237.5548585923602},{"$f":"'Hipotecario (Pesos)'!H119/Inversion!$C$28","v":258840.45039656979},null,{"$f":"O118*(1+Inversion!$C$27)","v":653.77942931254256}]
[{"$f":"IF(A119<Inversion!$C$23,A119+1,\"-\")","v":115},{"$f":"IF(A120<>\"-\",DATE(YEAR(Inversion!$C$7),MONTH(Inversion!$C$7)+A120,DAY(Inversion!$C$7)),\"-\")","v":"2035-02-10"},{"$f":"'Hipotecario (Pesos)'!C120","v":97287642.265829533},796952.869427923,1329996.7835619664,2126949.6529898895,169251318.18599987,null,257627.36167542491,{"$f":"'Hipotecario (Pesos)'!F120/Inversion!$C$28","v":1213.0887211450886},{"$f":"'Hipotecario (Pesos)'!G120/Inversion!$C$28","v":2024.4661374472716},{"$f":"'Hipotecario (Pesos)'!E120/Inversion!$C$28","v":3237.5548585923602},{"$f":"'Hipotecario (Pesos)'!H120/Inversion!$C$28","v":257627.36167542471},null,{"$f":"O119*(1+Inversion!$C$27)","v":656.96173374330249}]
[{"$f":"IF(A120<Inversion!$C$23,A120+1,\"-\")","v":116},{"$f":"IF(A121<>\"-\",DATE(YEAR(Inversion!$C$7),MONTH(Inversion!$C$7)+A121,DAY(Inversion!$C$7)),\"-\")","v":"2035-03-10"},{"$f":"'Hipotecario (Pesos)'!C121","v":96831691.345644295},807095.61746512819,1330207.0705106286,2137302.6879757568,169268061.91805604,null,256404.78503601236,{"$f":"'Hipotecario (Pesos)'!F121/Inversion!$C$28","v":1222.5766394125576},{"$f":"'Hipotecario (Pesos)'!G121/Inversion!$C$28","v":2014.9782191798026},{"$f":"'Hipotecario (Pesos)'!E121/Inversion!$C$28","v":3237.5548585923602},{"$f":"'Hipotecario (Pesos)'!H121/Inversion!$C$28","v":256404.78503601212},null,{"$f":"O120*(1+Inversion!$C$27)","v":660.15952820179348}]
[{"$f":"IF(A121<Inversion!$C$23,A121+1,\"-\")","v":117},{"$f":"IF(A122<>\"-\",DATE(YEAR(Inversion!$C$7),MONTH(Inversion!$C$7)+A122,DAY(Inversion!$C$7)),\"-\")","v":"2035-04-10"},{"$f":"'Hipotecario (Pesos)'!C122","v":96372174.301243007},817367.45135131187,1330338.6655316104,2147706.1168829226,169274615.3171885,null,255172.64627057532,{"$f":"'Hipotecario (Pesos)'!F122/Inversion!$C$28","v":1232.138765437036},{"$f":"'Hipotecario (Pesos)'!G122/Inversion!$C$28","v":2005.416093155324},{"$f":"'Hipotecario (Pesos)'!E122/Inversion!$C$28","v":3237.5548585923602},{"$f":"'Hipotecario (Pesos)'!H122/Inversion!$C$28","v":255172.64627057509},null,{"$f":"O121*(1+Inversion!$C$27)","v":663.37288808650874}]
[{"$f":"IF(A122<Inversion!$C$23,A122+1,\"-\")","v":118},{"$f":"IF(A123<>\"-\",DATE(YEAR(Inversion!$C$7),MONTH(Inversion!$C$7)+A123,DAY(Inversion!$C$7)),\"-\")","v":"2035-05-10"},{"$f":"'Hipotecario (Pesos)'!C123","v":95909063.240935221},827770.01395055337,1330390.1710557933,2158160.1850063466,169270798.05272335,null,253930.87059095645,{"$f":"'Hipotecario (Pesos)'!F123/Inversion!$C$28","v":1241.7756796188874},{"$f":"'Hipotecario (Pesos)'!G123/Inversion!$C$28","v":1995.7791789734729},{"$f":"'Hipotecario (Pesos)'!E123/Inversion!$C$28","v":3237.5548585923602},{"$f":"'Hipotecario (Pesos)'!H123/Inversion!$C$28","v":253930.87059095621},null,{"$f":"O122*(1+Inversion!$C$27)","v":666.60188916294749}]
[{"$f":"IF(A123<Inversion!$C$23,A123+1,\"-\")","v":119},{"$f":"IF(A124<>\"-\",DATE(YEAR(Inversion!$C$7),MONTH(Inversion!$C$7)+A124,DAY(Inversion!$C$7)),\"-\")","v":"2035-06-10"},{"$f":"'Hipotecario (Pesos)'!C124","v":95442330.054881513},838304.96903551428,1330360.1697994606,2168665.1388349752,169256427.25244546,null,252679.38262405849,{"$f":"'Hipotecario (Pesos)'!F124/Inversion!$C$28","v":1251.4879668979518},{"$f":"'Hipotecario (Pesos)'!G124/Inversion!$C$28","v":1986.0668916944082},{"$f":"'Hipotecario (Pesos)'!E124/Inversion!$C$28","v":3237.5548585923602},{"$f":"'Hipotecario (Pesos)'!H124/Inversion!$C$28","v":252679.38262405829},null,{"$f":"O123*(1+Inversion!$C$27)","v":669.84660756540131}]
[{"$f":"IF(A124<Inversion!$C$23,A124+1,\"-\")","v":120},{"$f":"IF(A125<>\"-\",DATE(YEAR(Inversion!$C$7),MONTH(Inversion!$C$7)+A125,DAY(Inversion!$C$7)),\"-\")","v":"2035-07-10"},{"$f":"'Hipotecario (Pesos)'!C125","v":94971946.413387239},848974.00155354466,1330247.2245040063,2179221.2260575509,169231317.46905249,null,251418.10640726943,{"$f":"'Hipotecario (Pesos)'!F125/Inversion!$C$28","v":1261.2762167890562},{"$f":"'Hipotecario (Pesos)'!G125/Inversion!$C$28","v":1976.278641803304},{"$f":"'Hipotecario (Pesos)'!E125/Inversion!$C$28","v":3237.5548585923602},{"$f":"'Hipotecario (Pesos)'!H125/Inversion!$C$28","v":251418.10640726922},null,{"$f":"O124*(1+Inversion!$C$27)","v":673.10711979874941}]
[{"$f":"IF(A125<Inversion!$C$23,A125+1,\"-\")","v":121},{"$f":"IF(A126<>\"-\",DATE(YEAR(Inversion!$C$7),MONTH(Inversion!$C$7)+A126,DAY(Inversion!$C$7)),\"-\")","v":"2035-08-10"},{"$f":"'Hipotecario (Pesos)'!C126","v":94497883.765183017},859778.81789616763,1330049.8776722872,2189828.6955684549,169195280.64617655,null,250146.96538385164,{"$f":"'Hipotecario (Pesos)'!F126/Inversion!$C$28","v":1271.1410234177918},{"$f":"'Hipotecario (Pesos)'!G126/Inversion!$C$28","v":1966.4138351745682},{"$f":"'Hipotecario (Pesos)'!E126/Inversion!$C$28","v":3237.5548585923602},{"$f":"'Hipotecario (Pesos)'!H126/Inversion!$C$28","v":250146.96538385144},null,{"$f":"O125*(1+Inversion!$C$27)","v":676.3835027402622}]
[{"$f":"IF(A126<Inversion!$C$23,A126+1,\"-\")","v":122},{"$f":"IF(A127<>\"-\",DATE(YEAR(Inversion!$C$7),MONTH(Inversion!$C$7)+A127,DAY(Inversion!$C$7)),\"-\")","v":"2035-09-10"},{"$f":"'Hipotecario (Pesos)'!C127","v":94020113.33569172},870721.14617199986,1329766.6513015737,2200487.7974735736,169148126.08396724,null,248865.88239829507,{"$f":"'Hipotecario (Pesos)'!F127/Inversion!$C$28","v":1281.0829855565792},{"$f":"'Hipotecario (Pesos)'!G127/Inversion!$C$28","v":1956.4718730357811},{"$f":"'Hipotecario (Pesos)'!E127/Inversion!$C$28","v":3237.5548585923602},{"$f":"'Hipotecario (Pesos)'!H127/Inversion!$C$28","v":248865.88239829487},null,{"$f":"O126*(1+Inversion!$C$27)","v":679.67583364141433}]
[{"$f":"IF(A127<Inversion!$C$23,A127+1,\"-\")","v":123},{"$f":"IF(A128<>\"-\",DATE(YEAR(Inversion!$C$7),MONTH(Inversion!$C$7)+A128,DAY(Inversion!$C$7)),\"-\")","v":"2035-10-10"},{"$f":"'Hipotecario (Pesos)'!C128","v":93538606.125281915},881802.73648314131,1329396.046613055,2211198.7830961966,169089660.40423083,null,247574.77969163406,{"$f":"'Hipotecario (Pesos)'!F128/Inversion!$C$28","v":1291.1027066610109},{"$f":"'Hipotecario (Pesos)'!G128/Inversion!$C$28","v":1946.4521519313491},{"$f":"'Hipotecario (Pesos)'!E128/Inversion!$C$28","v":3237.5548585923602},{"$f":"'Hipotecario (Pesos)'!H128/Inversion!$C$28","v":247574.77969163386},null,{"$f":"O127*(1+Inversion!$C$27)","v":682.98419012970555}]
[{"$f":"IF(A128<Inversion!$C$23,A128+1,\"-\")","v":124},{"$f":"IF(A129<>\"-\",DATE(YEAR(Inversion!$C$7),MONTH(Inversion!$C$7)+A129,DAY(Inversion!$C$7)),\"-\")","v":"2035-11-10"},{"$f":"'Hipotecario (Pesos)'!C129","v":93053332.907507658},893025.36120508588,1328936.5437778565,2221961.9049829426,169019687.51512,null,246273.57889672759,{"$f":"'Hipotecario (Pesos)'!F129/Inversion!$C$28","v":1301.200794906481},{"$f":"'Hipotecario (Pesos)'!G129/Inversion!$C$28","v":1936.3540636858793},{"$f":"'Hipotecario (Pesos)'!E129/Inversion!$C$28","v":3237.5548585923602},{"$f":"'Hipotecario (Pesos)'!H129/Inversion!$C$28","v":246273.57889672735},null,{"$f":"O128*(1+Inversion!$C$27)","v":686.30865021049181}]
[{"$f":"IF(A129<Inversion!$C$23,A129+1,\"-\")","v":125},{"$f":"IF(A130<>\"-\",DATE(YEAR(Inversion!$C$7),MONTH(Inversion!$C$7)+A130,DAY(Inversion!$C$7)),\"-\")","v":"2035-12-10"},{"$f":"'Hipotecario (Pesos)'!C130","v":92564264.227334499},904390.81527019152,1328386.6016395213,2232777.4169097128,168938008.57536814,null,244962.2010335025,{"$f":"'Hipotecario (Pesos)'!F130/Inversion!$C$28","v":1311.3778632250985},{"$f":"'Hipotecario (Pesos)'!G130/Inversion!$C$28","v":1926.1769953672615},{"$f":"'Hipotecario (Pesos)'!E130/Inversion!$C$28","v":3237.5548585923602},{"$f":"'Hipotecario (Pesos)'!H130/Inversion!$C$28","v":244962.20103350224},null,{"$f":"O129*(1+Inversion!$C$27)","v":689.64929226882373}]
[{"$f":"IF(A130<Inversion!$C$23,A130+1,\"-\")","v":126},{"$f":"IF(A131<>\"-\",DATE(YEAR(Inversion!$C$7),MONTH(Inversion!$C$7)+A131,DAY(Inversion!$C$7)),\"-\")","v":"2036-01-10"},{"$f":"'Hipotecario (Pesos)'!C131","v":92071370.399351642},915900.91645476059,1327744.6574329163,2243645.5738876769,168844421.95806235,null,243640.56650415959,{"$f":"'Hipotecario (Pesos)'!F131/Inversion!$C$28","v":1321.6345293428933},{"$f":"'Hipotecario (Pesos)'!G131/Inversion!$C$28","v":1915.9203292494669},{"$f":"'Hipotecario (Pesos)'!E131/Inversion!$C$28","v":3237.5548585923602},{"$f":"'Hipotecario (Pesos)'!H131/Inversion!$C$28","v":243640.56650415936},null,{"$f":"O130*(1+Inversion!$C$27)","v":693.00619507129522}]
[{"$f":"IF(A131<Inversion!$C$23,A131+1,\"-\")","v":127},{"$f":"IF(A132<>\"-\",DATE(YEAR(Inversion!$C$7),MONTH(Inversion!$C$7)+A132,DAY(Inversion!$C$7)),\"-\")","v":"2036-02-10"},{"$f":"'Hipotecario (Pesos)'!C132","v":91574621.505970091},927557.50566977169,1327009.1264995115,2254566.6321692835,168738723.21394956,null,242308.59508834229,{"$f":"'Hipotecario (Pesos)'!F132/Inversion!$C$28","v":1331.9714158173081},{"$f":"'Hipotecario (Pesos)'!G132/Inversion!$C$28","v":1905.5834427750522},{"$f":"'Hipotecario (Pesos)'!E132/Inversion!$C$28","v":3237.5548585923602},{"$f":"'Hipotecario (Pesos)'!H132/Inversion!$C$28","v":242308.59508834206},null,{"$f":"O131*(1+Inversion!$C$27)","v":696.37943776790075}]
[{"$f":"IF(A132<Inversion!$C$23,A132+1,\"-\")","v":128},{"$f":"IF(A133<>\"-\",DATE(YEAR(Inversion!$C$7),MONTH(Inversion!$C$7)+A133,DAY(Inversion!$C$7)),\"-\")","v":"2036-03-10"},{"$f":"'Hipotecario (Pesos)'!C133","v":91073987.395606712},939362.44725531375,1326178.4019989886,2265540.8492543022,168620705.03426957,null,240966.20593826732,{"$f":"'Hipotecario (Pesos)'!F133/Inversion!$C$28","v":1342.3891500749885},{"$f":"'Hipotecario (Pesos)'!G133/Inversion!$C$28","v":1895.1657085173715},{"$f":"'Hipotecario (Pesos)'!E133/Inversion!$C$28","v":3237.5548585923602},{"$f":"'Hipotecario (Pesos)'!H133/Inversion!$C$28","v":240966.20593826706},null,{"$f":"O132*(1+Inversion!$C$27)","v":699.76909989390117}]
[{"$f":"IF(A133<Inversion!$C$23,A133+1,\"-\")","v":129},{"$f":"IF(A134<>\"-\",DATE(YEAR(Inversion!$C$7),MONTH(Inversion!$C$7)+A134,DAY(Inversion!$C$7)),\"-\")","v":"2036-04-10"},{"$f":"'Hipotecario (Pesos)'!C134","v":90569437.680854097},{"$f":"J134*O134","v":951317.62927876553},{"$f":"K134*O134","v":1325250.8546171323},{"$f":"L134*O134","v":2276568.4838958979},{"$f":"M134*O134","v":168490157.2131089},null,239613.31757381745,{"$f":"'Hipotecario (Pesos)'!F134/Inversion!$C$28","v":1352.8883644498662},{"$f":"'Hipotecario (Pesos)'!G134/Inversion!$C$28","v":1884.666494142494},{"$f":"'Hipotecario (Pesos)'!E134/Inversion!$C$28","v":3237.5548585923602},{"$f":"'Hipotecario (Pesos)'!H134/Inversion!$C$28","v":239613.31757381718},null,{"$f":"O133*(1+Inversion!$C$27)","v":703.17526137169932}]
[{"$f":"IF(A134<Inversion!$C$23,A134+1,\"-\")","v":130},{"$f":"IF(A135<>\"-\",DATE(YEAR(Inversion!$C$7),MONTH(Inversion!$C$7)+A135,DAY(Inversion!$C$7)),\"-\")","v":"2036-05-10"},{"$f":"'Hipotecario (Pesos)'!C135","v":90060941.736636147},963424.96383677039,1324224.8322699573,2287649.7961067278,168346866.60926953,null,238249.84787759589,{"$f":"'Hipotecario (Pesos)'!F135/Inversion!$C$28","v":1363.4696962215387},{"$f":"'Hipotecario (Pesos)'!G135/Inversion!$C$28","v":1874.0851623708215},{"$f":"'Hipotecario (Pesos)'!E135/Inversion!$C$28","v":3237.5548585923602},{"$f":"'Hipotecario (Pesos)'!H135/Inversion!$C$28","v":238249.84787759563},null,{"$f":"O134*(1+Inversion!$C$27)","v":706.59800251272441}]
[{"$f":"IF(A135<Inversion!$C$23,A135+1,\"-\")","v":131},{"$f":"IF(A136<>\"-\",DATE(YEAR(Inversion!$C$7),MONTH(Inversion!$C$7)+A136,DAY(Inversion!$C$7)),\"-\")","v":"2036-06-10"},{"$f":"'Hipotecario (Pesos)'!C136","v":89548468.698349163},975686.38736105501,1323098.6598040187,2298785.0471650739,168190617.10764617,null,{"$f":"I135-J136","v":236875.71408994193},{"$f":"'Hipotecario (Pesos)'!F136/Inversion!$C$28","v":1374.1337876539519},{"$f":"'Hipotecario (Pesos)'!G136/Inversion!$C$28","v":1863.4210709384083},{"$f":"'Hipotecario (Pesos)'!E136/Inversion!$C$28","v":3237.5548585923602},{"$f":"'Hipotecario (Pesos)'!H136/Inversion!$C$28","v":236875.7140899417},null,{"$f":"O135*(1+Inversion!$C$27)","v":710.03740401932544}]
[{"$f":"IF(A136<Inversion!$C$23,A136+1,\"-\")","v":132},{"$f":"IF(A137<>\"-\",DATE(YEAR(Inversion!$C$7),MONTH(Inversion!$C$7)+A137,DAY(Inversion!$C$7)),\"-\")","v":"2036-07-10"},{"$f":"'Hipotecario (Pesos)'!C137","v":89031987.459988445},988103.86092814023,1321870.6386928642,2309974.4996210043,168021189.58010575,null,235490.83280390754,{"$f":"'Hipotecario (Pesos)'!F137/Inversion!$C$28","v":1384.8812860343844},{"$f":"'Hipotecario (Pesos)'!G137/Inversion!$C$28","v":1852.6735725579758},{"$f":"'Hipotecario (Pesos)'!E137/Inversion!$C$28","v":3237.5548585923602},{"$f":"'Hipotecario (Pesos)'!H137/Inversion!$C$28","v":235490.83280390731},null,{"$f":"O136*(1+Inversion!$C$27)","v":713.49354698667446}]
[{"$f":"IF(A137<Inversion!$C$23,A137+1,\"-\")","v":133},{"$f":"IF(A138<>\"-\",DATE(YEAR(Inversion!$C$7),MONTH(Inversion!$C$7)+A138,DAY(Inversion!$C$7)),\"-\")","v":"2036-08-10"},{"$f":"'Hipotecario (Pesos)'!C138","v":88511466.67226021},1000679.3705729925,1320539.04672957,2321218.4173025629,167838361.84586301,null,234095.1199601948,{"$f":"'Hipotecario (Pesos)'!F138/Inversion!$C$28","v":1395.7128437127362},{"$f":"'Hipotecario (Pesos)'!G138/Inversion!$C$28","v":1841.8420148796238},{"$f":"'Hipotecario (Pesos)'!E138/Inversion!$C$28","v":3237.5548585923602},{"$f":"'Hipotecario (Pesos)'!H138/Inversion!$C$28","v":234095.11996019457},null,{"$f":"O137*(1+Inversion!$C$27)","v":716.9665129046781}]
[{"$f":"IF(A138<Inversion!$C$23,A138+1,\"-\")","v":134},{"$f":"IF(A139<>\"-\",DATE(YEAR(Inversion!$C$7),MONTH(Inversion!$C$7)+A139,DAY(Inversion!$C$7)),\"-\")","v":"2036-09-10"},{"$f":"'Hipotecario (Pesos)'!C139","v":87986874.740678757},1013414.927606668,1319102.1377153203,2332517.0653219884,167641908.63134542,null,232688.49084205367,{"$f":"'Hipotecario (Pesos)'!F139/Inversion!$C$28","v":1406.6291181411248},{"$f":"'Hipotecario (Pesos)'!G139/Inversion!$C$28","v":1830.9257404512352},{"$f":"'Hipotecario (Pesos)'!E139/Inversion!$C$28","v":3237.5548585923602},{"$f":"'Hipotecario (Pesos)'!H139/Inversion!$C$28","v":232688.49084205346},null,{"$f":"O138*(1+Inversion!$C$27)","v":720.4563836598993}]
[{"$f":"IF(A139<Inversion!$C$23,A139+1,\"-\")","v":135},{"$f":"IF(A140<>\"-\",DATE(YEAR(Inversion!$C$7),MONTH(Inversion!$C$7)+A140,DAY(Inversion!$C$7)),\"-\")","v":"2036-10-10"},{"$f":"'Hipotecario (Pesos)'!C140","v":87458179.823648795},1026312.5689379994,1317558.1411439695,2343870.7100819689,167431601.52954113,null,231270.86007013987,{"$f":"'Hipotecario (Pesos)'!F140/Inversion!$C$28","v":1417.6307719137908},{"$f":"'Hipotecario (Pesos)'!G140/Inversion!$C$28","v":1819.9240866785692},{"$f":"'Hipotecario (Pesos)'!E140/Inversion!$C$28","v":3237.5548585923602},{"$f":"'Hipotecario (Pesos)'!H140/Inversion!$C$28","v":231270.86007013966},null,{"$f":"O139*(1+Inversion!$C$27)","v":723.9632415374881}]
[{"$f":"IF(A140<Inversion!$C$23,A140+1,\"-\")","v":136},{"$f":"IF(A141<>\"-\",DATE(YEAR(Inversion!$C$7),MONTH(Inversion!$C$7)+A141,DAY(Inversion!$C$7)),\"-\")","v":"2036-11-10"},{"$f":"'Hipotecario (Pesos)'!C141","v":86925349.83053267},1039374.3573993761,1315905.2618825433,2355279.6192819192,167207208.95882314,null,229842.14159733255,{"$f":"'Hipotecario (Pesos)'!F141/Inversion!$C$28","v":1428.7184728073169},{"$f":"'Hipotecario (Pesos)'!G141/Inversion!$C$28","v":1808.8363857850434},{"$f":"'Hipotecario (Pesos)'!E141/Inversion!$C$28","v":3237.5548585923602},{"$f":"'Hipotecario (Pesos)'!H141/Inversion!$C$28","v":229842.14159733235},null,{"$f":"O140*(1+Inversion!$C$27)","v":727.48716922312144}]
[{"$f":"IF(A141<Inversion!$C$23,A141+1,\"-\")","v":137},{"$f":"IF(A142<>\"-\",DATE(YEAR(Inversion!$C$7),MONTH(Inversion!$C$7)+A142,DAY(Inversion!$C$7)),\"-\")","v":"2036-12-10"},{"$f":"'Hipotecario (Pesos)'!C142","v":86388352.419702545},1052602.3820766713,1314141.6798476246,2366744.061924296,166968496.12124342,null,228402.2487035114,{"$f":"'Hipotecario (Pesos)'!F142/Inversion!$C$28","v":1439.8928938211591},{"$f":"'Hipotecario (Pesos)'!G142/Inversion!$C$28","v":1797.6619647712009},{"$f":"'Hipotecario (Pesos)'!E142/Inversion!$C$28","v":3237.5548585923602},{"$f":"'Hipotecario (Pesos)'!H142/Inversion!$C$28","v":228402.24870351117},null,{"$f":"O141*(1+Inversion!$C$27)","v":731.02824980495325}]
[{"$f":"IF(A142<Inversion!$C$23,A142+1,\"-\")","v":138},{"$f":"IF(A143<>\"-\",DATE(YEAR(Inversion!$C$7),MONTH(Inversion!$C$7)+A143,DAY(Inversion!$C$7)),\"-\")","v":"2037-01-10"},{"$f":"'Hipotecario (Pesos)'!C143","v":85847154.996577367},1065998.7586433673,1312265.5496775701,2378264.3083209377,166715224.96028951,null,226951.09399029289,{"$f":"'Hipotecario (Pesos)'!F143/Inversion!$C$28","v":1451.1547132184976},{"$f":"'Hipotecario (Pesos)'!G143/Inversion!$C$28","v":1786.4001453738624},{"$f":"'Hipotecario (Pesos)'!E143/Inversion!$C$28","v":3237.5548585923602},{"$f":"'Hipotecario (Pesos)'!H143/Inversion!$C$28","v":226951.09399029269},null,{"$f":"O142*(1+Inversion!$C$27)","v":734.58656677557303}]
[{"$f":"IF(A143<Inversion!$C$23,A143+1,\"-\")","v":139},{"$f":"IF(A144<>\"-\",DATE(YEAR(Inversion!$C$7),MONTH(Inversion!$C$7)+A144,DAY(Inversion!$C$7)),\"-\")","v":"2037-02-10"},{"$f":"'Hipotecario (Pesos)'!C144","v":85301724.711644426},1079565.6296989345,1310275.0004005057,2389840.6300994405,166447154.11809731,null,225488.58937572548,{"$f":"'Hipotecario (Pesos)'!F144/Inversion!$C$28","v":1462.5046145674048},{"$f":"'Hipotecario (Pesos)'!G144/Inversion!$C$28","v":1775.0502440249552},{"$f":"'Hipotecario (Pesos)'!E144/Inversion!$C$28","v":3237.5548585923602},{"$f":"'Hipotecario (Pesos)'!H144/Inversion!$C$28","v":225488.58937572531},null,{"$f":"O143*(1+Inversion!$C$27)","v":738.16220403397483}]
[{"$f":"IF(A144<Inversion!$C$23,A144+1,\"-\")","v":140},{"$f":"IF(A145<>\"-\",DATE(YEAR(Inversion!$C$7),MONTH(Inversion!$C$7)+A145,DAY(Inversion!$C$7)),\"-\")","v":"2037-03-10"},{"$f":"'Hipotecario (Pesos)'!C145","v":84752028.458465427},1093305.1651115152,1308168.1350980455,2401473.3002095604,166164038.89211306,null,224014.64608894315,{"$f":"'Hipotecario (Pesos)'!F145/Inversion!$C$28","v":1473.9432867823382},{"$f":"'Hipotecario (Pesos)'!G145/Inversion!$C$28","v":1763.611571810022},{"$f":"'Hipotecario (Pesos)'!E145/Inversion!$C$28","v":3237.5548585923602},{"$f":"'Hipotecario (Pesos)'!H145/Inversion!$C$28","v":224014.64608894294},null,{"$f":"O144*(1+Inversion!$C$27)","v":741.75524588753524}]
[{"$f":"IF(A145<Inversion!$C$23,A145+1,\"-\")","v":141},{"$f":"IF(A146<>\"-\",DATE(YEAR(Inversion!$C$7),MONTH(Inversion!$C$7)+A146,DAY(Inversion!$C$7)),\"-\")","v":"2037-04-10"},{"$f":"'Hipotecario (Pesos)'!C146","v":84198032.871667057},1107219.5623649699,1305943.0305646814,2413162.5929296515,165865631.19119707,null,222529.17466477718,{"$f":"'Hipotecario (Pesos)'!F146/Inversion!$C$28","v":1485.4714241659537},{"$f":"'Hipotecario (Pesos)'!G146/Inversion!$C$28","v":1752.0834344264063},{"$f":"'Hipotecario (Pesos)'!E146/Inversion!$C$28","v":3237.5548585923602},{"$f":"'Hipotecario (Pesos)'!H146/Inversion!$C$28","v":222529.17466477698},null,{"$f":"O145*(1+Inversion!$C$27)","v":745.36577705400123}]
[{"$f":"IF(A146<Inversion!$C$23,A146+1,\"-\")","v":142},{"$f":"IF(A147<>\"-\",DATE(YEAR(Inversion!$C$7),MONTH(Inversion!$C$7)+A147,DAY(Inversion!$C$7)),\"-\")","v":"2037-05-10"},{"$f":"'Hipotecario (Pesos)'!C147","v":83639704.324915752},1121311.0469103404,1303597.7369627904,2424908.783873131,165551679.49116242,null,221032.08493832592,{"$f":"'Hipotecario (Pesos)'!F147/Inversion!$C$28","v":1497.08972645125},{"$f":"'Hipotecario (Pesos)'!G147/Inversion!$C$28","v":1740.4651321411102},{"$f":"'Hipotecario (Pesos)'!E147/Inversion!$C$28","v":3237.5548585923602},{"$f":"'Hipotecario (Pesos)'!H147/Inversion!$C$28","v":221032.08493832574},null,{"$f":"O146*(1+Inversion!$C$27)","v":748.99388266348774}]
[{"$f":"IF(A147<Inversion!$C$23,A147+1,\"-\")","v":143},{"$f":"IF(A148<>\"-\",DATE(YEAR(Inversion!$C$7),MONTH(Inversion!$C$7)+A148,DAY(Inversion!$C$7)),\"-\")","v":"2037-06-10"},{"$f":"'Hipotecario (Pesos)'!C148","v":83077008.928876653},1135581.8725217849,1301130.2774731929,2436712.1499949782,165221928.78974134,null,219523.28603948187,{"$f":"'Hipotecario (Pesos)'!F148/Inversion!$C$28","v":1508.7988988440395},{"$f":"'Hipotecario (Pesos)'!G148/Inversion!$C$28","v":1728.7559597483205},{"$f":"'Hipotecario (Pesos)'!E148/Inversion!$C$28","v":3237.5548585923602},{"$f":"'Hipotecario (Pesos)'!H148/Inversion!$C$28","v":219523.2860394817},null,{"$f":"O147*(1+Inversion!$C$27)","v":752.63964826048493}]
[{"$f":"IF(A148<Inversion!$C$23,A148+1,\"-\")","v":144},{"$f":"IF(A149<>\"-\",DATE(YEAR(Inversion!$C$7),MONTH(Inversion!$C$7)+A149,DAY(Inversion!$C$7)),\"-\")","v":"2037-07-10"},{"$f":"'Hipotecario (Pesos)'!C149","v":82509912.529156581},1150034.3216570443,1298538.6479412203,2448572.9695982644,164876120.56097189,null,218002.68638741612,{"$f":"'Hipotecario (Pesos)'!F149/Inversion!$C$28","v":1520.5996520657548},{"$f":"'Hipotecario (Pesos)'!G149/Inversion!$C$28","v":1716.9552065266055},{"$f":"'Hipotecario (Pesos)'!E149/Inversion!$C$28","v":3237.5548585923602},{"$f":"'Hipotecario (Pesos)'!H149/Inversion!$C$28","v":218002.68638741598},null,{"$f":"O148*(1+Inversion!$C$27)","v":756.30315980587488}]
[{"$f":"IF(A149<Inversion!$C$23,A149+1,\"-\")","v":145},{"$f":"IF(A150<>\"-\",DATE(YEAR(Inversion!$C$7),MONTH(Inversion!$C$7)+A150,DAY(Inversion!$C$7)),\"-\")","v":"2037-08-10"},{"$f":"'Hipotecario (Pesos)'!C150","v":81938380.704230979},1164670.705822495,1295820.8165182213,2460491.5223407163,164513992.70899752,null,216470.19368501953,{"$f":"'Hipotecario (Pesos)'!F150/Inversion!$C$28","v":1532.4927023965852},{"$f":"'Hipotecario (Pesos)'!G150/Inversion!$C$28","v":1705.0621561957751},{"$f":"'Hipotecario (Pesos)'!E150/Inversion!$C$28","v":3237.5548585923602},{"$f":"'Hipotecario (Pesos)'!H150/Inversion!$C$28","v":216470.19368501939},null,{"$f":"O149*(1+Inversion!$C$27)","v":759.98450367895873}]
[{"$f":"IF(A150<Inversion!$C$23,A150+1,\"-\")","v":146},{"$f":"IF(A151<>\"-\",DATE(YEAR(Inversion!$C$7),MONTH(Inversion!$C$7)+A151,DAY(Inversion!$C$7)),\"-\")","v":"2037-09-10"},{"$f":"'Hipotecario (Pesos)'!C151","v":81362378.763354555},1179493.3659428491,1292974.7232984584,2472468.0892413072,164135279.52127218,null,214925.71491330059,{"$f":"'Hipotecario (Pesos)'!F151/Inversion!$C$28","v":1544.4787717189556},{"$f":"'Hipotecario (Pesos)'!G151/Inversion!$C$28","v":1693.0760868734046},{"$f":"'Hipotecario (Pesos)'!E151/Inversion!$C$28","v":3237.5548585923602},{"$f":"'Hipotecario (Pesos)'!H151/Inversion!$C$28","v":214925.71491330044},null,{"$f":"O150*(1+Inversion!$C$27)","v":763.68376667949315}]
[{"$f":"IF(A151<Inversion!$C$23,A151+1,\"-\")","v":147},{"$f":"IF(A152<>\"-\",DATE(YEAR(Inversion!$C$7),MONTH(Inversion!$C$7)+A152,DAY(Inversion!$C$7)),\"-\")","v":"2037-10-10"},{"$f":"'Hipotecario (Pesos)'!C152","v":80781871.74445565},1194504.6727355591,1289998.2799513275,2484502.9526868868,163739711.62116316,null,213369.15632573926,{"$f":"'Hipotecario (Pesos)'!F152/Inversion!$C$28","v":1556.5585875613428},{"$f":"'Hipotecario (Pesos)'!G152/Inversion!$C$28","v":1680.9962710310172},{"$f":"'Hipotecario (Pesos)'!E152/Inversion!$C$28","v":3237.5548585923602},{"$f":"'Hipotecario (Pesos)'!H152/Inversion!$C$28","v":213369.15632573911},null,{"$f":"O151*(1+Inversion!$C$27)","v":767.40103602973727}]
[{"$f":"IF(A152<Inversion!$C$23,A152+1,\"-\")","v":148},{"$f":"IF(A153<>\"-\",DATE(YEAR(Inversion!$C$7),MONTH(Inversion!$C$7)+A153,DAY(Inversion!$C$7)),\"-\")","v":"2037-11-10"},{"$f":"'Hipotecario (Pesos)'!C153","v":80196824.412014142},1209707.0270899863,1286889.3693488478,2496596.3964388343,163327015.91994387,null,211800.42344259683,{"$f":"'Hipotecario (Pesos)'!F153/Inversion!$C$28","v":1568.7328831424345},{"$f":"'Hipotecario (Pesos)'!G153/Inversion!$C$28","v":1668.8219754499255},{"$f":"'Hipotecario (Pesos)'!E153/Inversion!$C$28","v":3237.5548585923602},{"$f":"'Hipotecario (Pesos)'!H153/Inversion!$C$28","v":211800.42344259669},null,{"$f":"O152*(1+Inversion!$C$27)","v":771.13639937650862}]
[{"$f":"IF(A153<Inversion!$C$23,A153+1,\"-\")","v":149},{"$f":"IF(A154<>\"-\",DATE(YEAR(Inversion!$C$7),MONTH(Inversion!$C$7)+A154,DAY(Inversion!$C$7)),\"-\")","v":"2037-12-10"},{"$f":"'Hipotecario (Pesos)'!C154","v":79607201.254922673},1225102.8604513966,1283645.8451883572,2508748.7056397535,162896915.56816941,null,210219.4210451812,{"$f":"'Hipotecario (Pesos)'!F154/Inversion!$C$28","v":1581.0023974156331},{"$f":"'Hipotecario (Pesos)'!G154/Inversion!$C$28","v":1656.5524611767271},{"$f":"'Hipotecario (Pesos)'!E154/Inversion!$C$28","v":3237.5548585923602},{"$f":"'Hipotecario (Pesos)'!H154/Inversion!$C$28","v":210219.42104518105},null,{"$f":"O153*(1+Inversion!$C$27)","v":774.88994479325038}]
[{"$f":"IF(A154<Inversion!$C$23,A154+1,\"-\")","v":150},{"$f":"IF(A155<>\"-\",DATE(YEAR(Inversion!$C$7),MONTH(Inversion!$C$7)+A155,DAY(Inversion!$C$7)),\"-\")","v":"2038-01-10"},{"$f":"'Hipotecario (Pesos)'!C155","v":79012966.484331235},1240694.6352098426,1280265.5316103515,2520960.1668201941,162449129.90642604,null,208626.05317006729,{"$f":"'Hipotecario (Pesos)'!F155/Inversion!$C$28","v":1593.3678751139105},{"$f":"'Hipotecario (Pesos)'!G155/Inversion!$C$28","v":1644.1869834784497},{"$f":"'Hipotecario (Pesos)'!E155/Inversion!$C$28","v":3237.5548585923602},{"$f":"'Hipotecario (Pesos)'!H155/Inversion!$C$28","v":208626.05317006714},null,{"$f":"O154*(1+Inversion!$C$27)","v":778.66176078210742}]
[{"$f":"IF(A155<Inversion!$C$23,A155+1,\"-\")","v":151},{"$f":"IF(A156<>\"-\",DATE(YEAR(Inversion!$C$7),MONTH(Inversion!$C$7)+A156,DAY(Inversion!$C$7)),\"-\")","v":"2038-02-10"},{"$f":"'Hipotecario (Pesos)'!C156","v":78414084.031474859},1256484.8450939963,1276746.2228114107,2533231.0679054069,161983374.41544756,null,207020.22310327226,{"$f":"'Hipotecario (Pesos)'!F156/Inversion!$C$28","v":1605.8300667950109},{"$f":"'Hipotecario (Pesos)'!G156/Inversion!$C$28","v":1631.7247917973493},{"$f":"'Hipotecario (Pesos)'!E156/Inversion!$C$28","v":3237.5548585923602},{"$f":"'Hipotecario (Pesos)'!H156/Inversion!$C$28","v":207020.22310327215},null,{"$f":"O155*(1+Inversion!$C$27)","v":782.45193627601338}]
[{"$f":"IF(A156<Inversion!$C$23,A156+1,\"-\")","v":152},{"$f":"IF(A157<>\"-\",DATE(YEAR(Inversion!$C$7),MONTH(Inversion!$C$7)+A157,DAY(Inversion!$C$7)),\"-\")","v":"2038-03-10"},{"$f":"'Hipotecario (Pesos)'!C157","v":77810517.545484319},1272476.0155699907,1273085.6826521438,2545561.6982221347,161499360.66558966,null,205401.83337438526,{"$f":"'Hipotecario (Pesos)'!F157/Inversion!$C$28","v":1618.3897288870078},{"$f":"'Hipotecario (Pesos)'!G157/Inversion!$C$28","v":1619.1651297053522},{"$f":"'Hipotecario (Pesos)'!E157/Inversion!$C$28","v":3237.5548585923602},{"$f":"'Hipotecario (Pesos)'!H157/Inversion!$C$28","v":205401.83337438511},null,{"$f":"O156*(1+Inversion!$C$27)","v":786.2605606407875}]
[{"$f":"IF(A157<Inversion!$C$23,A157+1,\"-\")","v":153},{"$f":"IF(A158<>\"-\",DATE(YEAR(Inversion!$C$7),MONTH(Inversion!$C$7)+A158,DAY(Inversion!$C$7)),\"-\")","v":"2038-04-10"},{"$f":"'Hipotecario (Pesos)'!C158","v":77202230.391179711},1288670.7042453419,1269281.6442600894,2557952.3485054313,160996796.26565465,null,203770.78575065103,{"$f":"'Hipotecario (Pesos)'!F158/Inversion!$C$28","v":1631.0476237342177},{"$f":"'Hipotecario (Pesos)'!G158/Inversion!$C$28","v":1606.5072348581425},{"$f":"'Hipotecario (Pesos)'!E158/Inversion!$C$28","v":3237.5548585923602},{"$f":"'Hipotecario (Pesos)'!H158/Inversion!$C$28","v":203770.78575065092},null,{"$f":"O157*(1+Inversion!$C$27)","v":790.08772367724146}]
[{"$f":"IF(A158<Inversion!$C$23,A158+1,\"-\")","v":154},{"$f":"IF(A159<>\"-\",DATE(YEAR(Inversion!$C$7),MONTH(Inversion!$C$7)+A159,DAY(Inversion!$C$7)),\"-\")","v":"2038-05-10"},{"$f":"'Hipotecario (Pesos)'!C159","v":76589185.646846786},1305071.5012780076,1265331.8096275115,2570403.3109055194,160475384.81105798,null,202126.98123100755,{"$f":"'Hipotecario (Pesos)'!F159/Inversion!$C$28","v":1643.8045196434728},{"$f":"'Hipotecario (Pesos)'!G159/Inversion!$C$28","v":1593.7503389488872},{"$f":"'Hipotecario (Pesos)'!E159/Inversion!$C$28","v":3237.5548585923602},{"$f":"'Hipotecario (Pesos)'!H159/Inversion!$C$28","v":202126.98123100746},null,{"$f":"O158*(1+Inversion!$C$27)","v":793.93351562329724}]
[{"$f":"IF(A159<Inversion!$C$23,A159+1,\"-\")","v":155},{"$f":"IF(A160<>\"-\",DATE(YEAR(Inversion!$C$7),MONTH(Inversion!$C$7)+A160,DAY(Inversion!$C$7)),\"-\")","v":"2038-06-10"},{"$f":"'Hipotecario (Pesos)'!C160","v":75971346.101995856},1321681.0297906555,1261233.849204022,2582914.8789946772,159934825.83132803,null,200470.3200400768,{"$f":"'Hipotecario (Pesos)'!F160/Inversion!$C$28","v":1656.6611909307555},{"$f":"'Hipotecario (Pesos)'!G160/Inversion!$C$28","v":1580.8936676616047},{"$f":"'Hipotecario (Pesos)'!E160/Inversion!$C$28","v":3237.5548585923602},{"$f":"'Hipotecario (Pesos)'!H160/Inversion!$C$28","v":200470.32004007671},null,{"$f":"O159*(1+Inversion!$C$27)","v":797.79802715611424}]
[{"$f":"IF(A160<Inversion!$C$23,A160+1,\"-\")","v":156},{"$f":"IF(A161<>\"-\",DATE(YEAR(Inversion!$C$7),MONTH(Inversion!$C$7)+A161,DAY(Inversion!$C$7)),\"-\")","v":"2038-07-10"},{"$f":"'Hipotecario (Pesos)'!C161","v":75348674.255103216},1338501.946290201,1256985.40148396,2595487.347774161,159374814.73693115,null,198800.70162210861,{"$f":"'Hipotecario (Pesos)'!F161/Inversion!$C$28","v":1669.6184179681989},{"$f":"'Hipotecario (Pesos)'!G161/Inversion!$C$28","v":1567.9364406241614},{"$f":"'Hipotecario (Pesos)'!E161/Inversion!$C$28","v":3237.5548585923602},{"$f":"'Hipotecario (Pesos)'!H161/Inversion!$C$28","v":198800.70162210849},null,{"$f":"O160*(1+Inversion!$C$27)","v":801.6813493942276}]
[{"$f":"IF(A161<Inversion!$C$23,A161+1,\"-\")","v":157},{"$f":"IF(A162<>\"-\",DATE(YEAR(Inversion!$C$7),MONTH(Inversion!$C$7)+A162,DAY(Inversion!$C$7)),\"-\")","v":"2038-08-10"},{"$f":"'Hipotecario (Pesos)'!C162","v":74721132.311334893},1355536.941092686,1252584.0725884738,2608121.0136811598,158795042.76541263,null,197118.02463487716,{"$f":"'Hipotecario (Pesos)'!F162/Inversion!$C$28","v":1682.6769872314508},{"$f":"'Hipotecario (Pesos)'!G162/Inversion!$C$28","v":1554.8778713609092},{"$f":"'Hipotecario (Pesos)'!E162/Inversion!$C$28","v":3237.5548585923602},{"$f":"'Hipotecario (Pesos)'!H162/Inversion!$C$28","v":197118.02463487702},null,{"$f":"O161*(1+Inversion!$C$27)","v":805.58357389969649}]
[{"$f":"IF(A162<Inversion!$C$23,A162+1,\"-\")","v":158},{"$f":"IF(A163<>\"-\",DATE(YEAR(Inversion!$C$7),MONTH(Inversion!$C$7)+A163,DAY(Inversion!$C$7)),\"-\")","v":"2038-09-10"},{"$f":"'Hipotecario (Pesos)'!C163","v":74088682.180252567},1372788.7387535642,1248027.4358422225,2620816.1745957867,158195196.92684552,null,195422.18694352976,{"$f":"'Hipotecario (Pesos)'!F163/Inversion!$C$28","v":1695.837691347414},{"$f":"'Hipotecario (Pesos)'!G163/Inversion!$C$28","v":1541.7171672449463},{"$f":"'Hipotecario (Pesos)'!E163/Inversion!$C$28","v":3237.5548585923602},{"$f":"'Hipotecario (Pesos)'!H163/Inversion!$C$28","v":195422.18694352961},null,{"$f":"O162*(1+Inversion!$C$27)","v":809.50479268026299}]
[{"$f":"IF(A163<Inversion!$C$23,A163+1,\"-\")","v":159},{"$f":"IF(A164<>\"-\",DATE(YEAR(Inversion!$C$7),MONTH(Inversion!$C$7)+A164,DAY(Inversion!$C$7)),\"-\")","v":"2038-10-10"},{"$f":"'Hipotecario (Pesos)'!C164","v":73451285.473501578},1390260.0985034634,1243313.0313446373,2633573.1298481007,157574959.94857788,null,193713.08561438741,{"$f":"'Hipotecario (Pesos)'!F164/Inversion!$C$28","v":1709.1013291423551},{"$f":"'Hipotecario (Pesos)'!G164/Inversion!$C$28","v":1528.4535294500049},{"$f":"'Hipotecario (Pesos)'!E164/Inversion!$C$28","v":3237.5548585923602},{"$f":"'Hipotecario (Pesos)'!H164/Inversion!$C$28","v":193713.08561438724},null,{"$f":"O163*(1+Inversion!$C$27)","v":813.44509819152177}]
[{"$f":"IF(A164<Inversion!$C$23,A164+1,\"-\")","v":160},{"$f":"IF(A165<>\"-\",DATE(YEAR(Inversion!$C$7),MONTH(Inversion!$C$7)+A165,DAY(Inversion!$C$7)),\"-\")","v":"2038-11-10"},{"$f":"'Hipotecario (Pesos)'!C165","v":72808903.50248079},1407953.8146894944,1238438.3655356707,2646392.1802251651,156934010.21926999,null,191990.616908697,{"$f":"'Hipotecario (Pesos)'!F165/Inversion!$C$28","v":1722.468705690394},{"$f":"'Hipotecario (Pesos)'!G165/Inversion!$C$28","v":1515.0861529019662},{"$f":"'Hipotecario (Pesos)'!E165/Inversion!$C$28","v":3237.5548585923602},{"$f":"'Hipotecario (Pesos)'!H165/Inversion!$C$28","v":191990.61690869683},null,{"$f":"O164*(1+Inversion!$C$27)","v":817.40458333909942}]
[{"$f":"IF(A165<Inversion!$C$23,A165+1,\"-\")","v":161},{"$f":"IF(A166<>\"-\",DATE(YEAR(Inversion!$C$7),MONTH(Inversion!$C$7)+A166,DAY(Inversion!$C$7)),\"-\")","v":"2038-12-10"},{"$f":"'Hipotecario (Pesos)'!C166","v":72161497.275994346},1425872.7172221723,1233400.910755967,2659273.6279781396,156272021.73221219,null,190254.67627633465,{"$f":"'Hipotecario (Pesos)'!F166/Inversion!$C$28","v":1735.9406323623659},{"$f":"'Hipotecario (Pesos)'!G166/Inversion!$C$28","v":1501.6142262299941},{"$f":"'Hipotecario (Pesos)'!E166/Inversion!$C$28","v":3237.5548585923602},{"$f":"'Hipotecario (Pesos)'!H166/Inversion!$C$28","v":190254.67627633447},null,{"$f":"O165*(1+Inversion!$C$27)","v":821.38334148084562}]
[{"$f":"IF(A166<Inversion!$C$23,A166+1,\"-\")","v":162},{"$f":"IF(A167<>\"-\",DATE(YEAR(Inversion!$C$7),MONTH(Inversion!$C$7)+A167,DAY(Inversion!$C$7)),\"-\")","v":"2039-01-10"},{"$f":"'Hipotecario (Pesos)'!C167","v":71509027.497884944},1444019.6720280328,1228198.1048013733,2672217.7768294062,155588664.02791408,null,188505.15834945958,{"$f":"'Hipotecario (Pesos)'!F167/Inversion!$C$28","v":1749.5179268750749},{"$f":"'Hipotecario (Pesos)'!G167/Inversion!$C$28","v":1488.0369317172854},{"$f":"'Hipotecario (Pesos)'!E167/Inversion!$C$28","v":3237.5548585923602},{"$f":"'Hipotecario (Pesos)'!H167/Inversion!$C$28","v":188505.15834945941},null,{"$f":"O166*(1+Inversion!$C$27)","v":825.38146642903405}]
[{"$f":"IF(A167<Inversion!$C$23,A167+1,\"-\")","v":163},{"$f":"IF(A168<>\"-\",DATE(YEAR(Inversion!$C$7),MONTH(Inversion!$C$7)+A168,DAY(Inversion!$C$7)),\"-\")","v":"2039-02-10"},{"$f":"'Hipotecario (Pesos)'!C168","v":70851454.564648643},1462397.5815080015,1222827.3504717301,2685224.9319797317,154883602.13595611,null,186741.95693611866,{"$f":"'Hipotecario (Pesos)'!F168/Inversion!$C$28","v":1763.2014133409232},{"$f":"'Hipotecario (Pesos)'!G168/Inversion!$C$28","v":1474.3534452514368},{"$f":"'Hipotecario (Pesos)'!E168/Inversion!$C$28","v":3237.5548585923602},{"$f":"'Hipotecario (Pesos)'!H168/Inversion!$C$28","v":186741.95693611848},null,{"$f":"O167*(1+Inversion!$C$27)","v":829.39905245257432}]
[{"$f":"IF(A168<Inversion!$C$23,A168+1,\"-\")","v":164},{"$f":"IF(A169<>\"-\",DATE(YEAR(Inversion!$C$7),MONTH(Inversion!$C$7)+A169,DAY(Inversion!$C$7)),\"-\")","v":"2039-03-10"},{"$f":"'Hipotecario (Pesos)'!C169","v":70188738.563031033},1481009.3850016019,1217286.0151138611,2698295.400115463,154156496.51609376,null,184964.96501380071,{"$f":"'Hipotecario (Pesos)'!F169/Inversion!$C$28","v":1776.9919223179354},{"$f":"'Hipotecario (Pesos)'!G169/Inversion!$C$28","v":1460.5629362744246},{"$f":"'Hipotecario (Pesos)'!E169/Inversion!$C$28","v":3237.5548585923602},{"$f":"'Hipotecario (Pesos)'!H169/Inversion!$C$28","v":184964.96501380057},null,{"$f":"O168*(1+Inversion!$C$27)","v":833.43619427923488}]
[{"$f":"IF(A169<Inversion!$C$23,A169+1,\"-\")","v":165},{"$f":"IF(A170<>\"-\",DATE(YEAR(Inversion!$C$7),MONTH(Inversion!$C$7)+A170,DAY(Inversion!$C$7)),\"-\")","v":"2039-04-10"},{"$f":"'Hipotecario (Pesos)'!C170","v":69520839.267604575},1499858.0592570696,1211571.430158688,2711429.4894157578,153407002.99860492,null,183174.07472294054,{"$f":"'Hipotecario (Pesos)'!F170/Inversion!$C$28","v":1790.8902908601719},{"$f":"'Hipotecario (Pesos)'!G170/Inversion!$C$28","v":1446.6645677321881},{"$f":"'Hipotecario (Pesos)'!E170/Inversion!$C$28","v":3237.5548585923602},{"$f":"'Hipotecario (Pesos)'!H170/Inversion!$C$28","v":183174.07472294039},null,{"$f":"O169*(1+Inversion!$C$27)","v":837.49298709787615}]
[{"$f":"IF(A170<Inversion!$C$23,A170+1,\"-\")","v":166},{"$f":"IF(A171<>\"-\",DATE(YEAR(Inversion!$C$7),MONTH(Inversion!$C$7)+A171,DAY(Inversion!$C$7)),\"-\")","v":"2039-05-10"},{"$f":"'Hipotecario (Pesos)'!C171","v":68847716.138327017},1518946.6189074488,1205680.8906524025,2724627.5095598516,152634772.72387093,null,181369.17736037201,{"$f":"'Hipotecario (Pesos)'!F171/Inversion!$C$28","v":1804.8973625685342},{"$f":"'Hipotecario (Pesos)'!G171/Inversion!$C$28","v":1432.6574960238261},{"$f":"'Hipotecario (Pesos)'!E171/Inversion!$C$28","v":3237.5548585923602},{"$f":"'Hipotecario (Pesos)'!H171/Inversion!$C$28","v":181369.17736037186},null,{"$f":"O170*(1+Inversion!$C$27)","v":841.56952656069529}]
[{"$f":"IF(A171<Inversion!$C$23,A171+1,\"-\")","v":167},{"$f":"IF(A172<>\"-\",DATE(YEAR(Inversion!$C$7),MONTH(Inversion!$C$7)+A172,DAY(Inversion!$C$7)),\"-\")","v":"2039-06-10"},{"$f":"'Hipotecario (Pesos)'!C172","v":68169328.318080693},1538278.1169527494,1199611.6547816091,2737889.7717343587,151839452.08118126,null,179550.16337273002,{"$f":"'Hipotecario (Pesos)'!F172/Inversion!$C$28","v":1819.0139876419707},{"$f":"'Hipotecario (Pesos)'!G172/Inversion!$C$28","v":1418.5408709503893},{"$f":"'Hipotecario (Pesos)'!E172/Inversion!$C$28","v":3237.5548585923602},{"$f":"'Hipotecario (Pesos)'!H172/Inversion!$C$28","v":179550.1633727299},null,{"$f":"O171*(1+Inversion!$C$27)","v":845.66590878548129}]
[{"$f":"IF(A172<Inversion!$C$23,A172+1,\"-\")","v":168},{"$f":"IF(A173<>\"-\",DATE(YEAR(Inversion!$C$7),MONTH(Inversion!$C$7)+A173,DAY(Inversion!$C$7)),\"-\")","v":"2039-07-10"},{"$f":"'Hipotecario (Pesos)'!C173","v":67485634.630192578},1557855.6452482406,1193360.9433923708,2751216.5886406112,151020682.64675218,null,177716.92234980094,{"$f":"'Hipotecario (Pesos)'!F173/Inversion!$C$28","v":1833.2410229290833},{"$f":"'Hipotecario (Pesos)'!G173/Inversion!$C$28","v":1404.3138356632769},{"$f":"'Hipotecario (Pesos)'!E173/Inversion!$C$28","v":3237.5548585923602},{"$f":"'Hipotecario (Pesos)'!H173/Inversion!$C$28","v":177716.92234980082},null,{"$f":"O172*(1+Inversion!$C$27)","v":849.78223035788142}]
[{"$f":"IF(A173<Inversion!$C$23,A173+1,\"-\")","v":169},{"$f":"IF(A174<>\"-\",DATE(YEAR(Inversion!$C$7),MONTH(Inversion!$C$7)+A174,DAY(Inversion!$C$7)),\"-\")","v":"2039-08-10"},{"$f":"'Hipotecario (Pesos)'!C174","v":66796593.575934961},1577682.3349989564,1186925.9395030735,2764608.2745020301,150178101.12094888,null,175869.34301782079,{"$f":"'Hipotecario (Pesos)'!F174/Inversion!$C$28","v":1847.5793319801339},{"$f":"'Hipotecario (Pesos)'!G174/Inversion!$C$28","v":1389.9755266122263},{"$f":"'Hipotecario (Pesos)'!E174/Inversion!$C$28","v":3237.5548585923602},{"$f":"'Hipotecario (Pesos)'!H174/Inversion!$C$28","v":175869.34301782068},null,{"$f":"O173*(1+Inversion!$C$27)","v":853.91858833367837}]
[{"$f":"IF(A174<Inversion!$C$23,A174+1,\"-\")","v":170},{"$f":"IF(A175<>\"-\",DATE(YEAR(Inversion!$C$7),MONTH(Inversion!$C$7)+A175,DAY(Inversion!$C$7)),\"-\")","v":"2039-09-10"},{"$f":"'Hipotecario (Pesos)'!C175","v":66102163.332006574},1597761.3572604991,1180303.7878110351,2778065.1450715344,149311339.26470181,null,174007.31323272132,{"$f":"'Hipotecario (Pesos)'!F175/Inversion!$C$28","v":1862.0297850994614},{"$f":"'Hipotecario (Pesos)'!G175/Inversion!$C$28","v":1375.5250734928989},{"$f":"'Hipotecario (Pesos)'!E175/Inversion!$C$28","v":3237.5548585923602},{"$f":"'Hipotecario (Pesos)'!H175/Inversion!$C$28","v":174007.31323272121},null,{"$f":"O174*(1+Inversion!$C$27)","v":858.07508024107892}]
[{"$f":"IF(A175<Inversion!$C$23,A175+1,\"-\")","v":171},{"$f":"IF(A176<>\"-\",DATE(YEAR(Inversion!$C$7),MONTH(Inversion!$C$7)+A176,DAY(Inversion!$C$7)),\"-\")","v":"2039-10-10"},{"$f":"'Hipotecario (Pesos)'!C176","v":65402301.747993983},1618095.9234462122,1173491.5941927752,2791587.5176389874,148420023.83510563,null,172130.71997332302,{"$f":"'Hipotecario (Pesos)'!F176/Inversion!$C$28","v":1876.5932593983071},{"$f":"'Hipotecario (Pesos)'!G176/Inversion!$C$28","v":1360.9615991940532},{"$f":"'Hipotecario (Pesos)'!E176/Inversion!$C$28","v":3237.5548585923602},{"$f":"'Hipotecario (Pesos)'!H176/Inversion!$C$28","v":172130.71997332291},null,{"$f":"O175*(1+Inversion!$C$27)","v":862.25180408301321}]
[{"$f":"IF(A176<Inversion!$C$23,A176+1,\"-\")","v":172},{"$f":"IF(A177<>\"-\",DATE(YEAR(Inversion!$C$7),MONTH(Inversion!$C$7)+A177,DAY(Inversion!$C$7)),\"-\")","v":"2039-11-10"},{"$f":"'Hipotecario (Pesos)'!C177","v":64696966.343813166},1638689.2858408096,1166486.425197866,2805175.7110386756,147503776.52019164,null,170239.44933447498,{"$f":"'Hipotecario (Pesos)'!F177/Inversion!$C$28","v":1891.2706388480533},{"$f":"'Hipotecario (Pesos)'!G177/Inversion!$C$28","v":1346.2842197443069},{"$f":"'Hipotecario (Pesos)'!E177/Inversion!$C$28","v":3237.5548585923602},{"$f":"'Hipotecario (Pesos)'!H177/Inversion!$C$28","v":170239.44933447486},null,{"$f":"O176*(1+Inversion!$C$27)","v":866.44885833944556}]
[{"$f":"IF(A177<Inversion!$C$23,A177+1,\"-\")","v":173},{"$f":"IF(A178<>\"-\",DATE(YEAR(Inversion!$C$7),MONTH(Inversion!$C$7)+A178,DAY(Inversion!$C$7)),\"-\")","v":"2039-12-10"},{"$f":"'Hipotecario (Pesos)'!C178","v":63986114.307131059},1659544.7381205426,1159285.3075362856,2818830.0456568282,146562213.87286216,null,168333.3865201411,{"$f":"'Hipotecario (Pesos)'!F178/Inversion!$C$28","v":1906.0628143338784},{"$f":"'Hipotecario (Pesos)'!G178/Inversion!$C$28","v":1331.4920442584817},{"$f":"'Hipotecario (Pesos)'!E178/Inversion!$C$28","v":3237.5548585923602},{"$f":"'Hipotecario (Pesos)'!H178/Inversion!$C$28","v":168333.38652014098},null,{"$f":"O177*(1+Inversion!$C$27)","v":870.66634196969653}]
[{"$f":"IF(A178<Inversion!$C$23,A178+1,\"-\")","v":174},{"$f":"IF(A179<>\"-\",DATE(YEAR(Inversion!$C$7),MONTH(Inversion!$C$7)+A179,DAY(Inversion!$C$7)),\"-\")","v":"2040-01-10"},{"$f":"'Hipotecario (Pesos)'!C179","v":63269702.490766935},1680665.6158799878,1151885.2275591835,2832550.8434391716,145594947.24397698,null,166412.41583643225,{"$f":"'Hipotecario (Pesos)'!F179/Inversion!$C$28","v":1920.9706837088327},{"$f":"'Hipotecario (Pesos)'!G179/Inversion!$C$28","v":1316.5841748835273},{"$f":"'Hipotecario (Pesos)'!E179/Inversion!$C$28","v":3237.5548585923602},{"$f":"'Hipotecario (Pesos)'!H179/Inversion!$C$28","v":166412.41583643216},null,{"$f":"O178*(1+Inversion!$C$27)","v":874.90435441477632}]
[{"$f":"IF(A179<Inversion!$C$23,A179+1,\"-\")","v":175},{"$f":"IF(A180<>\"-\",DATE(YEAR(Inversion!$C$7),MONTH(Inversion!$C$7)+A180,DAY(Inversion!$C$7)),\"-\")","v":"2040-02-10"},{"$f":"'Hipotecario (Pesos)'!C180","v":62547687.410073474},1702055.297165534,1144283.1307329824,2846338.4278985164,144601582.71457994,null,164476.42068458392,{"$f":"'Hipotecario (Pesos)'!F180/Inversion!$C$28","v":1935.9951518483344},{"$f":"'Hipotecario (Pesos)'!G180/Inversion!$C$28","v":1301.5597067440258},{"$f":"'Hipotecario (Pesos)'!E180/Inversion!$C$28","v":3237.5548585923602},{"$f":"'Hipotecario (Pesos)'!H180/Inversion!$C$28","v":164476.42068458381},null,{"$f":"O179*(1+Inversion!$C$27)","v":879.16299559972902}]
[{"$f":"IF(A180<Inversion!$C$23,A180+1,\"-\")","v":176},{"$f":"IF(A181<>\"-\",DATE(YEAR(Inversion!$C$7),MONTH(Inversion!$C$7)+A181,DAY(Inversion!$C$7)),\"-\")","v":"2040-03-10"},{"$f":"'Hipotecario (Pesos)'!C181","v":61820025.240297332},1723717.2030156658,1136475.9211067257,2860193.1241223915,143581721.02725613,null,162525.28355387883,{"$f":"'Hipotecario (Pesos)'!F181/Inversion!$C$28","v":1951.1371307050943},{"$f":"'Hipotecario (Pesos)'!G181/Inversion!$C$28","v":1286.417727887266},{"$f":"'Hipotecario (Pesos)'!E181/Inversion!$C$28","v":3237.5548585923602},{"$f":"'Hipotecario (Pesos)'!H181/Inversion!$C$28","v":162525.28355387872},null,{"$f":"O180*(1+Inversion!$C$27)","v":883.44236593598919}]
[{"$f":"IF(A181<Inversion!$C$23,A181+1,\"-\")","v":177},{"$f":"IF(A182<>\"-\",DATE(YEAR(Inversion!$C$7),MONTH(Inversion!$C$7)+A182,DAY(Inversion!$C$7)),\"-\")","v":"2040-04-10"},{"$f":"'Hipotecario (Pesos)'!C182","v":61086671.813919082},1745654.7980081195,1128460.4607725842,2874115.2587807039,142534957.51660717,null,160558.88601451437,{"$f":"'Hipotecario (Pesos)'!F182/Inversion!$C$28","v":1966.3975393644698},{"$f":"'Hipotecario (Pesos)'!G182/Inversion!$C$28","v":1271.1573192278904},{"$f":"'Hipotecario (Pesos)'!E182/Inversion!$C$28","v":3237.5548585923602},{"$f":"'Hipotecario (Pesos)'!H182/Inversion!$C$28","v":160558.88601451425},null,{"$f":"O181*(1+Inversion!$C$27)","v":887.74256632374886}]
[{"$f":"IF(A182<Inversion!$C$23,A182+1,\"-\")","v":178},{"$f":"IF(A183<>\"-\",DATE(YEAR(Inversion!$C$7),MONTH(Inversion!$C$7)+A183,DAY(Inversion!$C$7)),\"-\")","v":"2040-05-10"},{"$f":"'Hipotecario (Pesos)'!C183","v":60347582.617972322},1767871.5908140026,1120233.5693194401,2888105.1601334428,141460882.03883424,null,158577.10871041412,{"$f":"'Hipotecario (Pesos)'!F183/Inversion!$C$28","v":1981.7773041002513},{"$f":"'Hipotecario (Pesos)'!G183/Inversion!$C$28","v":1255.7775544921087},{"$f":"'Hipotecario (Pesos)'!E183/Inversion!$C$28","v":3237.5548585923602},{"$f":"'Hipotecario (Pesos)'!H183/Inversion!$C$28","v":158577.108710414},null,{"$f":"O182*(1+Inversion!$C$27)","v":892.06369815433709}]
[{"$f":"IF(A183<Inversion!$C$23,A183+1,\"-\")","v":179},{"$f":"IF(A184<>\"-\",DATE(YEAR(Inversion!$C$7),MONTH(Inversion!$C$7)+A184,DAY(Inversion!$C$7)),\"-\")","v":"2040-06-10"},{"$f":"'Hipotecario (Pesos)'!C184","v":59602712.791341856},1790371.1347589672,1111792.0232794534,2902163.1580384206,140359078.90041736,null,156579.83135198324,{"$f":"'Hipotecario (Pesos)'!F184/Inversion!$C$28","v":1997.277358430885},{"$f":"'Hipotecario (Pesos)'!G184/Inversion!$C$28","v":1240.2775001614752},{"$f":"'Hipotecario (Pesos)'!E184/Inversion!$C$28","v":3237.5548585923602},{"$f":"'Hipotecario (Pesos)'!H184/Inversion!$C$28","v":156579.83135198313},null,{"$f":"O183*(1+Inversion!$C$27)","v":896.40586331261022}]
[{"$f":"IF(A184<Inversion!$C$23,A184+1,\"-\")","v":180},{"$f":"IF(A185<>\"-\",DATE(YEAR(Inversion!$C$7),MONTH(Inversion!$C$7)+A185,DAY(Inversion!$C$7)),\"-\")","v":"2040-07-10"},{"$f":"'Hipotecario (Pesos)'!C185","v":58852017.122040704},1813157.0283915228,1103132.5555675249,2916289.5839590481,139229126.78587857,null,154566.93270880711,{"$f":"'Hipotecario (Pesos)'!F185/Inversion!$C$28","v":2012.8986431761343},{"$f":"'Hipotecario (Pesos)'!G185/Inversion!$C$28","v":1224.6562154162257},{"$f":"'Hipotecario (Pesos)'!E185/Inversion!$C$28","v":3237.5548585923602},{"$f":"'Hipotecario (Pesos)'!H185/Inversion!$C$28","v":154566.93270880697},null,{"$f":"O184*(1+Inversion!$C$27)","v":900.76916417935433}]
[{"$f":"IF(A185<Inversion!$C$23,A185+1,\"-\")","v":181},{"$f":"IF(A186<>\"-\",DATE(YEAR(Inversion!$C$7),MONTH(Inversion!$C$7)+A186,DAY(Inversion!$C$7)),\"-\")","v":"2040-08-10"},{"$f":"'Hipotecario (Pesos)'!C186","v":58095450.04446584},1836232.9160585862,1094251.8549135653,2930484.7709721518,138070598.68461883,null,152538.29060229292,{"$f":"'Hipotecario (Pesos)'!F186/Inversion!$C$28","v":2028.6421065141878},{"$f":"'Hipotecario (Pesos)'!G186/Inversion!$C$28","v":1208.9127520781722},{"$f":"'Hipotecario (Pesos)'!E186/Inversion!$C$28","v":3237.5548585923602},{"$f":"'Hipotecario (Pesos)'!H186/Inversion!$C$28","v":152538.29060229281},null,{"$f":"O185*(1+Inversion!$C$27)","v":905.15370363369914}]
[{"$f":"IF(A186<Inversion!$C$23,A186+1,\"-\")","v":182},{"$f":"IF(A187<>\"-\",DATE(YEAR(Inversion!$C$7),MONTH(Inversion!$C$7)+A187,DAY(Inversion!$C$7)),\"-\")","v":"2040-09-10"},{"$f":"'Hipotecario (Pesos)'!C187","v":57332965.636632472},1859602.4884883508,1085146.5652874759,2944749.0537758265,136883061.81681505,null,150493.78189825371,{"$f":"'Hipotecario (Pesos)'!F187/Inversion!$C$28","v":2044.5087040392093},{"$f":"'Hipotecario (Pesos)'!G187/Inversion!$C$28","v":1193.0461545531507},{"$f":"'Hipotecario (Pesos)'!E187/Inversion!$C$28","v":3237.5548585923602},{"$f":"'Hipotecario (Pesos)'!H187/Inversion!$C$28","v":150493.7818982536},null,{"$f":"O186*(1+Inversion!$C$27)","v":909.55958505554372}]
[{"$f":"IF(A187<Inversion!$C$23,A187+1,\"-\")","v":183},{"$f":"IF(A188<>\"-\",DATE(YEAR(Inversion!$C$7),MONTH(Inversion!$C$7)+A188,DAY(Inversion!$C$7)),\"-\")","v":"2040-10-10"},{"$f":"'Hipotecario (Pesos)'!C188","v":56564517.617386647},1883269.4833805782,1075813.2853167481,2959082.7686973265,135666077.55836678,null,148433.28249943437,{"$f":"'Hipotecario (Pesos)'!F188/Inversion!$C$28","v":2060.4993988193419},{"$f":"'Hipotecario (Pesos)'!G188/Inversion!$C$28","v":1177.0554597730181},{"$f":"'Hipotecario (Pesos)'!E188/Inversion!$C$28","v":3237.5548585923602},{"$f":"'Hipotecario (Pesos)'!H188/Inversion!$C$28","v":148433.28249943425},null,{"$f":"O187*(1+Inversion!$C$27)","v":913.98691232799399}]
[{"$f":"IF(A188<Inversion!$C$23,A188+1,\"-\")","v":184},{"$f":"IF(A189<>\"-\",DATE(YEAR(Inversion!$C$7),MONTH(Inversion!$C$7)+A189,DAY(Inversion!$C$7)),\"-\")","v":"2040-11-10"},{"$f":"'Hipotecario (Pesos)'!C189","v":55790059.343596108},1907237.6860044021,1066248.5676965937,2973486.2537009963,134419201.36487946,null,146356.66733797922,{"$f":"'Hipotecario (Pesos)'!F189/Inversion!$C$28","v":2076.6151614551632},{"$f":"'Hipotecario (Pesos)'!G189/Inversion!$C$28","v":1160.9396971371966},{"$f":"'Hipotecario (Pesos)'!E189/Inversion!$C$28","v":3237.5548585923602},{"$f":"'Hipotecario (Pesos)'!H189/Inversion!$C$28","v":146356.66733797907},null,{"$f":"O188*(1+Inversion!$C$27)","v":918.43578983981229}]
[{"$f":"IF(A189<Inversion!$C$23,A189+1,\"-\")","v":185},{"$f":"IF(A190<>\"-\",DATE(YEAR(Inversion!$C$7),MONTH(Inversion!$C$7)+A190,DAY(Inversion!$C$7)),\"-\")","v":"2040-12-10"},{"$f":"'Hipotecario (Pesos)'!C190","v":55009543.807319149},1931510.9298037384,1056448.9185924996,2987959.8483962384,133141982.69467232,null,144263.81036784063,{"$f":"'Hipotecario (Pesos)'!F190/Inversion!$C$28","v":2092.8569701385995},{"$f":"'Hipotecario (Pesos)'!G190/Inversion!$C$28","v":1144.6978884537605},{"$f":"'Hipotecario (Pesos)'!E190/Inversion!$C$28","v":3237.5548585923602},{"$f":"'Hipotecario (Pesos)'!H190/Inversion!$C$28","v":144263.81036784049},null,{"$f":"O189*(1+Inversion!$C$27)","v":922.90632248787836}]
[{"$f":"IF(A190<Inversion!$C$23,A190+1,\"-\")","v":186},{"$f":"IF(A191<>\"-\",DATE(YEAR(Inversion!$C$7),MONTH(Inversion!$C$7)+A191,DAY(Inversion!$C$7)),\"-\")","v":"2041-01-10"},{"$f":"'Hipotecario (Pesos)'!C191","v":54222923.632951342},1956093.0970104015,1046410.7970351204,3002503.894045522,131833964.93079828,null,142154.58455712834,{"$f":"'Hipotecario (Pesos)'!F191/Inversion!$C$28","v":2109.2258107122998},{"$f":"'Hipotecario (Pesos)'!G191/Inversion!$C$28","v":1128.3290478800607},{"$f":"'Hipotecario (Pesos)'!E191/Inversion!$C$28","v":3237.5548585923602},{"$f":"'Hipotecario (Pesos)'!H191/Inversion!$C$28","v":142154.5845571282},null,{"$f":"O190*(1+Inversion!$C$27)","v":927.39861567966295}]
[{"$f":"IF(A191<Inversion!$C$23,A191+1,\"-\")","v":187},{"$f":"IF(A192<>\"-\",DATE(YEAR(Inversion!$C$7),MONTH(Inversion!$C$7)+A192,DAY(Inversion!$C$7)),\"-\")","v":"2041-02-10"},{"$f":"'Hipotecario (Pesos)'!C192","v":53430151.074349925},1980988.1192650229,1036130.614307405,3017118.7335724276,130494685.30206355,null,140028.86188039888,{"$f":"'Hipotecario (Pesos)'!F192/Inversion!$C$28","v":2125.7226767294724},{"$f":"'Hipotecario (Pesos)'!G192/Inversion!$C$28","v":1111.8321818628881},{"$f":"'Hipotecario (Pesos)'!E192/Inversion!$C$28","v":3237.5548585923602},{"$f":"'Hipotecario (Pesos)'!H192/Inversion!$C$28","v":140028.8618803987},null,{"$f":"O191*(1+Inversion!$C$27)","v":931.91277533571281}]
[{"$f":"IF(A192<Inversion!$C$23,A192+1,\"-\")","v":188},{"$f":"IF(A193<>\"-\",DATE(YEAR(Inversion!$C$7),MONTH(Inversion!$C$7)+A193,DAY(Inversion!$C$7)),\"-\")","v":"2041-03-10"},{"$f":"'Hipotecario (Pesos)'!C193","v":52631178.011935726},2006199.9782458742,1025604.7333238611,3031804.7115697353,129123674.80303399,null,137886.51331088468,{"$f":"'Hipotecario (Pesos)'!F193/Inversion!$C$28","v":2142.3485695141944},{"$f":"'Hipotecario (Pesos)'!G193/Inversion!$C$28","v":1095.2062890781658},{"$f":"'Hipotecario (Pesos)'!E193/Inversion!$C$28","v":3237.5548585923602},{"$f":"'Hipotecario (Pesos)'!H193/Inversion!$C$28","v":137886.5133108845},null,{"$f":"O192*(1+Inversion!$C$27)","v":936.44890789214855}]
[{"$f":"IF(A193<Inversion!$C$23,A193+1,\"-\")","v":189},{"$f":"IF(A194<>\"-\",DATE(YEAR(Inversion!$C$7),MONTH(Inversion!$C$7)+A194,DAY(Inversion!$C$7)),\"-\")","v":"2041-04-10"},{"$f":"'Hipotecario (Pesos)'!C194","v":51825955.949772403},2031732.706305691,1014829.4680018552,3046562.1743075461,127720458.113015,null,135727.4088126625,{"$f":"'Hipotecario (Pesos)'!F194/Inversion!$C$28","v":2159.1044982221888},{"$f":"'Hipotecario (Pesos)'!G194/Inversion!$C$28","v":1078.4503603701714},{"$f":"'Hipotecario (Pesos)'!E194/Inversion!$C$28","v":3237.5548585923602},{"$f":"'Hipotecario (Pesos)'!H194/Inversion!$C$28","v":135727.40881266232},null,{"$f":"O193*(1+Inversion!$C$27)","v":941.00712030317391}]
[{"$f":"IF(A194<Inversion!$C$23,A194+1,\"-\")","v":190},{"$f":"IF(A195<>\"-\",DATE(YEAR(Inversion!$C$7),MONTH(Inversion!$C$7)+A195,DAY(Inversion!$C$7)),\"-\")","v":"2041-05-10"},{"$f":"'Hipotecario (Pesos)'!C195","v":51014436.012622863},2057590.3871166026,1003801.0826248472,3061391.4697414497,126284553.51399229,null,133551.41733276041,{"$f":"'Hipotecario (Pesos)'!F195/Inversion!$C$28","v":2175.9914799020771},{"$f":"'Hipotecario (Pesos)'!G195/Inversion!$C$28","v":1061.5633786902831},{"$f":"'Hipotecario (Pesos)'!E195/Inversion!$C$28","v":3237.5548585923602},{"$f":"'Hipotecario (Pesos)'!H195/Inversion!$C$28","v":133551.41733276026},null,{"$f":"O194*(1+Inversion!$C$27)","v":945.58752004359746}]
[{"$f":"IF(A195<Inversion!$C$23,A195+1,\"-\")","v":191},{"$f":"IF(A196<>\"-\",DATE(YEAR(Inversion!$C$7),MONTH(Inversion!$C$7)+A196,DAY(Inversion!$C$7)),\"-\")","v":"2041-06-10"},{"$f":"'Hipotecario (Pesos)'!C196","v":50196568.942982607},2083777.1563232678,992515.79119745805,3076292.9475207264,124815472.80752015,null,131358.40679320329,{"$f":"'Hipotecario (Pesos)'!F196/Inversion!$C$28","v":2193.0105395571127},{"$f":"'Hipotecario (Pesos)'!G196/Inversion!$C$28","v":1044.5443190352473},{"$f":"'Hipotecario (Pesos)'!E196/Inversion!$C$28","v":3237.5548585923602},{"$f":"'Hipotecario (Pesos)'!H196/Inversion!$C$28","v":131358.40679320315},null,{"$f":"O195*(1+Inversion!$C$27)","v":950.19021511136702}]
[{"$f":"IF(A196<Inversion!$C$23,A196+1,\"-\")","v":192},{"$f":"IF(A197<>\"-\",DATE(YEAR(Inversion!$C$7),MONTH(Inversion!$C$7)+A197,DAY(Inversion!$C$7)),\"-\")","v":"2041-07-10"},{"$f":"'Hipotecario (Pesos)'!C197","v":49372305.098089941},2110297.2022043271,980969.75679226406,3091266.9589965916,123312721.23054363,null,129148.24408299589,{"$f":"'Hipotecario (Pesos)'!F197/Inversion!$C$28","v":2210.1627102073967},{"$f":"'Hipotecario (Pesos)'!G197/Inversion!$C$28","v":1027.3921483849633},{"$f":"'Hipotecario (Pesos)'!E197/Inversion!$C$28","v":3237.5548585923602},{"$f":"'Hipotecario (Pesos)'!H197/Inversion!$C$28","v":129148.24408299575},null,{"$f":"O196*(1+Inversion!$C$27)","v":954.81531403011581}]
[{"$f":"IF(A197<Inversion!$C$23,A197+1,\"-\")","v":193},{"$f":"IF(A198<>\"-\",DATE(YEAR(Inversion!$C$7),MONTH(Inversion!$C$7)+A198,DAY(Inversion!$C$7)),\"-\")","v":"2041-08-10"},{"$f":"'Hipotecario (Pesos)'!C198","v":48541594.446912743},{"$f":"J198*O198","v":2137154.7663422688},{"$f":"K198*O198","v":969159.09088821255},{"$f":"L198*O198","v":3106313.8572304817},{"$f":"M198*O198","v":121775797.37014107},null,126920.79505004332,{"$f":"'Hipotecario (Pesos)'!F198/Inversion!$C$28","v":2227.4490329525793},{"$f":"'Hipotecario (Pesos)'!G198/Inversion!$C$28","v":1010.1058256397806},{"$f":"'Hipotecario (Pesos)'!E198/Inversion!$C$28","v":3237.5548585923602},{"$f":"'Hipotecario (Pesos)'!H198/Inversion!$C$28","v":126920.79505004316},null,{"$f":"O197*(1+Inversion!$C$27)","v":959.46292585172125}]
[{"$f":"IF(A198<Inversion!$C$23,A198+1,\"-\")","v":194},{"$f":"IF(A199<>\"-\",DATE(YEAR(Inversion!$C$7),MONTH(Inversion!$C$7)+A199,DAY(Inversion!$C$7)),\"-\")","v":"2041-09-10"},{"$f":"'Hipotecario (Pesos)'!C199","v":47704386.567111701},2164354.1443018233,957079.8527005536,3121433.9970023767,120204193.07717338,null,124675.92449300826,{"$f":"'Hipotecario (Pesos)'!F199/Inversion!$C$28","v":2244.870557035053},{"$f":"'Hipotecario (Pesos)'!G199/Inversion!$C$28","v":992.68430155730709},{"$f":"'Hipotecario (Pesos)'!E199/Inversion!$C$28","v":3237.5548585923602},{"$f":"'Hipotecario (Pesos)'!H199/Inversion!$C$28","v":124675.9244930081},null,{"$f":"O198*(1+Inversion!$C$27)","v":964.13316015887654}]
[{"$f":"IF(A199<Inversion!$C$23,A199+1,\"-\")","v":195},{"$f":"IF(A200<>\"-\",DATE(YEAR(Inversion!$C$7),MONTH(Inversion!$C$7)+A200,DAY(Inversion!$C$7)),\"-\")","v":"2041-10-10"},{"$f":"'Hipotecario (Pesos)'!C200","v":46860630.641979784},2191899.6863169889,944728.0485021777,3136627.7348191668,118597393.3788258,null,{"$f":"I199-J200","v":122413.49615310463},{"$f":"'Hipotecario (Pesos)'!F200/Inversion!$C$28","v":2262.4283399036385},{"$f":"'Hipotecario (Pesos)'!G200/Inversion!$C$28","v":975.12651868872149},{"$f":"'Hipotecario (Pesos)'!E200/Inversion!$C$28","v":3237.5548585923602},{"$f":"'Hipotecario (Pesos)'!H200/Inversion!$C$28","v":122413.49615310447},null,{"$f":"O199*(1+Inversion!$C$27)","v":968.82612706767384}]
[{"$f":"IF(A200<Inversion!$C$23,A200+1,\"-\")","v":196},{"$f":"IF(A201<>\"-\",DATE(YEAR(Inversion!$C$7),MONTH(Inversion!$C$7)+A201,DAY(Inversion!$C$7)),\"-\")","v":"2041-11-10"},{"$f":"'Hipotecario (Pesos)'!C201","v":46010275.457357772},2219795.7979868054,932099.63093625114,3151895.4289230565,116954876.39002831,null,120133.37270582686,{"$f":"'Hipotecario (Pesos)'!F201/Inversion!$C$28","v":2280.1234472777705},{"$f":"'Hipotecario (Pesos)'!G201/Inversion!$C$28","v":957.43141131458958},{"$f":"'Hipotecario (Pesos)'!E201/Inversion!$C$28","v":3237.5548585923602},{"$f":"'Hipotecario (Pesos)'!H201/Inversion!$C$28","v":120133.3727058267},null,{"$f":"O200*(1+Inversion!$C$27)","v":973.54193723020126}]
[{"$f":"IF(A201<Inversion!$C$23,A201+1,\"-\")","v":197},{"$f":"IF(A202<>\"-\",DATE(YEAR(Inversion!$C$7),MONTH(Inversion!$C$7)+A202,DAY(Inversion!$C$7)),\"-\")","v":"2041-12-10"},{"$f":"'Hipotecario (Pesos)'!C202","v":45153269.39852567},2248046.9409799767,919190.49832003622,3167237.4393000132,115276113.22374023,null,117835.41575261467,{"$f":"'Hipotecario (Pesos)'!F202/Inversion!$C$28","v":2297.9569532121836},{"$f":"'Hipotecario (Pesos)'!G202/Inversion!$C$28","v":939.59790538017648},{"$f":"'Hipotecario (Pesos)'!E202/Inversion!$C$28","v":3237.5548585923602},{"$f":"'Hipotecario (Pesos)'!H202/Inversion!$C$28","v":117835.41575261451},null,{"$f":"O201*(1+Inversion!$C$27)","v":978.28070183715124}]
[{"$f":"IF(A202<Inversion!$C$23,A202+1,\"-\")","v":198},{"$f":"IF(A203<>\"-\",DATE(YEAR(Inversion!$C$7),MONTH(Inversion!$C$7)+A203,DAY(Inversion!$C$7)),\"-\")","v":"2042-01-10"},{"$f":"'Hipotecario (Pesos)'!C203","v":44289560.447069816},2276657.6337484675,905996.4939397861,3182654.1276882538,113560567.90008453,null,115519.48581245256,{"$f":"'Hipotecario (Pesos)'!F203/Inversion!$C$28","v":2315.929940162106},{"$f":"'Hipotecario (Pesos)'!G203/Inversion!$C$28","v":921.62491843025407},{"$f":"'Hipotecario (Pesos)'!E203/Inversion!$C$28","v":3237.5548585923602},{"$f":"'Hipotecario (Pesos)'!H203/Inversion!$C$28","v":115519.4858124524},null,{"$f":"O202*(1+Inversion!$C$27)","v":983.0425326204429}]
[{"$f":"IF(A203<Inversion!$C$23,A203+1,\"-\")","v":199},{"$f":"IF(A204<>\"-\",DATE(YEAR(Inversion!$C$7),MONTH(Inversion!$C$7)+A204,DAY(Inversion!$C$7)),\"-\")","v":"2042-02-10"},{"$f":"'Hipotecario (Pesos)'!C204","v":43419096.177725457},2305632.4522501761,892513.4053365977,3198145.857586774,111807697.25431709,null,113185.4423134036,{"$f":"'Hipotecario (Pesos)'!F204/Inversion!$C$28","v":2334.0434990489616},{"$f":"'Hipotecario (Pesos)'!G204/Inversion!$C$28","v":903.51135954339861},{"$f":"'Hipotecario (Pesos)'!E204/Inversion!$C$28","v":3237.5548585923602},{"$f":"'Hipotecario (Pesos)'!H204/Inversion!$C$28","v":113185.44231340344},null,{"$f":"O203*(1+Inversion!$C$27)","v":987.82754185585577}]
[{"$f":"IF(A204<Inversion!$C$23,A204+1,\"-\")","v":200},{"$f":"IF(A205<>\"-\",DATE(YEAR(Inversion!$C$7),MONTH(Inversion!$C$7)+A205,DAY(Inversion!$C$7)),\"-\")","v":"2042-03-10"},{"$f":"'Hipotecario (Pesos)'!C205","v":42541823.755194664},2334976.0306808101,878736.96358311037,3213712.99426392,110016950.84361623,null,110833.14358407701,{"$f":"'Hipotecario (Pesos)'!F205/Inversion!$C$28","v":2352.2987293265869},{"$f":"'Hipotecario (Pesos)'!G205/Inversion!$C$28","v":885.25612926577355},{"$f":"'Hipotecario (Pesos)'!E205/Inversion!$C$28","v":3237.5548585923602},{"$f":"'Hipotecario (Pesos)'!H205/Inversion!$C$28","v":110833.14358407685},null,{"$f":"O204*(1+Inversion!$C$27)","v":992.63584236567772}]
[{"$f":"IF(A205<Inversion!$C$23,A205+1,\"-\")","v":201},{"$f":"IF(A206<>\"-\",DATE(YEAR(Inversion!$C$7),MONTH(Inversion!$C$7)+A206,DAY(Inversion!$C$7)),\"-\")","v":"2042-04-10"},{"$f":"'Hipotecario (Pesos)'!C206","v":41657689.930939339},2364693.0622150693,864662.8425509301,3229355.9047659994,108187770.85267733,null,108462.44684502904,{"$f":"'Hipotecario (Pesos)'!F206/Inversion!$C$28","v":2370.6967390479645},{"$f":"'Hipotecario (Pesos)'!G206/Inversion!$C$28","v":866.85811954439566},{"$f":"'Hipotecario (Pesos)'!E206/Inversion!$C$28","v":3237.5548585923602},{"$f":"'Hipotecario (Pesos)'!H206/Inversion!$C$28","v":108462.4468450289},null,{"$f":"O205*(1+Inversion!$C$27)","v":997.46754752136451}]
[{"$f":"IF(A206<Inversion!$C$23,A206+1,\"-\")","v":202},{"$f":"IF(A207<>\"-\",DATE(YEAR(Inversion!$C$7),MONTH(Inversion!$C$7)+A207,DAY(Inversion!$C$7)),\"-\")","v":"2042-05-10"},{"$f":"'Hipotecario (Pesos)'!C207","v":40766641.039949141},2394788.2997572729,850286.6581686642,3245074.9579259376,106319591.99809721,null,106073.20820009656,{"$f":"'Hipotecario (Pesos)'!F207/Inversion!$C$28","v":2389.2386449324817},{"$f":"'Hipotecario (Pesos)'!G207/Inversion!$C$28","v":848.31621365987837},{"$f":"'Hipotecario (Pesos)'!E207/Inversion!$C$28","v":3237.5548585923602},{"$f":"'Hipotecario (Pesos)'!H207/Inversion!$C$28","v":106073.20820009641},null,{"$f":"O206*(1+Inversion!$C$27)","v":1002.3227712462135}]
[{"$f":"IF(A207<Inversion!$C$23,A207+1,\"-\")","v":203},{"$f":"IF(A208<>\"-\",DATE(YEAR(Inversion!$C$7),MONTH(Inversion!$C$7)+A208,DAY(Inversion!$C$7)),\"-\")","v":"2042-06-10"},{"$f":"'Hipotecario (Pesos)'!C208","v":39868622.99748414},2425266.5567015265,835603.96767044347,3260870.5243719704,104411841.43153307,null,103665.28262766285,{"$f":"'Hipotecario (Pesos)'!F208/Inversion!$C$28","v":2407.9255724337108},{"$f":"'Hipotecario (Pesos)'!G208/Inversion!$C$28","v":829.62928615864917},{"$f":"'Hipotecario (Pesos)'!E208/Inversion!$C$28","v":3237.5548585923602},{"$f":"'Hipotecario (Pesos)'!H208/Inversion!$C$28","v":103665.2826276627},null,{"$f":"O207*(1+Inversion!$C$27)","v":1007.2016280180492}]
[{"$f":"IF(A208<Inversion!$C$23,A208+1,\"-\")","v":204},{"$f":"IF(A209<>\"-\",DATE(YEAR(Inversion!$C$7),MONTH(Inversion!$C$7)+A209,DAY(Inversion!$C$7)),\"-\")","v":"2042-07-10"},{"$f":"'Hipotecario (Pesos)'!C209","v":38963581.295791991},2456132.7077015741,820610.26883481327,3276742.9765363871,102463938.64162004,null,101238.52397185513,{"$f":"'Hipotecario (Pesos)'!F209/Inversion!$C$28","v":2426.7586558077228},{"$f":"'Hipotecario (Pesos)'!G209/Inversion!$C$28","v":810.79620278463722},{"$f":"'Hipotecario (Pesos)'!E209/Inversion!$C$28","v":3237.5548585923602},{"$f":"'Hipotecario (Pesos)'!H209/Inversion!$C$28","v":101238.52397185497},null,{"$f":"O208*(1+Inversion!$C$27)","v":1012.1042328719228}]
[{"$f":"IF(A209<Inversion!$C$23,A209+1,\"-\")","v":205},{"$f":"IF(A210<>\"-\",DATE(YEAR(Inversion!$C$7),MONTH(Inversion!$C$7)+A210,DAY(Inversion!$C$7)),\"-\")","v":"2042-08-10"},{"$f":"'Hipotecario (Pesos)'!C210","v":38051461.000799425},2487391.6894504419,805300.99921386922,3292692.6886643111,100475295.35463189,null,98792.784933673203,{"$f":"'Hipotecario (Pesos)'!F210/Inversion!$C$28","v":2445.7390381819337},{"$f":"'Hipotecario (Pesos)'!G210/Inversion!$C$28","v":791.81582041042657},{"$f":"'Hipotecario (Pesos)'!E210/Inversion!$C$28","v":3237.5548585923602},{"$f":"'Hipotecario (Pesos)'!H210/Inversion!$C$28","v":98792.784933673029},null,{"$f":"O209*(1+Inversion!$C$27)","v":1017.0307014028247}]
[{"$f":"IF(A210<Inversion!$C$23,A210+1,\"-\")","v":206},{"$f":"IF(A211<>\"-\",DATE(YEAR(Inversion!$C$7),MONTH(Inversion!$C$7)+A211,DAY(Inversion!$C$7)),\"-\")","v":"2042-09-10"},{"$f":"'Hipotecario (Pesos)'!C211","v":37132206.748777881},2519048.5014700075,789671.53535251203,3308720.0368225197,98445315.433868319,null,96327.917062048713,{"$f":"'Hipotecario (Pesos)'!F211/Inversion!$C$28","v":2464.8678716244895},{"$f":"'Hipotecario (Pesos)'!G211/Inversion!$C$28","v":772.68698696787044},{"$f":"'Hipotecario (Pesos)'!E211/Inversion!$C$28","v":3237.5548585923602},{"$f":"'Hipotecario (Pesos)'!H211/Inversion!$C$28","v":96327.917062048538},null,{"$f":"O210*(1+Inversion!$C$27)","v":1021.9811497684092}]
[{"$f":"IF(A211<Inversion!$C$23,A211+1,\"-\")","v":207},{"$f":"IF(A212<>\"-\",DATE(YEAR(Inversion!$C$7),MONTH(Inversion!$C$7)+A212,DAY(Inversion!$C$7)),\"-\")","v":"2042-10-10"},{"$f":"'Hipotecario (Pesos)'!C212","v":36205762.742983036},2551108.206910619,773717.19199769804,3324825.3989083171,96373394.777753219,null,93843.770744834517,{"$f":"'Hipotecario (Pesos)'!F212/Inversion!$C$28","v":2484.1463172141966},{"$f":"'Hipotecario (Pesos)'!G212/Inversion!$C$28","v":753.40854137816336},{"$f":"'Hipotecario (Pesos)'!E212/Inversion!$C$28","v":3237.5548585923602},{"$f":"'Hipotecario (Pesos)'!H212/Inversion!$C$28","v":93843.770744834343},null,{"$f":"O211*(1+Inversion!$C$27)","v":1026.9556946917344}]
[{"$f":"IF(A212<Inversion!$C$23,A212+1,\"-\")","v":208},{"$f":"IF(A213<>\"-\",DATE(YEAR(Inversion!$C$7),MONTH(Inversion!$C$7)+A213,DAY(Inversion!$C$7)),\"-\")","v":"2042-11-10"},{"$f":"'Hipotecario (Pesos)'!C213","v":35272072.750268064},2583575.9333608844,757433.22129755537,3341009.15465844,94258921.216626808,null,91340.19519972353,{"$f":"'Hipotecario (Pesos)'!F213/Inversion!$C$28","v":2503.5755451109935},{"$f":"'Hipotecario (Pesos)'!G213/Inversion!$C$28","v":733.9793134813666},{"$f":"'Hipotecario (Pesos)'!E213/Inversion!$C$28","v":3237.5548585923602},{"$f":"'Hipotecario (Pesos)'!H213/Inversion!$C$28","v":91340.195199723355},null,{"$f":"O212*(1+Inversion!$C$27)","v":1031.9544534640133}]
[{"$f":"IF(A213<Inversion!$C$23,A213+1,\"-\")","v":209},{"$f":"IF(A214<>\"-\",DATE(YEAR(Inversion!$C$7),MONTH(Inversion!$C$7)+A214,DAY(Inversion!$C$7)),\"-\")","v":"2042-12-10"},{"$f":"'Hipotecario (Pesos)'!C214","v":34331080.097670421},2616456.8736677766,740814.8119902371,3357271.6856580139,92101274.408215642,null,88817.038465096557,{"$f":"'Hipotecario (Pesos)'!F214/Inversion!$C$28","v":2523.156734626979},{"$f":"'Hipotecario (Pesos)'!G214/Inversion!$C$28","v":714.39812396538116},{"$f":"'Hipotecario (Pesos)'!E214/Inversion!$C$28","v":3237.5548585923602},{"$f":"'Hipotecario (Pesos)'!H214/Inversion!$C$28","v":88817.038465096368},null,{"$f":"O213*(1+Inversion!$C$27)","v":1036.9775439473804}]
[{"$f":"IF(A214<Inversion!$C$23,A214+1,\"-\")","v":210},{"$f":"IF(A215<>\"-\",DATE(YEAR(Inversion!$C$7),MONTH(Inversion!$C$7)+A215,DAY(Inversion!$C$7)),\"-\")","v":"2043-01-10"},{"$f":"'Hipotecario (Pesos)'!C215","v":33382727.668971892},2649756.286767168,723857.08858238102,3373613.3753495491,89899825.731763005,null,86274.147390798564,{"$f":"'Hipotecario (Pesos)'!F215/Inversion!$C$28","v":2542.8910742979938},{"$f":"'Hipotecario (Pesos)'!G215/Inversion!$C$28","v":694.66378429436634},{"$f":"'Hipotecario (Pesos)'!E215/Inversion!$C$28","v":3237.5548585923602},{"$f":"'Hipotecario (Pesos)'!H215/Inversion!$C$28","v":86274.147390798375},null,{"$f":"O214*(1+Inversion!$C$27)","v":1042.0250845776695}]
[{"$f":"IF(A215<Inversion!$C$23,A215+1,\"-\")","v":211},{"$f":"IF(A216<>\"-\",DATE(YEAR(Inversion!$C$7),MONTH(Inversion!$C$7)+A216,DAY(Inversion!$C$7)),\"-\")","v":"2043-02-10"},{"$f":"'Hipotecario (Pesos)'!C216","v":32426957.901231784},2683479.4985249373,706555.11051704397,3390034.6090419809,87653938.180802956,null,83711.367628842796,{"$f":"'Hipotecario (Pesos)'!F216/Inversion!$C$28","v":2562.7797619557614},{"$f":"'Hipotecario (Pesos)'!G216/Inversion!$C$28","v":674.77509663659896},{"$f":"'Hipotecario (Pesos)'!E216/Inversion!$C$28","v":3237.5548585923602},{"$f":"'Hipotecario (Pesos)'!H216/Inversion!$C$28","v":83711.367628842607},null,{"$f":"O215*(1+Inversion!$C$27)","v":1047.0971943672073}]
[{"$f":"IF(A216<Inversion!$C$23,A216+1,\"-\")","v":212},{"$f":"IF(A217<>\"-\",DATE(YEAR(Inversion!$C$7),MONTH(Inversion!$C$7)+A217,DAY(Inversion!$C$7)),\"-\")","v":"2043-03-10"},{"$f":"'Hipotecario (Pesos)'!C217","v":31463712.781292971},2717631.9025887828,688903.87133097323,3406535.7739197561,85362966.254560679,null,81128.543624042199,{"$f":"'Hipotecario (Pesos)'!F217/Inversion!$C$28","v":2582.8240048005937},{"$f":"'Hipotecario (Pesos)'!G217/Inversion!$C$28","v":654.73085379176666},{"$f":"'Hipotecario (Pesos)'!E217/Inversion!$C$28","v":3237.5548585923602},{"$f":"'Hipotecario (Pesos)'!H217/Inversion!$C$28","v":81128.543624042009},null,{"$f":"O216*(1+Inversion!$C$27)","v":1052.1939929076186}]
[{"$f":"IF(A217<Inversion!$C$23,A217+1,\"-\")","v":213},{"$f":"IF(A218<>\"-\",DATE(YEAR(Inversion!$C$7),MONTH(Inversion!$C$7)+A218,DAY(Inversion!$C$7)),\"-\")","v":"2043-04-10"},{"$f":"'Hipotecario (Pesos)'!C218","v":30492933.842260621},2752218.9612508775,670898.2978010833,3423117.2590519609,83026255.84796156,null,78525.518604567536,{"$f":"'Hipotecario (Pesos)'!F218/Inversion!$C$28","v":2603.0250194746664},{"$f":"'Hipotecario (Pesos)'!G218/Inversion!$C$28","v":634.52983911769377},{"$f":"'Hipotecario (Pesos)'!E218/Inversion!$C$28","v":3237.5548585923602},{"$f":"'Hipotecario (Pesos)'!H218/Inversion!$C$28","v":78525.518604567347},null,{"$f":"O217*(1+Inversion!$C$27)","v":1057.3156003726467}]
[{"$f":"IF(A218<Inversion!$C$23,A218+1,\"-\")","v":214},{"$f":"IF(A219<>\"-\",DATE(YEAR(Inversion!$C$7),MONTH(Inversion!$C$7)+A219,DAY(Inversion!$C$7)),\"-\")","v":"2043-05-10"},{"$f":"'Hipotecario (Pesos)'!C219","v":29514562.159953382},2787246.2063214974,652533.24907999707,3439779.4554014942,80643144.140231118,null,75902.134572431663,{"$f":"'Hipotecario (Pesos)'!F219/Inversion!$C$28","v":2623.3840321358666},{"$f":"'Hipotecario (Pesos)'!G219/Inversion!$C$28","v":614.17082645649361},{"$f":"'Hipotecario (Pesos)'!E219/Inversion!$C$28","v":3237.5548585923602},{"$f":"'Hipotecario (Pesos)'!H219/Inversion!$C$28","v":75902.134572431474},null,{"$f":"O218*(1+Inversion!$C$27)","v":1062.4621375209865}]
[{"$f":"IF(A219<Inversion!$C$23,A219+1,\"-\")","v":215},{"$f":"IF(A220<>\"-\",DATE(YEAR(Inversion!$C$7),MONTH(Inversion!$C$7)+A220,DAY(Inversion!$C$7)),\"-\")","v":"2043-06-10"},{"$f":"'Hipotecario (Pesos)'!C220","v":28528538.349326812},2822719.2400137754,633803.51582051395,3456522.7558342894,78212959.482068181,null,73258.232293899448,{"$f":"'Hipotecario (Pesos)'!F220/Inversion!$C$28","v":2643.9022785322163},{"$f":"'Hipotecario (Pesos)'!G220/Inversion!$C$28","v":593.65258006014392},{"$f":"'Hipotecario (Pesos)'!E220/Inversion!$C$28","v":3237.5548585923602},{"$f":"'Hipotecario (Pesos)'!H220/Inversion!$C$28","v":73258.232293899273},null,{"$f":"O219*(1+Inversion!$C$27)","v":1067.6337256991324}]
[{"$f":"IF(A220<Inversion!$C$23,A220+1,\"-\")","v":216},{"$f":"IF(A221<>\"-\",DATE(YEAR(Inversion!$C$7),MONTH(Inversion!$C$7)+A221,DAY(Inversion!$C$7)),\"-\")","v":"2043-07-10"},{"$f":"'Hipotecario (Pesos)'!C221","v":27534802.560868833},2858643.7358397106,614703.81928886112,3473347.5551285716,75735021.281372562,null,70593.651289822563,{"$f":"'Hipotecario (Pesos)'!F221/Inversion!$C$28","v":2664.5810040768815},{"$f":"'Hipotecario (Pesos)'!G221/Inversion!$C$28","v":572.97385451547893},{"$f":"'Hipotecario (Pesos)'!E221/Inversion!$C$28","v":3237.5548585923602},{"$f":"'Hipotecario (Pesos)'!H221/Inversion!$C$28","v":70593.651289822388},null,{"$f":"O220*(1+Inversion!$C$27)","v":1072.8304868442385}]
[{"$f":"IF(A221<Inversion!$C$23,A221+1,\"-\")","v":217},{"$f":"IF(A222<>\"-\",DATE(YEAR(Inversion!$C$7),MONTH(Inversion!$C$7)+A222,DAY(Inversion!$C$7)),\"-\")","v":"2043-08-10"},{"$f":"'Hipotecario (Pesos)'!C222","v":26533294.476966999},2895025.4395175823,595228.81046658801,3490254.2499841703,73208639.887509391,null,67908.229825898801,{"$f":"'Hipotecario (Pesos)'!F222/Inversion!$C$28","v":2685.4214639237643},{"$f":"'Hipotecario (Pesos)'!G222/Inversion!$C$28","v":552.13339466859566},{"$f":"'Hipotecario (Pesos)'!E222/Inversion!$C$28","v":3237.5548585923602},{"$f":"'Hipotecario (Pesos)'!H222/Inversion!$C$28","v":67908.229825898627},null,{"$f":"O221*(1+Inversion!$C$27)","v":1078.0525434869944}]
[{"$f":"IF(A222<Inversion!$C$23,A222+1,\"-\")","v":218},{"$f":"IF(A223<>\"-\",DATE(YEAR(Inversion!$C$7),MONTH(Inversion!$C$7)+A223,DAY(Inversion!$C$7)),\"-\")","v":"2043-09-10"},{"$f":"'Hipotecario (Pesos)'!C223","v":25523953.308247346},2931870.1698909146,575373.06914095709,3507243.2390318718,70633116.474090904,null,65201.80490285511,{"$f":"'Hipotecario (Pesos)'!F223/Inversion!$C$28","v":2706.4249230436913},{"$f":"'Hipotecario (Pesos)'!G223/Inversion!$C$28","v":531.1299355486691},{"$f":"'Hipotecario (Pesos)'!E223/Inversion!$C$28","v":3237.5548585923602},{"$f":"'Hipotecario (Pesos)'!H223/Inversion!$C$28","v":65201.804902854929},null,{"$f":"O222*(1+Inversion!$C$27)","v":1083.300018754514}]
[{"$f":"IF(A223<Inversion!$C$23,A223+1,\"-\")","v":219},{"$f":"IF(A224<>\"-\",DATE(YEAR(Inversion!$C$7),MONTH(Inversion!$C$7)+A224,DAY(Inversion!$C$7)),\"-\")","v":"2043-10-10"},{"$f":"'Hipotecario (Pesos)'!C224","v":24506717.789884605},2969183.8198591336,555131.10298368358,3524314.9228428169,68007742.920257181,null,62474.212246553921,{"$f":"'Hipotecario (Pesos)'!F224/Inversion!$C$28","v":2727.5926563011894},{"$f":"'Hipotecario (Pesos)'!G224/Inversion!$C$28","v":509.96220229117085},{"$f":"'Hipotecario (Pesos)'!E224/Inversion!$C$28","v":3237.5548585923602},{"$f":"'Hipotecario (Pesos)'!H224/Inversion!$C$28","v":62474.212246553747},null,{"$f":"O223*(1+Inversion!$C$27)","v":1088.5730363732387}]
[{"$f":"IF(A224<Inversion!$C$23,A224+1,\"-\")","v":220},{"$f":"IF(A225<>\"-\",DATE(YEAR(Inversion!$C$7),MONTH(Inversion!$C$7)+A225,DAY(Inversion!$C$7)),\"-\")","v":"2043-11-10"},{"$f":"'Hipotecario (Pesos)'!C225","v":23481526.177883569},3006972.3573200689,534497.34661787876,3541469.7039379478,65331801.690436326,null,59725.286298022053,{"$f":"'Hipotecario (Pesos)'!F225/Inversion!$C$28","v":2748.9259485318721},{"$f":"'Hipotecario (Pesos)'!G225/Inversion!$C$28","v":488.62891006048795},{"$f":"'Hipotecario (Pesos)'!E225/Inversion!$C$28","v":3237.5548585923602},{"$f":"'Hipotecario (Pesos)'!H225/Inversion!$C$28","v":59725.286298021878},null,{"$f":"O224*(1+Inversion!$C$27)","v":1093.8717206718545}]
[{"$f":"IF(A225<Inversion!$C$23,A225+1,\"-\")","v":221},{"$f":"IF(A226<>\"-\",DATE(YEAR(Inversion!$C$7),MONTH(Inversion!$C$7)+A226,DAY(Inversion!$C$7)),\"-\")","v":"2043-12-10"},{"$f":"'Hipotecario (Pesos)'!C226","v":22448316.245331354},3045241.8261244544,513466.1606730413,3558707.9867974962,62604565.712565035,null,56954.860203401629,{"$f":"'Hipotecario (Pesos)'!F226/Inversion!$C$28","v":2770.426094620424},{"$f":"'Hipotecario (Pesos)'!G226/Inversion!$C$28","v":467.12876397193577},{"$f":"'Hipotecario (Pesos)'!E226/Inversion!$C$28","v":3237.5548585923602},{"$f":"'Hipotecario (Pesos)'!H226/Inversion!$C$28","v":56954.860203401455},null,{"$f":"O225*(1+Inversion!$C$27)","v":1099.1961965842236}]
[{"$f":"IF(A226<Inversion!$C$23,A226+1,\"-\")","v":222},{"$f":"IF(A227<>\"-\",DATE(YEAR(Inversion!$C$7),MONTH(Inversion!$C$7)+A227,DAY(Inversion!$C$7)),\"-\")","v":"2044-01-10"},{"$f":"'Hipotecario (Pesos)'!C227","v":21407025.27862037},3083998.3470425741,492031.83082794916,3576030.1778705232,59825298.254749723,null,54162.765803822433,{"$f":"'Hipotecario (Pesos)'!F227/Inversion!$C$28","v":2792.0943995791986},{"$f":"'Hipotecario (Pesos)'!G227/Inversion!$C$28","v":445.46045901316154},{"$f":"'Hipotecario (Pesos)'!E227/Inversion!$C$28","v":3237.5548585923602},{"$f":"'Hipotecario (Pesos)'!H227/Inversion!$C$28","v":54162.765803822258},null,{"$f":"O226*(1+Inversion!$C$27)","v":1104.5465896523301}]
[{"$f":"IF(A227<Inversion!$C$23,A227+1,\"-\")","v":223},{"$f":"IF(A228<>\"-\",DATE(YEAR(Inversion!$C$7),MONTH(Inversion!$C$7)+A228,DAY(Inversion!$C$7)),\"-\")","v":"2044-02-10"},{"$f":"'Hipotecario (Pesos)'!C228","v":20357590.073641732},3123248.1187432059,470188.56684129476,3593436.6855845004,56993252.800348222,null,51348.833625195002,{"$f":"'Hipotecario (Pesos)'!F228/Inversion!$C$28","v":2813.9321786274272},{"$f":"'Hipotecario (Pesos)'!G228/Inversion!$C$28","v":423.62267996493301},{"$f":"'Hipotecario (Pesos)'!E228/Inversion!$C$28","v":3237.5548585923602},{"$f":"'Hipotecario (Pesos)'!H228/Inversion!$C$28","v":51348.83362519482},null,{"$f":"O227*(1+Inversion!$C$27)","v":1109.92302602924}]
[{"$f":"IF(A228<Inversion!$C$23,A228+1,\"-\")","v":224},{"$f":"IF(A229<>\"-\",DATE(YEAR(Inversion!$C$7),MONTH(Inversion!$C$7)+A229,DAY(Inversion!$C$7)),\"-\")","v":"2044-03-10"},{"$f":"'Hipotecario (Pesos)'!C229","v":19299946.931948915},3162997.4187850342,447930.50156990736,3610927.9203549419,54107672.921452262,null,48512.892867923947,{"$f":"'Hipotecario (Pesos)'!F229/Inversion!$C$28","v":2835.9407572710529},{"$f":"'Hipotecario (Pesos)'!G229/Inversion!$C$28","v":401.61410132130709},{"$f":"'Hipotecario (Pesos)'!E229/Inversion!$C$28","v":3237.5548585923602},{"$f":"'Hipotecario (Pesos)'!H229/Inversion!$C$28","v":48512.892867923765},null,{"$f":"O228*(1+Inversion!$C$27)","v":1115.3256324820759}]
[{"$f":"IF(A229<Inversion!$C$23,A229+1,\"-\")","v":225},{"$f":"IF(A230<>\"-\",DATE(YEAR(Inversion!$C$7),MONTH(Inversion!$C$7)+A230,DAY(Inversion!$C$7)),\"-\")","v":"2044-04-10"},{"$f":"'Hipotecario (Pesos)'!C230","v":18234031.656891394},3203252.6046206728,425251.68997440551,3628504.2945950786,51167792.150749795,null,45654.77139654076,{"$f":"'Hipotecario (Pesos)'!F230/Inversion!$C$28","v":2858.1214713831851},{"$f":"'Hipotecario (Pesos)'!G230/Inversion!$C$28","v":379.43338720917495},{"$f":"'Hipotecario (Pesos)'!E230/Inversion!$C$28","v":3237.5548585923602},{"$f":"'Hipotecario (Pesos)'!H230/Inversion!$C$28","v":45654.771396540578},null,{"$f":"O229*(1+Inversion!$C$27)","v":1120.7545363950055}]
[{"$f":"IF(A230<Inversion!$C$23,A230+1,\"-\")","v":226},{"$f":"IF(A231<>\"-\",DATE(YEAR(Inversion!$C$7),MONTH(Inversion!$C$7)+A231,DAY(Inversion!$C$7)),\"-\")","v":"2044-05-10"},{"$f":"'Hipotecario (Pesos)'!C231","v":17159779.549718045},3244020.114613466,402146.10811211827,3646166.2227255846,48172833.851747073,null,42774.29572925558,{"$f":"'Hipotecario (Pesos)'!F231/Inversion!$C$28","v":2880.4756672851827},{"$f":"'Hipotecario (Pesos)'!G231/Inversion!$C$28","v":357.07919130717733},{"$f":"'Hipotecario (Pesos)'!E231/Inversion!$C$28","v":3237.5548585923602},{"$f":"'Hipotecario (Pesos)'!H231/Inversion!$C$28","v":42774.295729255398},null,{"$f":"O230*(1+Inversion!$C$27)","v":1126.2098657722458}]
[{"$f":"IF(A231<Inversion!$C$23,A231+1,\"-\")","v":227},{"$f":"IF(A232<>\"-\",DATE(YEAR(Inversion!$C$7),MONTH(Inversion!$C$7)+A232,DAY(Inversion!$C$7)),\"-\")","v":"2044-06-10"},{"$f":"'Hipotecario (Pesos)'!C232","v":16077125.40565007},3285306.469067235,378607.6521171123,3663914.1211843472,45122011.08732909,null,39871.291027427207,{"$f":"'Hipotecario (Pesos)'!F232/Inversion!$C$28","v":2903.0047018283749},{"$f":"'Hipotecario (Pesos)'!G232/Inversion!$C$28","v":334.55015676398534},{"$f":"'Hipotecario (Pesos)'!E232/Inversion!$C$28","v":3237.5548585923602},{"$f":"'Hipotecario (Pesos)'!H232/Inversion!$C$28","v":39871.291027427025},null,{"$f":"O231*(1+Inversion!$C$27)","v":1131.6917492410805}]
[{"$f":"IF(A232<Inversion!$C$23,A232+1,\"-\")","v":228},{"$f":"IF(A233<>\"-\",DATE(YEAR(Inversion!$C$7),MONTH(Inversion!$C$7)+A233,DAY(Inversion!$C$7)),\"-\")","v":"2044-07-10"},{"$f":"'Hipotecario (Pesos)'!C233","v":14986003.509923209},3327118.271269124,354630.13716716203,3681748.4084362863,42014526.486637503,null,36945.581084950791,{"$f":"'Hipotecario (Pesos)'!F233/Inversion!$C$28","v":2925.7099424764169},{"$f":"'Hipotecario (Pesos)'!G233/Inversion!$C$28","v":311.84491611594308},{"$f":"'Hipotecario (Pesos)'!E233/Inversion!$C$28","v":3237.5548585923602},{"$f":"'Hipotecario (Pesos)'!H233/Inversion!$C$28","v":36945.581084950609},null,{"$f":"O232*(1+Inversion!$C$27)","v":1137.2003160548929}]
[{"$f":"IF(A233<Inversion!$C$23,A233+1,\"-\")","v":229},{"$f":"IF(A234<>\"-\",DATE(YEAR(Inversion!$C$7),MONTH(Inversion!$C$7)+A234,DAY(Inversion!$C$7)),\"-\")","v":"2044-08-10"},{"$f":"'Hipotecario (Pesos)'!C234","v":13886347.633798994},3369462.2085457258,330207.29643749527,3699669.5049832212,38849572.110244438,null,33996.988317562493,{"$f":"'Hipotecario (Pesos)'!F234/Inversion!$C$28","v":2948.5927673882948},{"$f":"'Hipotecario (Pesos)'!G234/Inversion!$C$28","v":288.96209120406525},{"$f":"'Hipotecario (Pesos)'!E234/Inversion!$C$28","v":3237.5548585923602},{"$f":"'Hipotecario (Pesos)'!H234/Inversion!$C$28","v":33996.988317562318},null,{"$f":"O233*(1+Inversion!$C$27)","v":1142.7356960962143}]
[{"$f":"IF(A234<Inversion!$C$23,A234+1,\"-\")","v":230},{"$f":"IF(A235<>\"-\",DATE(YEAR(Inversion!$C$7),MONTH(Inversion!$C$7)+A235,DAY(Inversion!$C$7)),\"-\")","v":"2044-09-10"},{"$f":"'Hipotecario (Pesos)'!C235","v":12778091.030544814},3412345.0533326403,305332.78004114458,3717677.8333737846,35626329.313600346,null,31025.33375206052,{"$f":"'Hipotecario (Pesos)'!F235/Inversion!$C$28","v":2971.6545655019745},{"$f":"'Hipotecario (Pesos)'!G235/Inversion!$C$28","v":265.9002930903859},{"$f":"'Hipotecario (Pesos)'!E235/Inversion!$C$28","v":3237.5548585923602},{"$f":"'Hipotecario (Pesos)'!H235/Inversion!$C$28","v":31025.333752060338},null,{"$f":"O234*(1+Inversion!$C$27)","v":1148.298019879785}]
[{"$f":"IF(A235<Inversion!$C$23,A235+1,\"-\")","v":231},{"$f":"IF(A236<>\"-\",DATE(YEAR(Inversion!$C$7),MONTH(Inversion!$C$7)+A236,DAY(Inversion!$C$7)),\"-\")","v":"2044-10-10"},{"$f":"'Hipotecario (Pesos)'!C236","v":11661166.431382524},3455773.6642576503,280000.15395573614,3735773.818213386,32343968.608734209,null,28030.437015441814,{"$f":"'Hipotecario (Pesos)'!F236/Inversion!$C$28","v":2994.8967366187076},{"$f":"'Hipotecario (Pesos)'!G236/Inversion!$C$28","v":242.65812197365278},{"$f":"'Hipotecario (Pesos)'!E236/Inversion!$C$28","v":3237.5548585923602},{"$f":"'Hipotecario (Pesos)'!H236/Inversion!$C$28","v":28030.437015441632},null,{"$f":"O235*(1+Inversion!$C$27)","v":1153.8874185556331}]
[{"$f":"IF(A236<Inversion!$C$23,A236+1,\"-\")","v":232},{"$f":"IF(A237<>\"-\",DATE(YEAR(Inversion!$C$7),MONTH(Inversion!$C$7)+A237,DAY(Inversion!$C$7)),\"-\")","v":"2044-11-10"},{"$f":"'Hipotecario (Pesos)'!C237","v":10535506.041405385},3499754.987237684,254202.89893654099,3753957.8861742248,29001649.524183411,null,25012.116323953815,{"$f":"'Hipotecario (Pesos)'!F237/Inversion!$C$28","v":3018.3206914879975},{"$f":"'Hipotecario (Pesos)'!G237/Inversion!$C$28","v":219.23416710436294},{"$f":"'Hipotecario (Pesos)'!E237/Inversion!$C$28","v":3237.5548585923602},{"$f":"'Hipotecario (Pesos)'!H237/Inversion!$C$28","v":25012.116323953636},null,{"$f":"O236*(1+Inversion!$C$27)","v":1159.5040239121658}]
[{"$f":"IF(A237<Inversion!$C$23,A237+1,\"-\")","v":233},{"$f":"IF(A238<>\"-\",DATE(YEAR(Inversion!$C$7),MONTH(Inversion!$C$7)+A238,DAY(Inversion!$C$7)),\"-\")","v":"2044-12-10"},{"$f":"'Hipotecario (Pesos)'!C238","v":9401041.5354630519},3544296.0565897329,227934.4094156136,3772230.4660053458,25598520.463130996,null,21970.188472060589,{"$f":"'Hipotecario (Pesos)'!F238/Inversion!$C$28","v":3041.9278518932279},{"$f":"'Hipotecario (Pesos)'!G238/Inversion!$C$28","v":195.62700669913264},{"$f":"'Hipotecario (Pesos)'!E238/Inversion!$C$28","v":3237.5548585923602},{"$f":"'Hipotecario (Pesos)'!H238/Inversion!$C$28","v":21970.188472060407},null,{"$f":"O237*(1+Inversion!$C$27)","v":1165.147968379277}]
[{"$f":"IF(A238<Inversion!$C$23,A238+1,\"-\")","v":234},{"$f":"IF(A239<>\"-\",DATE(YEAR(Inversion!$C$7),MONTH(Inversion!$C$7)+A239,DAY(Inversion!$C$7)),\"-\")","v":"2045-01-10"},{"$f":"'Hipotecario (Pesos)'!C239","v":8257704.0540143894},3589403.9961559125,201187.99238684174,3790591.9885427547,22133718.559727345,null,18904.468821322625,{"$f":"'Hipotecario (Pesos)'!F239/Inversion!$C$28","v":3065.7196507379613},{"$f":"'Hipotecario (Pesos)'!G239/Inversion!$C$28","v":171.83520785439856},{"$f":"'Hipotecario (Pesos)'!E239/Inversion!$C$28","v":3237.5548585923602},{"$f":"'Hipotecario (Pesos)'!H239/Inversion!$C$28","v":18904.468821322447},null,{"$f":"O238*(1+Inversion!$C$27)","v":1170.8193850314699}]
[{"$f":"IF(A239<Inversion!$C$23,A239+1,\"-\")","v":235},{"$f":"IF(A240<>\"-\",DATE(YEAR(Inversion!$C$7),MONTH(Inversion!$C$7)+A240,DAY(Inversion!$C$7)),\"-\")","v":"2045-02-10"},{"$f":"'Hipotecario (Pesos)'!C240","v":7105424.198947845},3635086.0204428444,173956.86627672633,3809042.886719571,18606369.533573043,null,15814.77128918971,{"$f":"'Hipotecario (Pesos)'!F240/Inversion!$C$28","v":3089.6975321329164},{"$f":"'Hipotecario (Pesos)'!G240/Inversion!$C$28","v":147.85732645944356},{"$f":"'Hipotecario (Pesos)'!E240/Inversion!$C$28","v":3237.5548585923602},{"$f":"'Hipotecario (Pesos)'!H240/Inversion!$C$28","v":15814.77128918953},null,{"$f":"O239*(1+Inversion!$C$27)","v":1176.5184075909945}]
[{"$f":"IF(A240<Inversion!$C$23,A240+1,\"-\")","v":236},{"$f":"IF(A241<>\"-\",DATE(YEAR(Inversion!$C$7),MONTH(Inversion!$C$7)+A241,DAY(Inversion!$C$7)),\"-\")","v":"2045-03-10"},{"$f":"'Hipotecario (Pesos)'!C241","v":5944132.0293691326},3681349.4357755277,146234.15980071056,3827583.5955762388,15015587.542339643,null,12700.908337706092,{"$f":"'Hipotecario (Pesos)'!F241/Inversion!$C$28","v":3113.8629514836175},{"$f":"'Hipotecario (Pesos)'!G241/Inversion!$C$28","v":123.69190710874231},{"$f":"'Hipotecario (Pesos)'!E241/Inversion!$C$28","v":3237.5548585923602},{"$f":"'Hipotecario (Pesos)'!H241/Inversion!$C$28","v":12700.908337705912},null,{"$f":"O240*(1+Inversion!$C$27)","v":1182.2451704310006}]
[{"$f":"IF(A241<Inversion!$C$23,A241+1,\"-\")","v":237},{"$f":"IF(A242<>\"-\",DATE(YEAR(Inversion!$C$7),MONTH(Inversion!$C$7)+A242,DAY(Inversion!$C$7)),\"-\")","v":"2045-04-10"},{"$f":"'Hipotecario (Pesos)'!C242","v":4773757.0573559757},3728201.6414659107,118012.91080487255,3846214.5522707836,11360475.032504406,null,9562.6909621273535,{"$f":"'Hipotecario (Pesos)'!F242/Inversion!$C$28","v":3138.2173755787385},{"$f":"'Hipotecario (Pesos)'!G242/Inversion!$C$28","v":99.337483013621281},{"$f":"'Hipotecario (Pesos)'!E242/Inversion!$C$28","v":3237.5548585923602},{"$f":"'Hipotecario (Pesos)'!H242/Inversion!$C$28","v":9562.6909621271752},null,{"$f":"O241*(1+Inversion!$C$27)","v":1187.9998085787061}]
[{"$f":"IF(A242<Inversion!$C$23,A242+1,\"-\")","v":238},{"$f":"IF(A243<>\"-\",DATE(YEAR(Inversion!$C$7),MONTH(Inversion!$C$7)+A243,DAY(Inversion!$C$7)),\"-\")","v":"2045-05-10"},{"$f":"'Hipotecario (Pesos)'!C243","v":3594228.243679639},3775650.1309963241,89286.065092796678,3864936.1960891206,7640122.5881751152,null,6399.9286794482214,{"$f":"'Hipotecario (Pesos)'!F243/Inversion!$C$28","v":3162.7622826791326},{"$f":"'Hipotecario (Pesos)'!G243/Inversion!$C$28","v":74.79257591322785},{"$f":"'Hipotecario (Pesos)'!E243/Inversion!$C$28","v":3237.5548585923602},{"$f":"'Hipotecario (Pesos)'!H243/Inversion!$C$28","v":6399.9286794480422},null,{"$f":"O242*(1+Inversion!$C$27)","v":1193.7824577185809}]
[{"$f":"IF(A243<Inversion!$C$23,A243+1,\"-\")","v":239},{"$f":"IF(A244<>\"-\",DATE(YEAR(Inversion!$C$7),MONTH(Inversion!$C$7)+A244,DAY(Inversion!$C$7)),\"-\")","v":"2045-06-10"},{"$f":"'Hipotecario (Pesos)'!C244","v":2405473.9934930014},3823702.4932179758,60046.475237432816,3883748.9684554087,3853608.7779805013,null,3212.4295168406643,{"$f":"'Hipotecario (Pesos)'!F244/Inversion!$C$28","v":3187.4991626075571},{"$f":"'Hipotecario (Pesos)'!G244/Inversion!$C$28","v":50.055695984803066},{"$f":"'Hipotecario (Pesos)'!E244/Inversion!$C$28","v":3237.5548585923602},{"$f":"'Hipotecario (Pesos)'!H244/Inversion!$C$28","v":3212.4295168404847},null,{"$f":"O243*(1+Inversion!$C$27)","v":1199.5932541955456}]
[{"$f":"IF(A244<Inversion!$C$23,A244+1,\"-\")","v":240},{"$f":"IF(A245<>\"-\",DATE(YEAR(Inversion!$C$7),MONTH(Inversion!$C$7)+A245,DAY(Inversion!$C$7)),\"-\")","v":"2045-07-10"},{"$f":"'Hipotecario (Pesos)'!C245","v":1207422.1519849063},3872366.4135647113,30286.899377753311,3902653.3129424648,1.6599572623914975E-6,null,1.5566001820843667E-9,{"$f":"'Hipotecario (Pesos)'!F245/Inversion!$C$28","v":3212.4295168391077},{"$f":"'Hipotecario (Pesos)'!G245/Inversion!$C$28","v":25.12534175325267},{"$f":"'Hipotecario (Pesos)'!E245/Inversion!$C$28","v":3237.5548585923602},{"$f":"'Hipotecario (Pesos)'!H245/Inversion!$C$28","v":1.3770638252925686E-9},null,{"$f":"O244*(1+Inversion!$C$27)","v":1205.4323350181869}]
[{"$f":"IF(A245<Inversion!$C$23,A245+1,\"-\")","v":"-"},{"$f":"IF(A246<>\"-\",DATE(YEAR(Inversion!$C$7),MONTH(Inversion!$C$7)+A246,DAY(Inversion!$C$7)),\"-\")","v":"-"},{"$f":"'Hipotecario (Pesos)'!C246","v":0},0,0,0,0,null,1.5566001820843667E-9,{"$f":"'Hipotecario (Pesos)'!F246/Inversion!$C$28","v":0},{"$f":"'Hipotecario (Pesos)'!G246/Inversion!$C$28","v":0},{"$f":"'Hipotecario (Pesos)'!E246/Inversion!$C$28","v":0},{"$f":"'Hipotecario (Pesos)'!H246/Inversion!$C$28","v":0},null,{"$f":"O245*(1+Inversion!$C$27)","v":1211.2998378619875}]
[{"$f":"IF(A246<Inversion!$C$23,A246+1,\"-\")","v":"-"},{"$f":"IF(A247<>\"-\",DATE(YEAR(Inversion!$C$7),MONTH(Inversion!$C$7)+A247,DAY(Inversion!$C$7)),\"-\")","v":"-"},{"$f":"'Hipotecario (Pesos)'!C247","v":0},0,0,0,0,null,1.5566001820843667E-9,{"$f":"'Hipotecario (Pesos)'!F247/Inversion!$C$28","v":0},{"$f":"'Hipotecario (Pesos)'!G247/Inversion!$C$28","v":0},{"$f":"'Hipotecario (Pesos)'!E247/Inversion!$C$28","v":0},{"$f":"'Hipotecario (Pesos)'!H247/Inversion!$C$28","v":0},null,{"$f":"O246*(1+Inversion!$C$27)","v":1217.1959010725725}]
[{"$f":"IF(A247<Inversion!$C$23,A247+1,\"-\")","v":"-"},{"$f":"IF(A248<>\"-\",DATE(YEAR(Inversion!$C$7),MONTH(Inversion!$C$7)+A248,DAY(Inversion!$C$7)),\"-\")","v":"-"},{"$f":"'Hipotecario (Pesos)'!C248","v":0},0,0,0,0,null,1.5566001820843667E-9,{"$f":"'Hipotecario (Pesos)'!F248/Inversion!$C$28","v":0},{"$f":"'Hipotecario (Pesos)'!G248/Inversion!$C$28","v":0},{"$f":"'Hipotecario (Pesos)'!E248/Inversion!$C$28","v":0},{"$f":"'Hipotecario (Pesos)'!H248/Inversion!$C$28","v":0},null,{"$f":"O247*(1+Inversion!$C$27)","v":1223.1206636689715}]
[{"$f":"IF(A248<Inversion!$C$23,A248+1,\"-\")","v":"-"},{"$f":"IF(A249<>\"-\",DATE(YEAR(Inversion!$C$7),MONTH(Inversion!$C$7)+A249,DAY(Inversion!$C$7)),\"-\")","v":"-"},{"$f":"'Hipotecario (Pesos)'!C249","v":0},0,0,0,0,null,1.5566001820843667E-9,{"$f":"'Hipotecario (Pesos)'!F249/Inversion!$C$28","v":0},{"$f":"'Hipotecario (Pesos)'!G249/Inversion!$C$28","v":0},{"$f":"'Hipotecario (Pesos)'!E249/Inversion!$C$28","v":0},{"$f":"'Hipotecario (Pesos)'!H249/Inversion!$C$28","v":0},null,{"$f":"O248*(1+Inversion!$C$27)","v":1229.0742653468963}]
[{"$f":"IF(A249<Inversion!$C$23,A249+1,\"-\")","v":"-"},{"$f":"IF(A250<>\"-\",DATE(YEAR(Inversion!$C$7),MONTH(Inversion!$C$7)+A250,DAY(Inversion!$C$7)),\"-\")","v":"-"},{"$f":"'Hipotecario (Pesos)'!C250","v":0},0,0,0,0,null,1.5566001820843667E-9,{"$f":"'Hipotecario (Pesos)'!F250/Inversion!$C$28","v":0},{"$f":"'Hipotecario (Pesos)'!G250/Inversion!$C$28","v":0},{"$f":"'Hipotecario (Pesos)'!E250/Inversion!$C$28","v":0},{"$f":"'Hipotecario (Pesos)'!H250/Inversion!$C$28","v":0},null,{"$f":"O249*(1+Inversion!$C$27)","v":1235.0568464820342}]
[{"$f":"IF(A250<Inversion!$C$23,A250+1,\"-\")","v":"-"},{"$f":"IF(A251<>\"-\",DATE(YEAR(Inversion!$C$7),MONTH(Inversion!$C$7)+A251,DAY(Inversion!$C$7)),\"-\")","v":"-"},{"$f":"'Hipotecario (Pesos)'!C251","v":0},0,0,0,0,null,1.5566001820843667E-9,{"$f":"'Hipotecario (Pesos)'!F251/Inversion!$C$28","v":0},{"$f":"'Hipotecario (Pesos)'!G251/Inversion!$C$28","v":0},{"$f":"'Hipotecario (Pesos)'!E251/Inversion!$C$28","v":0},{"$f":"'Hipotecario (Pesos)'!H251/Inversion!$C$28","v":0},null,{"$f":"O250*(1+Inversion!$C$27)","v":1241.0685481333587}]
[{"$f":"IF(A251<Inversion!$C$23,A251+1,\"-\")","v":"-"},{"$f":"IF(A252<>\"-\",DATE(YEAR(Inversion!$C$7),MONTH(Inversion!$C$7)+A252,DAY(Inversion!$C$7)),\"-\")","v":"-"},{"$f":"'Hipotecario (Pesos)'!C252","v":0},0,0,0,0,null,1.5566001820843667E-9,{"$f":"'Hipotecario (Pesos)'!F252/Inversion!$C$28","v":0},{"$f":"'Hipotecario (Pesos)'!G252/Inversion!$C$28","v":0},{"$f":"'Hipotecario (Pesos)'!E252/Inversion!$C$28","v":0},{"$f":"'Hipotecario (Pesos)'!H252/Inversion!$C$28","v":0},null,{"$f":"O251*(1+Inversion!$C$27)","v":1247.1095120464547}]
[{"$f":"IF(A252<Inversion!$C$23,A252+1,\"-\")","v":"-"},{"$f":"IF(A253<>\"-\",DATE(YEAR(Inversion!$C$7),MONTH(Inversion!$C$7)+A253,DAY(Inversion!$C$7)),\"-\")","v":"-"},{"$f":"'Hipotecario (Pesos)'!C253","v":0},0,0,0,0,null,1.5566001820843667E-9,{"$f":"'Hipotecario (Pesos)'!F253/Inversion!$C$28","v":0},{"$f":"'Hipotecario (Pesos)'!G253/Inversion!$C$28","v":0},{"$f":"'Hipotecario (Pesos)'!E253/Inversion!$C$28","v":0},{"$f":"'Hipotecario (Pesos)'!H253/Inversion!$C$28","v":0},null,{"$f":"O252*(1+Inversion!$C$27)","v":1253.1798806568611}]
[{"$f":"IF(A253<Inversion!$C$23,A253+1,\"-\")","v":"-"},{"$f":"IF(A254<>\"-\",DATE(YEAR(Inversion!$C$7),MONTH(Inversion!$C$7)+A254,DAY(Inversion!$C$7)),\"-\")","v":"-"},{"$f":"'Hipotecario (Pesos)'!C254","v":0},0,0,0,0,null,1.5566001820843667E-9,{"$f":"'Hipotecario (Pesos)'!F254/Inversion!$C$28","v":0},{"$f":"'Hipotecario (Pesos)'!G254/Inversion!$C$28","v":0},{"$f":"'Hipotecario (Pesos)'!E254/Inversion!$C$28","v":0},{"$f":"'Hipotecario (Pesos)'!H254/Inversion!$C$28","v":0},null,{"$f":"O253*(1+Inversion!$C$27)","v":1259.2797970934289}]
[{"$f":"IF(A254<Inversion!$C$23,A254+1,\"-\")","v":"-"},{"$f":"IF(A255<>\"-\",DATE(YEAR(Inversion!$C$7),MONTH(Inversion!$C$7)+A255,DAY(Inversion!$C$7)),\"-\")","v":"-"},{"$f":"'Hipotecario (Pesos)'!C255","v":0},0,0,0,0,null,1.5566001820843667E-9,{"$f":"'Hipotecario (Pesos)'!F255/Inversion!$C$28","v":0},{"$f":"'Hipotecario (Pesos)'!G255/Inversion!$C$28","v":0},{"$f":"'Hipotecario (Pesos)'!E255/Inversion!$C$28","v":0},{"$f":"'Hipotecario (Pesos)'!H255/Inversion!$C$28","v":0},null,{"$f":"O254*(1+Inversion!$C$27)","v":1265.409405181696}]
[{"$f":"IF(A255<Inversion!$C$23,A255+1,\"-\")","v":"-"},{"$f":"IF(A256<>\"-\",DATE(YEAR(Inversion!$C$7),MONTH(Inversion!$C$7)+A256,DAY(Inversion!$C$7)),\"-\")","v":"-"},{"$f":"'Hipotecario (Pesos)'!C256","v":0},0,0,0,0,null,1.5566001820843667E-9,{"$f":"'Hipotecario (Pesos)'!F256/Inversion!$C$28","v":0},{"$f":"'Hipotecario (Pesos)'!G256/Inversion!$C$28","v":0},{"$f":"'Hipotecario (Pesos)'!E256/Inversion!$C$28","v":0},{"$f":"'Hipotecario (Pesos)'!H256/Inversion!$C$28","v":0},null,{"$f":"O255*(1+Inversion!$C$27)","v":1271.5688494472786}]
[{"$f":"IF(A256<Inversion!$C$23,A256+1,\"-\")","v":"-"},{"$f":"IF(A257<>\"-\",DATE(YEAR(Inversion!$C$7),MONTH(Inversion!$C$7)+A257,DAY(Inversion!$C$7)),\"-\")","v":"-"},{"$f":"'Hipotecario (Pesos)'!C257","v":0},0,0,0,0,null,1.5566001820843667E-9,{"$f":"'Hipotecario (Pesos)'!F257/Inversion!$C$28","v":0},{"$f":"'Hipotecario (Pesos)'!G257/Inversion!$C$28","v":0},{"$f":"'Hipotecario (Pesos)'!E257/Inversion!$C$28","v":0},{"$f":"'Hipotecario (Pesos)'!H257/Inversion!$C$28","v":0},null,{"$f":"O256*(1+Inversion!$C$27)","v":1277.7582751192783}]
[{"$f":"IF(A257<Inversion!$C$23,A257+1,\"-\")","v":"-"},{"$f":"IF(A258<>\"-\",DATE(YEAR(Inversion!$C$7),MONTH(Inversion!$C$7)+A258,DAY(Inversion!$C$7)),\"-\")","v":"-"},{"$f":"'Hipotecario (Pesos)'!C258","v":0},0,0,0,0,null,1.5566001820843667E-9,{"$f":"'Hipotecario (Pesos)'!F258/Inversion!$C$28","v":0},{"$f":"'Hipotecario (Pesos)'!G258/Inversion!$C$28","v":0},{"$f":"'Hipotecario (Pesos)'!E258/Inversion!$C$28","v":0},{"$f":"'Hipotecario (Pesos)'!H258/Inversion!$C$28","v":0},null,{"$f":"O257*(1+Inversion!$C$27)","v":1283.9778281337069}]
[{"$f":"IF(A258<Inversion!$C$23,A258+1,\"-\")","v":"-"},{"$f":"IF(A259<>\"-\",DATE(YEAR(Inversion!$C$7),MONTH(Inversion!$C$7)+A259,DAY(Inversion!$C$7)),\"-\")","v":"-"},{"$f":"'Hipotecario (Pesos)'!C259","v":0},0,0,0,0,null,1.5566001820843667E-9,{"$f":"'Hipotecario (Pesos)'!F259/Inversion!$C$28","v":0},{"$f":"'Hipotecario (Pesos)'!G259/Inversion!$C$28","v":0},{"$f":"'Hipotecario (Pesos)'!E259/Inversion!$C$28","v":0},{"$f":"'Hipotecario (Pesos)'!H259/Inversion!$C$28","v":0},null,{"$f":"O258*(1+Inversion!$C$27)","v":1290.2276551369271}]
[{"$f":"IF(A259<Inversion!$C$23,A259+1,\"-\")","v":"-"},{"$f":"IF(A260<>\"-\",DATE(YEAR(Inversion!$C$7),MONTH(Inversion!$C$7)+A260,DAY(Inversion!$C$7)),\"-\")","v":"-"},{"$f":"'Hipotecario (Pesos)'!C260","v":0},0,0,0,0,null,1.5566001820843667E-9,{"$f":"'Hipotecario (Pesos)'!F260/Inversion!$C$28","v":0},{"$f":"'Hipotecario (Pesos)'!G260/Inversion!$C$28","v":0},{"$f":"'Hipotecario (Pesos)'!E260/Inversion!$C$28","v":0},{"$f":"'Hipotecario (Pesos)'!H260/Inversion!$C$28","v":0},null,{"$f":"O259*(1+Inversion!$C$27)","v":1296.50790348911}]
[{"$f":"IF(A260<Inversion!$C$23,A260+1,\"-\")","v":"-"},{"$f":"IF(A261<>\"-\",DATE(YEAR(Inversion!$C$7),MONTH(Inversion!$C$7)+A261,DAY(Inversion!$C$7)),\"-\")","v":"-"},{"$f":"'Hipotecario (Pesos)'!C261","v":0},0,0,0,0,null,1.5566001820843667E-9,{"$f":"'Hipotecario (Pesos)'!F261/Inversion!$C$28","v":0},{"$f":"'Hipotecario (Pesos)'!G261/Inversion!$C$28","v":0},{"$f":"'Hipotecario (Pesos)'!E261/Inversion!$C$28","v":0},{"$f":"'Hipotecario (Pesos)'!H261/Inversion!$C$28","v":0},null,{"$f":"O260*(1+Inversion!$C$27)","v":1302.8187212677101}]
[{"$f":"IF(A261<Inversion!$C$23,A261+1,\"-\")","v":"-"},{"$f":"IF(A262<>\"-\",DATE(YEAR(Inversion!$C$7),MONTH(Inversion!$C$7)+A262,DAY(Inversion!$C$7)),\"-\")","v":"-"},{"$f":"'Hipotecario (Pesos)'!C262","v":0},{"$f":"J262*O262","v":0},{"$f":"K262*O262","v":0},{"$f":"L262*O262","v":0},{"$f":"M262*O262","v":0},null,1.5566001820843667E-9,{"$f":"'Hipotecario (Pesos)'!F262/Inversion!$C$28","v":0},{"$f":"'Hipotecario (Pesos)'!G262/Inversion!$C$28","v":0},{"$f":"'Hipotecario (Pesos)'!E262/Inversion!$C$28","v":0},{"$f":"'Hipotecario (Pesos)'!H262/Inversion!$C$28","v":0},null,{"$f":"O261*(1+Inversion!$C$27)","v":1309.1602572709562}]
[{"$f":"IF(A262<Inversion!$C$23,A262+1,\"-\")","v":"-"},{"$f":"IF(A263<>\"-\",DATE(YEAR(Inversion!$C$7),MONTH(Inversion!$C$7)+A263,DAY(Inversion!$C$7)),\"-\")","v":"-"},{"$f":"'Hipotecario (Pesos)'!C263","v":0},0,0,0,0,null,1.5566001820843667E-9,{"$f":"'Hipotecario (Pesos)'!F263/Inversion!$C$28","v":0},{"$f":"'Hipotecario (Pesos)'!G263/Inversion!$C$28","v":0},{"$f":"'Hipotecario (Pesos)'!E263/Inversion!$C$28","v":0},{"$f":"'Hipotecario (Pesos)'!H263/Inversion!$C$28","v":0},null,{"$f":"O262*(1+Inversion!$C$27)","v":1315.5326610213601}]
[{"$f":"IF(A263<Inversion!$C$23,A263+1,\"-\")","v":"-"},{"$f":"IF(A264<>\"-\",DATE(YEAR(Inversion!$C$7),MONTH(Inversion!$C$7)+A264,DAY(Inversion!$C$7)),\"-\")","v":"-"},{"$f":"'Hipotecario (Pesos)'!C264","v":0},0,0,0,0,null,{"$f":"I263-J264","v":1.5566001820843667E-9},{"$f":"'Hipotecario (Pesos)'!F264/Inversion!$C$28","v":0},{"$f":"'Hipotecario (Pesos)'!G264/Inversion!$C$28","v":0},{"$f":"'Hipotecario (Pesos)'!E264/Inversion!$C$28","v":0},{"$f":"'Hipotecario (Pesos)'!H264/Inversion!$C$28","v":0},null,{"$f":"O263*(1+Inversion!$C$27)","v":1321.9360827692419}]
[{"$f":"IF(A264<Inversion!$C$23,A264+1,\"-\")","v":"-"},{"$f":"IF(A265<>\"-\",DATE(YEAR(Inversion!$C$7),MONTH(Inversion!$C$7)+A265,DAY(Inversion!$C$7)),\"-\")","v":"-"},{"$f":"'Hipotecario (Pesos)'!C265","v":0},0,0,0,0,null,1.5566001820843667E-9,{"$f":"'Hipotecario (Pesos)'!F265/Inversion!$C$28","v":0},{"$f":"'Hipotecario (Pesos)'!G265/Inversion!$C$28","v":0},{"$f":"'Hipotecario (Pesos)'!E265/Inversion!$C$28","v":0},{"$f":"'Hipotecario (Pesos)'!H265/Inversion!$C$28","v":0},null,{"$f":"O264*(1+Inversion!$C$27)","v":1328.3706734962727}]
[{"$f":"IF(A265<Inversion!$C$23,A265+1,\"-\")","v":"-"},{"$f":"IF(A266<>\"-\",DATE(YEAR(Inversion!$C$7),MONTH(Inversion!$C$7)+A266,DAY(Inversion!$C$7)),\"-\")","v":"-"},{"$f":"'Hipotecario (Pesos)'!C266","v":0},0,0,0,0,null,1.5566001820843667E-9,{"$f":"'Hipotecario (Pesos)'!F266/Inversion!$C$28","v":0},{"$f":"'Hipotecario (Pesos)'!G266/Inversion!$C$28","v":0},{"$f":"'Hipotecario (Pesos)'!E266/Inversion!$C$28","v":0},{"$f":"'Hipotecario (Pesos)'!H266/Inversion!$C$28","v":0},null,{"$f":"O265*(1+Inversion!$C$27)","v":1334.8365849190347}]
[{"$f":"IF(A266<Inversion!$C$23,A266+1,\"-\")","v":"-"},{"$f":"IF(A267<>\"-\",DATE(YEAR(Inversion!$C$7),MONTH(Inversion!$C$7)+A267,DAY(Inversion!$C$7)),\"-\")","v":"-"},{"$f":"'Hipotecario (Pesos)'!C267","v":0},0,0,0,0,null,1.5566001820843667E-9,{"$f":"'Hipotecario (Pesos)'!F267/Inversion!$C$28","v":0},{"$f":"'Hipotecario (Pesos)'!G267/Inversion!$C$28","v":0},{"$f":"'Hipotecario (Pesos)'!E267/Inversion!$C$28","v":0},{"$f":"'Hipotecario (Pesos)'!H267/Inversion!$C$28","v":0},null,{"$f":"O266*(1+Inversion!$C$27)","v":1341.333969492598}]
[{"$f":"IF(A267<Inversion!$C$23,A267+1,\"-\")","v":"-"},{"$f":"IF(A268<>\"-\",DATE(YEAR(Inversion!$C$7),MONTH(Inversion!$C$7)+A268,DAY(Inversion!$C$7)),\"-\")","v":"-"},{"$f":"'Hipotecario (Pesos)'!C268","v":0},0,0,0,0,null,1.5566001820843667E-9,{"$f":"'Hipotecario (Pesos)'!F268/Inversion!$C$28","v":0},{"$f":"'Hipotecario (Pesos)'!G268/Inversion!$C$28","v":0},{"$f":"'Hipotecario (Pesos)'!E268/Inversion!$C$28","v":0},{"$f":"'Hipotecario (Pesos)'!H268/Inversion!$C$28","v":0},null,{"$f":"O267*(1+Inversion!$C$27)","v":1347.8629804141156}]
[{"$f":"IF(A268<Inversion!$C$23,A268+1,\"-\")","v":"-"},{"$f":"IF(A269<>\"-\",DATE(YEAR(Inversion!$C$7),MONTH(Inversion!$C$7)+A269,DAY(Inversion!$C$7)),\"-\")","v":"-"},{"$f":"'Hipotecario (Pesos)'!C269","v":0},0,0,0,0,null,1.5566001820843667E-9,{"$f":"'Hipotecario (Pesos)'!F269/Inversion!$C$28","v":0},{"$f":"'Hipotecario (Pesos)'!G269/Inversion!$C$28","v":0},{"$f":"'Hipotecario (Pesos)'!E269/Inversion!$C$28","v":0},{"$f":"'Hipotecario (Pesos)'!H269/Inversion!$C$28","v":0},null,{"$f":"O268*(1+Inversion!$C$27)","v":1354.4237716264352}]
[{"$f":"IF(A269<Inversion!$C$23,A269+1,\"-\")","v":"-"},{"$f":"IF(A270<>\"-\",DATE(YEAR(Inversion!$C$7),MONTH(Inversion!$C$7)+A270,DAY(Inversion!$C$7)),\"-\")","v":"-"},{"$f":"'Hipotecario (Pesos)'!C270","v":0},0,0,0,0,null,1.5566001820843667E-9,{"$f":"'Hipotecario (Pesos)'!F270/Inversion!$C$28","v":0},{"$f":"'Hipotecario (Pesos)'!G270/Inversion!$C$28","v":0},{"$f":"'Hipotecario (Pesos)'!E270/Inversion!$C$28","v":0},{"$f":"'Hipotecario (Pesos)'!H270/Inversion!$C$28","v":0},null,{"$f":"O269*(1+Inversion!$C$27)","v":1361.0164978217294}]
[{"$f":"IF(A270<Inversion!$C$23,A270+1,\"-\")","v":"-"},{"$f":"IF(A271<>\"-\",DATE(YEAR(Inversion!$C$7),MONTH(Inversion!$C$7)+A271,DAY(Inversion!$C$7)),\"-\")","v":"-"},{"$f":"'Hipotecario (Pesos)'!C271","v":0},0,0,0,0,null,1.5566001820843667E-9,{"$f":"'Hipotecario (Pesos)'!F271/Inversion!$C$28","v":0},{"$f":"'Hipotecario (Pesos)'!G271/Inversion!$C$28","v":0},{"$f":"'Hipotecario (Pesos)'!E271/Inversion!$C$28","v":0},{"$f":"'Hipotecario (Pesos)'!H271/Inversion!$C$28","v":0},null,{"$f":"O270*(1+Inversion!$C$27)","v":1367.6413144451428}]
[{"$f":"IF(A271<Inversion!$C$23,A271+1,\"-\")","v":"-"},{"$f":"IF(A272<>\"-\",DATE(YEAR(Inversion!$C$7),MONTH(Inversion!$C$7)+A272,DAY(Inversion!$C$7)),\"-\")","v":"-"},{"$f":"'Hipotecario (Pesos)'!C272","v":0},0,0,0,0,null,1.5566001820843667E-9,{"$f":"'Hipotecario (Pesos)'!F272/Inversion!$C$28","v":0},{"$f":"'Hipotecario (Pesos)'!G272/Inversion!$C$28","v":0},{"$f":"'Hipotecario (Pesos)'!E272/Inversion!$C$28","v":0},{"$f":"'Hipotecario (Pesos)'!H272/Inversion!$C$28","v":0},null,{"$f":"O271*(1+Inversion!$C$27)","v":1374.2983776984568}]
[{"$f":"IF(A272<Inversion!$C$23,A272+1,\"-\")","v":"-"},{"$f":"IF(A273<>\"-\",DATE(YEAR(Inversion!$C$7),MONTH(Inversion!$C$7)+A273,DAY(Inversion!$C$7)),\"-\")","v":"-"},{"$f":"'Hipotecario (Pesos)'!C273","v":0},0,0,0,0,null,1.5566001820843667E-9,{"$f":"'Hipotecario (Pesos)'!F273/Inversion!$C$28","v":0},{"$f":"'Hipotecario (Pesos)'!G273/Inversion!$C$28","v":0},{"$f":"'Hipotecario (Pesos)'!E273/Inversion!$C$28","v":0},{"$f":"'Hipotecario (Pesos)'!H273/Inversion!$C$28","v":0},null,{"$f":"O272*(1+Inversion!$C$27)","v":1380.987844543773}]
[{"$f":"IF(A273<Inversion!$C$23,A273+1,\"-\")","v":"-"},{"$f":"IF(A274<>\"-\",DATE(YEAR(Inversion!$C$7),MONTH(Inversion!$C$7)+A274,DAY(Inversion!$C$7)),\"-\")","v":"-"},{"$f":"'Hipotecario (Pesos)'!C274","v":0},0,0,0,0,null,1.5566001820843667E-9,{"$f":"'Hipotecario (Pesos)'!F274/Inversion!$C$28","v":0},{"$f":"'Hipotecario (Pesos)'!G274/Inversion!$C$28","v":0},{"$f":"'Hipotecario (Pesos)'!E274/Inversion!$C$28","v":0},{"$f":"'Hipotecario (Pesos)'!H274/Inversion!$C$28","v":0},null,{"$f":"O273*(1+Inversion!$C$27)","v":1387.7098727072139}]
[{"$f":"IF(A274<Inversion!$C$23,A274+1,\"-\")","v":"-"},{"$f":"IF(A275<>\"-\",DATE(YEAR(Inversion!$C$7),MONTH(Inversion!$C$7)+A275,DAY(Inversion!$C$7)),\"-\")","v":"-"},{"$f":"'Hipotecario (Pesos)'!C275","v":0},0,0,0,0,null,1.5566001820843667E-9,{"$f":"'Hipotecario (Pesos)'!F275/Inversion!$C$28","v":0},{"$f":"'Hipotecario (Pesos)'!G275/Inversion!$C$28","v":0},{"$f":"'Hipotecario (Pesos)'!E275/Inversion!$C$28","v":0},{"$f":"'Hipotecario (Pesos)'!H275/Inversion!$C$28","v":0},null,{"$f":"O274*(1+Inversion!$C$27)","v":1394.4646206826419}]
[{"$f":"IF(A275<Inversion!$C$23,A275+1,\"-\")","v":"-"},{"$f":"IF(A276<>\"-\",DATE(YEAR(Inversion!$C$7),MONTH(Inversion!$C$7)+A276,DAY(Inversion!$C$7)),\"-\")","v":"-"},{"$f":"'Hipotecario (Pesos)'!C276","v":0},0,0,0,0,null,1.5566001820843667E-9,{"$f":"'Hipotecario (Pesos)'!F276/Inversion!$C$28","v":0},{"$f":"'Hipotecario (Pesos)'!G276/Inversion!$C$28","v":0},{"$f":"'Hipotecario (Pesos)'!E276/Inversion!$C$28","v":0},{"$f":"'Hipotecario (Pesos)'!H276/Inversion!$C$28","v":0},null,{"$f":"O275*(1+Inversion!$C$27)","v":1401.2522477353966}]
[{"$f":"IF(A276<Inversion!$C$23,A276+1,\"-\")","v":"-"},{"$f":"IF(A277<>\"-\",DATE(YEAR(Inversion!$C$7),MONTH(Inversion!$C$7)+A277,DAY(Inversion!$C$7)),\"-\")","v":"-"},{"$f":"'Hipotecario (Pesos)'!C277","v":0},0,0,0,0,null,1.5566001820843667E-9,{"$f":"'Hipotecario (Pesos)'!F277/Inversion!$C$28","v":0},{"$f":"'Hipotecario (Pesos)'!G277/Inversion!$C$28","v":0},{"$f":"'Hipotecario (Pesos)'!E277/Inversion!$C$28","v":0},{"$f":"'Hipotecario (Pesos)'!H277/Inversion!$C$28","v":0},null,{"$f":"O276*(1+Inversion!$C$27)","v":1408.0729139060493}]
[{"$f":"IF(A277<Inversion!$C$23,A277+1,\"-\")","v":"-"},{"$f":"IF(A278<>\"-\",DATE(YEAR(Inversion!$C$7),MONTH(Inversion!$C$7)+A278,DAY(Inversion!$C$7)),\"-\")","v":"-"},{"$f":"'Hipotecario (Pesos)'!C278","v":0},0,0,0,0,null,1.5566001820843667E-9,{"$f":"'Hipotecario (Pesos)'!F278/Inversion!$C$28","v":0},{"$f":"'Hipotecario (Pesos)'!G278/Inversion!$C$28","v":0},{"$f":"'Hipotecario (Pesos)'!E278/Inversion!$C$28","v":0},{"$f":"'Hipotecario (Pesos)'!H278/Inversion!$C$28","v":0},null,{"$f":"O277*(1+Inversion!$C$27)","v":1414.926780014177}]
[{"$f":"IF(A278<Inversion!$C$23,A278+1,\"-\")","v":"-"},{"$f":"IF(A279<>\"-\",DATE(YEAR(Inversion!$C$7),MONTH(Inversion!$C$7)+A279,DAY(Inversion!$C$7)),\"-\")","v":"-"},{"$f":"'Hipotecario (Pesos)'!C279","v":0},0,0,0,0,null,1.5566001820843667E-9,{"$f":"'Hipotecario (Pesos)'!F279/Inversion!$C$28","v":0},{"$f":"'Hipotecario (Pesos)'!G279/Inversion!$C$28","v":0},{"$f":"'Hipotecario (Pesos)'!E279/Inversion!$C$28","v":0},{"$f":"'Hipotecario (Pesos)'!H279/Inversion!$C$28","v":0},null,{"$f":"O278*(1+Inversion!$C$27)","v":1421.8140076621539}]
[{"$f":"IF(A279<Inversion!$C$23,A279+1,\"-\")","v":"-"},{"$f":"IF(A280<>\"-\",DATE(YEAR(Inversion!$C$7),MONTH(Inversion!$C$7)+A280,DAY(Inversion!$C$7)),\"-\")","v":"-"},{"$f":"'Hipotecario (Pesos)'!C280","v":0},0,0,0,0,null,1.5566001820843667E-9,{"$f":"'Hipotecario (Pesos)'!F280/Inversion!$C$28","v":0},{"$f":"'Hipotecario (Pesos)'!G280/Inversion!$C$28","v":0},{"$f":"'Hipotecario (Pesos)'!E280/Inversion!$C$28","v":0},{"$f":"'Hipotecario (Pesos)'!H280/Inversion!$C$28","v":0},null,{"$f":"O279*(1+Inversion!$C$27)","v":1428.7347592389624}]
[{"$f":"IF(A280<Inversion!$C$23,A280+1,\"-\")","v":"-"},{"$f":"IF(A281<>\"-\",DATE(YEAR(Inversion!$C$7),MONTH(Inversion!$C$7)+A281,DAY(Inversion!$C$7)),\"-\")","v":"-"},{"$f":"'Hipotecario (Pesos)'!C281","v":0},0,0,0,0,null,1.5566001820843667E-9,{"$f":"'Hipotecario (Pesos)'!F281/Inversion!$C$28","v":0},{"$f":"'Hipotecario (Pesos)'!G281/Inversion!$C$28","v":0},{"$f":"'Hipotecario (Pesos)'!E281/Inversion!$C$28","v":0},{"$f":"'Hipotecario (Pesos)'!H281/Inversion!$C$28","v":0},null,{"$f":"O280*(1+Inversion!$C$27)","v":1435.6891979240213}]
[{"$f":"IF(A281<Inversion!$C$23,A281+1,\"-\")","v":"-"},{"$f":"IF(A282<>\"-\",DATE(YEAR(Inversion!$C$7),MONTH(Inversion!$C$7)+A282,DAY(Inversion!$C$7)),\"-\")","v":"-"},{"$f":"'Hipotecario (Pesos)'!C282","v":0},0,0,0,0,null,1.5566001820843667E-9,{"$f":"'Hipotecario (Pesos)'!F282/Inversion!$C$28","v":0},{"$f":"'Hipotecario (Pesos)'!G282/Inversion!$C$28","v":0},{"$f":"'Hipotecario (Pesos)'!E282/Inversion!$C$28","v":0},{"$f":"'Hipotecario (Pesos)'!H282/Inversion!$C$28","v":0},null,{"$f":"O281*(1+Inversion!$C$27)","v":1442.6774876910333}]
[{"$f":"IF(A282<Inversion!$C$23,A282+1,\"-\")","v":"-"},{"$f":"IF(A283<>\"-\",DATE(YEAR(Inversion!$C$7),MONTH(Inversion!$C$7)+A283,DAY(Inversion!$C$7)),\"-\")","v":"-"},{"$f":"'Hipotecario (Pesos)'!C283","v":0},0,0,0,0,null,1.5566001820843667E-9,{"$f":"'Hipotecario (Pesos)'!F283/Inversion!$C$28","v":0},{"$f":"'Hipotecario (Pesos)'!G283/Inversion!$C$28","v":0},{"$f":"'Hipotecario (Pesos)'!E283/Inversion!$C$28","v":0},{"$f":"'Hipotecario (Pesos)'!H283/Inversion!$C$28","v":0},null,{"$f":"O282*(1+Inversion!$C$27)","v":1449.6997933118514}]
[{"$f":"IF(A283<Inversion!$C$23,A283+1,\"-\")","v":"-"},{"$f":"IF(A284<>\"-\",DATE(YEAR(Inversion!$C$7),MONTH(Inversion!$C$7)+A284,DAY(Inversion!$C$7)),\"-\")","v":"-"},{"$f":"'Hipotecario (Pesos)'!C284","v":0},0,0,0,0,null,1.5566001820843667E-9,{"$f":"'Hipotecario (Pesos)'!F284/Inversion!$C$28","v":0},{"$f":"'Hipotecario (Pesos)'!G284/Inversion!$C$28","v":0},{"$f":"'Hipotecario (Pesos)'!E284/Inversion!$C$28","v":0},{"$f":"'Hipotecario (Pesos)'!H284/Inversion!$C$28","v":0},null,{"$f":"O283*(1+Inversion!$C$27)","v":1456.7562803603641}]
[{"$f":"IF(A284<Inversion!$C$23,A284+1,\"-\")","v":"-"},{"$f":"IF(A285<>\"-\",DATE(YEAR(Inversion!$C$7),MONTH(Inversion!$C$7)+A285,DAY(Inversion!$C$7)),\"-\")","v":"-"},{"$f":"'Hipotecario (Pesos)'!C285","v":0},0,0,0,0,null,1.5566001820843667E-9,{"$f":"'Hipotecario (Pesos)'!F285/Inversion!$C$28","v":0},{"$f":"'Hipotecario (Pesos)'!G285/Inversion!$C$28","v":0},{"$f":"'Hipotecario (Pesos)'!E285/Inversion!$C$28","v":0},{"$f":"'Hipotecario (Pesos)'!H285/Inversion!$C$28","v":0},null,{"$f":"O284*(1+Inversion!$C$27)","v":1463.8471152163993}]
[{"$f":"IF(A285<Inversion!$C$23,A285+1,\"-\")","v":"-"},{"$f":"IF(A286<>\"-\",DATE(YEAR(Inversion!$C$7),MONTH(Inversion!$C$7)+A286,DAY(Inversion!$C$7)),\"-\")","v":"-"},{"$f":"'Hipotecario (Pesos)'!C286","v":0},0,0,0,0,null,1.5566001820843667E-9,{"$f":"'Hipotecario (Pesos)'!F286/Inversion!$C$28","v":0},{"$f":"'Hipotecario (Pesos)'!G286/Inversion!$C$28","v":0},{"$f":"'Hipotecario (Pesos)'!E286/Inversion!$C$28","v":0},{"$f":"'Hipotecario (Pesos)'!H286/Inversion!$C$28","v":0},null,{"$f":"O285*(1+Inversion!$C$27)","v":1470.9724650696467}]
[{"$f":"IF(A286<Inversion!$C$23,A286+1,\"-\")","v":"-"},{"$f":"IF(A287<>\"-\",DATE(YEAR(Inversion!$C$7),MONTH(Inversion!$C$7)+A287,DAY(Inversion!$C$7)),\"-\")","v":"-"},{"$f":"'Hipotecario (Pesos)'!C287","v":0},0,0,0,0,null,1.5566001820843667E-9,{"$f":"'Hipotecario (Pesos)'!F287/Inversion!$C$28","v":0},{"$f":"'Hipotecario (Pesos)'!G287/Inversion!$C$28","v":0},{"$f":"'Hipotecario (Pesos)'!E287/Inversion!$C$28","v":0},{"$f":"'Hipotecario (Pesos)'!H287/Inversion!$C$28","v":0},null,{"$f":"O286*(1+Inversion!$C$27)","v":1478.1324979236006}]
[{"$f":"IF(A287<Inversion!$C$23,A287+1,\"-\")","v":"-"},{"$f":"IF(A288<>\"-\",DATE(YEAR(Inversion!$C$7),MONTH(Inversion!$C$7)+A288,DAY(Inversion!$C$7)),\"-\")","v":"-"},{"$f":"'Hipotecario (Pesos)'!C288","v":0},0,0,0,0,null,1.5566001820843667E-9,{"$f":"'Hipotecario (Pesos)'!F288/Inversion!$C$28","v":0},{"$f":"'Hipotecario (Pesos)'!G288/Inversion!$C$28","v":0},{"$f":"'Hipotecario (Pesos)'!E288/Inversion!$C$28","v":0},{"$f":"'Hipotecario (Pesos)'!H288/Inversion!$C$28","v":0},null,{"$f":"O287*(1+Inversion!$C$27)","v":1485.3273825995204}]
[{"$f":"IF(A288<Inversion!$C$23,A288+1,\"-\")","v":"-"},{"$f":"IF(A289<>\"-\",DATE(YEAR(Inversion!$C$7),MONTH(Inversion!$C$7)+A289,DAY(Inversion!$C$7)),\"-\")","v":"-"},{"$f":"'Hipotecario (Pesos)'!C289","v":0},0,0,0,0,null,1.5566001820843667E-9,{"$f":"'Hipotecario (Pesos)'!F289/Inversion!$C$28","v":0},{"$f":"'Hipotecario (Pesos)'!G289/Inversion!$C$28","v":0},{"$f":"'Hipotecario (Pesos)'!E289/Inversion!$C$28","v":0},{"$f":"'Hipotecario (Pesos)'!H289/Inversion!$C$28","v":0},null,{"$f":"O288*(1+Inversion!$C$27)","v":1492.5572887404123}]
[{"$f":"IF(A289<Inversion!$C$23,A289+1,\"-\")","v":"-"},{"$f":"IF(A290<>\"-\",DATE(YEAR(Inversion!$C$7),MONTH(Inversion!$C$7)+A290,DAY(Inversion!$C$7)),\"-\")","v":"-"},{"$f":"'Hipotecario (Pesos)'!C290","v":0},0,0,0,0,null,1.5566001820843667E-9,{"$f":"'Hipotecario (Pesos)'!F290/Inversion!$C$28","v":0},{"$f":"'Hipotecario (Pesos)'!G290/Inversion!$C$28","v":0},{"$f":"'Hipotecario (Pesos)'!E290/Inversion!$C$28","v":0},{"$f":"'Hipotecario (Pesos)'!H290/Inversion!$C$28","v":0},null,{"$f":"O289*(1+Inversion!$C$27)","v":1499.8223868150276}]
[{"$f":"IF(A290<Inversion!$C$23,A290+1,\"-\")","v":"-"},{"$f":"IF(A291<>\"-\",DATE(YEAR(Inversion!$C$7),MONTH(Inversion!$C$7)+A291,DAY(Inversion!$C$7)),\"-\")","v":"-"},{"$f":"'Hipotecario (Pesos)'!C291","v":0},0,0,0,0,null,1.5566001820843667E-9,{"$f":"'Hipotecario (Pesos)'!F291/Inversion!$C$28","v":0},{"$f":"'Hipotecario (Pesos)'!G291/Inversion!$C$28","v":0},{"$f":"'Hipotecario (Pesos)'!E291/Inversion!$C$28","v":0},{"$f":"'Hipotecario (Pesos)'!H291/Inversion!$C$28","v":0},null,{"$f":"O290*(1+Inversion!$C$27)","v":1507.1228481218832}]
[{"$f":"IF(A291<Inversion!$C$23,A291+1,\"-\")","v":"-"},{"$f":"IF(A292<>\"-\",DATE(YEAR(Inversion!$C$7),MONTH(Inversion!$C$7)+A292,DAY(Inversion!$C$7)),\"-\")","v":"-"},{"$f":"'Hipotecario (Pesos)'!C292","v":0},0,0,0,0,null,1.5566001820843667E-9,{"$f":"'Hipotecario (Pesos)'!F292/Inversion!$C$28","v":0},{"$f":"'Hipotecario (Pesos)'!G292/Inversion!$C$28","v":0},{"$f":"'Hipotecario (Pesos)'!E292/Inversion!$C$28","v":0},{"$f":"'Hipotecario (Pesos)'!H292/Inversion!$C$28","v":0},null,{"$f":"O291*(1+Inversion!$C$27)","v":1514.4588447933004}]
[{"$f":"IF(A292<Inversion!$C$23,A292+1,\"-\")","v":"-"},{"$f":"IF(A293<>\"-\",DATE(YEAR(Inversion!$C$7),MONTH(Inversion!$C$7)+A293,DAY(Inversion!$C$7)),\"-\")","v":"-"},{"$f":"'Hipotecario (Pesos)'!C293","v":0},0,0,0,0,null,1.5566001820843667E-9,{"$f":"'Hipotecario (Pesos)'!F293/Inversion!$C$28","v":0},{"$f":"'Hipotecario (Pesos)'!G293/Inversion!$C$28","v":0},{"$f":"'Hipotecario (Pesos)'!E293/Inversion!$C$28","v":0},{"$f":"'Hipotecario (Pesos)'!H293/Inversion!$C$28","v":0},null,{"$f":"O292*(1+Inversion!$C$27)","v":1521.8305497994627}]
[{"$f":"IF(A293<Inversion!$C$23,A293+1,\"-\")","v":"-"},{"$f":"IF(A294<>\"-\",DATE(YEAR(Inversion!$C$7),MONTH(Inversion!$C$7)+A294,DAY(Inversion!$C$7)),\"-\")","v":"-"},{"$f":"'Hipotecario (Pesos)'!C294","v":0},0,0,0,0,null,1.5566001820843667E-9,{"$f":"'Hipotecario (Pesos)'!F294/Inversion!$C$28","v":0},{"$f":"'Hipotecario (Pesos)'!G294/Inversion!$C$28","v":0},{"$f":"'Hipotecario (Pesos)'!E294/Inversion!$C$28","v":0},{"$f":"'Hipotecario (Pesos)'!H294/Inversion!$C$28","v":0},null,{"$f":"O293*(1+Inversion!$C$27)","v":1529.2381369524953}]
[{"$f":"IF(A294<Inversion!$C$23,A294+1,\"-\")","v":"-"},{"$f":"IF(A295<>\"-\",DATE(YEAR(Inversion!$C$7),MONTH(Inversion!$C$7)+A295,DAY(Inversion!$C$7)),\"-\")","v":"-"},{"$f":"'Hipotecario (Pesos)'!C295","v":0},0,0,0,0,null,1.5566001820843667E-9,{"$f":"'Hipotecario (Pesos)'!F295/Inversion!$C$28","v":0},{"$f":"'Hipotecario (Pesos)'!G295/Inversion!$C$28","v":0},{"$f":"'Hipotecario (Pesos)'!E295/Inversion!$C$28","v":0},{"$f":"'Hipotecario (Pesos)'!H295/Inversion!$C$28","v":0},null,{"$f":"O294*(1+Inversion!$C$27)","v":1536.6817809105626}]
[{"$f":"IF(A295<Inversion!$C$23,A295+1,\"-\")","v":"-"},{"$f":"IF(A296<>\"-\",DATE(YEAR(Inversion!$C$7),MONTH(Inversion!$C$7)+A296,DAY(Inversion!$C$7)),\"-\")","v":"-"},{"$f":"'Hipotecario (Pesos)'!C296","v":0},0,0,0,0,null,1.5566001820843667E-9,{"$f":"'Hipotecario (Pesos)'!F296/Inversion!$C$28","v":0},{"$f":"'Hipotecario (Pesos)'!G296/Inversion!$C$28","v":0},{"$f":"'Hipotecario (Pesos)'!E296/Inversion!$C$28","v":0},{"$f":"'Hipotecario (Pesos)'!H296/Inversion!$C$28","v":0},null,{"$f":"O295*(1+Inversion!$C$27)","v":1544.1616571819861}]
[{"$f":"IF(A296<Inversion!$C$23,A296+1,\"-\")","v":"-"},{"$f":"IF(A297<>\"-\",DATE(YEAR(Inversion!$C$7),MONTH(Inversion!$C$7)+A297,DAY(Inversion!$C$7)),\"-\")","v":"-"},{"$f":"'Hipotecario (Pesos)'!C297","v":0},0,0,0,0,null,1.5566001820843667E-9,{"$f":"'Hipotecario (Pesos)'!F297/Inversion!$C$28","v":0},{"$f":"'Hipotecario (Pesos)'!G297/Inversion!$C$28","v":0},{"$f":"'Hipotecario (Pesos)'!E297/Inversion!$C$28","v":0},{"$f":"'Hipotecario (Pesos)'!H297/Inversion!$C$28","v":0},null,{"$f":"O296*(1+Inversion!$C$27)","v":1551.6779421293834}]
[{"$f":"IF(A297<Inversion!$C$23,A297+1,\"-\")","v":"-"},{"$f":"IF(A298<>\"-\",DATE(YEAR(Inversion!$C$7),MONTH(Inversion!$C$7)+A298,DAY(Inversion!$C$7)),\"-\")","v":"-"},{"$f":"'Hipotecario (Pesos)'!C298","v":0},0,0,0,0,null,1.5566001820843667E-9,{"$f":"'Hipotecario (Pesos)'!F298/Inversion!$C$28","v":0},{"$f":"'Hipotecario (Pesos)'!G298/Inversion!$C$28","v":0},{"$f":"'Hipotecario (Pesos)'!E298/Inversion!$C$28","v":0},{"$f":"'Hipotecario (Pesos)'!H298/Inversion!$C$28","v":0},null,{"$f":"O297*(1+Inversion!$C$27)","v":1559.2308129738256}]
[{"$f":"IF(A298<Inversion!$C$23,A298+1,\"-\")","v":"-"},{"$f":"IF(A299<>\"-\",DATE(YEAR(Inversion!$C$7),MONTH(Inversion!$C$7)+A299,DAY(Inversion!$C$7)),\"-\")","v":"-"},{"$f":"'Hipotecario (Pesos)'!C299","v":0},0,0,0,0,null,1.5566001820843667E-9,{"$f":"'Hipotecario (Pesos)'!F299/Inversion!$C$28","v":0},{"$f":"'Hipotecario (Pesos)'!G299/Inversion!$C$28","v":0},{"$f":"'Hipotecario (Pesos)'!E299/Inversion!$C$28","v":0},{"$f":"'Hipotecario (Pesos)'!H299/Inversion!$C$28","v":0},null,{"$f":"O298*(1+Inversion!$C$27)","v":1566.8204477990166}]
[{"$f":"IF(A299<Inversion!$C$23,A299+1,\"-\")","v":"-"},{"$f":"IF(A300<>\"-\",DATE(YEAR(Inversion!$C$7),MONTH(Inversion!$C$7)+A300,DAY(Inversion!$C$7)),\"-\")","v":"-"},{"$f":"'Hipotecario (Pesos)'!C300","v":0},0,0,0,0,null,1.5566001820843667E-9,{"$f":"'Hipotecario (Pesos)'!F300/Inversion!$C$28","v":0},{"$f":"'Hipotecario (Pesos)'!G300/Inversion!$C$28","v":0},{"$f":"'Hipotecario (Pesos)'!E300/Inversion!$C$28","v":0},{"$f":"'Hipotecario (Pesos)'!H300/Inversion!$C$28","v":0},null,{"$f":"O299*(1+Inversion!$C$27)","v":1574.4470255554918}]
[{"$f":"IF(A300<Inversion!$C$23,A300+1,\"-\")","v":"-"},{"$f":"IF(A301<>\"-\",DATE(YEAR(Inversion!$C$7),MONTH(Inversion!$C$7)+A301,DAY(Inversion!$C$7)),\"-\")","v":"-"},{"$f":"'Hipotecario (Pesos)'!C301","v":0},0,0,0,0,null,1.5566001820843667E-9,{"$f":"'Hipotecario (Pesos)'!F301/Inversion!$C$28","v":0},{"$f":"'Hipotecario (Pesos)'!G301/Inversion!$C$28","v":0},{"$f":"'Hipotecario (Pesos)'!E301/Inversion!$C$28","v":0},{"$f":"'Hipotecario (Pesos)'!H301/Inversion!$C$28","v":0},null,{"$f":"O300*(1+Inversion!$C$27)","v":1582.1107260648371}]
[{"$f":"IF(A301<Inversion!$C$23,A301+1,\"-\")","v":"-"},{"$f":"IF(A302<>\"-\",DATE(YEAR(Inversion!$C$7),MONTH(Inversion!$C$7)+A302,DAY(Inversion!$C$7)),\"-\")","v":"-"},{"$f":"'Hipotecario (Pesos)'!C302","v":0},0,0,0,0,null,1.5566001820843667E-9,{"$f":"'Hipotecario (Pesos)'!F302/Inversion!$C$28","v":0},{"$f":"'Hipotecario (Pesos)'!G302/Inversion!$C$28","v":0},{"$f":"'Hipotecario (Pesos)'!E302/Inversion!$C$28","v":0},{"$f":"'Hipotecario (Pesos)'!H302/Inversion!$C$28","v":0},null,{"$f":"O301*(1+Inversion!$C$27)","v":1589.8117300239294}]
[{"$f":"IF(A302<Inversion!$C$23,A302+1,\"-\")","v":"-"},{"$f":"IF(A303<>\"-\",DATE(YEAR(Inversion!$C$7),MONTH(Inversion!$C$7)+A303,DAY(Inversion!$C$7)),\"-\")","v":"-"},{"$f":"'Hipotecario (Pesos)'!C303","v":0},0,0,0,0,null,1.5566001820843667E-9,{"$f":"'Hipotecario (Pesos)'!F303/Inversion!$C$28","v":0},{"$f":"'Hipotecario (Pesos)'!G303/Inversion!$C$28","v":0},{"$f":"'Hipotecario (Pesos)'!E303/Inversion!$C$28","v":0},{"$f":"'Hipotecario (Pesos)'!H303/Inversion!$C$28","v":0},null,{"$f":"O302*(1+Inversion!$C$27)","v":1597.5502190091963}]
[{"$f":"IF(A303<Inversion!$C$23,A303+1,\"-\")","v":"-"},{"$f":"IF(A304<>\"-\",DATE(YEAR(Inversion!$C$7),MONTH(Inversion!$C$7)+A304,DAY(Inversion!$C$7)),\"-\")","v":"-"},{"$f":"'Hipotecario (Pesos)'!C304","v":0},0,0,0,0,null,1.5566001820843667E-9,{"$f":"'Hipotecario (Pesos)'!F304/Inversion!$C$28","v":0},{"$f":"'Hipotecario (Pesos)'!G304/Inversion!$C$28","v":0},{"$f":"'Hipotecario (Pesos)'!E304/Inversion!$C$28","v":0},{"$f":"'Hipotecario (Pesos)'!H304/Inversion!$C$28","v":0},null,{"$f":"O303*(1+Inversion!$C$27)","v":1605.3263754808984}]
[{"$f":"IF(A304<Inversion!$C$23,A304+1,\"-\")","v":"-"},{"$f":"IF(A305<>\"-\",DATE(YEAR(Inversion!$C$7),MONTH(Inversion!$C$7)+A305,DAY(Inversion!$C$7)),\"-\")","v":"-"},{"$f":"'Hipotecario (Pesos)'!C305","v":0},0,0,0,0,null,1.5566001820843667E-9,{"$f":"'Hipotecario (Pesos)'!F305/Inversion!$C$28","v":0},{"$f":"'Hipotecario (Pesos)'!G305/Inversion!$C$28","v":0},{"$f":"'Hipotecario (Pesos)'!E305/Inversion!$C$28","v":0},{"$f":"'Hipotecario (Pesos)'!H305/Inversion!$C$28","v":0},null,{"$f":"O304*(1+Inversion!$C$27)","v":1613.1403827874306}]
[{"$f":"IF(A305<Inversion!$C$23,A305+1,\"-\")","v":"-"},{"$f":"IF(A306<>\"-\",DATE(YEAR(Inversion!$C$7),MONTH(Inversion!$C$7)+A306,DAY(Inversion!$C$7)),\"-\")","v":"-"},{"$f":"'Hipotecario (Pesos)'!C306","v":0},0,0,0,0,null,1.5566001820843667E-9,{"$f":"'Hipotecario (Pesos)'!F306/Inversion!$C$28","v":0},{"$f":"'Hipotecario (Pesos)'!G306/Inversion!$C$28","v":0},{"$f":"'Hipotecario (Pesos)'!E306/Inversion!$C$28","v":0},{"$f":"'Hipotecario (Pesos)'!H306/Inversion!$C$28","v":0},null,{"$f":"O305*(1+Inversion!$C$27)","v":1620.9924251696452}]
[{"$f":"IF(A306<Inversion!$C$23,A306+1,\"-\")","v":"-"},{"$f":"IF(A307<>\"-\",DATE(YEAR(Inversion!$C$7),MONTH(Inversion!$C$7)+A307,DAY(Inversion!$C$7)),\"-\")","v":"-"},{"$f":"'Hipotecario (Pesos)'!C307","v":0},0,0,0,0,null,1.5566001820843667E-9,{"$f":"'Hipotecario (Pesos)'!F307/Inversion!$C$28","v":0},{"$f":"'Hipotecario (Pesos)'!G307/Inversion!$C$28","v":0},{"$f":"'Hipotecario (Pesos)'!E307/Inversion!$C$28","v":0},{"$f":"'Hipotecario (Pesos)'!H307/Inversion!$C$28","v":0},null,{"$f":"O306*(1+Inversion!$C$27)","v":1628.8826877651966}]
[{"$f":"IF(A307<Inversion!$C$23,A307+1,\"-\")","v":"-"},{"$f":"IF(A308<>\"-\",DATE(YEAR(Inversion!$C$7),MONTH(Inversion!$C$7)+A308,DAY(Inversion!$C$7)),\"-\")","v":"-"},{"$f":"'Hipotecario (Pesos)'!C308","v":0},0,0,0,0,null,1.5566001820843667E-9,{"$f":"'Hipotecario (Pesos)'!F308/Inversion!$C$28","v":0},{"$f":"'Hipotecario (Pesos)'!G308/Inversion!$C$28","v":0},{"$f":"'Hipotecario (Pesos)'!E308/Inversion!$C$28","v":0},{"$f":"'Hipotecario (Pesos)'!H308/Inversion!$C$28","v":0},null,{"$f":"O307*(1+Inversion!$C$27)","v":1636.8113566129055}]
[{"$f":"IF(A308<Inversion!$C$23,A308+1,\"-\")","v":"-"},{"$f":"IF(A309<>\"-\",DATE(YEAR(Inversion!$C$7),MONTH(Inversion!$C$7)+A309,DAY(Inversion!$C$7)),\"-\")","v":"-"},{"$f":"'Hipotecario (Pesos)'!C309","v":0},0,0,0,0,null,1.5566001820843667E-9,{"$f":"'Hipotecario (Pesos)'!F309/Inversion!$C$28","v":0},{"$f":"'Hipotecario (Pesos)'!G309/Inversion!$C$28","v":0},{"$f":"'Hipotecario (Pesos)'!E309/Inversion!$C$28","v":0},{"$f":"'Hipotecario (Pesos)'!H309/Inversion!$C$28","v":0},null,{"$f":"O308*(1+Inversion!$C$27)","v":1644.7786186571466}]
[{"$f":"IF(A309<Inversion!$C$23,A309+1,\"-\")","v":"-"},{"$f":"IF(A310<>\"-\",DATE(YEAR(Inversion!$C$7),MONTH(Inversion!$C$7)+A310,DAY(Inversion!$C$7)),\"-\")","v":"-"},{"$f":"'Hipotecario (Pesos)'!C310","v":0},0,0,0,0,null,1.5566001820843667E-9,{"$f":"'Hipotecario (Pesos)'!F310/Inversion!$C$28","v":0},{"$f":"'Hipotecario (Pesos)'!G310/Inversion!$C$28","v":0},{"$f":"'Hipotecario (Pesos)'!E310/Inversion!$C$28","v":0},{"$f":"'Hipotecario (Pesos)'!H310/Inversion!$C$28","v":0},null,{"$f":"O309*(1+Inversion!$C$27)","v":1652.7846617522553}]
[{"$f":"IF(A310<Inversion!$C$23,A310+1,\"-\")","v":"-"},{"$f":"IF(A311<>\"-\",DATE(YEAR(Inversion!$C$7),MONTH(Inversion!$C$7)+A311,DAY(Inversion!$C$7)),\"-\")","v":"-"},{"$f":"'Hipotecario (Pesos)'!C311","v":0},0,0,0,0,null,1.5566001820843667E-9,{"$f":"'Hipotecario (Pesos)'!F311/Inversion!$C$28","v":0},{"$f":"'Hipotecario (Pesos)'!G311/Inversion!$C$28","v":0},{"$f":"'Hipotecario (Pesos)'!E311/Inversion!$C$28","v":0},{"$f":"'Hipotecario (Pesos)'!H311/Inversion!$C$28","v":0},null,{"$f":"O310*(1+Inversion!$C$27)","v":1660.8296746669578}]
[{"$f":"IF(A311<Inversion!$C$23,A311+1,\"-\")","v":"-"},{"$f":"IF(A312<>\"-\",DATE(YEAR(Inversion!$C$7),MONTH(Inversion!$C$7)+A312,DAY(Inversion!$C$7)),\"-\")","v":"-"},{"$f":"'Hipotecario (Pesos)'!C312","v":0},0,0,0,0,null,1.5566001820843667E-9,{"$f":"'Hipotecario (Pesos)'!F312/Inversion!$C$28","v":0},{"$f":"'Hipotecario (Pesos)'!G312/Inversion!$C$28","v":0},{"$f":"'Hipotecario (Pesos)'!E312/Inversion!$C$28","v":0},{"$f":"'Hipotecario (Pesos)'!H312/Inversion!$C$28","v":0},null,{"$f":"O311*(1+Inversion!$C$27)","v":1668.9138470888215}]
[{"$f":"IF(A312<Inversion!$C$23,A312+1,\"-\")","v":"-"},{"$f":"IF(A313<>\"-\",DATE(YEAR(Inversion!$C$7),MONTH(Inversion!$C$7)+A313,DAY(Inversion!$C$7)),\"-\")","v":"-"},{"$f":"'Hipotecario (Pesos)'!C313","v":0},0,0,0,0,null,1.5566001820843667E-9,{"$f":"'Hipotecario (Pesos)'!F313/Inversion!$C$28","v":0},{"$f":"'Hipotecario (Pesos)'!G313/Inversion!$C$28","v":0},{"$f":"'Hipotecario (Pesos)'!E313/Inversion!$C$28","v":0},{"$f":"'Hipotecario (Pesos)'!H313/Inversion!$C$28","v":0},null,{"$f":"O312*(1+Inversion!$C$27)","v":1677.0373696287274}]
[{"$f":"IF(A313<Inversion!$C$23,A313+1,\"-\")","v":"-"},{"$f":"IF(A314<>\"-\",DATE(YEAR(Inversion!$C$7),MONTH(Inversion!$C$7)+A314,DAY(Inversion!$C$7)),\"-\")","v":"-"},{"$f":"'Hipotecario (Pesos)'!C314","v":0},0,0,0,0,null,1.5566001820843667E-9,{"$f":"'Hipotecario (Pesos)'!F314/Inversion!$C$28","v":0},{"$f":"'Hipotecario (Pesos)'!G314/Inversion!$C$28","v":0},{"$f":"'Hipotecario (Pesos)'!E314/Inversion!$C$28","v":0},{"$f":"'Hipotecario (Pesos)'!H314/Inversion!$C$28","v":0},null,{"$f":"O313*(1+Inversion!$C$27)","v":1685.2004338253653}]
[{"$f":"IF(A314<Inversion!$C$23,A314+1,\"-\")","v":"-"},{"$f":"IF(A315<>\"-\",DATE(YEAR(Inversion!$C$7),MONTH(Inversion!$C$7)+A315,DAY(Inversion!$C$7)),\"-\")","v":"-"},{"$f":"'Hipotecario (Pesos)'!C315","v":0},0,0,0,0,null,1.5566001820843667E-9,{"$f":"'Hipotecario (Pesos)'!F315/Inversion!$C$28","v":0},{"$f":"'Hipotecario (Pesos)'!G315/Inversion!$C$28","v":0},{"$f":"'Hipotecario (Pesos)'!E315/Inversion!$C$28","v":0},{"$f":"'Hipotecario (Pesos)'!H315/Inversion!$C$28","v":0},null,{"$f":"O314*(1+Inversion!$C$27)","v":1693.4032321497482}]
[{"$f":"IF(A315<Inversion!$C$23,A315+1,\"-\")","v":"-"},{"$f":"IF(A316<>\"-\",DATE(YEAR(Inversion!$C$7),MONTH(Inversion!$C$7)+A316,DAY(Inversion!$C$7)),\"-\")","v":"-"},{"$f":"'Hipotecario (Pesos)'!C316","v":0},0,0,0,0,null,1.5566001820843667E-9,{"$f":"'Hipotecario (Pesos)'!F316/Inversion!$C$28","v":0},{"$f":"'Hipotecario (Pesos)'!G316/Inversion!$C$28","v":0},{"$f":"'Hipotecario (Pesos)'!E316/Inversion!$C$28","v":0},{"$f":"'Hipotecario (Pesos)'!H316/Inversion!$C$28","v":0},null,{"$f":"O315*(1+Inversion!$C$27)","v":1701.6459580097523}]
[{"$f":"IF(A316<Inversion!$C$23,A316+1,\"-\")","v":"-"},{"$f":"IF(A317<>\"-\",DATE(YEAR(Inversion!$C$7),MONTH(Inversion!$C$7)+A317,DAY(Inversion!$C$7)),\"-\")","v":"-"},{"$f":"'Hipotecario (Pesos)'!C317","v":0},0,0,0,0,null,1.5566001820843667E-9,{"$f":"'Hipotecario (Pesos)'!F317/Inversion!$C$28","v":0},{"$f":"'Hipotecario (Pesos)'!G317/Inversion!$C$28","v":0},{"$f":"'Hipotecario (Pesos)'!E317/Inversion!$C$28","v":0},{"$f":"'Hipotecario (Pesos)'!H317/Inversion!$C$28","v":0},null,{"$f":"O316*(1+Inversion!$C$27)","v":1709.9288057546764}]
[{"$f":"IF(A317<Inversion!$C$23,A317+1,\"-\")","v":"-"},{"$f":"IF(A318<>\"-\",DATE(YEAR(Inversion!$C$7),MONTH(Inversion!$C$7)+A318,DAY(Inversion!$C$7)),\"-\")","v":"-"},{"$f":"'Hipotecario (Pesos)'!C318","v":0},0,0,0,0,null,1.5566001820843667E-9,{"$f":"'Hipotecario (Pesos)'!F318/Inversion!$C$28","v":0},{"$f":"'Hipotecario (Pesos)'!G318/Inversion!$C$28","v":0},{"$f":"'Hipotecario (Pesos)'!E318/Inversion!$C$28","v":0},{"$f":"'Hipotecario (Pesos)'!H318/Inversion!$C$28","v":0},null,{"$f":"O317*(1+Inversion!$C$27)","v":1718.2519706798239}]
[{"$f":"IF(A318<Inversion!$C$23,A318+1,\"-\")","v":"-"},{"$f":"IF(A319<>\"-\",DATE(YEAR(Inversion!$C$7),MONTH(Inversion!$C$7)+A319,DAY(Inversion!$C$7)),\"-\")","v":"-"},{"$f":"'Hipotecario (Pesos)'!C319","v":0},0,0,0,0,null,1.5566001820843667E-9,{"$f":"'Hipotecario (Pesos)'!F319/Inversion!$C$28","v":0},{"$f":"'Hipotecario (Pesos)'!G319/Inversion!$C$28","v":0},{"$f":"'Hipotecario (Pesos)'!E319/Inversion!$C$28","v":0},{"$f":"'Hipotecario (Pesos)'!H319/Inversion!$C$28","v":0},null,{"$f":"O318*(1+Inversion!$C$27)","v":1726.6156490311082}]
[{"$f":"IF(A319<Inversion!$C$23,A319+1,\"-\")","v":"-"},{"$f":"IF(A320<>\"-\",DATE(YEAR(Inversion!$C$7),MONTH(Inversion!$C$7)+A320,DAY(Inversion!$C$7)),\"-\")","v":"-"},{"$f":"'Hipotecario (Pesos)'!C320","v":0},0,0,0,0,null,1.5566001820843667E-9,{"$f":"'Hipotecario (Pesos)'!F320/Inversion!$C$28","v":0},{"$f":"'Hipotecario (Pesos)'!G320/Inversion!$C$28","v":0},{"$f":"'Hipotecario (Pesos)'!E320/Inversion!$C$28","v":0},{"$f":"'Hipotecario (Pesos)'!H320/Inversion!$C$28","v":0},null,{"$f":"O319*(1+Inversion!$C$27)","v":1735.0200380096796}]
[{"$f":"IF(A320<Inversion!$C$23,A320+1,\"-\")","v":"-"},{"$f":"IF(A321<>\"-\",DATE(YEAR(Inversion!$C$7),MONTH(Inversion!$C$7)+A321,DAY(Inversion!$C$7)),\"-\")","v":"-"},{"$f":"'Hipotecario (Pesos)'!C321","v":0},0,0,0,0,null,1.5566001820843667E-9,{"$f":"'Hipotecario (Pesos)'!F321/Inversion!$C$28","v":0},{"$f":"'Hipotecario (Pesos)'!G321/Inversion!$C$28","v":0},{"$f":"'Hipotecario (Pesos)'!E321/Inversion!$C$28","v":0},{"$f":"'Hipotecario (Pesos)'!H321/Inversion!$C$28","v":0},null,{"$f":"O320*(1+Inversion!$C$27)","v":1743.4653357765751}]
[{"$f":"IF(A321<Inversion!$C$23,A321+1,\"-\")","v":"-"},{"$f":"IF(A322<>\"-\",DATE(YEAR(Inversion!$C$7),MONTH(Inversion!$C$7)+A322,DAY(Inversion!$C$7)),\"-\")","v":"-"},{"$f":"'Hipotecario (Pesos)'!C322","v":0},0,0,0,0,null,1.5566001820843667E-9,{"$f":"'Hipotecario (Pesos)'!F322/Inversion!$C$28","v":0},{"$f":"'Hipotecario (Pesos)'!G322/Inversion!$C$28","v":0},{"$f":"'Hipotecario (Pesos)'!E322/Inversion!$C$28","v":0},{"$f":"'Hipotecario (Pesos)'!H322/Inversion!$C$28","v":0},null,{"$f":"O321*(1+Inversion!$C$27)","v":1751.9517414573904}]
[{"$f":"IF(A322<Inversion!$C$23,A322+1,\"-\")","v":"-"},{"$f":"IF(A323<>\"-\",DATE(YEAR(Inversion!$C$7),MONTH(Inversion!$C$7)+A323,DAY(Inversion!$C$7)),\"-\")","v":"-"},{"$f":"'Hipotecario (Pesos)'!C323","v":0},0,0,0,0,null,1.5566001820843667E-9,{"$f":"'Hipotecario (Pesos)'!F323/Inversion!$C$28","v":0},{"$f":"'Hipotecario (Pesos)'!G323/Inversion!$C$28","v":0},{"$f":"'Hipotecario (Pesos)'!E323/Inversion!$C$28","v":0},{"$f":"'Hipotecario (Pesos)'!H323/Inversion!$C$28","v":0},null,{"$f":"O322*(1+Inversion!$C$27)","v":1760.4794551469752}]
[{"$f":"IF(A323<Inversion!$C$23,A323+1,\"-\")","v":"-"},{"$f":"IF(A324<>\"-\",DATE(YEAR(Inversion!$C$7),MONTH(Inversion!$C$7)+A324,DAY(Inversion!$C$7)),\"-\")","v":"-"},{"$f":"'Hipotecario (Pesos)'!C324","v":0},0,0,0,0,null,1.5566001820843667E-9,{"$f":"'Hipotecario (Pesos)'!F324/Inversion!$C$28","v":0},{"$f":"'Hipotecario (Pesos)'!G324/Inversion!$C$28","v":0},{"$f":"'Hipotecario (Pesos)'!E324/Inversion!$C$28","v":0},{"$f":"'Hipotecario (Pesos)'!H324/Inversion!$C$28","v":0},null,{"$f":"O323*(1+Inversion!$C$27)","v":1769.0486779141506}]
[{"$f":"IF(A324<Inversion!$C$23,A324+1,\"-\")","v":"-"},{"$f":"IF(A325<>\"-\",DATE(YEAR(Inversion!$C$7),MONTH(Inversion!$C$7)+A325,DAY(Inversion!$C$7)),\"-\")","v":"-"},{"$f":"'Hipotecario (Pesos)'!C325","v":0},0,0,0,0,null,1.5566001820843667E-9,{"$f":"'Hipotecario (Pesos)'!F325/Inversion!$C$28","v":0},{"$f":"'Hipotecario (Pesos)'!G325/Inversion!$C$28","v":0},{"$f":"'Hipotecario (Pesos)'!E325/Inversion!$C$28","v":0},{"$f":"'Hipotecario (Pesos)'!H325/Inversion!$C$28","v":0},null,{"$f":"O324*(1+Inversion!$C$27)","v":1777.659611806451}]
[{"$f":"IF(A325<Inversion!$C$23,A325+1,\"-\")","v":"-"},{"$f":"IF(A326<>\"-\",DATE(YEAR(Inversion!$C$7),MONTH(Inversion!$C$7)+A326,DAY(Inversion!$C$7)),\"-\")","v":"-"},{"$f":"'Hipotecario (Pesos)'!C326","v":0},{"$f":"J326*O326","v":0},{"$f":"K326*O326","v":0},{"$f":"L326*O326","v":0},{"$f":"M326*O326","v":0},null,1.5566001820843667E-9,{"$f":"'Hipotecario (Pesos)'!F326/Inversion!$C$28","v":0},{"$f":"'Hipotecario (Pesos)'!G326/Inversion!$C$28","v":0},{"$f":"'Hipotecario (Pesos)'!E326/Inversion!$C$28","v":0},{"$f":"'Hipotecario (Pesos)'!H326/Inversion!$C$28","v":0},null,{"$f":"O325*(1+Inversion!$C$27)","v":1786.312459854887}]
[{"$f":"IF(A326<Inversion!$C$23,A326+1,\"-\")","v":"-"},{"$f":"IF(A327<>\"-\",DATE(YEAR(Inversion!$C$7),MONTH(Inversion!$C$7)+A327,DAY(Inversion!$C$7)),\"-\")","v":"-"},{"$f":"'Hipotecario (Pesos)'!C327","v":0},0,0,0,0,null,1.5566001820843667E-9,{"$f":"'Hipotecario (Pesos)'!F327/Inversion!$C$28","v":0},{"$f":"'Hipotecario (Pesos)'!G327/Inversion!$C$28","v":0},{"$f":"'Hipotecario (Pesos)'!E327/Inversion!$C$28","v":0},{"$f":"'Hipotecario (Pesos)'!H327/Inversion!$C$28","v":0},null,{"$f":"O326*(1+Inversion!$C$27)","v":1795.007426078733}]
[{"$f":"IF(A327<Inversion!$C$23,A327+1,\"-\")","v":"-"},{"$f":"IF(A328<>\"-\",DATE(YEAR(Inversion!$C$7),MONTH(Inversion!$C$7)+A328,DAY(Inversion!$C$7)),\"-\")","v":"-"},{"$f":"'Hipotecario (Pesos)'!C328","v":0},0,0,0,0,null,{"$f":"I327-J328","v":1.5566001820843667E-9},{"$f":"'Hipotecario (Pesos)'!F328/Inversion!$C$28","v":0},{"$f":"'Hipotecario (Pesos)'!G328/Inversion!$C$28","v":0},{"$f":"'Hipotecario (Pesos)'!E328/Inversion!$C$28","v":0},{"$f":"'Hipotecario (Pesos)'!H328/Inversion!$C$28","v":0},null,{"$f":"O327*(1+Inversion!$C$27)","v":1803.7447154903375}]
[{"$f":"IF(A328<Inversion!$C$23,A328+1,\"-\")","v":"-"},{"$f":"IF(A329<>\"-\",DATE(YEAR(Inversion!$C$7),MONTH(Inversion!$C$7)+A329,DAY(Inversion!$C$7)),\"-\")","v":"-"},{"$f":"'Hipotecario (Pesos)'!C329","v":0},0,0,0,0,null,1.5566001820843667E-9,{"$f":"'Hipotecario (Pesos)'!F329/Inversion!$C$28","v":0},{"$f":"'Hipotecario (Pesos)'!G329/Inversion!$C$28","v":0},{"$f":"'Hipotecario (Pesos)'!E329/Inversion!$C$28","v":0},{"$f":"'Hipotecario (Pesos)'!H329/Inversion!$C$28","v":0},null,{"$f":"O328*(1+Inversion!$C$27)","v":1812.524534099957}]
[{"$f":"IF(A329<Inversion!$C$23,A329+1,\"-\")","v":"-"},{"$f":"IF(A330<>\"-\",DATE(YEAR(Inversion!$C$7),MONTH(Inversion!$C$7)+A330,DAY(Inversion!$C$7)),\"-\")","v":"-"},{"$f":"'Hipotecario (Pesos)'!C330","v":0},0,0,0,0,null,1.5566001820843667E-9,{"$f":"'Hipotecario (Pesos)'!F330/Inversion!$C$28","v":0},{"$f":"'Hipotecario (Pesos)'!G330/Inversion!$C$28","v":0},{"$f":"'Hipotecario (Pesos)'!E330/Inversion!$C$28","v":0},{"$f":"'Hipotecario (Pesos)'!H330/Inversion!$C$28","v":0},null,{"$f":"O329*(1+Inversion!$C$27)","v":1821.3470889206135}]
[{"$f":"IF(A330<Inversion!$C$23,A330+1,\"-\")","v":"-"},{"$f":"IF(A331<>\"-\",DATE(YEAR(Inversion!$C$7),MONTH(Inversion!$C$7)+A331,DAY(Inversion!$C$7)),\"-\")","v":"-"},{"$f":"'Hipotecario (Pesos)'!C331","v":0},0,0,0,0,null,1.5566001820843667E-9,{"$f":"'Hipotecario (Pesos)'!F331/Inversion!$C$28","v":0},{"$f":"'Hipotecario (Pesos)'!G331/Inversion!$C$28","v":0},{"$f":"'Hipotecario (Pesos)'!E331/Inversion!$C$28","v":0},{"$f":"'Hipotecario (Pesos)'!H331/Inversion!$C$28","v":0},null,{"$f":"O330*(1+Inversion!$C$27)","v":1830.2125879729749}]
[{"$f":"IF(A331<Inversion!$C$23,A331+1,\"-\")","v":"-"},{"$f":"IF(A332<>\"-\",DATE(YEAR(Inversion!$C$7),MONTH(Inversion!$C$7)+A332,DAY(Inversion!$C$7)),\"-\")","v":"-"},{"$f":"'Hipotecario (Pesos)'!C332","v":0},0,0,0,0,null,1.5566001820843667E-9,{"$f":"'Hipotecario (Pesos)'!F332/Inversion!$C$28","v":0},{"$f":"'Hipotecario (Pesos)'!G332/Inversion!$C$28","v":0},{"$f":"'Hipotecario (Pesos)'!E332/Inversion!$C$28","v":0},{"$f":"'Hipotecario (Pesos)'!H332/Inversion!$C$28","v":0},null,{"$f":"O331*(1+Inversion!$C$27)","v":1839.1212402902606}]
[{"$f":"IF(A332<Inversion!$C$23,A332+1,\"-\")","v":"-"},{"$f":"IF(A333<>\"-\",DATE(YEAR(Inversion!$C$7),MONTH(Inversion!$C$7)+A333,DAY(Inversion!$C$7)),\"-\")","v":"-"},{"$f":"'Hipotecario (Pesos)'!C333","v":0},0,0,0,0,null,1.5566001820843667E-9,{"$f":"'Hipotecario (Pesos)'!F333/Inversion!$C$28","v":0},{"$f":"'Hipotecario (Pesos)'!G333/Inversion!$C$28","v":0},{"$f":"'Hipotecario (Pesos)'!E333/Inversion!$C$28","v":0},{"$f":"'Hipotecario (Pesos)'!H333/Inversion!$C$28","v":0},null,{"$f":"O332*(1+Inversion!$C$27)","v":1848.0732559231699}]
[{"$f":"IF(A333<Inversion!$C$23,A333+1,\"-\")","v":"-"},{"$f":"IF(A334<>\"-\",DATE(YEAR(Inversion!$C$7),MONTH(Inversion!$C$7)+A334,DAY(Inversion!$C$7)),\"-\")","v":"-"},{"$f":"'Hipotecario (Pesos)'!C334","v":0},0,0,0,0,null,1.5566001820843667E-9,{"$f":"'Hipotecario (Pesos)'!F334/Inversion!$C$28","v":0},{"$f":"'Hipotecario (Pesos)'!G334/Inversion!$C$28","v":0},{"$f":"'Hipotecario (Pesos)'!E334/Inversion!$C$28","v":0},{"$f":"'Hipotecario (Pesos)'!H334/Inversion!$C$28","v":0},null,{"$f":"O333*(1+Inversion!$C$27)","v":1857.068845944834}]
[{"$f":"IF(A334<Inversion!$C$23,A334+1,\"-\")","v":"-"},{"$f":"IF(A335<>\"-\",DATE(YEAR(Inversion!$C$7),MONTH(Inversion!$C$7)+A335,DAY(Inversion!$C$7)),\"-\")","v":"-"},{"$f":"'Hipotecario (Pesos)'!C335","v":0},0,0,0,0,null,1.5566001820843667E-9,{"$f":"'Hipotecario (Pesos)'!F335/Inversion!$C$28","v":0},{"$f":"'Hipotecario (Pesos)'!G335/Inversion!$C$28","v":0},{"$f":"'Hipotecario (Pesos)'!E335/Inversion!$C$28","v":0},{"$f":"'Hipotecario (Pesos)'!H335/Inversion!$C$28","v":0},null,{"$f":"O334*(1+Inversion!$C$27)","v":1866.1082224557938}]
[{"$f":"IF(A335<Inversion!$C$23,A335+1,\"-\")","v":"-"},{"$f":"IF(A336<>\"-\",DATE(YEAR(Inversion!$C$7),MONTH(Inversion!$C$7)+A336,DAY(Inversion!$C$7)),\"-\")","v":"-"},{"$f":"'Hipotecario (Pesos)'!C336","v":0},0,0,0,0,null,1.5566001820843667E-9,{"$f":"'Hipotecario (Pesos)'!F336/Inversion!$C$28","v":0},{"$f":"'Hipotecario (Pesos)'!G336/Inversion!$C$28","v":0},{"$f":"'Hipotecario (Pesos)'!E336/Inversion!$C$28","v":0},{"$f":"'Hipotecario (Pesos)'!H336/Inversion!$C$28","v":0},null,{"$f":"O335*(1+Inversion!$C$27)","v":1875.1915985889998}]
[{"$f":"IF(A336<Inversion!$C$23,A336+1,\"-\")","v":"-"},{"$f":"IF(A337<>\"-\",DATE(YEAR(Inversion!$C$7),MONTH(Inversion!$C$7)+A337,DAY(Inversion!$C$7)),\"-\")","v":"-"},{"$f":"'Hipotecario (Pesos)'!C337","v":0},0,0,0,0,null,1.5566001820843667E-9,{"$f":"'Hipotecario (Pesos)'!F337/Inversion!$C$28","v":0},{"$f":"'Hipotecario (Pesos)'!G337/Inversion!$C$28","v":0},{"$f":"'Hipotecario (Pesos)'!E337/Inversion!$C$28","v":0},{"$f":"'Hipotecario (Pesos)'!H337/Inversion!$C$28","v":0},null,{"$f":"O336*(1+Inversion!$C$27)","v":1884.3191885148383}]
[{"$f":"IF(A337<Inversion!$C$23,A337+1,\"-\")","v":"-"},{"$f":"IF(A338<>\"-\",DATE(YEAR(Inversion!$C$7),MONTH(Inversion!$C$7)+A338,DAY(Inversion!$C$7)),\"-\")","v":"-"},{"$f":"'Hipotecario (Pesos)'!C338","v":0},0,0,0,0,null,1.5566001820843667E-9,{"$f":"'Hipotecario (Pesos)'!F338/Inversion!$C$28","v":0},{"$f":"'Hipotecario (Pesos)'!G338/Inversion!$C$28","v":0},{"$f":"'Hipotecario (Pesos)'!E338/Inversion!$C$28","v":0},{"$f":"'Hipotecario (Pesos)'!H338/Inversion!$C$28","v":0},null,{"$f":"O337*(1+Inversion!$C$27)","v":1893.4912074461804}]
[{"$f":"IF(A338<Inversion!$C$23,A338+1,\"-\")","v":"-"},{"$f":"IF(A339<>\"-\",DATE(YEAR(Inversion!$C$7),MONTH(Inversion!$C$7)+A339,DAY(Inversion!$C$7)),\"-\")","v":"-"},{"$f":"'Hipotecario (Pesos)'!C339","v":0},0,0,0,0,null,1.5566001820843667E-9,{"$f":"'Hipotecario (Pesos)'!F339/Inversion!$C$28","v":0},{"$f":"'Hipotecario (Pesos)'!G339/Inversion!$C$28","v":0},{"$f":"'Hipotecario (Pesos)'!E339/Inversion!$C$28","v":0},{"$f":"'Hipotecario (Pesos)'!H339/Inversion!$C$28","v":0},null,{"$f":"O338*(1+Inversion!$C$27)","v":1902.7078716434571}]
[{"$f":"IF(A339<Inversion!$C$23,A339+1,\"-\")","v":"-"},{"$f":"IF(A340<>\"-\",DATE(YEAR(Inversion!$C$7),MONTH(Inversion!$C$7)+A340,DAY(Inversion!$C$7)),\"-\")","v":"-"},{"$f":"'Hipotecario (Pesos)'!C340","v":0},0,0,0,0,null,1.5566001820843667E-9,{"$f":"'Hipotecario (Pesos)'!F340/Inversion!$C$28","v":0},{"$f":"'Hipotecario (Pesos)'!G340/Inversion!$C$28","v":0},{"$f":"'Hipotecario (Pesos)'!E340/Inversion!$C$28","v":0},{"$f":"'Hipotecario (Pesos)'!H340/Inversion!$C$28","v":0},null,{"$f":"O339*(1+Inversion!$C$27)","v":1911.9693984197579}]
[{"$f":"IF(A340<Inversion!$C$23,A340+1,\"-\")","v":"-"},{"$f":"IF(A341<>\"-\",DATE(YEAR(Inversion!$C$7),MONTH(Inversion!$C$7)+A341,DAY(Inversion!$C$7)),\"-\")","v":"-"},{"$f":"'Hipotecario (Pesos)'!C341","v":0},0,0,0,0,null,1.5566001820843667E-9,{"$f":"'Hipotecario (Pesos)'!F341/Inversion!$C$28","v":0},{"$f":"'Hipotecario (Pesos)'!G341/Inversion!$C$28","v":0},{"$f":"'Hipotecario (Pesos)'!E341/Inversion!$C$28","v":0},{"$f":"'Hipotecario (Pesos)'!H341/Inversion!$C$28","v":0},null,{"$f":"O340*(1+Inversion!$C$27)","v":1921.2760061459546}]
[{"$f":"IF(A341<Inversion!$C$23,A341+1,\"-\")","v":"-"},{"$f":"IF(A342<>\"-\",DATE(YEAR(Inversion!$C$7),MONTH(Inversion!$C$7)+A342,DAY(Inversion!$C$7)),\"-\")","v":"-"},{"$f":"'Hipotecario (Pesos)'!C342","v":0},0,0,0,0,null,1.5566001820843667E-9,{"$f":"'Hipotecario (Pesos)'!F342/Inversion!$C$28","v":0},{"$f":"'Hipotecario (Pesos)'!G342/Inversion!$C$28","v":0},{"$f":"'Hipotecario (Pesos)'!E342/Inversion!$C$28","v":0},{"$f":"'Hipotecario (Pesos)'!H342/Inversion!$C$28","v":0},null,{"$f":"O341*(1+Inversion!$C$27)","v":1930.6279142558503}]
[{"$f":"IF(A342<Inversion!$C$23,A342+1,\"-\")","v":"-"},{"$f":"IF(A343<>\"-\",DATE(YEAR(Inversion!$C$7),MONTH(Inversion!$C$7)+A343,DAY(Inversion!$C$7)),\"-\")","v":"-"},{"$f":"'Hipotecario (Pesos)'!C343","v":0},0,0,0,0,null,1.5566001820843667E-9,{"$f":"'Hipotecario (Pesos)'!F343/Inversion!$C$28","v":0},{"$f":"'Hipotecario (Pesos)'!G343/Inversion!$C$28","v":0},{"$f":"'Hipotecario (Pesos)'!E343/Inversion!$C$28","v":0},{"$f":"'Hipotecario (Pesos)'!H343/Inversion!$C$28","v":0},null,{"$f":"O342*(1+Inversion!$C$27)","v":1940.0253432513534}]
[{"$f":"IF(A343<Inversion!$C$23,A343+1,\"-\")","v":"-"},{"$f":"IF(A344<>\"-\",DATE(YEAR(Inversion!$C$7),MONTH(Inversion!$C$7)+A344,DAY(Inversion!$C$7)),\"-\")","v":"-"},{"$f":"'Hipotecario (Pesos)'!C344","v":0},0,0,0,0,null,1.5566001820843667E-9,{"$f":"'Hipotecario (Pesos)'!F344/Inversion!$C$28","v":0},{"$f":"'Hipotecario (Pesos)'!G344/Inversion!$C$28","v":0},{"$f":"'Hipotecario (Pesos)'!E344/Inversion!$C$28","v":0},{"$f":"'Hipotecario (Pesos)'!H344/Inversion!$C$28","v":0},null,{"$f":"O343*(1+Inversion!$C$27)","v":1949.4685147076764}]
[{"$f":"IF(A344<Inversion!$C$23,A344+1,\"-\")","v":"-"},{"$f":"IF(A345<>\"-\",DATE(YEAR(Inversion!$C$7),MONTH(Inversion!$C$7)+A345,DAY(Inversion!$C$7)),\"-\")","v":"-"},{"$f":"'Hipotecario (Pesos)'!C345","v":0},0,0,0,0,null,1.5566001820843667E-9,{"$f":"'Hipotecario (Pesos)'!F345/Inversion!$C$28","v":0},{"$f":"'Hipotecario (Pesos)'!G345/Inversion!$C$28","v":0},{"$f":"'Hipotecario (Pesos)'!E345/Inversion!$C$28","v":0},{"$f":"'Hipotecario (Pesos)'!H345/Inversion!$C$28","v":0},null,{"$f":"O344*(1+Inversion!$C$27)","v":1958.9576512785602}]
[{"$f":"IF(A345<Inversion!$C$23,A345+1,\"-\")","v":"-"},{"$f":"IF(A346<>\"-\",DATE(YEAR(Inversion!$C$7),MONTH(Inversion!$C$7)+A346,DAY(Inversion!$C$7)),\"-\")","v":"-"},{"$f":"'Hipotecario (Pesos)'!C346","v":0},0,0,0,0,null,1.5566001820843667E-9,{"$f":"'Hipotecario (Pesos)'!F346/Inversion!$C$28","v":0},{"$f":"'Hipotecario (Pesos)'!G346/Inversion!$C$28","v":0},{"$f":"'Hipotecario (Pesos)'!E346/Inversion!$C$28","v":0},{"$f":"'Hipotecario (Pesos)'!H346/Inversion!$C$28","v":0},null,{"$f":"O345*(1+Inversion!$C$27)","v":1968.4929767015242}]
[{"$f":"IF(A346<Inversion!$C$23,A346+1,\"-\")","v":"-"},{"$f":"IF(A347<>\"-\",DATE(YEAR(Inversion!$C$7),MONTH(Inversion!$C$7)+A347,DAY(Inversion!$C$7)),\"-\")","v":"-"},{"$f":"'Hipotecario (Pesos)'!C347","v":0},0,0,0,0,null,1.5566001820843667E-9,{"$f":"'Hipotecario (Pesos)'!F347/Inversion!$C$28","v":0},{"$f":"'Hipotecario (Pesos)'!G347/Inversion!$C$28","v":0},{"$f":"'Hipotecario (Pesos)'!E347/Inversion!$C$28","v":0},{"$f":"'Hipotecario (Pesos)'!H347/Inversion!$C$28","v":0},null,{"$f":"O346*(1+Inversion!$C$27)","v":1978.0747158031415}]
[{"$f":"IF(A347<Inversion!$C$23,A347+1,\"-\")","v":"-"},{"$f":"IF(A348<>\"-\",DATE(YEAR(Inversion!$C$7),MONTH(Inversion!$C$7)+A348,DAY(Inversion!$C$7)),\"-\")","v":"-"},{"$f":"'Hipotecario (Pesos)'!C348","v":0},0,0,0,0,null,1.5566001820843667E-9,{"$f":"'Hipotecario (Pesos)'!F348/Inversion!$C$28","v":0},{"$f":"'Hipotecario (Pesos)'!G348/Inversion!$C$28","v":0},{"$f":"'Hipotecario (Pesos)'!E348/Inversion!$C$28","v":0},{"$f":"'Hipotecario (Pesos)'!H348/Inversion!$C$28","v":0},null,{"$f":"O347*(1+Inversion!$C$27)","v":1987.70309450434}]
[{"$f":"IF(A348<Inversion!$C$23,A348+1,\"-\")","v":"-"},{"$f":"IF(A349<>\"-\",DATE(YEAR(Inversion!$C$7),MONTH(Inversion!$C$7)+A349,DAY(Inversion!$C$7)),\"-\")","v":"-"},{"$f":"'Hipotecario (Pesos)'!C349","v":0},0,0,0,0,null,1.5566001820843667E-9,{"$f":"'Hipotecario (Pesos)'!F349/Inversion!$C$28","v":0},{"$f":"'Hipotecario (Pesos)'!G349/Inversion!$C$28","v":0},{"$f":"'Hipotecario (Pesos)'!E349/Inversion!$C$28","v":0},{"$f":"'Hipotecario (Pesos)'!H349/Inversion!$C$28","v":0},null,{"$f":"O348*(1+Inversion!$C$27)","v":1997.3783398257287}]
[{"$f":"IF(A349<Inversion!$C$23,A349+1,\"-\")","v":"-"},{"$f":"IF(A350<>\"-\",DATE(YEAR(Inversion!$C$7),MONTH(Inversion!$C$7)+A350,DAY(Inversion!$C$7)),\"-\")","v":"-"},{"$f":"'Hipotecario (Pesos)'!C350","v":0},0,0,0,0,null,1.5566001820843667E-9,{"$f":"'Hipotecario (Pesos)'!F350/Inversion!$C$28","v":0},{"$f":"'Hipotecario (Pesos)'!G350/Inversion!$C$28","v":0},{"$f":"'Hipotecario (Pesos)'!E350/Inversion!$C$28","v":0},{"$f":"'Hipotecario (Pesos)'!H350/Inversion!$C$28","v":0},null,{"$f":"O349*(1+Inversion!$C$27)","v":2007.1006798929513}]
[{"$f":"IF(A350<Inversion!$C$23,A350+1,\"-\")","v":"-"},{"$f":"IF(A351<>\"-\",DATE(YEAR(Inversion!$C$7),MONTH(Inversion!$C$7)+A351,DAY(Inversion!$C$7)),\"-\")","v":"-"},{"$f":"'Hipotecario (Pesos)'!C351","v":0},0,0,0,0,null,1.5566001820843667E-9,{"$f":"'Hipotecario (Pesos)'!F351/Inversion!$C$28","v":0},{"$f":"'Hipotecario (Pesos)'!G351/Inversion!$C$28","v":0},{"$f":"'Hipotecario (Pesos)'!E351/Inversion!$C$28","v":0},{"$f":"'Hipotecario (Pesos)'!H351/Inversion!$C$28","v":0},null,{"$f":"O350*(1+Inversion!$C$27)","v":2016.8703439420647}]
[{"$f":"IF(A351<Inversion!$C$23,A351+1,\"-\")","v":"-"},{"$f":"IF(A352<>\"-\",DATE(YEAR(Inversion!$C$7),MONTH(Inversion!$C$7)+A352,DAY(Inversion!$C$7)),\"-\")","v":"-"},{"$f":"'Hipotecario (Pesos)'!C352","v":0},0,0,0,0,null,1.5566001820843667E-9,{"$f":"'Hipotecario (Pesos)'!F352/Inversion!$C$28","v":0},{"$f":"'Hipotecario (Pesos)'!G352/Inversion!$C$28","v":0},{"$f":"'Hipotecario (Pesos)'!E352/Inversion!$C$28","v":0},{"$f":"'Hipotecario (Pesos)'!H352/Inversion!$C$28","v":0},null,{"$f":"O351*(1+Inversion!$C$27)","v":2026.6875623249434}]
[{"$f":"IF(A352<Inversion!$C$23,A352+1,\"-\")","v":"-"},{"$f":"IF(A353<>\"-\",DATE(YEAR(Inversion!$C$7),MONTH(Inversion!$C$7)+A353,DAY(Inversion!$C$7)),\"-\")","v":"-"},{"$f":"'Hipotecario (Pesos)'!C353","v":0},0,0,0,0,null,1.5566001820843667E-9,{"$f":"'Hipotecario (Pesos)'!F353/Inversion!$C$28","v":0},{"$f":"'Hipotecario (Pesos)'!G353/Inversion!$C$28","v":0},{"$f":"'Hipotecario (Pesos)'!E353/Inversion!$C$28","v":0},{"$f":"'Hipotecario (Pesos)'!H353/Inversion!$C$28","v":0},null,{"$f":"O352*(1+Inversion!$C$27)","v":2036.552566514712}]
[{"$f":"IF(A353<Inversion!$C$23,A353+1,\"-\")","v":"-"},{"$f":"IF(A354<>\"-\",DATE(YEAR(Inversion!$C$7),MONTH(Inversion!$C$7)+A354,DAY(Inversion!$C$7)),\"-\")","v":"-"},{"$f":"'Hipotecario (Pesos)'!C354","v":0},0,0,0,0,null,1.5566001820843667E-9,{"$f":"'Hipotecario (Pesos)'!F354/Inversion!$C$28","v":0},{"$f":"'Hipotecario (Pesos)'!G354/Inversion!$C$28","v":0},{"$f":"'Hipotecario (Pesos)'!E354/Inversion!$C$28","v":0},{"$f":"'Hipotecario (Pesos)'!H354/Inversion!$C$28","v":0},null,{"$f":"O353*(1+Inversion!$C$27)","v":2046.4655891112016}]
[{"$f":"IF(A354<Inversion!$C$23,A354+1,\"-\")","v":"-"},{"$f":"IF(A355<>\"-\",DATE(YEAR(Inversion!$C$7),MONTH(Inversion!$C$7)+A355,DAY(Inversion!$C$7)),\"-\")","v":"-"},{"$f":"'Hipotecario (Pesos)'!C355","v":0},0,0,0,0,null,1.5566001820843667E-9,{"$f":"'Hipotecario (Pesos)'!F355/Inversion!$C$28","v":0},{"$f":"'Hipotecario (Pesos)'!G355/Inversion!$C$28","v":0},{"$f":"'Hipotecario (Pesos)'!E355/Inversion!$C$28","v":0},{"$f":"'Hipotecario (Pesos)'!H355/Inversion!$C$28","v":0},null,{"$f":"O354*(1+Inversion!$C$27)","v":2056.426863846435}]
[{"$f":"IF(A355<Inversion!$C$23,A355+1,\"-\")","v":"-"},{"$f":"IF(A356<>\"-\",DATE(YEAR(Inversion!$C$7),MONTH(Inversion!$C$7)+A356,DAY(Inversion!$C$7)),\"-\")","v":"-"},{"$f":"'Hipotecario (Pesos)'!C356","v":0},0,0,0,0,null,1.5566001820843667E-9,{"$f":"'Hipotecario (Pesos)'!F356/Inversion!$C$28","v":0},{"$f":"'Hipotecario (Pesos)'!G356/Inversion!$C$28","v":0},{"$f":"'Hipotecario (Pesos)'!E356/Inversion!$C$28","v":0},{"$f":"'Hipotecario (Pesos)'!H356/Inversion!$C$28","v":0},null,{"$f":"O355*(1+Inversion!$C$27)","v":2066.4366255901373}]
[{"$f":"IF(A356<Inversion!$C$23,A356+1,\"-\")","v":"-"},{"$f":"IF(A357<>\"-\",DATE(YEAR(Inversion!$C$7),MONTH(Inversion!$C$7)+A357,DAY(Inversion!$C$7)),\"-\")","v":"-"},{"$f":"'Hipotecario (Pesos)'!C357","v":0},0,0,0,0,null,1.5566001820843667E-9,{"$f":"'Hipotecario (Pesos)'!F357/Inversion!$C$28","v":0},{"$f":"'Hipotecario (Pesos)'!G357/Inversion!$C$28","v":0},{"$f":"'Hipotecario (Pesos)'!E357/Inversion!$C$28","v":0},{"$f":"'Hipotecario (Pesos)'!H357/Inversion!$C$28","v":0},null,{"$f":"O356*(1+Inversion!$C$27)","v":2076.4951103552739}]
[{"$f":"IF(A357<Inversion!$C$23,A357+1,\"-\")","v":"-"},{"$f":"IF(A358<>\"-\",DATE(YEAR(Inversion!$C$7),MONTH(Inversion!$C$7)+A358,DAY(Inversion!$C$7)),\"-\")","v":"-"},{"$f":"'Hipotecario (Pesos)'!C358","v":0},0,0,0,0,null,1.5566001820843667E-9,{"$f":"'Hipotecario (Pesos)'!F358/Inversion!$C$28","v":0},{"$f":"'Hipotecario (Pesos)'!G358/Inversion!$C$28","v":0},{"$f":"'Hipotecario (Pesos)'!E358/Inversion!$C$28","v":0},{"$f":"'Hipotecario (Pesos)'!H358/Inversion!$C$28","v":0},null,{"$f":"O357*(1+Inversion!$C$27)","v":2086.6025553036156}]
[{"$f":"IF(A358<Inversion!$C$23,A358+1,\"-\")","v":"-"},{"$f":"IF(A359<>\"-\",DATE(YEAR(Inversion!$C$7),MONTH(Inversion!$C$7)+A359,DAY(Inversion!$C$7)),\"-\")","v":"-"},{"$f":"'Hipotecario (Pesos)'!C359","v":0},0,0,0,0,null,1.5566001820843667E-9,{"$f":"'Hipotecario (Pesos)'!F359/Inversion!$C$28","v":0},{"$f":"'Hipotecario (Pesos)'!G359/Inversion!$C$28","v":0},{"$f":"'Hipotecario (Pesos)'!E359/Inversion!$C$28","v":0},{"$f":"'Hipotecario (Pesos)'!H359/Inversion!$C$28","v":0},null,{"$f":"O358*(1+Inversion!$C$27)","v":2096.7591987513301}]
[{"$f":"IF(A359<Inversion!$C$23,A359+1,\"-\")","v":"-"},{"$f":"IF(A360<>\"-\",DATE(YEAR(Inversion!$C$7),MONTH(Inversion!$C$7)+A360,DAY(Inversion!$C$7)),\"-\")","v":"-"},{"$f":"'Hipotecario (Pesos)'!C360","v":0},0,0,0,0,null,1.5566001820843667E-9,{"$f":"'Hipotecario (Pesos)'!F360/Inversion!$C$28","v":0},{"$f":"'Hipotecario (Pesos)'!G360/Inversion!$C$28","v":0},{"$f":"'Hipotecario (Pesos)'!E360/Inversion!$C$28","v":0},{"$f":"'Hipotecario (Pesos)'!H360/Inversion!$C$28","v":0},null,{"$f":"O359*(1+Inversion!$C$27)","v":2106.9652801746006}]
[{"$f":"IF(A360<Inversion!$C$23,A360+1,\"-\")","v":"-"},{"$f":"IF(A361<>\"-\",DATE(YEAR(Inversion!$C$7),MONTH(Inversion!$C$7)+A361,DAY(Inversion!$C$7)),\"-\")","v":"-"},{"$f":"'Hipotecario (Pesos)'!C361","v":0},0,0,0,0,null,1.5566001820843667E-9,{"$f":"'Hipotecario (Pesos)'!F361/Inversion!$C$28","v":0},{"$f":"'Hipotecario (Pesos)'!G361/Inversion!$C$28","v":0},{"$f":"'Hipotecario (Pesos)'!E361/Inversion!$C$28","v":0},{"$f":"'Hipotecario (Pesos)'!H361/Inversion!$C$28","v":0},null,{"$f":"O360*(1+Inversion!$C$27)","v":2117.2210402152728}]
[{"$f":"IF(A361<Inversion!$C$23,A361+1,\"-\")","v":"-"},{"$f":"IF(A362<>\"-\",DATE(YEAR(Inversion!$C$7),MONTH(Inversion!$C$7)+A362,DAY(Inversion!$C$7)),\"-\")","v":"-"},{"$f":"'Hipotecario (Pesos)'!C362","v":0},0,0,0,0,null,1.5566001820843667E-9,{"$f":"'Hipotecario (Pesos)'!F362/Inversion!$C$28","v":0},{"$f":"'Hipotecario (Pesos)'!G362/Inversion!$C$28","v":0},{"$f":"'Hipotecario (Pesos)'!E362/Inversion!$C$28","v":0},{"$f":"'Hipotecario (Pesos)'!H362/Inversion!$C$28","v":0},null,{"$f":"O361*(1+Inversion!$C$27)","v":2127.5267206865287}]
[{"$f":"IF(A362<Inversion!$C$23,A362+1,\"-\")","v":"-"},{"$f":"IF(A363<>\"-\",DATE(YEAR(Inversion!$C$7),MONTH(Inversion!$C$7)+A363,DAY(Inversion!$C$7)),\"-\")","v":"-"},{"$f":"'Hipotecario (Pesos)'!C363","v":0},0,0,0,0,null,1.5566001820843667E-9,{"$f":"'Hipotecario (Pesos)'!F363/Inversion!$C$28","v":0},{"$f":"'Hipotecario (Pesos)'!G363/Inversion!$C$28","v":0},{"$f":"'Hipotecario (Pesos)'!E363/Inversion!$C$28","v":0},{"$f":"'Hipotecario (Pesos)'!H363/Inversion!$C$28","v":0},null,{"$f":"O362*(1+Inversion!$C$27)","v":2137.8825645785887}]
[{"$f":"IF(A363<Inversion!$C$23,A363+1,\"-\")","v":"-"},{"$f":"IF(A364<>\"-\",DATE(YEAR(Inversion!$C$7),MONTH(Inversion!$C$7)+A364,DAY(Inversion!$C$7)),\"-\")","v":"-"},{"$f":"'Hipotecario (Pesos)'!C364","v":0},0,0,0,0,null,1.5566001820843667E-9,{"$f":"'Hipotecario (Pesos)'!F364/Inversion!$C$28","v":0},{"$f":"'Hipotecario (Pesos)'!G364/Inversion!$C$28","v":0},{"$f":"'Hipotecario (Pesos)'!E364/Inversion!$C$28","v":0},{"$f":"'Hipotecario (Pesos)'!H364/Inversion!$C$28","v":0},null,{"$f":"O363*(1+Inversion!$C$27)","v":2148.2888160644402}]
[{"$f":"IF(A364<Inversion!$C$23,A364+1,\"-\")","v":"-"},{"$f":"IF(A365<>\"-\",DATE(YEAR(Inversion!$C$7),MONTH(Inversion!$C$7)+A365,DAY(Inversion!$C$7)),\"-\")","v":"-"},{"$f":"'Hipotecario (Pesos)'!C365","v":0},0,0,0,0,null,1.5566001820843667E-9,{"$f":"'Hipotecario (Pesos)'!F365/Inversion!$C$28","v":0},{"$f":"'Hipotecario (Pesos)'!G365/Inversion!$C$28","v":0},{"$f":"'Hipotecario (Pesos)'!E365/Inversion!$C$28","v":0},{"$f":"'Hipotecario (Pesos)'!H365/Inversion!$C$28","v":0},null,{"$f":"O364*(1+Inversion!$C$27)","v":2158.7457205055948}]
["Totales",null,null,"Abono a capital pesos","Intereses pesos","Cuota total pesos sin seguros",null,null,"Totales","Abono a capital UVR","Intereses UVR","Cuota total UVR sin seguros"]
[null,null,null,{"$f":"SUM(D5:D365)","v":293327473.0823831},{"$f":"SUM(E5:E365)","v":261132256.32522243},{"$f":"SUM(F5:F365)","v":554459729.40760577},null,null,null,{"$f":"SUM(J5:J365)","v":350130.83346303453},{"$f":"SUM(K5:K365)","v":426882.33259913191},{"$f":"SUM(L5:L365)","v":777013.16606216331}]

{"sheet":"Leasing H. (Pesos)","index":4,"n_rows":367,"n_cols":16,"rows_kept":367,"cut":false,"hidden":true,"merged":[[0,0,1,6],[365,0,366,2],[3,0,3,1],[2,8,2,13],[2,14,2,15]]}
["Leasing H. (Pesos) - Cuota Fija\nEsta es una simulación, los datos son aproximados"]
[]
[null,null,null,null,null,null,null,null,"Calculo Leasing",null,null,null,null,null,"Opcion de compra"]
["Mes",null,"Saldo inicial","Cuota mensual\nsin seguros","Capital mensual","Intereses mensual","Saldo final",null,"Saldo inicial","Cuota mensual\nsin seguros","Cuota parte financiada","Capital mensual","Intereses mensual parte financiada","Saldo final","Intereses mensual","Saldo mensual"]
[0,{"$f":"IF(A5<>\"-\",DATE(YEAR(Inversion!$C$7),MONTH(Inversion!$C$7)+A5,DAY(Inversion!$C$7)),\"-\")","v":"2025-07-10"},0,0,0,0,0,null,0,0,0,0,0,{"$f":"Inversion!C18-(Inversion!C18*Inversion!C25)","v":131600000},{"$f":"#REF!-(#REF!*#REF!)","v":{"$error":"#REF!"}},0]
[{"$f":"IF(A5<Inversion!$C$23,A5+1,\"-\")","v":1},{"$f":"IF(A6<>\"-\",DATE(YEAR(Inversion!$C$7),MONTH(Inversion!$C$7)+A6,DAY(Inversion!$C$7)),\"-\")","v":"2025-08-10"},{"$f":"I6+P6","v":131600000},{"$f":"J6","v":1216865.7503730964},{"$f":"L6","v":187584.03153866041},{"$f":"M6+O6","v":1029281.718834436},{"$f":"N6+P6","v":131412415.96846133},null,{"$f":"N5","v":131600000},{"$f":"K6+O6","v":1216865.7503730964},{"$f":"PMT(Inversion!$C$22,Inversion!$C$23,-(Inversion!$C$18-(Inversion!$C$18*Inversion!$C$25)))","v":1216865.7503730964},{"$f":"IF(A6>Inversion!$C$23,0,(K6-M6))","v":187584.03153866041},{"$f":"(Inversion!$C$18-(Inversion!$C$18*Inversion!$C$25))*Inversion!$C$22","v":1029281.718834436},{"$f":"N5-L6","v":131412415.96846133},{"$f":"IF(I6=0,0,P6*Inversion!$C$22)","v":0},{"$f":"IF(I6=0,0,Inversion!$C$18*Inversion!$C$25)","v":0}]
[{"$f":"IF(A6<Inversion!$C$23,A6+1,\"-\")","v":2},{"$f":"IF(A7<>\"-\",DATE(YEAR(Inversion!$C$7),MONTH(Inversion!$C$7)+A7,DAY(Inversion!$C$7)),\"-\")","v":"2025-09-10"},131412415.96846133,{"$f":"J7","v":1216865.7503730964},{"$f":"L7","v":189051.18058431405},{"$f":"M7+O7","v":1027814.5697887824},{"$f":"N7+P7","v":131223364.78787702},null,{"$f":"N6","v":131412415.96846133},1216865.7503730964,{"$f":"IF(N6<K6,(N6+M7),IF(N6<=0.01,0,K6))","v":1216865.7503730964},{"$f":"IF(A7>Inversion!$C$23,0,(K7-M7))","v":189051.18058431405},{"$f":"IF(N6<=0.01,0,N6*Inversion!$C$22)","v":1027814.5697887824},{"$f":"N6-L7","v":131223364.78787702},{"$f":"IF(I7=0,0,P7*Inversion!$C$22)","v":0},{"$f":"IF(I7=0,0,Inversion!$C$18*Inversion!$C$25)","v":0}]
[{"$f":"IF(A7<Inversion!$C$23,A7+1,\"-\")","v":3},{"$f":"IF(A8<>\"-\",DATE(YEAR(Inversion!$C$7),MONTH(Inversion!$C$7)+A8,DAY(Inversion!$C$7)),\"-\")","v":"2025-10-10"},131223364.78787702,1216865.7503730964,190529.80462762329,1026335.9457454731,131032834.9832494,null,131223364.78787702,1216865.7503730964,{"$f":"IF(N7<K7,(N7+M8),IF(N7<=0.01,0,K7))","v":1216865.7503730964},{"$f":"IF(A8>Inversion!$C$23,0,(K8-M8))","v":190529.80462762329},{"$f":"IF(N7<=0.01,0,N7*Inversion!$C$22)","v":1026335.9457454731},{"$f":"N7-L8","v":131032834.9832494},{"$f":"IF(I8=0,0,P8*Inversion!$C$22)","v":0},{"$f":"IF(I8=0,0,Inversion!$C$18*Inversion!$C$25)","v":0}]
[{"$f":"IF(A8<Inversion!$C$23,A8+1,\"-\")","v":4},{"$f":"IF(A9<>\"-\",DATE(YEAR(Inversion!$C$7),MONTH(Inversion!$C$7)+A9,DAY(Inversion!$C$7)),\"-\")","v":"2025-11-10"},131032834.9832494,1216865.7503730964,192019.99341786886,1024845.7569552276,130840814.98983152,null,131032834.9832494,1216865.7503730964,1216865.7503730964,{"$f":"IF(A9>Inversion!$C$23,0,(K9-M9))","v":192019.99341786886},{"$f":"IF(N8<=0.01,0,N8*Inversion!$C$22)","v":1024845.7569552276},130840814.98983152,{"$f":"IF(I9=0,0,P9*Inversion!$C$22)","v":0},{"$f":"IF(I9=0,0,Inversion!$C$18*Inversion!$C$25)","v":0}]
[{"$f":"IF(A9<Inversion!$C$23,A9+1,\"-\")","v":5},{"$f":"IF(A10<>\"-\",DATE(YEAR(Inversion!$C$7),MONTH(Inversion!$C$7)+A10,DAY(Inversion!$C$7)),\"-\")","v":"2025-12-10"},130840814.98983152,1216865.7503730964,193521.83740628615,1023343.9129668103,130647293.15242523,null,130840814.98983152,1216865.7503730964,1216865.7503730964,{"$f":"IF(A10>Inversion!$C$23,0,(K10-M10))","v":193521.83740628615},{"$f":"IF(N9<=0.01,0,N9*Inversion!$C$22)","v":1023343.9129668103},130647293.15242523,{"$f":"IF(I10=0,0,P10*Inversion!$C$22)","v":0},{"$f":"IF(I10=0,0,Inversion!$C$18*Inversion!$C$25)","v":0}]
[{"$f":"IF(A10<Inversion!$C$23,A10+1,\"-\")","v":6},{"$f":"IF(A11<>\"-\",DATE(YEAR(Inversion!$C$7),MONTH(Inversion!$C$7)+A11,DAY(Inversion!$C$7)),\"-\")","v":"2026-01-10"},130647293.15242523,1216865.7503730964,195035.42775155627,1021830.3226215402,130452257.72467367,null,130647293.15242523,1216865.7503730964,1216865.7503730964,{"$f":"IF(A11>Inversion!$C$23,0,(K11-M11))","v":195035.42775155627},{"$f":"IF(N10<=0.01,0,N10*Inversion!$C$22)","v":1021830.3226215402},130452257.72467367,{"$f":"IF(I11=0,0,P11*Inversion!$C$22)","v":0},{"$f":"IF(I11=0,0,Inversion!$C$18*Inversion!$C$25)","v":0}]
[{"$f":"IF(A11<Inversion!$C$23,A11+1,\"-\")","v":7},{"$f":"IF(A12<>\"-\",DATE(YEAR(Inversion!$C$7),MONTH(Inversion!$C$7)+A12,DAY(Inversion!$C$7)),\"-\")","v":"2026-02-10"},130452257.72467367,1216865.7503730964,196560.85632533848,1020304.894047758,130255696.86834833,null,130452257.72467367,1216865.7503730964,1216865.7503730964,{"$f":"IF(A12>Inversion!$C$23,0,(K12-M12))","v":196560.85632533848},{"$f":"IF(N11<=0.01,0,N11*Inversion!$C$22)","v":1020304.894047758},130255696.86834833,{"$f":"IF(I12=0,0,P12*Inversion!$C$22)","v":0},{"$f":"IF(I12=0,0,Inversion!$C$18*Inversion!$C$25)","v":0}]
[{"$f":"IF(A12<Inversion!$C$23,A12+1,\"-\")","v":8},{"$f":"IF(A13<>\"-\",DATE(YEAR(Inversion!$C$7),MONTH(Inversion!$C$7)+A13,DAY(Inversion!$C$7)),\"-\")","v":"2026-03-10"},130255696.86834833,1216865.7503730964,198098.21571784699,1018767.5346552494,130057598.65263048,null,130255696.86834833,1216865.7503730964,1216865.7503730964,{"$f":"IF(A13>Inversion!$C$23,0,(K13-M13))","v":198098.21571784699},{"$f":"IF(N12<=0.01,0,N12*Inversion!$C$22)","v":1018767.5346552494},130057598.65263048,{"$f":"IF(I13=0,0,P13*Inversion!$C$22)","v":0},{"$f":"IF(I13=0,0,Inversion!$C$18*Inversion!$C$25)","v":0}]
[{"$f":"IF(A13<Inversion!$C$23,A13+1,\"-\")","v":9},{"$f":"IF(A14<>\"-\",DATE(YEAR(Inversion!$C$7),MONTH(Inversion!$C$7)+A14,DAY(Inversion!$C$7)),\"-\")","v":"2026-04-10"},130057598.65263048,1216865.7503730964,199647.59924347082,1017218.1511296256,129857951.053387,null,130057598.65263048,1216865.7503730964,1216865.7503730964,{"$f":"IF(A14>Inversion!$C$23,0,(K14-M14))","v":199647.59924347082},{"$f":"IF(N13<=0.01,0,N13*Inversion!$C$22)","v":1017218.1511296256},129857951.053387,{"$f":"IF(I14=0,0,P14*Inversion!$C$22)","v":0},{"$f":"IF(I14=0,0,Inversion!$C$18*Inversion!$C$25)","v":0}]
[{"$f":"IF(A14<Inversion!$C$23,A14+1,\"-\")","v":10},{"$f":"IF(A15<>\"-\",DATE(YEAR(Inversion!$C$7),MONTH(Inversion!$C$7)+A15,DAY(Inversion!$C$7)),\"-\")","v":"2026-05-10"},129857951.053387,1216865.7503730964,201209.10094643815,1015656.6494266583,129656741.95244056,null,129857951.053387,1216865.7503730964,1216865.7503730964,{"$f":"IF(A15>Inversion!$C$23,0,(K15-M15))","v":201209.10094643815},{"$f":"IF(N14<=0.01,0,N14*Inversion!$C$22)","v":1015656.6494266583},129656741.95244056,{"$f":"IF(I15=0,0,P15*Inversion!$C$22)","v":0},{"$f":"IF(I15=0,0,Inversion!$C$18*Inversion!$C$25)","v":0}]
[{"$f":"IF(A15<Inversion!$C$23,A15+1,\"-\")","v":11},{"$f":"IF(A16<>\"-\",DATE(YEAR(Inversion!$C$7),MONTH(Inversion!$C$7)+A16,DAY(Inversion!$C$7)),\"-\")","v":"2026-06-10"},129656741.95244056,1216865.7503730964,202782.81560652389,1014082.9347665726,129453959.13683404,null,129656741.95244056,1216865.7503730964,1216865.7503730964,{"$f":"IF(A16>Inversion!$C$23,0,(K16-M16))","v":202782.81560652389},{"$f":"IF(N15<=0.01,0,N15*Inversion!$C$22)","v":1014082.9347665726},129453959.13683404,{"$f":"IF(I16=0,0,P16*Inversion!$C$22)","v":0},{"$f":"IF(I16=0,0,Inversion!$C$18*Inversion!$C$25)","v":0}]
[{"$f":"IF(A16<Inversion!$C$23,A16+1,\"-\")","v":12},{"$f":"IF(A17<>\"-\",DATE(YEAR(Inversion!$C$7),MONTH(Inversion!$C$7)+A17,DAY(Inversion!$C$7)),\"-\")","v":"2026-07-10"},129453959.13683404,1216865.7503730964,204368.83874480322,1012496.9116282932,129249590.29808924,null,129453959.13683404,1216865.7503730964,1216865.7503730964,{"$f":"IF(A17>Inversion!$C$23,0,(K17-M17))","v":204368.83874480322},{"$f":"IF(N16<=0.01,0,N16*Inversion!$C$22)","v":1012496.9116282932},129249590.29808924,{"$f":"IF(I17=0,0,P17*Inversion!$C$22)","v":0},{"$f":"IF(I17=0,0,Inversion!$C$18*Inversion!$C$25)","v":0}]
[{"$f":"IF(A17<Inversion!$C$23,A17+1,\"-\")","v":13},{"$f":"IF(A18<>\"-\",DATE(YEAR(Inversion!$C$7),MONTH(Inversion!$C$7)+A18,DAY(Inversion!$C$7)),\"-\")","v":"2026-08-10"},129249590.29808924,1216865.7503730964,205967.26662944956,1010898.4837436469,129043623.03145979,null,129249590.29808924,1216865.7503730964,1216865.7503730964,{"$f":"IF(A18>Inversion!$C$23,0,(K18-M18))","v":205967.26662944956},{"$f":"IF(N17<=0.01,0,N17*Inversion!$C$22)","v":1010898.4837436469},129043623.03145979,{"$f":"IF(I18=0,0,P18*Inversion!$C$22)","v":0},{"$f":"IF(I18=0,0,Inversion!$C$18*Inversion!$C$25)","v":0}]
[{"$f":"IF(A18<Inversion!$C$23,A18+1,\"-\")","v":14},{"$f":"IF(A19<>\"-\",DATE(YEAR(Inversion!$C$7),MONTH(Inversion!$C$7)+A19,DAY(Inversion!$C$7)),\"-\")","v":"2026-09-10"},129043623.03145979,1216865.7503730964,207578.19628157711,1009287.5540915193,128836044.83517821,null,129043623.03145979,1216865.7503730964,1216865.7503730964,{"$f":"IF(A19>Inversion!$C$23,0,(K19-M19))","v":207578.19628157711},{"$f":"IF(N18<=0.01,0,N18*Inversion!$C$22)","v":1009287.5540915193},128836044.83517821,{"$f":"IF(I19=0,0,P19*Inversion!$C$22)","v":0},{"$f":"IF(I19=0,0,Inversion!$C$18*Inversion!$C$25)","v":0}]
[{"$f":"IF(A19<Inversion!$C$23,A19+1,\"-\")","v":15},{"$f":"IF(A20<>\"-\",DATE(YEAR(Inversion!$C$7),MONTH(Inversion!$C$7)+A20,DAY(Inversion!$C$7)),\"-\")","v":"2026-10-10"},128836044.83517821,1216865.7503730964,209201.72548113076,1007664.0248919657,128626843.10969707,null,128836044.83517821,1216865.7503730964,1216865.7503730964,{"$f":"IF(A20>Inversion!$C$23,0,(K20-M20))","v":209201.72548113076},{"$f":"IF(N19<=0.01,0,N19*Inversion!$C$22)","v":1007664.0248919657},128626843.10969707,{"$f":"IF(I20=0,0,P20*Inversion!$C$22)","v":0},{"$f":"IF(I20=0,0,Inversion!$C$18*Inversion!$C$25)","v":0}]
[{"$f":"IF(A20<Inversion!$C$23,A20+1,\"-\")","v":16},{"$f":"IF(A21<>\"-\",DATE(YEAR(Inversion!$C$7),MONTH(Inversion!$C$7)+A21,DAY(Inversion!$C$7)),\"-\")","v":"2026-11-10"},128626843.10969707,1216865.7503730964,210837.95277282037,1006027.7976002761,128416005.15692425,null,128626843.10969707,1216865.7503730964,1216865.7503730964,{"$f":"IF(A21>Inversion!$C$23,0,(K21-M21))","v":210837.95277282037},{"$f":"IF(N20<=0.01,0,N20*Inversion!$C$22)","v":1006027.7976002761},128416005.15692425,{"$f":"IF(I21=0,0,P21*Inversion!$C$22)","v":0},{"$f":"IF(I21=0,0,Inversion!$C$18*Inversion!$C$25)","v":0}]
[{"$f":"IF(A21<Inversion!$C$23,A21+1,\"-\")","v":17},{"$f":"IF(A22<>\"-\",DATE(YEAR(Inversion!$C$7),MONTH(Inversion!$C$7)+A22,DAY(Inversion!$C$7)),\"-\")","v":"2026-12-10"},128416005.15692425,1216865.7503730964,212486.97747210262,1004378.7729009938,128203518.17945215,null,128416005.15692425,1216865.7503730964,1216865.7503730964,{"$f":"IF(A22>Inversion!$C$23,0,(K22-M22))","v":212486.97747210262},{"$f":"IF(N21<=0.01,0,N21*Inversion!$C$22)","v":1004378.7729009938},128203518.17945215,{"$f":"IF(I22=0,0,P22*Inversion!$C$22)","v":0},{"$f":"IF(I22=0,0,Inversion!$C$18*Inversion!$C$25)","v":0}]
[{"$f":"IF(A22<Inversion!$C$23,A22+1,\"-\")","v":18},{"$f":"IF(A23<>\"-\",DATE(YEAR(Inversion!$C$7),MONTH(Inversion!$C$7)+A23,DAY(Inversion!$C$7)),\"-\")","v":"2027-01-10"},128203518.17945215,1216865.7503730964,214148.89967120916,1002716.8507018873,127989369.27978094,null,128203518.17945215,1216865.7503730964,1216865.7503730964,{"$f":"IF(A23>Inversion!$C$23,0,(K23-M23))","v":214148.89967120916},{"$f":"IF(N22<=0.01,0,N22*Inversion!$C$22)","v":1002716.8507018873},127989369.27978094,{"$f":"IF(I23=0,0,P23*Inversion!$C$22)","v":0},{"$f":"IF(I23=0,0,Inversion!$C$18*Inversion!$C$25)","v":0}]
[{"$f":"IF(A23<Inversion!$C$23,A23+1,\"-\")","v":19},{"$f":"IF(A24<>\"-\",DATE(YEAR(Inversion!$C$7),MONTH(Inversion!$C$7)+A24,DAY(Inversion!$C$7)),\"-\")","v":"2027-02-10"},127989369.27978094,1216865.7503730964,215823.82024522196,1001041.9301278745,127773545.45953572,null,127989369.27978094,1216865.7503730964,1216865.7503730964,{"$f":"IF(A24>Inversion!$C$23,0,(K24-M24))","v":215823.82024522196},{"$f":"IF(N23<=0.01,0,N23*Inversion!$C$22)","v":1001041.9301278745},127773545.45953572,{"$f":"IF(I24=0,0,P24*Inversion!$C$22)","v":0},{"$f":"IF(I24=0,0,Inversion!$C$18*Inversion!$C$25)","v":0}]
[{"$f":"IF(A24<Inversion!$C$23,A24+1,\"-\")","v":20},{"$f":"IF(A25<>\"-\",DATE(YEAR(Inversion!$C$7),MONTH(Inversion!$C$7)+A25,DAY(Inversion!$C$7)),\"-\")","v":"2027-03-10"},127773545.45953572,1216865.7503730964,217511.84085819626,999353.90951490018,127556033.61867753,null,127773545.45953572,1216865.7503730964,1216865.7503730964,{"$f":"IF(A25>Inversion!$C$23,0,(K25-M25))","v":217511.84085819626},{"$f":"IF(N24<=0.01,0,N24*Inversion!$C$22)","v":999353.90951490018},127556033.61867753,{"$f":"IF(I25=0,0,P25*Inversion!$C$22)","v":0},{"$f":"IF(I25=0,0,Inversion!$C$18*Inversion!$C$25)","v":0}]
[{"$f":"IF(A25<Inversion!$C$23,A25+1,\"-\")","v":21},{"$f":"IF(A26<>\"-\",DATE(YEAR(Inversion!$C$7),MONTH(Inversion!$C$7)+A26,DAY(Inversion!$C$7)),\"-\")","v":"2027-04-10"},127556033.61867753,1216865.7503730964,219213.06396933121,997652.68640376523,127336820.5547082,null,127556033.61867753,1216865.7503730964,1216865.7503730964,{"$f":"IF(A26>Inversion!$C$23,0,(K26-M26))","v":219213.06396933121},{"$f":"IF(N25<=0.01,0,N25*Inversion!$C$22)","v":997652.68640376523},127336820.5547082,{"$f":"IF(I26=0,0,P26*Inversion!$C$22)","v":0},{"$f":"IF(I26=0,0,Inversion!$C$18*Inversion!$C$25)","v":0}]
[{"$f":"IF(A26<Inversion!$C$23,A26+1,\"-\")","v":22},{"$f":"IF(A27<>\"-\",DATE(YEAR(Inversion!$C$7),MONTH(Inversion!$C$7)+A27,DAY(Inversion!$C$7)),\"-\")","v":"2027-05-10"},127336820.5547082,1216865.7503730964,220927.59283918922,995938.15753390722,127115892.961869,null,127336820.5547082,1216865.7503730964,1216865.7503730964,{"$f":"IF(A27>Inversion!$C$23,0,(K27-M27))","v":220927.59283918922},{"$f":"IF(N26<=0.01,0,N26*Inversion!$C$22)","v":995938.15753390722},127115892.961869,{"$f":"IF(I27=0,0,P27*Inversion!$C$22)","v":0},{"$f":"IF(I27=0,0,Inversion!$C$18*Inversion!$C$25)","v":0}]
[{"$f":"IF(A27<Inversion!$C$23,A27+1,\"-\")","v":23},{"$f":"IF(A28<>\"-\",DATE(YEAR(Inversion!$C$7),MONTH(Inversion!$C$7)+A28,DAY(Inversion!$C$7)),\"-\")","v":"2027-06-10"},127115892.961869,1216865.7503730964,222655.53153596341,994210.21883713303,126893237.43033303,null,127115892.961869,1216865.7503730964,1216865.7503730964,{"$f":"IF(A28>Inversion!$C$23,0,(K28-M28))","v":222655.53153596341},{"$f":"IF(N27<=0.01,0,N27*Inversion!$C$22)","v":994210.21883713303},126893237.43033303,{"$f":"IF(I28=0,0,P28*Inversion!$C$22)","v":0},{"$f":"IF(I28=0,0,Inversion!$C$18*Inversion!$C$25)","v":0}]
[{"$f":"IF(A28<Inversion!$C$23,A28+1,\"-\")","v":24},{"$f":"IF(A29<>\"-\",DATE(YEAR(Inversion!$C$7),MONTH(Inversion!$C$7)+A29,DAY(Inversion!$C$7)),\"-\")","v":"2027-07-10"},126893237.43033303,1216865.7503730964,224396.98494179419,992468.76543130225,126668840.44539124,null,126893237.43033303,1216865.7503730964,1216865.7503730964,{"$f":"IF(A29>Inversion!$C$23,0,(K29-M29))","v":224396.98494179419},{"$f":"IF(N28<=0.01,0,N28*Inversion!$C$22)","v":992468.76543130225},126668840.44539124,{"$f":"IF(I29=0,0,P29*Inversion!$C$22)","v":0},{"$f":"IF(I29=0,0,Inversion!$C$18*Inversion!$C$25)","v":0}]
[{"$f":"IF(A29<Inversion!$C$23,A29+1,\"-\")","v":25},{"$f":"IF(A30<>\"-\",DATE(YEAR(Inversion!$C$7),MONTH(Inversion!$C$7)+A30,DAY(Inversion!$C$7)),\"-\")","v":"2027-08-10"},126668840.44539124,1216865.7503730964,226152.05875913578,990713.69161396066,126442688.3866321,null,126668840.44539124,1216865.7503730964,1216865.7503730964,{"$f":"IF(A30>Inversion!$C$23,0,(K30-M30))","v":226152.05875913578},{"$f":"IF(N29<=0.01,0,N29*Inversion!$C$22)","v":990713.69161396066},126442688.3866321,{"$f":"IF(I30=0,0,P30*Inversion!$C$22)","v":0},{"$f":"IF(I30=0,0,Inversion!$C$18*Inversion!$C$25)","v":0}]
[{"$f":"IF(A30<Inversion!$C$23,A30+1,\"-\")","v":26},{"$f":"IF(A31<>\"-\",DATE(YEAR(Inversion!$C$7),MONTH(Inversion!$C$7)+A31,DAY(Inversion!$C$7)),\"-\")","v":"2027-09-10"},126442688.3866321,1216865.7503730964,227920.85951717186,988944.89085592458,126214767.52711493,null,126442688.3866321,1216865.7503730964,1216865.7503730964,{"$f":"IF(A31>Inversion!$C$23,0,(K31-M31))","v":227920.85951717186},{"$f":"IF(N30<=0.01,0,N30*Inversion!$C$22)","v":988944.89085592458},126214767.52711493,{"$f":"IF(I31=0,0,P31*Inversion!$C$22)","v":0},{"$f":"IF(I31=0,0,Inversion!$C$18*Inversion!$C$25)","v":0}]
[{"$f":"IF(A31<Inversion!$C$23,A31+1,\"-\")","v":27},{"$f":"IF(A32<>\"-\",DATE(YEAR(Inversion!$C$7),MONTH(Inversion!$C$7)+A32,DAY(Inversion!$C$7)),\"-\")","v":"2027-10-10"},126214767.52711493,1216865.7503730964,229703.49457828177,987162.25579481467,125985064.03253664,null,126214767.52711493,1216865.7503730964,1216865.7503730964,{"$f":"IF(A32>Inversion!$C$23,0,(K32-M32))","v":229703.49457828177},{"$f":"IF(N31<=0.01,0,N31*Inversion!$C$22)","v":987162.25579481467},125985064.03253664,{"$f":"IF(I32=0,0,P32*Inversion!$C$22)","v":0},{"$f":"IF(I32=0,0,Inversion!$C$18*Inversion!$C$25)","v":0}]
[{"$f":"IF(A32<Inversion!$C$23,A32+1,\"-\")","v":28},{"$f":"IF(A33<>\"-\",DATE(YEAR(Inversion!$C$7),MONTH(Inversion!$C$7)+A33,DAY(Inversion!$C$7)),\"-\")","v":"2027-11-10"},125985064.03253664,1216865.7503730964,231500.07214455702,985365.67822853941,125753563.96039209,null,125985064.03253664,1216865.7503730964,1216865.7503730964,{"$f":"IF(A33>Inversion!$C$23,0,(K33-M33))","v":231500.07214455702},{"$f":"IF(N32<=0.01,0,N32*Inversion!$C$22)","v":985365.67822853941},125753563.96039209,{"$f":"IF(I33=0,0,P33*Inversion!$C$22)","v":0},{"$f":"IF(I33=0,0,Inversion!$C$18*Inversion!$C$25)","v":0}]
[{"$f":"IF(A33<Inversion!$C$23,A33+1,\"-\")","v":29},{"$f":"IF(A34<>\"-\",DATE(YEAR(Inversion!$C$7),MONTH(Inversion!$C$7)+A34,DAY(Inversion!$C$7)),\"-\")","v":"2027-12-10"},125753563.96039209,1216865.7503730964,233310.70126436884,983555.0491087276,125520253.25912772,null,125753563.96039209,1216865.7503730964,1216865.7503730964,{"$f":"IF(A34>Inversion!$C$23,0,(K34-M34))","v":233310.70126436884},{"$f":"IF(N33<=0.01,0,N33*Inversion!$C$22)","v":983555.0491087276},125520253.25912772,{"$f":"IF(I34=0,0,P34*Inversion!$C$22)","v":0},{"$f":"IF(I34=0,0,Inversion!$C$18*Inversion!$C$25)","v":0}]
[{"$f":"IF(A34<Inversion!$C$23,A34+1,\"-\")","v":30},{"$f":"IF(A35<>\"-\",DATE(YEAR(Inversion!$C$7),MONTH(Inversion!$C$7)+A35,DAY(Inversion!$C$7)),\"-\")","v":"2028-01-10"},125520253.25912772,1216865.7503730964,235135.4918389878,981730.25853410864,125285117.76728873,null,125520253.25912772,1216865.7503730964,1216865.7503730964,{"$f":"IF(A35>Inversion!$C$23,0,(K35-M35))","v":235135.4918389878},{"$f":"IF(N34<=0.01,0,N34*Inversion!$C$22)","v":981730.25853410864},125285117.76728873,{"$f":"IF(I35=0,0,P35*Inversion!$C$22)","v":0},{"$f":"IF(I35=0,0,Inversion!$C$18*Inversion!$C$25)","v":0}]
[{"$f":"IF(A35<Inversion!$C$23,A35+1,\"-\")","v":31},{"$f":"IF(A36<>\"-\",DATE(YEAR(Inversion!$C$7),MONTH(Inversion!$C$7)+A36,DAY(Inversion!$C$7)),\"-\")","v":"2028-02-10"},125285117.76728873,1216865.7503730964,236974.55462925392,979891.19574384252,125048143.21265948,null,125285117.76728873,1216865.7503730964,1216865.7503730964,{"$f":"IF(A36>Inversion!$C$23,0,(K36-M36))","v":236974.55462925392},{"$f":"IF(N35<=0.01,0,N35*Inversion!$C$22)","v":979891.19574384252},125048143.21265948,{"$f":"IF(I36=0,0,P36*Inversion!$C$22)","v":0},{"$f":"IF(I36=0,0,Inversion!$C$18*Inversion!$C$25)","v":0}]
[{"$f":"IF(A36<Inversion!$C$23,A36+1,\"-\")","v":32},{"$f":"IF(A37<>\"-\",DATE(YEAR(Inversion!$C$7),MONTH(Inversion!$C$7)+A37,DAY(Inversion!$C$7)),\"-\")","v":"2028-03-10"},125048143.21265948,1216865.7503730964,238828.0012622996,978037.74911079684,124809315.21139719,null,125048143.21265948,1216865.7503730964,1216865.7503730964,{"$f":"IF(A37>Inversion!$C$23,0,(K37-M37))","v":238828.0012622996},{"$f":"IF(N36<=0.01,0,N36*Inversion!$C$22)","v":978037.74911079684},124809315.21139719,{"$f":"IF(I37=0,0,P37*Inversion!$C$22)","v":0},{"$f":"IF(I37=0,0,Inversion!$C$18*Inversion!$C$25)","v":0}]
[{"$f":"IF(A37<Inversion!$C$23,A37+1,\"-\")","v":33},{"$f":"IF(A38<>\"-\",DATE(YEAR(Inversion!$C$7),MONTH(Inversion!$C$7)+A38,DAY(Inversion!$C$7)),\"-\")","v":"2028-04-10"},124809315.21139719,1216865.7503730964,240695.94423832581,976169.80613477062,124568619.26715887,null,124809315.21139719,1216865.7503730964,1216865.7503730964,{"$f":"IF(A38>Inversion!$C$23,0,(K38-M38))","v":240695.94423832581},{"$f":"IF(N37<=0.01,0,N37*Inversion!$C$22)","v":976169.80613477062},124568619.26715887,{"$f":"IF(I38=0,0,P38*Inversion!$C$22)","v":0},{"$f":"IF(I38=0,0,Inversion!$C$18*Inversion!$C$25)","v":0}]
[{"$f":"IF(A38<Inversion!$C$23,A38+1,\"-\")","v":34},{"$f":"IF(A39<>\"-\",DATE(YEAR(Inversion!$C$7),MONTH(Inversion!$C$7)+A39,DAY(Inversion!$C$7)),\"-\")","v":"2028-05-10"},124568619.26715887,1216865.7503730964,242578.49693742988,974287.25343566656,124326040.77022144,null,124568619.26715887,1216865.7503730964,1216865.7503730964,{"$f":"IF(A39>Inversion!$C$23,0,(K39-M39))","v":242578.49693742988},{"$f":"IF(N38<=0.01,0,N38*Inversion!$C$22)","v":974287.25343566656},124326040.77022144,{"$f":"IF(I39=0,0,P39*Inversion!$C$22)","v":0},{"$f":"IF(I39=0,0,Inversion!$C$18*Inversion!$C$25)","v":0}]
[{"$f":"IF(A39<Inversion!$C$23,A39+1,\"-\")","v":35},{"$f":"IF(A40<>\"-\",DATE(YEAR(Inversion!$C$7),MONTH(Inversion!$C$7)+A40,DAY(Inversion!$C$7)),\"-\")","v":"2028-06-10"},124326040.77022144,1216865.7503730964,244475.77362648782,972389.97674660862,124081564.99659495,null,124326040.77022144,1216865.7503730964,1216865.7503730964,{"$f":"IF(A40>Inversion!$C$23,0,(K40-M40))","v":244475.77362648782},{"$f":"IF(N39<=0.01,0,N39*Inversion!$C$22)","v":972389.97674660862},124081564.99659495,{"$f":"IF(I40=0,0,P40*Inversion!$C$22)","v":0},{"$f":"IF(I40=0,0,Inversion!$C$18*Inversion!$C$25)","v":0}]
[{"$f":"IF(A40<Inversion!$C$23,A40+1,\"-\")","v":36},{"$f":"IF(A41<>\"-\",DATE(YEAR(Inversion!$C$7),MONTH(Inversion!$C$7)+A41,DAY(Inversion!$C$7)),\"-\")","v":"2028-07-10"},124081564.99659495,1216865.7503730964,246387.88946609001,970477.86090700643,123835177.10712886,null,124081564.99659495,1216865.7503730964,1216865.7503730964,{"$f":"IF(A41>Inversion!$C$23,0,(K41-M41))","v":246387.88946609001},{"$f":"IF(N40<=0.01,0,N40*Inversion!$C$22)","v":970477.86090700643},123835177.10712886,{"$f":"IF(I41=0,0,P41*Inversion!$C$22)","v":0},{"$f":"IF(I41=0,0,Inversion!$C$18*Inversion!$C$25)","v":0}]
[{"$f":"IF(A41<Inversion!$C$23,A41+1,\"-\")","v":37},{"$f":"IF(A42<>\"-\",DATE(YEAR(Inversion!$C$7),MONTH(Inversion!$C$7)+A42,DAY(Inversion!$C$7)),\"-\")","v":"2028-08-10"},123835177.10712886,1216865.7503730964,248314.96051753114,968550.78985556529,123586862.14661133,null,123835177.10712886,1216865.7503730964,1216865.7503730964,{"$f":"IF(A42>Inversion!$C$23,0,(K42-M42))","v":248314.96051753114},{"$f":"IF(N41<=0.01,0,N41*Inversion!$C$22)","v":968550.78985556529},123586862.14661133,{"$f":"IF(I42=0,0,P42*Inversion!$C$22)","v":0},{"$f":"IF(I42=0,0,Inversion!$C$18*Inversion!$C$25)","v":0}]
[{"$f":"IF(A42<Inversion!$C$23,A42+1,\"-\")","v":38},{"$f":"IF(A43<>\"-\",DATE(YEAR(Inversion!$C$7),MONTH(Inversion!$C$7)+A43,DAY(Inversion!$C$7)),\"-\")","v":"2028-09-10"},123586862.14661133,1216865.7503730964,250257.10374985472,966608.64662324172,123336605.04286148,null,123586862.14661133,1216865.7503730964,1216865.7503730964,{"$f":"IF(A43>Inversion!$C$23,0,(K43-M43))","v":250257.10374985472},{"$f":"IF(N42<=0.01,0,N42*Inversion!$C$22)","v":966608.64662324172},123336605.04286148,{"$f":"IF(I43=0,0,P43*Inversion!$C$22)","v":0},{"$f":"IF(I43=0,0,Inversion!$C$18*Inversion!$C$25)","v":0}]
[{"$f":"IF(A43<Inversion!$C$23,A43+1,\"-\")","v":39},{"$f":"IF(A44<>\"-\",DATE(YEAR(Inversion!$C$7),MONTH(Inversion!$C$7)+A44,DAY(Inversion!$C$7)),\"-\")","v":"2028-10-10"},123336605.04286148,1216865.7503730964,252214.43704695336,964651.31332614308,123084390.60581452,null,123336605.04286148,1216865.7503730964,1216865.7503730964,{"$f":"IF(A44>Inversion!$C$23,0,(K44-M44))","v":252214.43704695336},{"$f":"IF(N43<=0.01,0,N43*Inversion!$C$22)","v":964651.31332614308},123084390.60581452,{"$f":"IF(I44=0,0,P44*Inversion!$C$22)","v":0},{"$f":"IF(I44=0,0,Inversion!$C$18*Inversion!$C$25)","v":0}]
[{"$f":"IF(A44<Inversion!$C$23,A44+1,\"-\")","v":40},{"$f":"IF(A45<>\"-\",DATE(YEAR(Inversion!$C$7),MONTH(Inversion!$C$7)+A45,DAY(Inversion!$C$7)),\"-\")","v":"2028-11-10"},123084390.60581452,1216865.7503730964,254187.07921472355,962678.67115837289,122830203.52659979,null,123084390.60581452,1216865.7503730964,1216865.7503730964,{"$f":"IF(A45>Inversion!$C$23,0,(K45-M45))","v":254187.07921472355},{"$f":"IF(N44<=0.01,0,N44*Inversion!$C$22)","v":962678.67115837289},122830203.52659979,{"$f":"IF(I45=0,0,P45*Inversion!$C$22)","v":0},{"$f":"IF(I45=0,0,Inversion!$C$18*Inversion!$C$25)","v":0}]
[{"$f":"IF(A45<Inversion!$C$23,A45+1,\"-\")","v":41},{"$f":"IF(A46<>\"-\",DATE(YEAR(Inversion!$C$7),MONTH(Inversion!$C$7)+A46,DAY(Inversion!$C$7)),\"-\")","v":"2028-12-10"},122830203.52659979,1216865.7503730964,256175.149988277,960690.60038481944,122574028.37661152,null,122830203.52659979,1216865.7503730964,1216865.7503730964,{"$f":"IF(A46>Inversion!$C$23,0,(K46-M46))","v":256175.149988277},{"$f":"IF(N45<=0.01,0,N45*Inversion!$C$22)","v":960690.60038481944},122574028.37661152,{"$f":"IF(I46=0,0,P46*Inversion!$C$22)","v":0},{"$f":"IF(I46=0,0,Inversion!$C$18*Inversion!$C$25)","v":0}]
[{"$f":"IF(A46<Inversion!$C$23,A46+1,\"-\")","v":42},{"$f":"IF(A47<>\"-\",DATE(YEAR(Inversion!$C$7),MONTH(Inversion!$C$7)+A47,DAY(Inversion!$C$7)),\"-\")","v":"2029-01-10"},122574028.37661152,1216865.7503730964,258178.7700392087,958686.98033388774,122315849.6065723,null,122574028.37661152,1216865.7503730964,1216865.7503730964,{"$f":"IF(A47>Inversion!$C$23,0,(K47-M47))","v":258178.7700392087},{"$f":"IF(N46<=0.01,0,N46*Inversion!$C$22)","v":958686.98033388774},122315849.6065723,{"$f":"IF(I47=0,0,P47*Inversion!$C$22)","v":0},{"$f":"IF(I47=0,0,Inversion!$C$18*Inversion!$C$25)","v":0}]
[{"$f":"IF(A47<Inversion!$C$23,A47+1,\"-\")","v":43},{"$f":"IF(A48<>\"-\",DATE(YEAR(Inversion!$C$7),MONTH(Inversion!$C$7)+A48,DAY(Inversion!$C$7)),\"-\")","v":"2029-02-10"},122315849.6065723,1216865.7503730964,260198.06098292081,956667.68939017563,122055651.54558937,null,122315849.6065723,1216865.7503730964,1216865.7503730964,{"$f":"IF(A48>Inversion!$C$23,0,(K48-M48))","v":260198.06098292081},{"$f":"IF(N47<=0.01,0,N47*Inversion!$C$22)","v":956667.68939017563},122055651.54558937,{"$f":"IF(I48=0,0,P48*Inversion!$C$22)","v":0},{"$f":"IF(I48=0,0,Inversion!$C$18*Inversion!$C$25)","v":0}]
[{"$f":"IF(A48<Inversion!$C$23,A48+1,\"-\")","v":44},{"$f":"IF(A49<>\"-\",DATE(YEAR(Inversion!$C$7),MONTH(Inversion!$C$7)+A49,DAY(Inversion!$C$7)),\"-\")","v":"2029-03-10"},122055651.54558937,1216865.7503730964,262233.14538600517,954632.60498709127,121793418.40020336,null,122055651.54558937,1216865.7503730964,1216865.7503730964,{"$f":"IF(A49>Inversion!$C$23,0,(K49-M49))","v":262233.14538600517},{"$f":"IF(N48<=0.01,0,N48*Inversion!$C$22)","v":954632.60498709127},121793418.40020336,{"$f":"IF(I49=0,0,P49*Inversion!$C$22)","v":0},{"$f":"IF(I49=0,0,Inversion!$C$18*Inversion!$C$25)","v":0}]
[{"$f":"IF(A49<Inversion!$C$23,A49+1,\"-\")","v":45},{"$f":"IF(A50<>\"-\",DATE(YEAR(Inversion!$C$7),MONTH(Inversion!$C$7)+A50,DAY(Inversion!$C$7)),\"-\")","v":"2029-04-10"},121793418.40020336,1216865.7503730964,264284.14677368198,952581.60359941446,121529134.25342968,null,121793418.40020336,1216865.7503730964,1216865.7503730964,{"$f":"IF(A50>Inversion!$C$23,0,(K50-M50))","v":264284.14677368198},{"$f":"IF(N49<=0.01,0,N49*Inversion!$C$22)","v":952581.60359941446},121529134.25342968,{"$f":"IF(I50=0,0,P50*Inversion!$C$22)","v":0},{"$f":"IF(I50=0,0,Inversion!$C$18*Inversion!$C$25)","v":0}]
[{"$f":"IF(A50<Inversion!$C$23,A50+1,\"-\")","v":46},{"$f":"IF(A51<>\"-\",DATE(YEAR(Inversion!$C$7),MONTH(Inversion!$C$7)+A51,DAY(Inversion!$C$7)),\"-\")","v":"2029-05-10"},121529134.25342968,1216865.7503730964,266351.18963729835,950514.56073579809,121262783.06379238,null,121529134.25342968,1216865.7503730964,1216865.7503730964,{"$f":"IF(A51>Inversion!$C$23,0,(K51-M51))","v":266351.18963729835},{"$f":"IF(N50<=0.01,0,N50*Inversion!$C$22)","v":950514.56073579809},121262783.06379238,{"$f":"IF(I51=0,0,P51*Inversion!$C$22)","v":0},{"$f":"IF(I51=0,0,Inversion!$C$18*Inversion!$C$25)","v":0}]
[{"$f":"IF(A51<Inversion!$C$23,A51+1,\"-\")","v":47},{"$f":"IF(A52<>\"-\",DATE(YEAR(Inversion!$C$7),MONTH(Inversion!$C$7)+A52,DAY(Inversion!$C$7)),\"-\")","v":"2029-06-10"},121262783.06379238,1216865.7503730964,268434.39944188402,948431.35093121242,120994348.66435049,null,121262783.06379238,1216865.7503730964,1216865.7503730964,{"$f":"IF(A52>Inversion!$C$23,0,(K52-M52))","v":268434.39944188402},{"$f":"IF(N51<=0.01,0,N51*Inversion!$C$22)","v":948431.35093121242},120994348.66435049,{"$f":"IF(I52=0,0,P52*Inversion!$C$22)","v":0},{"$f":"IF(I52=0,0,Inversion!$C$18*Inversion!$C$25)","v":0}]
[{"$f":"IF(A52<Inversion!$C$23,A52+1,\"-\")","v":48},{"$f":"IF(A53<>\"-\",DATE(YEAR(Inversion!$C$7),MONTH(Inversion!$C$7)+A53,DAY(Inversion!$C$7)),\"-\")","v":"2029-07-10"},120994348.66435049,1216865.7503730964,270533.90263376723,946331.84773932921,120723814.76171672,null,120994348.66435049,1216865.7503730964,1216865.7503730964,{"$f":"IF(A53>Inversion!$C$23,0,(K53-M53))","v":270533.90263376723},{"$f":"IF(N52<=0.01,0,N52*Inversion!$C$22)","v":946331.84773932921},120723814.76171672,{"$f":"IF(I53=0,0,P53*Inversion!$C$22)","v":0},{"$f":"IF(I53=0,0,Inversion!$C$18*Inversion!$C$25)","v":0}]
[{"$f":"IF(A53<Inversion!$C$23,A53+1,\"-\")","v":49},{"$f":"IF(A54<>\"-\",DATE(YEAR(Inversion!$C$7),MONTH(Inversion!$C$7)+A54,DAY(Inversion!$C$7)),\"-\")","v":"2029-08-10"},120723814.76171672,1216865.7503730964,272649.82664824952,944215.92372484691,120451164.93506847,null,120723814.76171672,1216865.7503730964,1216865.7503730964,{"$f":"IF(A54>Inversion!$C$23,0,(K54-M54))","v":272649.82664824952},{"$f":"IF(N53<=0.01,0,N53*Inversion!$C$22)","v":944215.92372484691},120451164.93506847,{"$f":"IF(I54=0,0,P54*Inversion!$C$22)","v":0},{"$f":"IF(I54=0,0,Inversion!$C$18*Inversion!$C$25)","v":0}]
[{"$f":"IF(A54<Inversion!$C$23,A54+1,\"-\")","v":50},{"$f":"IF(A55<>\"-\",DATE(YEAR(Inversion!$C$7),MONTH(Inversion!$C$7)+A55,DAY(Inversion!$C$7)),\"-\")","v":"2029-09-10"},120451164.93506847,1216865.7503730964,274782.29991734098,942083.45045575546,120176382.63515113,null,120451164.93506847,1216865.7503730964,1216865.7503730964,{"$f":"IF(A55>Inversion!$C$23,0,(K55-M55))","v":274782.29991734098},{"$f":"IF(N54<=0.01,0,N54*Inversion!$C$22)","v":942083.45045575546},120176382.63515113,{"$f":"IF(I55=0,0,P55*Inversion!$C$22)","v":0},{"$f":"IF(I55=0,0,Inversion!$C$18*Inversion!$C$25)","v":0}]
[{"$f":"IF(A55<Inversion!$C$23,A55+1,\"-\")","v":51},{"$f":"IF(A56<>\"-\",DATE(YEAR(Inversion!$C$7),MONTH(Inversion!$C$7)+A56,DAY(Inversion!$C$7)),\"-\")","v":"2029-10-10"},120176382.63515113,1216865.7503730964,276931.45187755523,939934.29849554121,119899451.18327358,null,120176382.63515113,1216865.7503730964,1216865.7503730964,{"$f":"IF(A56>Inversion!$C$23,0,(K56-M56))","v":276931.45187755523},{"$f":"IF(N55<=0.01,0,N55*Inversion!$C$22)","v":939934.29849554121},119899451.18327358,{"$f":"IF(I56=0,0,P56*Inversion!$C$22)","v":0},{"$f":"IF(I56=0,0,Inversion!$C$18*Inversion!$C$25)","v":0}]
[{"$f":"IF(A56<Inversion!$C$23,A56+1,\"-\")","v":52},{"$f":"IF(A57<>\"-\",DATE(YEAR(Inversion!$C$7),MONTH(Inversion!$C$7)+A57,DAY(Inversion!$C$7)),\"-\")","v":"2029-11-10"},119899451.18327358,1216865.7503730964,279097.41297776671,937768.33739532973,119620353.77029581,null,119899451.18327358,1216865.7503730964,1216865.7503730964,{"$f":"IF(A57>Inversion!$C$23,0,(K57-M57))","v":279097.41297776671},{"$f":"IF(N56<=0.01,0,N56*Inversion!$C$22)","v":937768.33739532973},119620353.77029581,{"$f":"IF(I57=0,0,P57*Inversion!$C$22)","v":0},{"$f":"IF(I57=0,0,Inversion!$C$18*Inversion!$C$25)","v":0}]
[{"$f":"IF(A57<Inversion!$C$23,A57+1,\"-\")","v":53},{"$f":"IF(A58<>\"-\",DATE(YEAR(Inversion!$C$7),MONTH(Inversion!$C$7)+A58,DAY(Inversion!$C$7)),\"-\")","v":"2029-12-10"},119620353.77029581,1216865.7503730964,281280.31468712853,935585.43568596791,119339073.45560868,null,119620353.77029581,1216865.7503730964,1216865.7503730964,{"$f":"IF(A58>Inversion!$C$23,0,(K58-M58))","v":281280.31468712853},{"$f":"IF(N57<=0.01,0,N57*Inversion!$C$22)","v":935585.43568596791},119339073.45560868,{"$f":"IF(I58=0,0,P58*Inversion!$C$22)","v":0},{"$f":"IF(I58=0,0,Inversion!$C$18*Inversion!$C$25)","v":0}]
[{"$f":"IF(A58<Inversion!$C$23,A58+1,\"-\")","v":54},{"$f":"IF(A59<>\"-\",DATE(YEAR(Inversion!$C$7),MONTH(Inversion!$C$7)+A59,DAY(Inversion!$C$7)),\"-\")","v":"2030-01-10"},119339073.45560868,1216865.7503730964,283480.28950305143,933385.460870045,119055593.16610563,null,119339073.45560868,1216865.7503730964,1216865.7503730964,{"$f":"IF(A59>Inversion!$C$23,0,(K59-M59))","v":283480.28950305143},{"$f":"IF(N58<=0.01,0,N58*Inversion!$C$22)","v":933385.460870045},119055593.16610563,{"$f":"IF(I59=0,0,P59*Inversion!$C$22)","v":0},{"$f":"IF(I59=0,0,Inversion!$C$18*Inversion!$C$25)","v":0}]
[{"$f":"IF(A59<Inversion!$C$23,A59+1,\"-\")","v":55},{"$f":"IF(A60<>\"-\",DATE(YEAR(Inversion!$C$7),MONTH(Inversion!$C$7)+A60,DAY(Inversion!$C$7)),\"-\")","v":"2030-02-10"},119055593.16610563,1216865.7503730964,285697.47095924744,931168.279413849,118769895.69514638,null,119055593.16610563,1216865.7503730964,1216865.7503730964,{"$f":"IF(A60>Inversion!$C$23,0,(K60-M60))","v":285697.47095924744},{"$f":"IF(N59<=0.01,0,N59*Inversion!$C$22)","v":931168.279413849},118769895.69514638,{"$f":"IF(I60=0,0,P60*Inversion!$C$22)","v":0},{"$f":"IF(I60=0,0,Inversion!$C$18*Inversion!$C$25)","v":0}]
[{"$f":"IF(A60<Inversion!$C$23,A60+1,\"-\")","v":56},{"$f":"IF(A61<>\"-\",DATE(YEAR(Inversion!$C$7),MONTH(Inversion!$C$7)+A61,DAY(Inversion!$C$7)),\"-\")","v":"2030-03-10"},118769895.69514638,1216865.7503730964,287931.99363383395,928933.75673926249,118481963.70151255,null,118769895.69514638,1216865.7503730964,1216865.7503730964,{"$f":"IF(A61>Inversion!$C$23,0,(K61-M61))","v":287931.99363383395},{"$f":"IF(N60<=0.01,0,N60*Inversion!$C$22)","v":928933.75673926249},118481963.70151255,{"$f":"IF(I61=0,0,P61*Inversion!$C$22)","v":0},{"$f":"IF(I61=0,0,Inversion!$C$18*Inversion!$C$25)","v":0}]
[{"$f":"IF(A61<Inversion!$C$23,A61+1,\"-\")","v":57},{"$f":"IF(A62<>\"-\",DATE(YEAR(Inversion!$C$7),MONTH(Inversion!$C$7)+A62,DAY(Inversion!$C$7)),\"-\")","v":"2030-04-10"},118481963.70151255,1216865.7503730964,290183.99315750308,926681.75721559336,118191779.70835504,null,118481963.70151255,1216865.7503730964,1216865.7503730964,{"$f":"IF(A62>Inversion!$C$23,0,(K62-M62))","v":290183.99315750308},{"$f":"IF(N61<=0.01,0,N61*Inversion!$C$22)","v":926681.75721559336},118191779.70835504,{"$f":"IF(I62=0,0,P62*Inversion!$C$22)","v":0},{"$f":"IF(I62=0,0,Inversion!$C$18*Inversion!$C$25)","v":0}]
[{"$f":"IF(A62<Inversion!$C$23,A62+1,\"-\")","v":58},{"$f":"IF(A63<>\"-\",DATE(YEAR(Inversion!$C$7),MONTH(Inversion!$C$7)+A63,DAY(Inversion!$C$7)),\"-\")","v":"2030-05-10"},118191779.70835504,1216865.7503730964,292453.60622175375,924412.14415134268,117899326.10213329,null,118191779.70835504,1216865.7503730964,1216865.7503730964,{"$f":"IF(A63>Inversion!$C$23,0,(K63-M63))","v":292453.60622175375},{"$f":"IF(N62<=0.01,0,N62*Inversion!$C$22)","v":924412.14415134268},117899326.10213329,{"$f":"IF(I63=0,0,P63*Inversion!$C$22)","v":0},{"$f":"IF(I63=0,0,Inversion!$C$18*Inversion!$C$25)","v":0}]
[{"$f":"IF(A63<Inversion!$C$23,A63+1,\"-\")","v":59},{"$f":"IF(A64<>\"-\",DATE(YEAR(Inversion!$C$7),MONTH(Inversion!$C$7)+A64,DAY(Inversion!$C$7)),\"-\")","v":"2030-06-10"},117899326.10213329,1216865.7503730964,294740.97058718884,922124.77978590759,117604585.1315461,null,117899326.10213329,1216865.7503730964,1216865.7503730964,{"$f":"IF(A64>Inversion!$C$23,0,(K64-M64))","v":294740.97058718884},{"$f":"IF(N63<=0.01,0,N63*Inversion!$C$22)","v":922124.77978590759},117604585.1315461,{"$f":"IF(I64=0,0,P64*Inversion!$C$22)","v":0},{"$f":"IF(I64=0,0,Inversion!$C$18*Inversion!$C$25)","v":0}]
[{"$f":"IF(A64<Inversion!$C$23,A64+1,\"-\")","v":60},{"$f":"IF(A65<>\"-\",DATE(YEAR(Inversion!$C$7),MONTH(Inversion!$C$7)+A65,DAY(Inversion!$C$7)),\"-\")","v":"2030-07-10"},117604585.1315461,1216865.7503730964,297046.22509187669,919819.52528121974,117307538.90645422,null,117604585.1315461,1216865.7503730964,1216865.7503730964,{"$f":"IF(A65>Inversion!$C$23,0,(K65-M65))","v":297046.22509187669},{"$f":"IF(N64<=0.01,0,N64*Inversion!$C$22)","v":919819.52528121974},117307538.90645422,{"$f":"IF(I65=0,0,P65*Inversion!$C$22)","v":0},{"$f":"IF(I65=0,0,Inversion!$C$18*Inversion!$C$25)","v":0}]
[{"$f":"IF(A65<Inversion!$C$23,A65+1,\"-\")","v":61},{"$f":"IF(A66<>\"-\",DATE(YEAR(Inversion!$C$7),MONTH(Inversion!$C$7)+A66,DAY(Inversion!$C$7)),\"-\")","v":"2030-08-10"},117307538.90645422,1216865.7503730964,299369.50965977821,917496.24071331823,117008169.39679444,null,117307538.90645422,1216865.7503730964,1216865.7503730964,{"$f":"IF(A66>Inversion!$C$23,0,(K66-M66))","v":299369.50965977821},{"$f":"IF(N65<=0.01,0,N65*Inversion!$C$22)","v":917496.24071331823},117008169.39679444,{"$f":"IF(I66=0,0,P66*Inversion!$C$22)","v":0},{"$f":"IF(I66=0,0,Inversion!$C$18*Inversion!$C$25)","v":0}]
[{"$f":"IF(A66<Inversion!$C$23,A66+1,\"-\")","v":62},{"$f":"IF(A67<>\"-\",DATE(YEAR(Inversion!$C$7),MONTH(Inversion!$C$7)+A67,DAY(Inversion!$C$7)),\"-\")","v":"2030-09-10"},117008169.39679444,1216865.7503730964,301710.96530924062,915154.78506385582,116706458.43148519,null,117008169.39679444,1216865.7503730964,1216865.7503730964,{"$f":"IF(A67>Inversion!$C$23,0,(K67-M67))","v":301710.96530924062},{"$f":"IF(N66<=0.01,0,N66*Inversion!$C$22)","v":915154.78506385582},116706458.43148519,{"$f":"IF(I67=0,0,P67*Inversion!$C$22)","v":0},{"$f":"IF(I67=0,0,Inversion!$C$18*Inversion!$C$25)","v":0}]
[{"$f":"IF(A67<Inversion!$C$23,A67+1,\"-\")","v":63},{"$f":"IF(A68<>\"-\",DATE(YEAR(Inversion!$C$7),MONTH(Inversion!$C$7)+A68,DAY(Inversion!$C$7)),\"-\")","v":"2030-10-10"},116706458.43148519,1216865.7503730964,304070.73416155588,912795.01621154055,116402387.69732364,null,116706458.43148519,1216865.7503730964,1216865.7503730964,{"$f":"IF(A68>Inversion!$C$23,0,(K68-M68))","v":304070.73416155588},{"$f":"IF(N67<=0.01,0,N67*Inversion!$C$22)","v":912795.01621154055},116402387.69732364,{"$f":"IF(I68=0,0,P68*Inversion!$C$22)","v":0},{"$f":"IF(I68=0,0,Inversion!$C$18*Inversion!$C$25)","v":0}]
[{"$f":"IF(A68<Inversion!$C$23,A68+1,\"-\")","v":64},{"$f":"IF(A69<>\"-\",DATE(YEAR(Inversion!$C$7),MONTH(Inversion!$C$7)+A69,DAY(Inversion!$C$7)),\"-\")","v":"2030-11-10"},116402387.69732364,1216865.7503730964,306448.9594495882,910416.79092350823,116095938.73787405,null,116402387.69732364,1216865.7503730964,1216865.7503730964,{"$f":"IF(A69>Inversion!$C$23,0,(K69-M69))","v":306448.9594495882},{"$f":"IF(N68<=0.01,0,N68*Inversion!$C$22)","v":910416.79092350823},116095938.73787405,{"$f":"IF(I69=0,0,P69*Inversion!$C$22)","v":0},{"$f":"IF(I69=0,0,Inversion!$C$18*Inversion!$C$25)","v":0}]
[{"$f":"IF(A69<Inversion!$C$23,A69+1,\"-\")","v":65},{"$f":"IF(A70<>\"-\",DATE(YEAR(Inversion!$C$7),MONTH(Inversion!$C$7)+A70,DAY(Inversion!$C$7)),\"-\")","v":"2030-12-10"},{"$f":"I70+P70","v":116095938.73787405},1216865.7503730964,308845.78552646737,908019.96484662907,115787092.95234758,null,116095938.73787405,{"$f":"K70+O70","v":1216865.7503730964},1216865.7503730964,{"$f":"IF(A70>Inversion!$C$23,0,(K70-M70))","v":308845.78552646737},{"$f":"IF(N69<=0.01,0,N69*Inversion!$C$22)","v":908019.96484662907},115787092.95234758,{"$f":"IF(I70=0,0,P70*Inversion!$C$22)","v":0},{"$f":"IF(I70=0,0,Inversion!$C$18*Inversion!$C$25)","v":0}]
[{"$f":"IF(A70<Inversion!$C$23,A70+1,\"-\")","v":66},{"$f":"IF(A71<>\"-\",DATE(YEAR(Inversion!$C$7),MONTH(Inversion!$C$7)+A71,DAY(Inversion!$C$7)),\"-\")","v":"2031-01-10"},115787092.95234758,{"$f":"J71","v":1216865.7503730964},{"$f":"L71","v":311261.35787435086},{"$f":"M71+O71","v":905604.39249874558},{"$f":"N71+P71","v":115475831.59447323},null,{"$f":"N70","v":115787092.95234758},1216865.7503730964,1216865.7503730964,{"$f":"IF(A71>Inversion!$C$23,0,(K71-M71))","v":311261.35787435086},{"$f":"IF(N70<=0.01,0,N70*Inversion!$C$22)","v":905604.39249874558},115475831.59447323,{"$f":"IF(I71=0,0,P71*Inversion!$C$22)","v":0},{"$f":"IF(I71=0,0,Inversion!$C$18*Inversion!$C$25)","v":0}]
[{"$f":"IF(A71<Inversion!$C$23,A71+1,\"-\")","v":67},{"$f":"IF(A72<>\"-\",DATE(YEAR(Inversion!$C$7),MONTH(Inversion!$C$7)+A72,DAY(Inversion!$C$7)),\"-\")","v":"2031-02-10"},115475831.59447323,1216865.7503730964,313695.82311325392,903169.92725984252,115162135.77135998,null,115475831.59447323,1216865.7503730964,{"$f":"IF(N71<K71,(N71+M72),IF(N71<=0.01,0,K71))","v":1216865.7503730964},{"$f":"IF(A72>Inversion!$C$23,0,(K72-M72))","v":313695.82311325392},{"$f":"IF(N71<=0.01,0,N71*Inversion!$C$22)","v":903169.92725984252},{"$f":"N71-L72","v":115162135.77135998},{"$f":"IF(I72=0,0,P72*Inversion!$C$22)","v":0},{"$f":"IF(I72=0,0,Inversion!$C$18*Inversion!$C$25)","v":0}]
[{"$f":"IF(A72<Inversion!$C$23,A72+1,\"-\")","v":68},{"$f":"IF(A73<>\"-\",DATE(YEAR(Inversion!$C$7),MONTH(Inversion!$C$7)+A73,DAY(Inversion!$C$7)),\"-\")","v":"2031-03-10"},115162135.77135998,1216865.7503730964,316149.32900994993,900716.42136314651,114845986.44235003,null,115162135.77135998,1216865.7503730964,1216865.7503730964,{"$f":"IF(A73>Inversion!$C$23,0,(K73-M73))","v":316149.32900994993},{"$f":"IF(N72<=0.01,0,N72*Inversion!$C$22)","v":900716.42136314651},114845986.44235003,{"$f":"IF(I73=0,0,P73*Inversion!$C$22)","v":0},{"$f":"IF(I73=0,0,Inversion!$C$18*Inversion!$C$25)","v":0}]
[{"$f":"IF(A73<Inversion!$C$23,A73+1,\"-\")","v":69},{"$f":"IF(A74<>\"-\",DATE(YEAR(Inversion!$C$7),MONTH(Inversion!$C$7)+A74,DAY(Inversion!$C$7)),\"-\")","v":"2031-04-10"},114845986.44235003,1216865.7503730964,318622.02448693861,898243.72588615783,114527364.41786309,null,114845986.44235003,1216865.7503730964,1216865.7503730964,{"$f":"IF(A74>Inversion!$C$23,0,(K74-M74))","v":318622.02448693861},{"$f":"IF(N73<=0.01,0,N73*Inversion!$C$22)","v":898243.72588615783},114527364.41786309,{"$f":"IF(I74=0,0,P74*Inversion!$C$22)","v":0},{"$f":"IF(I74=0,0,Inversion!$C$18*Inversion!$C$25)","v":0}]
[{"$f":"IF(A74<Inversion!$C$23,A74+1,\"-\")","v":70},{"$f":"IF(A75<>\"-\",DATE(YEAR(Inversion!$C$7),MONTH(Inversion!$C$7)+A75,DAY(Inversion!$C$7)),\"-\")","v":"2031-05-10"},114527364.41786309,1216865.7503730964,321114.05963148596,895751.69074161048,114206250.3582316,null,114527364.41786309,1216865.7503730964,1216865.7503730964,{"$f":"IF(A75>Inversion!$C$23,0,(K75-M75))","v":321114.05963148596},{"$f":"IF(N74<=0.01,0,N74*Inversion!$C$22)","v":895751.69074161048},114206250.3582316,{"$f":"IF(I75=0,0,P75*Inversion!$C$22)","v":0},{"$f":"IF(I75=0,0,Inversion!$C$18*Inversion!$C$25)","v":0}]
[{"$f":"IF(A75<Inversion!$C$23,A75+1,\"-\")","v":71},{"$f":"IF(A76<>\"-\",DATE(YEAR(Inversion!$C$7),MONTH(Inversion!$C$7)+A76,DAY(Inversion!$C$7)),\"-\")","v":"2031-06-10"},114206250.3582316,1216865.7503730964,323625.58570473362,893240.16466836282,113882624.77252688,null,114206250.3582316,1216865.7503730964,1216865.7503730964,{"$f":"IF(A76>Inversion!$C$23,0,(K76-M76))","v":323625.58570473362},{"$f":"IF(N75<=0.01,0,N75*Inversion!$C$22)","v":893240.16466836282},113882624.77252688,{"$f":"IF(I76=0,0,P76*Inversion!$C$22)","v":0},{"$f":"IF(I76=0,0,Inversion!$C$18*Inversion!$C$25)","v":0}]
[{"$f":"IF(A76<Inversion!$C$23,A76+1,\"-\")","v":72},{"$f":"IF(A77<>\"-\",DATE(YEAR(Inversion!$C$7),MONTH(Inversion!$C$7)+A77,DAY(Inversion!$C$7)),\"-\")","v":"2031-07-10"},113882624.77252688,1216865.7503730964,326156.75515088078,890708.99522221566,113556468.01737599,null,113882624.77252688,1216865.7503730964,1216865.7503730964,{"$f":"IF(A77>Inversion!$C$23,0,(K77-M77))","v":326156.75515088078},{"$f":"IF(N76<=0.01,0,N76*Inversion!$C$22)","v":890708.99522221566},113556468.01737599,{"$f":"IF(I77=0,0,P77*Inversion!$C$22)","v":0},{"$f":"IF(I77=0,0,Inversion!$C$18*Inversion!$C$25)","v":0}]
[{"$f":"IF(A77<Inversion!$C$23,A77+1,\"-\")","v":73},{"$f":"IF(A78<>\"-\",DATE(YEAR(Inversion!$C$7),MONTH(Inversion!$C$7)+A78,DAY(Inversion!$C$7)),\"-\")","v":"2031-08-10"},113556468.01737599,1216865.7503730964,328707.72160643677,888158.02876665967,113227760.29576956,null,113556468.01737599,1216865.7503730964,1216865.7503730964,{"$f":"IF(A78>Inversion!$C$23,0,(K78-M78))","v":328707.72160643677},{"$f":"IF(N77<=0.01,0,N77*Inversion!$C$22)","v":888158.02876665967},113227760.29576956,{"$f":"IF(I78=0,0,P78*Inversion!$C$22)","v":0},{"$f":"IF(I78=0,0,Inversion!$C$18*Inversion!$C$25)","v":0}]
[{"$f":"IF(A78<Inversion!$C$23,A78+1,\"-\")","v":74},{"$f":"IF(A79<>\"-\",DATE(YEAR(Inversion!$C$7),MONTH(Inversion!$C$7)+A79,DAY(Inversion!$C$7)),\"-\")","v":"2031-09-10"},113227760.29576956,1216865.7503730964,331278.63990954636,885587.11046355008,112896481.65586001,null,113227760.29576956,1216865.7503730964,1216865.7503730964,{"$f":"IF(A79>Inversion!$C$23,0,(K79-M79))","v":331278.63990954636},{"$f":"IF(N78<=0.01,0,N78*Inversion!$C$22)","v":885587.11046355008},112896481.65586001,{"$f":"IF(I79=0,0,P79*Inversion!$C$22)","v":0},{"$f":"IF(I79=0,0,Inversion!$C$18*Inversion!$C$25)","v":0}]
[{"$f":"IF(A79<Inversion!$C$23,A79+1,\"-\")","v":75},{"$f":"IF(A80<>\"-\",DATE(YEAR(Inversion!$C$7),MONTH(Inversion!$C$7)+A80,DAY(Inversion!$C$7)),\"-\")","v":"2031-10-10"},112896481.65586001,1216865.7503730964,333869.66610938858,882996.08426370786,112562611.98975062,null,112896481.65586001,1216865.7503730964,1216865.7503730964,{"$f":"IF(A80>Inversion!$C$23,0,(K80-M80))","v":333869.66610938858},{"$f":"IF(N79<=0.01,0,N79*Inversion!$C$22)","v":882996.08426370786},112562611.98975062,{"$f":"IF(I80=0,0,P80*Inversion!$C$22)","v":0},{"$f":"IF(I80=0,0,Inversion!$C$18*Inversion!$C$25)","v":0}]
[{"$f":"IF(A80<Inversion!$C$23,A80+1,\"-\")","v":76},{"$f":"IF(A81<>\"-\",DATE(YEAR(Inversion!$C$7),MONTH(Inversion!$C$7)+A81,DAY(Inversion!$C$7)),\"-\")","v":"2031-11-10"},112562611.98975062,1216865.7503730964,336480.95747564803,880384.79289744841,112226131.03227498,null,112562611.98975062,1216865.7503730964,1216865.7503730964,{"$f":"IF(A81>Inversion!$C$23,0,(K81-M81))","v":336480.95747564803},{"$f":"IF(N80<=0.01,0,N80*Inversion!$C$22)","v":880384.79289744841},112226131.03227498,{"$f":"IF(I81=0,0,P81*Inversion!$C$22)","v":0},{"$f":"IF(I81=0,0,Inversion!$C$18*Inversion!$C$25)","v":0}]
[{"$f":"IF(A81<Inversion!$C$23,A81+1,\"-\")","v":77},{"$f":"IF(A82<>\"-\",DATE(YEAR(Inversion!$C$7),MONTH(Inversion!$C$7)+A82,DAY(Inversion!$C$7)),\"-\")","v":"2031-12-10"},112226131.03227498,1216865.7503730964,339112.67250806128,877753.07786503516,111887018.35976692,null,112226131.03227498,1216865.7503730964,1216865.7503730964,{"$f":"IF(A82>Inversion!$C$23,0,(K82-M82))","v":339112.67250806128},{"$f":"IF(N81<=0.01,0,N81*Inversion!$C$22)","v":877753.07786503516},111887018.35976692,{"$f":"IF(I82=0,0,P82*Inversion!$C$22)","v":0},{"$f":"IF(I82=0,0,Inversion!$C$18*Inversion!$C$25)","v":0}]
[{"$f":"IF(A82<Inversion!$C$23,A82+1,\"-\")","v":78},{"$f":"IF(A83<>\"-\",DATE(YEAR(Inversion!$C$7),MONTH(Inversion!$C$7)+A83,DAY(Inversion!$C$7)),\"-\")","v":"2032-01-10"},111887018.35976692,1216865.7503730964,341764.97094603721,875100.77942705923,111545253.38882087,null,111887018.35976692,1216865.7503730964,1216865.7503730964,{"$f":"IF(A83>Inversion!$C$23,0,(K83-M83))","v":341764.97094603721},{"$f":"IF(N82<=0.01,0,N82*Inversion!$C$22)","v":875100.77942705923},111545253.38882087,{"$f":"IF(I83=0,0,P83*Inversion!$C$22)","v":0},{"$f":"IF(I83=0,0,Inversion!$C$18*Inversion!$C$25)","v":0}]
[{"$f":"IF(A83<Inversion!$C$23,A83+1,\"-\")","v":79},{"$f":"IF(A84<>\"-\",DATE(YEAR(Inversion!$C$7),MONTH(Inversion!$C$7)+A84,DAY(Inversion!$C$7)),\"-\")","v":"2032-02-10"},111545253.38882087,1216865.7503730964,344438.01377835299,872427.73659474344,111200815.37504251,null,111545253.38882087,1216865.7503730964,1216865.7503730964,{"$f":"IF(A84>Inversion!$C$23,0,(K84-M84))","v":344438.01377835299},{"$f":"IF(N83<=0.01,0,N83*Inversion!$C$22)","v":872427.73659474344},111200815.37504251,{"$f":"IF(I84=0,0,P84*Inversion!$C$22)","v":0},{"$f":"IF(I84=0,0,Inversion!$C$18*Inversion!$C$25)","v":0}]
[{"$f":"IF(A84<Inversion!$C$23,A84+1,\"-\")","v":80},{"$f":"IF(A85<>\"-\",DATE(YEAR(Inversion!$C$7),MONTH(Inversion!$C$7)+A85,DAY(Inversion!$C$7)),\"-\")","v":"2032-03-10"},111200815.37504251,1216865.7503730964,347131.9632529252,869733.78712017124,110853683.41178958,null,111200815.37504251,1216865.7503730964,1216865.7503730964,{"$f":"IF(A85>Inversion!$C$23,0,(K85-M85))","v":347131.9632529252},{"$f":"IF(N84<=0.01,0,N84*Inversion!$C$22)","v":869733.78712017124},110853683.41178958,{"$f":"IF(I85=0,0,P85*Inversion!$C$22)","v":0},{"$f":"IF(I85=0,0,Inversion!$C$18*Inversion!$C$25)","v":0}]
[{"$f":"IF(A85<Inversion!$C$23,A85+1,\"-\")","v":81},{"$f":"IF(A86<>\"-\",DATE(YEAR(Inversion!$C$7),MONTH(Inversion!$C$7)+A86,DAY(Inversion!$C$7)),\"-\")","v":"2032-04-10"},110853683.41178958,1216865.7503730964,349846.98288665887,867018.76748643757,110503836.42890292,null,110853683.41178958,1216865.7503730964,1216865.7503730964,{"$f":"IF(A86>Inversion!$C$23,0,(K86-M86))","v":349846.98288665887},{"$f":"IF(N85<=0.01,0,N85*Inversion!$C$22)","v":867018.76748643757},110503836.42890292,{"$f":"IF(I86=0,0,P86*Inversion!$C$22)","v":0},{"$f":"IF(I86=0,0,Inversion!$C$18*Inversion!$C$25)","v":0}]
[{"$f":"IF(A86<Inversion!$C$23,A86+1,\"-\")","v":82},{"$f":"IF(A87<>\"-\",DATE(YEAR(Inversion!$C$7),MONTH(Inversion!$C$7)+A87,DAY(Inversion!$C$7)),\"-\")","v":"2032-05-10"},110503836.42890292,1216865.7503730964,352583.2374753718,864282.51289772463,110151253.19142756,null,110503836.42890292,1216865.7503730964,1216865.7503730964,{"$f":"IF(A87>Inversion!$C$23,0,(K87-M87))","v":352583.2374753718},{"$f":"IF(N86<=0.01,0,N86*Inversion!$C$22)","v":864282.51289772463},110151253.19142756,{"$f":"IF(I87=0,0,P87*Inversion!$C$22)","v":0},{"$f":"IF(I87=0,0,Inversion!$C$18*Inversion!$C$25)","v":0}]
[{"$f":"IF(A87<Inversion!$C$23,A87+1,\"-\")","v":83},{"$f":"IF(A88<>\"-\",DATE(YEAR(Inversion!$C$7),MONTH(Inversion!$C$7)+A88,DAY(Inversion!$C$7)),\"-\")","v":"2032-06-10"},110151253.19142756,1216865.7503730964,355340.89310379769,861524.85726929875,109795912.29832377,null,110151253.19142756,1216865.7503730964,1216865.7503730964,{"$f":"IF(A88>Inversion!$C$23,0,(K88-M88))","v":355340.89310379769},{"$f":"IF(N87<=0.01,0,N87*Inversion!$C$22)","v":861524.85726929875},109795912.29832377,{"$f":"IF(I88=0,0,P88*Inversion!$C$22)","v":0},{"$f":"IF(I88=0,0,Inversion!$C$18*Inversion!$C$25)","v":0}]
[{"$f":"IF(A88<Inversion!$C$23,A88+1,\"-\")","v":84},{"$f":"IF(A89<>\"-\",DATE(YEAR(Inversion!$C$7),MONTH(Inversion!$C$7)+A89,DAY(Inversion!$C$7)),\"-\")","v":"2032-07-10"},109795912.29832377,1216865.7503730964,358120.11715566728,858745.63321742916,109437792.18116809,null,109795912.29832377,1216865.7503730964,1216865.7503730964,{"$f":"IF(A89>Inversion!$C$23,0,(K89-M89))","v":358120.11715566728},{"$f":"IF(N88<=0.01,0,N88*Inversion!$C$22)","v":858745.63321742916},109437792.18116809,{"$f":"IF(I89=0,0,P89*Inversion!$C$22)","v":0},{"$f":"IF(I89=0,0,Inversion!$C$18*Inversion!$C$25)","v":0}]
[{"$f":"IF(A89<Inversion!$C$23,A89+1,\"-\")","v":85},{"$f":"IF(A90<>\"-\",DATE(YEAR(Inversion!$C$7),MONTH(Inversion!$C$7)+A90,DAY(Inversion!$C$7)),\"-\")","v":"2032-08-10"},109437792.18116809,1216865.7503730964,360921.07832386775,855944.67204922868,109076871.10284422,null,109437792.18116809,1216865.7503730964,1216865.7503730964,{"$f":"IF(A90>Inversion!$C$23,0,(K90-M90))","v":360921.07832386775},{"$f":"IF(N89<=0.01,0,N89*Inversion!$C$22)","v":855944.67204922868},109076871.10284422,{"$f":"IF(I90=0,0,P90*Inversion!$C$22)","v":0},{"$f":"IF(I90=0,0,Inversion!$C$18*Inversion!$C$25)","v":0}]
[{"$f":"IF(A90<Inversion!$C$23,A90+1,\"-\")","v":86},{"$f":"IF(A91<>\"-\",DATE(YEAR(Inversion!$C$7),MONTH(Inversion!$C$7)+A91,DAY(Inversion!$C$7)),\"-\")","v":"2032-09-10"},109076871.10284422,1216865.7503730964,363743.94662068214,853121.8037524143,108713127.15622354,null,109076871.10284422,1216865.7503730964,1216865.7503730964,{"$f":"IF(A91>Inversion!$C$23,0,(K91-M91))","v":363743.94662068214},{"$f":"IF(N90<=0.01,0,N90*Inversion!$C$22)","v":853121.8037524143},108713127.15622354,{"$f":"IF(I91=0,0,P91*Inversion!$C$22)","v":0},{"$f":"IF(I91=0,0,Inversion!$C$18*Inversion!$C$25)","v":0}]
[{"$f":"IF(A91<Inversion!$C$23,A91+1,\"-\")","v":87},{"$f":"IF(A92<>\"-\",DATE(YEAR(Inversion!$C$7),MONTH(Inversion!$C$7)+A92,DAY(Inversion!$C$7)),\"-\")","v":"2032-10-10"},108713127.15622354,1216865.7503730964,366588.89338810893,850276.85698498751,108346538.26283543,null,108713127.15622354,1216865.7503730964,1216865.7503730964,{"$f":"IF(A92>Inversion!$C$23,0,(K92-M92))","v":366588.89338810893},{"$f":"IF(N91<=0.01,0,N91*Inversion!$C$22)","v":850276.85698498751},108346538.26283543,{"$f":"IF(I92=0,0,P92*Inversion!$C$22)","v":0},{"$f":"IF(I92=0,0,Inversion!$C$18*Inversion!$C$25)","v":0}]
[{"$f":"IF(A92<Inversion!$C$23,A92+1,\"-\")","v":88},{"$f":"IF(A93<>\"-\",DATE(YEAR(Inversion!$C$7),MONTH(Inversion!$C$7)+A93,DAY(Inversion!$C$7)),\"-\")","v":"2032-11-10"},108346538.26283543,1216865.7503730964,369456.09130826185,847409.65906483459,107977082.17152716,null,108346538.26283543,1216865.7503730964,1216865.7503730964,{"$f":"IF(A93>Inversion!$C$23,0,(K93-M93))","v":369456.09130826185},{"$f":"IF(N92<=0.01,0,N92*Inversion!$C$22)","v":847409.65906483459},107977082.17152716,{"$f":"IF(I93=0,0,P93*Inversion!$C$22)","v":0},{"$f":"IF(I93=0,0,Inversion!$C$18*Inversion!$C$25)","v":0}]
[{"$f":"IF(A93<Inversion!$C$23,A93+1,\"-\")","v":89},{"$f":"IF(A94<>\"-\",DATE(YEAR(Inversion!$C$7),MONTH(Inversion!$C$7)+A94,DAY(Inversion!$C$7)),\"-\")","v":"2032-12-10"},107977082.17152716,1216865.7503730964,372345.71441385162,844520.03595924482,107604736.45711331,null,107977082.17152716,1216865.7503730964,1216865.7503730964,{"$f":"IF(A94>Inversion!$C$23,0,(K94-M94))","v":372345.71441385162},{"$f":"IF(N93<=0.01,0,N93*Inversion!$C$22)","v":844520.03595924482},107604736.45711331,{"$f":"IF(I94=0,0,P94*Inversion!$C$22)","v":0},{"$f":"IF(I94=0,0,Inversion!$C$18*Inversion!$C$25)","v":0}]
[{"$f":"IF(A94<Inversion!$C$23,A94+1,\"-\")","v":90},{"$f":"IF(A95<>\"-\",DATE(YEAR(Inversion!$C$7),MONTH(Inversion!$C$7)+A95,DAY(Inversion!$C$7)),\"-\")","v":"2033-01-10"},107604736.45711331,1216865.7503730964,375257.93809874926,841607.81227434718,107229478.51901457,null,107604736.45711331,1216865.7503730964,1216865.7503730964,{"$f":"IF(A95>Inversion!$C$23,0,(K95-M95))","v":375257.93809874926},{"$f":"IF(N94<=0.01,0,N94*Inversion!$C$22)","v":841607.81227434718},107229478.51901457,{"$f":"IF(I95=0,0,P95*Inversion!$C$22)","v":0},{"$f":"IF(I95=0,0,Inversion!$C$18*Inversion!$C$25)","v":0}]
[{"$f":"IF(A95<Inversion!$C$23,A95+1,\"-\")","v":91},{"$f":"IF(A96<>\"-\",DATE(YEAR(Inversion!$C$7),MONTH(Inversion!$C$7)+A96,DAY(Inversion!$C$7)),\"-\")","v":"2033-02-10"},107229478.51901457,1216865.7503730964,378192.93912863184,838672.8112444646,106851285.57988593,null,107229478.51901457,1216865.7503730964,1216865.7503730964,{"$f":"IF(A96>Inversion!$C$23,0,(K96-M96))","v":378192.93912863184},{"$f":"IF(N95<=0.01,0,N95*Inversion!$C$22)","v":838672.8112444646},106851285.57988593,{"$f":"IF(I96=0,0,P96*Inversion!$C$22)","v":0},{"$f":"IF(I96=0,0,Inversion!$C$18*Inversion!$C$25)","v":0}]
[{"$f":"IF(A96<Inversion!$C$23,A96+1,\"-\")","v":92},{"$f":"IF(A97<>\"-\",DATE(YEAR(Inversion!$C$7),MONTH(Inversion!$C$7)+A97,DAY(Inversion!$C$7)),\"-\")","v":"2033-03-10"},106851285.57988593,1216865.7503730964,381150.89565171208,835714.85472138436,106470134.68423422,null,106851285.57988593,1216865.7503730964,1216865.7503730964,{"$f":"IF(A97>Inversion!$C$23,0,(K97-M97))","v":381150.89565171208},{"$f":"IF(N96<=0.01,0,N96*Inversion!$C$22)","v":835714.85472138436},106470134.68423422,{"$f":"IF(I97=0,0,P97*Inversion!$C$22)","v":0},{"$f":"IF(I97=0,0,Inversion!$C$18*Inversion!$C$25)","v":0}]
[{"$f":"IF(A97<Inversion!$C$23,A97+1,\"-\")","v":93},{"$f":"IF(A98<>\"-\",DATE(YEAR(Inversion!$C$7),MONTH(Inversion!$C$7)+A98,DAY(Inversion!$C$7)),\"-\")","v":"2033-04-10"},106470134.68423422,1216865.7503730964,384131.98720955162,832733.76316354482,106086002.69702466,null,106470134.68423422,1216865.7503730964,1216865.7503730964,{"$f":"IF(A98>Inversion!$C$23,0,(K98-M98))","v":384131.98720955162},{"$f":"IF(N97<=0.01,0,N97*Inversion!$C$22)","v":832733.76316354482},106086002.69702466,{"$f":"IF(I98=0,0,P98*Inversion!$C$22)","v":0},{"$f":"IF(I98=0,0,Inversion!$C$18*Inversion!$C$25)","v":0}]
[{"$f":"IF(A98<Inversion!$C$23,A98+1,\"-\")","v":94},{"$f":"IF(A99<>\"-\",DATE(YEAR(Inversion!$C$7),MONTH(Inversion!$C$7)+A99,DAY(Inversion!$C$7)),\"-\")","v":"2033-05-10"},106086002.69702466,1216865.7503730964,387136.39474795852,829729.35562513792,105698866.3022767,null,106086002.69702466,1216865.7503730964,1216865.7503730964,{"$f":"IF(A99>Inversion!$C$23,0,(K99-M99))","v":387136.39474795852},{"$f":"IF(N98<=0.01,0,N98*Inversion!$C$22)","v":829729.35562513792},105698866.3022767,{"$f":"IF(I99=0,0,P99*Inversion!$C$22)","v":0},{"$f":"IF(I99=0,0,Inversion!$C$18*Inversion!$C$25)","v":0}]
[{"$f":"IF(A99<Inversion!$C$23,A99+1,\"-\")","v":95},{"$f":"IF(A100<>\"-\",DATE(YEAR(Inversion!$C$7),MONTH(Inversion!$C$7)+A100,DAY(Inversion!$C$7)),\"-\")","v":"2033-06-10"},105698866.3022767,1216865.7503730964,390164.30062797025,826701.44974512619,105308702.00164872,null,105698866.3022767,1216865.7503730964,1216865.7503730964,{"$f":"IF(A100>Inversion!$C$23,0,(K100-M100))","v":390164.30062797025},{"$f":"IF(N99<=0.01,0,N99*Inversion!$C$22)","v":826701.44974512619},105308702.00164872,{"$f":"IF(I100=0,0,P100*Inversion!$C$22)","v":0},{"$f":"IF(I100=0,0,Inversion!$C$18*Inversion!$C$25)","v":0}]
[{"$f":"IF(A100<Inversion!$C$23,A100+1,\"-\")","v":96},{"$f":"IF(A101<>\"-\",DATE(YEAR(Inversion!$C$7),MONTH(Inversion!$C$7)+A101,DAY(Inversion!$C$7)),\"-\")","v":"2033-07-10"},105308702.00164872,1216865.7503730964,393215.88863692316,823649.86173617328,104915486.11301181,null,105308702.00164872,1216865.7503730964,1216865.7503730964,{"$f":"IF(A101>Inversion!$C$23,0,(K101-M101))","v":393215.88863692316},{"$f":"IF(N100<=0.01,0,N100*Inversion!$C$22)","v":823649.86173617328},104915486.11301181,{"$f":"IF(I101=0,0,P101*Inversion!$C$22)","v":0},{"$f":"IF(I101=0,0,Inversion!$C$18*Inversion!$C$25)","v":0}]
[{"$f":"IF(A101<Inversion!$C$23,A101+1,\"-\")","v":97},{"$f":"IF(A102<>\"-\",DATE(YEAR(Inversion!$C$7),MONTH(Inversion!$C$7)+A102,DAY(Inversion!$C$7)),\"-\")","v":"2033-08-10"},104915486.11301181,1216865.7503730964,396291.34399960714,820574.4063734893,104519194.7690122,null,104915486.11301181,1216865.7503730964,1216865.7503730964,{"$f":"IF(A102>Inversion!$C$23,0,(K102-M102))","v":396291.34399960714},{"$f":"IF(N101<=0.01,0,N101*Inversion!$C$22)","v":820574.4063734893},104519194.7690122,{"$f":"IF(I102=0,0,P102*Inversion!$C$22)","v":0},{"$f":"IF(I102=0,0,Inversion!$C$18*Inversion!$C$25)","v":0}]
[{"$f":"IF(A102<Inversion!$C$23,A102+1,\"-\")","v":98},{"$f":"IF(A103<>\"-\",DATE(YEAR(Inversion!$C$7),MONTH(Inversion!$C$7)+A103,DAY(Inversion!$C$7)),\"-\")","v":"2033-09-10"},104519194.7690122,1216865.7503730964,399390.85338950926,817474.89698358718,104119803.91562268,null,104519194.7690122,1216865.7503730964,1216865.7503730964,{"$f":"IF(A103>Inversion!$C$23,0,(K103-M103))","v":399390.85338950926},{"$f":"IF(N102<=0.01,0,N102*Inversion!$C$22)","v":817474.89698358718},104119803.91562268,{"$f":"IF(I103=0,0,P103*Inversion!$C$22)","v":0},{"$f":"IF(I103=0,0,Inversion!$C$18*Inversion!$C$25)","v":0}]
[{"$f":"IF(A103<Inversion!$C$23,A103+1,\"-\")","v":99},{"$f":"IF(A104<>\"-\",DATE(YEAR(Inversion!$C$7),MONTH(Inversion!$C$7)+A104,DAY(Inversion!$C$7)),\"-\")","v":"2033-10-10"},104119803.91562268,1216865.7503730964,402514.60494014388,814351.14543295256,103717289.31068254,null,104119803.91562268,1216865.7503730964,1216865.7503730964,{"$f":"IF(A104>Inversion!$C$23,0,(K104-M104))","v":402514.60494014388},{"$f":"IF(N103<=0.01,0,N103*Inversion!$C$22)","v":814351.14543295256},103717289.31068254,{"$f":"IF(I104=0,0,P104*Inversion!$C$22)","v":0},{"$f":"IF(I104=0,0,Inversion!$C$18*Inversion!$C$25)","v":0}]
[{"$f":"IF(A104<Inversion!$C$23,A104+1,\"-\")","v":100},{"$f":"IF(A105<>\"-\",DATE(YEAR(Inversion!$C$7),MONTH(Inversion!$C$7)+A105,DAY(Inversion!$C$7)),\"-\")","v":"2033-11-10"},103717289.31068254,1216865.7503730964,405662.78825647186,811202.96211662458,103311626.52242607,null,103717289.31068254,1216865.7503730964,1216865.7503730964,{"$f":"IF(A105>Inversion!$C$23,0,(K105-M105))","v":405662.78825647186},{"$f":"IF(N104<=0.01,0,N104*Inversion!$C$22)","v":811202.96211662458},103311626.52242607,{"$f":"IF(I105=0,0,P105*Inversion!$C$22)","v":0},{"$f":"IF(I105=0,0,Inversion!$C$18*Inversion!$C$25)","v":0}]
[{"$f":"IF(A105<Inversion!$C$23,A105+1,\"-\")","v":101},{"$f":"IF(A106<>\"-\",DATE(YEAR(Inversion!$C$7),MONTH(Inversion!$C$7)+A106,DAY(Inversion!$C$7)),\"-\")","v":"2033-12-10"},103311626.52242607,1216865.7503730964,408835.59442640946,808030.15594668698,102902790.92799966,null,103311626.52242607,1216865.7503730964,1216865.7503730964,{"$f":"IF(A106>Inversion!$C$23,0,(K106-M106))","v":408835.59442640946},{"$f":"IF(N105<=0.01,0,N105*Inversion!$C$22)","v":808030.15594668698},102902790.92799966,{"$f":"IF(I106=0,0,P106*Inversion!$C$22)","v":0},{"$f":"IF(I106=0,0,Inversion!$C$18*Inversion!$C$25)","v":0}]
[{"$f":"IF(A106<Inversion!$C$23,A106+1,\"-\")","v":102},{"$f":"IF(A107<>\"-\",DATE(YEAR(Inversion!$C$7),MONTH(Inversion!$C$7)+A107,DAY(Inversion!$C$7)),\"-\")","v":"2034-01-10"},102902790.92799966,1216865.7503730964,412033.21603242704,804832.5343406694,102490757.71196723,null,102902790.92799966,1216865.7503730964,1216865.7503730964,{"$f":"IF(A107>Inversion!$C$23,0,(K107-M107))","v":412033.21603242704},{"$f":"IF(N106<=0.01,0,N106*Inversion!$C$22)","v":804832.5343406694},102490757.71196723,{"$f":"IF(I107=0,0,P107*Inversion!$C$22)","v":0},{"$f":"IF(I107=0,0,Inversion!$C$18*Inversion!$C$25)","v":0}]
[{"$f":"IF(A107<Inversion!$C$23,A107+1,\"-\")","v":103},{"$f":"IF(A108<>\"-\",DATE(YEAR(Inversion!$C$7),MONTH(Inversion!$C$7)+A108,DAY(Inversion!$C$7)),\"-\")","v":"2034-02-10"},102490757.71196723,1216865.7503730964,415255.8471632381,801609.90320985834,102075501.86480398,null,102490757.71196723,1216865.7503730964,1216865.7503730964,{"$f":"IF(A108>Inversion!$C$23,0,(K108-M108))","v":415255.8471632381},{"$f":"IF(N107<=0.01,0,N107*Inversion!$C$22)","v":801609.90320985834},102075501.86480398,{"$f":"IF(I108=0,0,P108*Inversion!$C$22)","v":0},{"$f":"IF(I108=0,0,Inversion!$C$18*Inversion!$C$25)","v":0}]
[{"$f":"IF(A108<Inversion!$C$23,A108+1,\"-\")","v":104},{"$f":"IF(A109<>\"-\",DATE(YEAR(Inversion!$C$7),MONTH(Inversion!$C$7)+A109,DAY(Inversion!$C$7)),\"-\")","v":"2034-03-10"},102075501.86480398,1216865.7503730964,418503.68342558027,798362.06694751617,101656998.18137841,null,102075501.86480398,1216865.7503730964,1216865.7503730964,{"$f":"IF(A109>Inversion!$C$23,0,(K109-M109))","v":418503.68342558027},{"$f":"IF(N108<=0.01,0,N108*Inversion!$C$22)","v":798362.06694751617},101656998.18137841,{"$f":"IF(I109=0,0,P109*Inversion!$C$22)","v":0},{"$f":"IF(I109=0,0,Inversion!$C$18*Inversion!$C$25)","v":0}]
[{"$f":"IF(A109<Inversion!$C$23,A109+1,\"-\")","v":105},{"$f":"IF(A110<>\"-\",DATE(YEAR(Inversion!$C$7),MONTH(Inversion!$C$7)+A110,DAY(Inversion!$C$7)),\"-\")","v":"2034-04-10"},101656998.18137841,1216865.7503730964,421776.92195608804,795088.82841700839,101235221.25942232,null,101656998.18137841,1216865.7503730964,1216865.7503730964,{"$f":"IF(A110>Inversion!$C$23,0,(K110-M110))","v":421776.92195608804},{"$f":"IF(N109<=0.01,0,N109*Inversion!$C$22)","v":795088.82841700839},101235221.25942232,{"$f":"IF(I110=0,0,P110*Inversion!$C$22)","v":0},{"$f":"IF(I110=0,0,Inversion!$C$18*Inversion!$C$25)","v":0}]
[{"$f":"IF(A110<Inversion!$C$23,A110+1,\"-\")","v":106},{"$f":"IF(A111<>\"-\",DATE(YEAR(Inversion!$C$7),MONTH(Inversion!$C$7)+A111,DAY(Inversion!$C$7)),\"-\")","v":"2034-05-10"},101235221.25942232,1216865.7503730964,425075.76143325877,791789.98893983767,100810145.49798906,null,101235221.25942232,1216865.7503730964,1216865.7503730964,{"$f":"IF(A111>Inversion!$C$23,0,(K111-M111))","v":425075.76143325877},{"$f":"IF(N110<=0.01,0,N110*Inversion!$C$22)","v":791789.98893983767},100810145.49798906,{"$f":"IF(I111=0,0,P111*Inversion!$C$22)","v":0},{"$f":"IF(I111=0,0,Inversion!$C$18*Inversion!$C$25)","v":0}]
[{"$f":"IF(A111<Inversion!$C$23,A111+1,\"-\")","v":107},{"$f":"IF(A112<>\"-\",DATE(YEAR(Inversion!$C$7),MONTH(Inversion!$C$7)+A112,DAY(Inversion!$C$7)),\"-\")","v":"2034-06-10"},100810145.49798906,1216865.7503730964,428400.40208951163,788465.34828358481,100381745.09589955,null,100810145.49798906,1216865.7503730964,1216865.7503730964,{"$f":"IF(A112>Inversion!$C$23,0,(K112-M112))","v":428400.40208951163},{"$f":"IF(N111<=0.01,0,N111*Inversion!$C$22)","v":788465.34828358481},100381745.09589955,{"$f":"IF(I112=0,0,P112*Inversion!$C$22)","v":0},{"$f":"IF(I112=0,0,Inversion!$C$18*Inversion!$C$25)","v":0}]
[{"$f":"IF(A112<Inversion!$C$23,A112+1,\"-\")","v":108},{"$f":"IF(A113<>\"-\",DATE(YEAR(Inversion!$C$7),MONTH(Inversion!$C$7)+A113,DAY(Inversion!$C$7)),\"-\")","v":"2034-07-10"},100381745.09589955,1216865.7503730964,431751.04572334187,785114.70464975457,99949994.050176203,null,100381745.09589955,1216865.7503730964,1216865.7503730964,{"$f":"IF(A113>Inversion!$C$23,0,(K113-M113))","v":431751.04572334187},{"$f":"IF(N112<=0.01,0,N112*Inversion!$C$22)","v":785114.70464975457},99949994.050176203,{"$f":"IF(I113=0,0,P113*Inversion!$C$22)","v":0},{"$f":"IF(I113=0,0,Inversion!$C$18*Inversion!$C$25)","v":0}]
[{"$f":"IF(A113<Inversion!$C$23,A113+1,\"-\")","v":109},{"$f":"IF(A114<>\"-\",DATE(YEAR(Inversion!$C$7),MONTH(Inversion!$C$7)+A114,DAY(Inversion!$C$7)),\"-\")","v":"2034-08-10"},99949994.050176203,1216865.7503730964,435127.895711569,781737.85466152744,99514866.154464632,null,99949994.050176203,1216865.7503730964,1216865.7503730964,{"$f":"IF(A114>Inversion!$C$23,0,(K114-M114))","v":435127.895711569},{"$f":"IF(N113<=0.01,0,N113*Inversion!$C$22)","v":781737.85466152744},99514866.154464632,{"$f":"IF(I114=0,0,P114*Inversion!$C$22)","v":0},{"$f":"IF(I114=0,0,Inversion!$C$18*Inversion!$C$25)","v":0}]
[{"$f":"IF(A114<Inversion!$C$23,A114+1,\"-\")","v":110},{"$f":"IF(A115<>\"-\",DATE(YEAR(Inversion!$C$7),MONTH(Inversion!$C$7)+A115,DAY(Inversion!$C$7)),\"-\")","v":"2034-09-10"},99514866.154464632,1216865.7503730964,438531.15702168155,778334.59335141489,99076334.997442946,null,99514866.154464632,1216865.7503730964,1216865.7503730964,{"$f":"IF(A115>Inversion!$C$23,0,(K115-M115))","v":438531.15702168155},{"$f":"IF(N114<=0.01,0,N114*Inversion!$C$22)","v":778334.59335141489},99076334.997442946,{"$f":"IF(I115=0,0,P115*Inversion!$C$22)","v":0},{"$f":"IF(I115=0,0,Inversion!$C$18*Inversion!$C$25)","v":0}]
[{"$f":"IF(A115<Inversion!$C$23,A115+1,\"-\")","v":111},{"$f":"IF(A116<>\"-\",DATE(YEAR(Inversion!$C$7),MONTH(Inversion!$C$7)+A116,DAY(Inversion!$C$7)),\"-\")","v":"2034-10-10"},99076334.997442946,1216865.7503730964,441961.03622427839,774904.71414881805,98634373.96121867,null,99076334.997442946,1216865.7503730964,1216865.7503730964,{"$f":"IF(A116>Inversion!$C$23,0,(K116-M116))","v":441961.03622427839},{"$f":"IF(N115<=0.01,0,N115*Inversion!$C$22)","v":774904.71414881805},98634373.96121867,{"$f":"IF(I116=0,0,P116*Inversion!$C$22)","v":0},{"$f":"IF(I116=0,0,Inversion!$C$18*Inversion!$C$25)","v":0}]
[{"$f":"IF(A116<Inversion!$C$23,A116+1,\"-\")","v":112},{"$f":"IF(A117<>\"-\",DATE(YEAR(Inversion!$C$7),MONTH(Inversion!$C$7)+A117,DAY(Inversion!$C$7)),\"-\")","v":"2034-11-10"},98634373.96121867,1216865.7503730964,445417.74150560633,771448.00886749011,98188956.219713062,null,98634373.96121867,1216865.7503730964,1216865.7503730964,{"$f":"IF(A117>Inversion!$C$23,0,(K117-M117))","v":445417.74150560633},{"$f":"IF(N116<=0.01,0,N116*Inversion!$C$22)","v":771448.00886749011},98188956.219713062,{"$f":"IF(I117=0,0,P117*Inversion!$C$22)","v":0},{"$f":"IF(I117=0,0,Inversion!$C$18*Inversion!$C$25)","v":0}]
[{"$f":"IF(A117<Inversion!$C$23,A117+1,\"-\")","v":113},{"$f":"IF(A118<>\"-\",DATE(YEAR(Inversion!$C$7),MONTH(Inversion!$C$7)+A118,DAY(Inversion!$C$7)),\"-\")","v":"2034-12-10"},98188956.219713062,1216865.7503730964,448901.48268019792,767964.26769289852,97740054.737032861,null,98188956.219713062,1216865.7503730964,1216865.7503730964,{"$f":"IF(A118>Inversion!$C$23,0,(K118-M118))","v":448901.48268019792},{"$f":"IF(N117<=0.01,0,N117*Inversion!$C$22)","v":767964.26769289852},97740054.737032861,{"$f":"IF(I118=0,0,P118*Inversion!$C$22)","v":0},{"$f":"IF(I118=0,0,Inversion!$C$18*Inversion!$C$25)","v":0}]
[{"$f":"IF(A118<Inversion!$C$23,A118+1,\"-\")","v":114},{"$f":"IF(A119<>\"-\",DATE(YEAR(Inversion!$C$7),MONTH(Inversion!$C$7)+A119,DAY(Inversion!$C$7)),\"-\")","v":"2035-01-10"},97740054.737032861,1216865.7503730964,452412.4712036053,764453.27916949114,97287642.26582925,null,97740054.737032861,1216865.7503730964,1216865.7503730964,{"$f":"IF(A119>Inversion!$C$23,0,(K119-M119))","v":452412.4712036053},{"$f":"IF(N118<=0.01,0,N118*Inversion!$C$22)","v":764453.27916949114},97287642.26582925,{"$f":"IF(I119=0,0,P119*Inversion!$C$22)","v":0},{"$f":"IF(I119=0,0,Inversion!$C$18*Inversion!$C$25)","v":0}]
[{"$f":"IF(A119<Inversion!$C$23,A119+1,\"-\")","v":115},{"$f":"IF(A120<>\"-\",DATE(YEAR(Inversion!$C$7),MONTH(Inversion!$C$7)+A120,DAY(Inversion!$C$7)),\"-\")","v":"2035-02-10"},97287642.26582925,1216865.7503730964,455950.92018523579,760914.83018786064,96831691.345644012,null,97287642.26582925,1216865.7503730964,1216865.7503730964,{"$f":"IF(A120>Inversion!$C$23,0,(K120-M120))","v":455950.92018523579},{"$f":"IF(N119<=0.01,0,N119*Inversion!$C$22)","v":760914.83018786064},96831691.345644012,{"$f":"IF(I120=0,0,P120*Inversion!$C$22)","v":0},{"$f":"IF(I120=0,0,Inversion!$C$18*Inversion!$C$25)","v":0}]
[{"$f":"IF(A120<Inversion!$C$23,A120+1,\"-\")","v":116},{"$f":"IF(A121<>\"-\",DATE(YEAR(Inversion!$C$7),MONTH(Inversion!$C$7)+A121,DAY(Inversion!$C$7)),\"-\")","v":"2035-03-10"},96831691.345644012,1216865.7503730964,459517.04440128757,757348.70597180887,96372174.301242724,null,96831691.345644012,1216865.7503730964,1216865.7503730964,{"$f":"IF(A121>Inversion!$C$23,0,(K121-M121))","v":459517.04440128757},{"$f":"IF(N120<=0.01,0,N120*Inversion!$C$22)","v":757348.70597180887},96372174.301242724,{"$f":"IF(I121=0,0,P121*Inversion!$C$22)","v":0},{"$f":"IF(I121=0,0,Inversion!$C$18*Inversion!$C$25)","v":0}]
[{"$f":"IF(A121<Inversion!$C$23,A121+1,\"-\")","v":117},{"$f":"IF(A122<>\"-\",DATE(YEAR(Inversion!$C$7),MONTH(Inversion!$C$7)+A122,DAY(Inversion!$C$7)),\"-\")","v":"2035-04-10"},96372174.301242724,1216865.7503730964,463111.06030778505,753754.69006531138,95909063.240934938,null,96372174.301242724,1216865.7503730964,1216865.7503730964,{"$f":"IF(A122>Inversion!$C$23,0,(K122-M122))","v":463111.06030778505},{"$f":"IF(N121<=0.01,0,N121*Inversion!$C$22)","v":753754.69006531138},95909063.240934938,{"$f":"IF(I122=0,0,P122*Inversion!$C$22)","v":0},{"$f":"IF(I122=0,0,Inversion!$C$18*Inversion!$C$25)","v":0}]
[{"$f":"IF(A122<Inversion!$C$23,A122+1,\"-\")","v":118},{"$f":"IF(A123<>\"-\",DATE(YEAR(Inversion!$C$7),MONTH(Inversion!$C$7)+A123,DAY(Inversion!$C$7)),\"-\")","v":"2035-05-10"},95909063.240934938,1216865.7503730964,466733.18605371856,750132.56431937788,95442330.054881215,null,95909063.240934938,1216865.7503730964,1216865.7503730964,{"$f":"IF(A123>Inversion!$C$23,0,(K123-M123))","v":466733.18605371856},{"$f":"IF(N122<=0.01,0,N122*Inversion!$C$22)","v":750132.56431937788},95442330.054881215,{"$f":"IF(I123=0,0,P123*Inversion!$C$22)","v":0},{"$f":"IF(I123=0,0,Inversion!$C$18*Inversion!$C$25)","v":0}]
[{"$f":"IF(A123<Inversion!$C$23,A123+1,\"-\")","v":119},{"$f":"IF(A124<>\"-\",DATE(YEAR(Inversion!$C$7),MONTH(Inversion!$C$7)+A124,DAY(Inversion!$C$7)),\"-\")","v":"2035-06-10"},95442330.054881215,1216865.7503730964,470383.64149428427,746482.10887881217,94971946.413386926,null,95442330.054881215,1216865.7503730964,1216865.7503730964,{"$f":"IF(A124>Inversion!$C$23,0,(K124-M124))","v":470383.64149428427},{"$f":"IF(N123<=0.01,0,N123*Inversion!$C$22)","v":746482.10887881217},94971946.413386926,{"$f":"IF(I124=0,0,P124*Inversion!$C$22)","v":0},{"$f":"IF(I124=0,0,Inversion!$C$18*Inversion!$C$25)","v":0}]
[{"$f":"IF(A124<Inversion!$C$23,A124+1,\"-\")","v":120},{"$f":"IF(A125<>\"-\",DATE(YEAR(Inversion!$C$7),MONTH(Inversion!$C$7)+A125,DAY(Inversion!$C$7)),\"-\")","v":"2035-07-10"},94971946.413386926,1216865.7503730964,474062.64820422989,742803.10216886655,94497883.765182689,null,94971946.413386926,1216865.7503730964,1216865.7503730964,{"$f":"IF(A125>Inversion!$C$23,0,(K125-M125))","v":474062.64820422989},{"$f":"IF(N124<=0.01,0,N124*Inversion!$C$22)","v":742803.10216886655},94497883.765182689,{"$f":"IF(I125=0,0,P125*Inversion!$C$22)","v":0},{"$f":"IF(I125=0,0,Inversion!$C$18*Inversion!$C$25)","v":0}]
[{"$f":"IF(A125<Inversion!$C$23,A125+1,\"-\")","v":121},{"$f":"IF(A126<>\"-\",DATE(YEAR(Inversion!$C$7),MONTH(Inversion!$C$7)+A126,DAY(Inversion!$C$7)),\"-\")","v":"2035-08-10"},94497883.765182689,1216865.7503730964,477770.42949130328,739095.32088179316,94020113.335691392,null,94497883.765182689,1216865.7503730964,1216865.7503730964,{"$f":"IF(A126>Inversion!$C$23,0,(K126-M126))","v":477770.42949130328},{"$f":"IF(N125<=0.01,0,N125*Inversion!$C$22)","v":739095.32088179316},94020113.335691392,{"$f":"IF(I126=0,0,P126*Inversion!$C$22)","v":0},{"$f":"IF(I126=0,0,Inversion!$C$18*Inversion!$C$25)","v":0}]
[{"$f":"IF(A126<Inversion!$C$23,A126+1,\"-\")","v":122},{"$f":"IF(A127<>\"-\",DATE(YEAR(Inversion!$C$7),MONTH(Inversion!$C$7)+A127,DAY(Inversion!$C$7)),\"-\")","v":"2035-09-10"},94020113.335691392,1216865.7503730964,481507.21040980681,735358.53996328963,93538606.125281587,null,94020113.335691392,1216865.7503730964,1216865.7503730964,{"$f":"IF(A127>Inversion!$C$23,0,(K127-M127))","v":481507.21040980681},{"$f":"IF(N126<=0.01,0,N126*Inversion!$C$22)","v":735358.53996328963},93538606.125281587,{"$f":"IF(I127=0,0,P127*Inversion!$C$22)","v":0},{"$f":"IF(I127=0,0,Inversion!$C$18*Inversion!$C$25)","v":0}]
[{"$f":"IF(A127<Inversion!$C$23,A127+1,\"-\")","v":123},{"$f":"IF(A128<>\"-\",DATE(YEAR(Inversion!$C$7),MONTH(Inversion!$C$7)+A128,DAY(Inversion!$C$7)),\"-\")","v":"2035-10-10"},93538606.125281587,1216865.7503730964,485273.217774258,731592.53259883844,93053332.90750733,null,93538606.125281587,1216865.7503730964,1216865.7503730964,{"$f":"IF(A128>Inversion!$C$23,0,(K128-M128))","v":485273.217774258},{"$f":"IF(N127<=0.01,0,N127*Inversion!$C$22)","v":731592.53259883844},93053332.90750733,{"$f":"IF(I128=0,0,P128*Inversion!$C$22)","v":0},{"$f":"IF(I128=0,0,Inversion!$C$18*Inversion!$C$25)","v":0}]
[{"$f":"IF(A128<Inversion!$C$23,A128+1,\"-\")","v":124},{"$f":"IF(A129<>\"-\",DATE(YEAR(Inversion!$C$7),MONTH(Inversion!$C$7)+A129,DAY(Inversion!$C$7)),\"-\")","v":"2035-11-10"},93053332.90750733,1216865.7503730964,489068.6801731562,727797.07019994024,92564264.227334172,null,93053332.90750733,1216865.7503730964,1216865.7503730964,{"$f":"IF(A129>Inversion!$C$23,0,(K129-M129))","v":489068.6801731562},{"$f":"IF(N128<=0.01,0,N128*Inversion!$C$22)","v":727797.07019994024},92564264.227334172,{"$f":"IF(I129=0,0,P129*Inversion!$C$22)","v":0},{"$f":"IF(I129=0,0,Inversion!$C$18*Inversion!$C$25)","v":0}]
[{"$f":"IF(A129<Inversion!$C$23,A129+1,\"-\")","v":125},{"$f":"IF(A130<>\"-\",DATE(YEAR(Inversion!$C$7),MONTH(Inversion!$C$7)+A130,DAY(Inversion!$C$7)),\"-\")","v":"2035-12-10"},92564264.227334172,1216865.7503730964,492893.82798285771,723971.92239023873,92071370.399351314,null,92564264.227334172,1216865.7503730964,1216865.7503730964,{"$f":"IF(A130>Inversion!$C$23,0,(K130-M130))","v":492893.82798285771},{"$f":"IF(N129<=0.01,0,N129*Inversion!$C$22)","v":723971.92239023873},92071370.399351314,{"$f":"IF(I130=0,0,P130*Inversion!$C$22)","v":0},{"$f":"IF(I130=0,0,Inversion!$C$18*Inversion!$C$25)","v":0}]
[{"$f":"IF(A130<Inversion!$C$23,A130+1,\"-\")","v":126},{"$f":"IF(A131<>\"-\",DATE(YEAR(Inversion!$C$7),MONTH(Inversion!$C$7)+A131,DAY(Inversion!$C$7)),\"-\")","v":"2036-01-10"},92071370.399351314,1216865.7503730964,496748.89338155894,720116.8569915375,91574621.505969748,null,92071370.399351314,1216865.7503730964,1216865.7503730964,{"$f":"IF(A131>Inversion!$C$23,0,(K131-M131))","v":496748.89338155894},{"$f":"IF(N130<=0.01,0,N130*Inversion!$C$22)","v":720116.8569915375},91574621.505969748,{"$f":"IF(I131=0,0,P131*Inversion!$C$22)","v":0},{"$f":"IF(I131=0,0,Inversion!$C$18*Inversion!$C$25)","v":0}]
[{"$f":"IF(A131<Inversion!$C$23,A131+1,\"-\")","v":127},{"$f":"IF(A132<>\"-\",DATE(YEAR(Inversion!$C$7),MONTH(Inversion!$C$7)+A132,DAY(Inversion!$C$7)),\"-\")","v":"2036-02-10"},91574621.505969748,1216865.7503730964,500634.11036338937,716231.64000970707,91073987.395606354,null,91574621.505969748,1216865.7503730964,1216865.7503730964,{"$f":"IF(A132>Inversion!$C$23,0,(K132-M132))","v":500634.11036338937},{"$f":"IF(N131<=0.01,0,N131*Inversion!$C$22)","v":716231.64000970707},91073987.395606354,{"$f":"IF(I132=0,0,P132*Inversion!$C$22)","v":0},{"$f":"IF(I132=0,0,Inversion!$C$18*Inversion!$C$25)","v":0}]
[{"$f":"IF(A132<Inversion!$C$23,A132+1,\"-\")","v":128},{"$f":"IF(A133<>\"-\",DATE(YEAR(Inversion!$C$7),MONTH(Inversion!$C$7)+A133,DAY(Inversion!$C$7)),\"-\")","v":"2036-03-10"},91073987.395606354,1216865.7503730964,504549.71475261415,712316.03562048229,90569437.680853739,null,91073987.395606354,1216865.7503730964,1216865.7503730964,{"$f":"IF(A133>Inversion!$C$23,0,(K133-M133))","v":504549.71475261415},{"$f":"IF(N132<=0.01,0,N132*Inversion!$C$22)","v":712316.03562048229},90569437.680853739,{"$f":"IF(I133=0,0,P133*Inversion!$C$22)","v":0},{"$f":"IF(I133=0,0,Inversion!$C$18*Inversion!$C$25)","v":0}]
[{"$f":"IF(A133<Inversion!$C$23,A133+1,\"-\")","v":129},{"$f":"IF(A134<>\"-\",DATE(YEAR(Inversion!$C$7),MONTH(Inversion!$C$7)+A134,DAY(Inversion!$C$7)),\"-\")","v":"2036-04-10"},{"$f":"I134+P134","v":90569437.680853739},1216865.7503730964,508495.94421794848,708369.80615514796,90060941.736635789,null,90569437.680853739,{"$f":"K134+O134","v":1216865.7503730964},1216865.7503730964,{"$f":"IF(A134>Inversion!$C$23,0,(K134-M134))","v":508495.94421794848},{"$f":"IF(N133<=0.01,0,N133*Inversion!$C$22)","v":708369.80615514796},90060941.736635789,{"$f":"IF(I134=0,0,P134*Inversion!$C$22)","v":0},{"$f":"IF(I134=0,0,Inversion!$C$18*Inversion!$C$25)","v":0}]
[{"$f":"IF(A134<Inversion!$C$23,A134+1,\"-\")","v":130},{"$f":"IF(A135<>\"-\",DATE(YEAR(Inversion!$C$7),MONTH(Inversion!$C$7)+A135,DAY(Inversion!$C$7)),\"-\")","v":"2036-05-10"},90060941.736635789,{"$f":"J135","v":1216865.7503730964},{"$f":"L135","v":512473.03828698338},{"$f":"M135+O135","v":704392.71208611305},{"$f":"N135+P135","v":89548468.698348805},null,{"$f":"N134","v":90060941.736635789},1216865.7503730964,1216865.7503730964,{"$f":"IF(A135>Inversion!$C$23,0,(K135-M135))","v":512473.03828698338},{"$f":"IF(N134<=0.01,0,N134*Inversion!$C$22)","v":704392.71208611305},89548468.698348805,{"$f":"IF(I135=0,0,P135*Inversion!$C$22)","v":0},{"$f":"IF(I135=0,0,Inversion!$C$18*Inversion!$C$25)","v":0}]
[{"$f":"IF(A135<Inversion!$C$23,A135+1,\"-\")","v":131},{"$f":"IF(A136<>\"-\",DATE(YEAR(Inversion!$C$7),MONTH(Inversion!$C$7)+A136,DAY(Inversion!$C$7)),\"-\")","v":"2036-06-10"},89548468.698348805,1216865.7503730964,516481.23836072453,700384.51201237191,89031987.459988087,null,89548468.698348805,1216865.7503730964,{"$f":"IF(N135<K135,(N135+M136),IF(N135<=0.01,0,K135))","v":1216865.7503730964},{"$f":"IF(A136>Inversion!$C$23,0,(K136-M136))","v":516481.23836072453},{"$f":"IF(N135<=0.01,0,N135*Inversion!$C$22)","v":700384.51201237191},{"$f":"N135-L136","v":89031987.459988087},{"$f":"IF(I136=0,0,P136*Inversion!$C$22)","v":0},{"$f":"IF(I136=0,0,Inversion!$C$18*Inversion!$C$25)","v":0}]
[{"$f":"IF(A136<Inversion!$C$23,A136+1,\"-\")","v":132},{"$f":"IF(A137<>\"-\",DATE(YEAR(Inversion!$C$7),MONTH(Inversion!$C$7)+A137,DAY(Inversion!$C$7)),\"-\")","v":"2036-07-10"},89031987.459988087,1216865.7503730964,520520.78772824467,696344.96264485177,88511466.672259837,null,89031987.459988087,1216865.7503730964,1216865.7503730964,{"$f":"IF(A137>Inversion!$C$23,0,(K137-M137))","v":520520.78772824467},{"$f":"IF(N136<=0.01,0,N136*Inversion!$C$22)","v":696344.96264485177},88511466.672259837,{"$f":"IF(I137=0,0,P137*Inversion!$C$22)","v":0},{"$f":"IF(I137=0,0,Inversion!$C$18*Inversion!$C$25)","v":0}]
[{"$f":"IF(A137<Inversion!$C$23,A137+1,\"-\")","v":133},{"$f":"IF(A138<>\"-\",DATE(YEAR(Inversion!$C$7),MONTH(Inversion!$C$7)+A138,DAY(Inversion!$C$7)),\"-\")","v":"2036-08-10"},88511466.672259837,1216865.7503730964,524591.93158145132,692273.81879164511,87986874.740678385,null,88511466.672259837,1216865.7503730964,1216865.7503730964,{"$f":"IF(A138>Inversion!$C$23,0,(K138-M138))","v":524591.93158145132},{"$f":"IF(N137<=0.01,0,N137*Inversion!$C$22)","v":692273.81879164511},87986874.740678385,{"$f":"IF(I138=0,0,P138*Inversion!$C$22)","v":0},{"$f":"IF(I138=0,0,Inversion!$C$18*Inversion!$C$25)","v":0}]
[{"$f":"IF(A138<Inversion!$C$23,A138+1,\"-\")","v":134},{"$f":"IF(A139<>\"-\",DATE(YEAR(Inversion!$C$7),MONTH(Inversion!$C$7)+A139,DAY(Inversion!$C$7)),\"-\")","v":"2036-09-10"},87986874.740678385,1216865.7503730964,528694.91702996823,688170.83334312821,87458179.823648423,null,87986874.740678385,1216865.7503730964,1216865.7503730964,{"$f":"IF(A139>Inversion!$C$23,0,(K139-M139))","v":528694.91702996823},{"$f":"IF(N138<=0.01,0,N138*Inversion!$C$22)","v":688170.83334312821},87458179.823648423,{"$f":"IF(I139=0,0,P139*Inversion!$C$22)","v":0},{"$f":"IF(I139=0,0,Inversion!$C$18*Inversion!$C$25)","v":0}]
[{"$f":"IF(A139<Inversion!$C$23,A139+1,\"-\")","v":135},{"$f":"IF(A140<>\"-\",DATE(YEAR(Inversion!$C$7),MONTH(Inversion!$C$7)+A140,DAY(Inversion!$C$7)),\"-\")","v":"2036-10-10"},87458179.823648423,1216865.7503730964,532829.99311613571,684035.75725696073,86925349.830532283,null,87458179.823648423,1216865.7503730964,1216865.7503730964,{"$f":"IF(A140>Inversion!$C$23,0,(K140-M140))","v":532829.99311613571},{"$f":"IF(N139<=0.01,0,N139*Inversion!$C$22)","v":684035.75725696073},86925349.830532283,{"$f":"IF(I140=0,0,P140*Inversion!$C$22)","v":0},{"$f":"IF(I140=0,0,Inversion!$C$18*Inversion!$C$25)","v":0}]
[{"$f":"IF(A140<Inversion!$C$23,A140+1,\"-\")","v":136},{"$f":"IF(A141<>\"-\",DATE(YEAR(Inversion!$C$7),MONTH(Inversion!$C$7)+A141,DAY(Inversion!$C$7)),\"-\")","v":"2036-11-10"},86925349.830532283,1216865.7503730964,536997.41083012591,679868.33954297053,86388352.419702157,null,86925349.830532283,1216865.7503730964,1216865.7503730964,{"$f":"IF(A141>Inversion!$C$23,0,(K141-M141))","v":536997.41083012591},{"$f":"IF(N140<=0.01,0,N140*Inversion!$C$22)","v":679868.33954297053},86388352.419702157,{"$f":"IF(I141=0,0,P141*Inversion!$C$22)","v":0},{"$f":"IF(I141=0,0,Inversion!$C$18*Inversion!$C$25)","v":0}]
[{"$f":"IF(A141<Inversion!$C$23,A141+1,\"-\")","v":137},{"$f":"IF(A142<>\"-\",DATE(YEAR(Inversion!$C$7),MONTH(Inversion!$C$7)+A142,DAY(Inversion!$C$7)),\"-\")","v":"2036-12-10"},86388352.419702157,1216865.7503730964,541197.4231251782,675668.32724791823,85847154.99657698,null,86388352.419702157,1216865.7503730964,1216865.7503730964,{"$f":"IF(A142>Inversion!$C$23,0,(K142-M142))","v":541197.4231251782},{"$f":"IF(N141<=0.01,0,N141*Inversion!$C$22)","v":675668.32724791823},85847154.99657698,{"$f":"IF(I142=0,0,P142*Inversion!$C$22)","v":0},{"$f":"IF(I142=0,0,Inversion!$C$18*Inversion!$C$25)","v":0}]
[{"$f":"IF(A142<Inversion!$C$23,A142+1,\"-\")","v":138},{"$f":"IF(A143<>\"-\",DATE(YEAR(Inversion!$C$7),MONTH(Inversion!$C$7)+A143,DAY(Inversion!$C$7)),\"-\")","v":"2037-01-10"},85847154.99657698,1216865.7503730964,545430.28493295214,671435.4654401443,85301724.711644024,null,85847154.99657698,1216865.7503730964,1216865.7503730964,{"$f":"IF(A143>Inversion!$C$23,0,(K143-M143))","v":545430.28493295214},{"$f":"IF(N142<=0.01,0,N142*Inversion!$C$22)","v":671435.4654401443},85301724.711644024,{"$f":"IF(I143=0,0,P143*Inversion!$C$22)","v":0},{"$f":"IF(I143=0,0,Inversion!$C$18*Inversion!$C$25)","v":0}]
[{"$f":"IF(A143<Inversion!$C$23,A143+1,\"-\")","v":139},{"$f":"IF(A144<>\"-\",DATE(YEAR(Inversion!$C$7),MONTH(Inversion!$C$7)+A144,DAY(Inversion!$C$7)),\"-\")","v":"2037-02-10"},85301724.711644024,1216865.7503730964,549696.25317900185,667169.49719409458,84752028.458465025,null,85301724.711644024,1216865.7503730964,1216865.7503730964,{"$f":"IF(A144>Inversion!$C$23,0,(K144-M144))","v":549696.25317900185},{"$f":"IF(N143<=0.01,0,N143*Inversion!$C$22)","v":667169.49719409458},84752028.458465025,{"$f":"IF(I144=0,0,P144*Inversion!$C$22)","v":0},{"$f":"IF(I144=0,0,Inversion!$C$18*Inversion!$C$25)","v":0}]
[{"$f":"IF(A144<Inversion!$C$23,A144+1,\"-\")","v":140},{"$f":"IF(A145<>\"-\",DATE(YEAR(Inversion!$C$7),MONTH(Inversion!$C$7)+A145,DAY(Inversion!$C$7)),\"-\")","v":"2037-03-10"},84752028.458465025,1216865.7503730964,553995.58679837058,662870.16357472586,84198032.871666655,null,84752028.458465025,1216865.7503730964,1216865.7503730964,{"$f":"IF(A145>Inversion!$C$23,0,(K145-M145))","v":553995.58679837058},{"$f":"IF(N144<=0.01,0,N144*Inversion!$C$22)","v":662870.16357472586},84198032.871666655,{"$f":"IF(I145=0,0,P145*Inversion!$C$22)","v":0},{"$f":"IF(I145=0,0,Inversion!$C$18*Inversion!$C$25)","v":0}]
[{"$f":"IF(A145<Inversion!$C$23,A145+1,\"-\")","v":141},{"$f":"IF(A146<>\"-\",DATE(YEAR(Inversion!$C$7),MONTH(Inversion!$C$7)+A146,DAY(Inversion!$C$7)),\"-\")","v":"2037-04-10"},84198032.871666655,1216865.7503730964,558328.54675130767,658537.20362178877,83639704.324915349,null,84198032.871666655,1216865.7503730964,1216865.7503730964,{"$f":"IF(A146>Inversion!$C$23,0,(K146-M146))","v":558328.54675130767},{"$f":"IF(N145<=0.01,0,N145*Inversion!$C$22)","v":658537.20362178877},83639704.324915349,{"$f":"IF(I146=0,0,P146*Inversion!$C$22)","v":0},{"$f":"IF(I146=0,0,Inversion!$C$18*Inversion!$C$25)","v":0}]
[{"$f":"IF(A146<Inversion!$C$23,A146+1,\"-\")","v":142},{"$f":"IF(A147<>\"-\",DATE(YEAR(Inversion!$C$7),MONTH(Inversion!$C$7)+A147,DAY(Inversion!$C$7)),\"-\")","v":"2037-05-10"},83639704.324915349,1216865.7503730964,562695.39603910793,654170.35433398851,83077008.928876236,null,83639704.324915349,1216865.7503730964,1216865.7503730964,{"$f":"IF(A147>Inversion!$C$23,0,(K147-M147))","v":562695.39603910793},{"$f":"IF(N146<=0.01,0,N146*Inversion!$C$22)","v":654170.35433398851},83077008.928876236,{"$f":"IF(I147=0,0,P147*Inversion!$C$22)","v":0},{"$f":"IF(I147=0,0,Inversion!$C$18*Inversion!$C$25)","v":0}]
[{"$f":"IF(A147<Inversion!$C$23,A147+1,\"-\")","v":143},{"$f":"IF(A148<>\"-\",DATE(YEAR(Inversion!$C$7),MONTH(Inversion!$C$7)+A148,DAY(Inversion!$C$7)),\"-\")","v":"2037-06-10"},83077008.928876236,1216865.7503730964,567096.39972007577,649769.35065302067,82509912.529156163,null,83077008.928876236,1216865.7503730964,1216865.7503730964,{"$f":"IF(A148>Inversion!$C$23,0,(K148-M148))","v":567096.39972007577},{"$f":"IF(N147<=0.01,0,N147*Inversion!$C$22)","v":649769.35065302067},82509912.529156163,{"$f":"IF(I148=0,0,P148*Inversion!$C$22)","v":0},{"$f":"IF(I148=0,0,Inversion!$C$18*Inversion!$C$25)","v":0}]
[{"$f":"IF(A148<Inversion!$C$23,A148+1,\"-\")","v":144},{"$f":"IF(A149<>\"-\",DATE(YEAR(Inversion!$C$7),MONTH(Inversion!$C$7)+A149,DAY(Inversion!$C$7)),\"-\")","v":"2037-07-10"},82509912.529156163,1216865.7503730964,571531.82492561301,645333.92544748343,81938380.704230547,null,82509912.529156163,1216865.7503730964,1216865.7503730964,{"$f":"IF(A149>Inversion!$C$23,0,(K149-M149))","v":571531.82492561301},{"$f":"IF(N148<=0.01,0,N148*Inversion!$C$22)","v":645333.92544748343},81938380.704230547,{"$f":"IF(I149=0,0,P149*Inversion!$C$22)","v":0},{"$f":"IF(I149=0,0,Inversion!$C$18*Inversion!$C$25)","v":0}]
[{"$f":"IF(A149<Inversion!$C$23,A149+1,\"-\")","v":145},{"$f":"IF(A150<>\"-\",DATE(YEAR(Inversion!$C$7),MONTH(Inversion!$C$7)+A150,DAY(Inversion!$C$7)),\"-\")","v":"2037-08-10"},81938380.704230547,1216865.7503730964,576001.94087643386,640863.80949666258,81362378.763354108,null,81938380.704230547,1216865.7503730964,1216865.7503730964,{"$f":"IF(A150>Inversion!$C$23,0,(K150-M150))","v":576001.94087643386},{"$f":"IF(N149<=0.01,0,N149*Inversion!$C$22)","v":640863.80949666258},81362378.763354108,{"$f":"IF(I150=0,0,P150*Inversion!$C$22)","v":0},{"$f":"IF(I150=0,0,Inversion!$C$18*Inversion!$C$25)","v":0}]
[{"$f":"IF(A150<Inversion!$C$23,A150+1,\"-\")","v":146},{"$f":"IF(A151<>\"-\",DATE(YEAR(Inversion!$C$7),MONTH(Inversion!$C$7)+A151,DAY(Inversion!$C$7)),\"-\")","v":"2037-09-10"},81362378.763354108,1216865.7503730964,580507.01889890549,636358.73147419095,80781871.744455203,null,81362378.763354108,1216865.7503730964,1216865.7503730964,{"$f":"IF(A151>Inversion!$C$23,0,(K151-M151))","v":580507.01889890549},{"$f":"IF(N150<=0.01,0,N150*Inversion!$C$22)","v":636358.73147419095},80781871.744455203,{"$f":"IF(I151=0,0,P151*Inversion!$C$22)","v":0},{"$f":"IF(I151=0,0,Inversion!$C$18*Inversion!$C$25)","v":0}]
[{"$f":"IF(A151<Inversion!$C$23,A151+1,\"-\")","v":147},{"$f":"IF(A152<>\"-\",DATE(YEAR(Inversion!$C$7),MONTH(Inversion!$C$7)+A152,DAY(Inversion!$C$7)),\"-\")","v":"2037-10-10"},80781871.744455203,1216865.7503730964,585047.33244151738,631818.41793157905,80196824.41201368,null,80781871.744455203,1216865.7503730964,1216865.7503730964,{"$f":"IF(A152>Inversion!$C$23,0,(K152-M152))","v":585047.33244151738},{"$f":"IF(N151<=0.01,0,N151*Inversion!$C$22)","v":631818.41793157905},80196824.41201368,{"$f":"IF(I152=0,0,P152*Inversion!$C$22)","v":0},{"$f":"IF(I152=0,0,Inversion!$C$18*Inversion!$C$25)","v":0}]
[{"$f":"IF(A152<Inversion!$C$23,A152+1,\"-\")","v":148},{"$f":"IF(A153<>\"-\",DATE(YEAR(Inversion!$C$7),MONTH(Inversion!$C$7)+A153,DAY(Inversion!$C$7)),\"-\")","v":"2037-11-10"},80196824.41201368,1216865.7503730964,589623.1570914787,627242.59328161774,79607201.254922196,null,80196824.41201368,1216865.7503730964,1216865.7503730964,{"$f":"IF(A153>Inversion!$C$23,0,(K153-M153))","v":589623.1570914787},{"$f":"IF(N152<=0.01,0,N152*Inversion!$C$22)","v":627242.59328161774},79607201.254922196,{"$f":"IF(I153=0,0,P153*Inversion!$C$22)","v":0},{"$f":"IF(I153=0,0,Inversion!$C$18*Inversion!$C$25)","v":0}]
[{"$f":"IF(A153<Inversion!$C$23,A153+1,\"-\")","v":149},{"$f":"IF(A154<>\"-\",DATE(YEAR(Inversion!$C$7),MONTH(Inversion!$C$7)+A154,DAY(Inversion!$C$7)),\"-\")","v":"2037-12-10"},79607201.254922196,1216865.7503730964,594234.77059144608,622630.97978165036,79012966.484330744,null,79607201.254922196,1216865.7503730964,1216865.7503730964,{"$f":"IF(A154>Inversion!$C$23,0,(K154-M154))","v":594234.77059144608},{"$f":"IF(N153<=0.01,0,N153*Inversion!$C$22)","v":622630.97978165036},79012966.484330744,{"$f":"IF(I154=0,0,P154*Inversion!$C$22)","v":0},{"$f":"IF(I154=0,0,Inversion!$C$18*Inversion!$C$25)","v":0}]
[{"$f":"IF(A154<Inversion!$C$23,A154+1,\"-\")","v":150},{"$f":"IF(A155<>\"-\",DATE(YEAR(Inversion!$C$7),MONTH(Inversion!$C$7)+A155,DAY(Inversion!$C$7)),\"-\")","v":"2038-01-10"},79012966.484330744,1216865.7503730964,598882.45285638189,617983.29751671455,78414084.031474367,null,79012966.484330744,1216865.7503730964,1216865.7503730964,{"$f":"IF(A155>Inversion!$C$23,0,(K155-M155))","v":598882.45285638189},{"$f":"IF(N154<=0.01,0,N154*Inversion!$C$22)","v":617983.29751671455},78414084.031474367,{"$f":"IF(I155=0,0,P155*Inversion!$C$22)","v":0},{"$f":"IF(I155=0,0,Inversion!$C$18*Inversion!$C$25)","v":0}]
[{"$f":"IF(A155<Inversion!$C$23,A155+1,\"-\")","v":151},{"$f":"IF(A156<>\"-\",DATE(YEAR(Inversion!$C$7),MONTH(Inversion!$C$7)+A156,DAY(Inversion!$C$7)),\"-\")","v":"2038-02-10"},78414084.031474367,1216865.7503730964,603566.48599054443,613299.26438255201,77810517.545483828,null,78414084.031474367,1216865.7503730964,1216865.7503730964,{"$f":"IF(A156>Inversion!$C$23,0,(K156-M156))","v":603566.48599054443},{"$f":"IF(N155<=0.01,0,N155*Inversion!$C$22)","v":613299.26438255201},77810517.545483828,{"$f":"IF(I156=0,0,P156*Inversion!$C$22)","v":0},{"$f":"IF(I156=0,0,Inversion!$C$18*Inversion!$C$25)","v":0}]
[{"$f":"IF(A156<Inversion!$C$23,A156+1,\"-\")","v":152},{"$f":"IF(A157<>\"-\",DATE(YEAR(Inversion!$C$7),MONTH(Inversion!$C$7)+A157,DAY(Inversion!$C$7)),\"-\")","v":"2038-03-10"},77810517.545483828,1216865.7503730964,608287.15430461138,608578.59606848506,77202230.391179219,null,77810517.545483828,1216865.7503730964,1216865.7503730964,{"$f":"IF(A157>Inversion!$C$23,0,(K157-M157))","v":608287.15430461138},{"$f":"IF(N156<=0.01,0,N156*Inversion!$C$22)","v":608578.59606848506},77202230.391179219,{"$f":"IF(I157=0,0,P157*Inversion!$C$22)","v":0},{"$f":"IF(I157=0,0,Inversion!$C$18*Inversion!$C$25)","v":0}]
[{"$f":"IF(A157<Inversion!$C$23,A157+1,\"-\")","v":153},{"$f":"IF(A158<>\"-\",DATE(YEAR(Inversion!$C$7),MONTH(Inversion!$C$7)+A158,DAY(Inversion!$C$7)),\"-\")","v":"2038-04-10"},77202230.391179219,1216865.7503730964,613044.74433293624,603821.00604016019,76589185.64684628,null,77202230.391179219,1216865.7503730964,1216865.7503730964,{"$f":"IF(A158>Inversion!$C$23,0,(K158-M158))","v":613044.74433293624},{"$f":"IF(N157<=0.01,0,N157*Inversion!$C$22)","v":603821.00604016019},76589185.64684628,{"$f":"IF(I158=0,0,P158*Inversion!$C$22)","v":0},{"$f":"IF(I158=0,0,Inversion!$C$18*Inversion!$C$25)","v":0}]
[{"$f":"IF(A158<Inversion!$C$23,A158+1,\"-\")","v":154},{"$f":"IF(A159<>\"-\",DATE(YEAR(Inversion!$C$7),MONTH(Inversion!$C$7)+A159,DAY(Inversion!$C$7)),\"-\")","v":"2038-05-10"},76589185.64684628,1216865.7503730964,617839.54485094105,599026.20552215539,75971346.101995334,null,76589185.64684628,1216865.7503730964,1216865.7503730964,{"$f":"IF(A159>Inversion!$C$23,0,(K159-M159))","v":617839.54485094105},{"$f":"IF(N158<=0.01,0,N158*Inversion!$C$22)","v":599026.20552215539},75971346.101995334,{"$f":"IF(I159=0,0,P159*Inversion!$C$22)","v":0},{"$f":"IF(I159=0,0,Inversion!$C$18*Inversion!$C$25)","v":0}]
[{"$f":"IF(A159<Inversion!$C$23,A159+1,\"-\")","v":155},{"$f":"IF(A160<>\"-\",DATE(YEAR(Inversion!$C$7),MONTH(Inversion!$C$7)+A160,DAY(Inversion!$C$7)),\"-\")","v":"2038-06-10"},75971346.101995334,1216865.7503730964,622671.8468926436,594193.90348045283,75348674.255102694,null,75971346.101995334,1216865.7503730964,1216865.7503730964,{"$f":"IF(A160>Inversion!$C$23,0,(K160-M160))","v":622671.8468926436},{"$f":"IF(N159<=0.01,0,N159*Inversion!$C$22)","v":594193.90348045283},75348674.255102694,{"$f":"IF(I160=0,0,P160*Inversion!$C$22)","v":0},{"$f":"IF(I160=0,0,Inversion!$C$18*Inversion!$C$25)","v":0}]
[{"$f":"IF(A160<Inversion!$C$23,A160+1,\"-\")","v":156},{"$f":"IF(A161<>\"-\",DATE(YEAR(Inversion!$C$7),MONTH(Inversion!$C$7)+A161,DAY(Inversion!$C$7)),\"-\")","v":"2038-07-10"},75348674.255102694,1216865.7503730964,627541.94376832352,589323.80660477292,74721132.311334372,null,75348674.255102694,1216865.7503730964,1216865.7503730964,{"$f":"IF(A161>Inversion!$C$23,0,(K161-M161))","v":627541.94376832352},{"$f":"IF(N160<=0.01,0,N160*Inversion!$C$22)","v":589323.80660477292},74721132.311334372,{"$f":"IF(I161=0,0,P161*Inversion!$C$22)","v":0},{"$f":"IF(I161=0,0,Inversion!$C$18*Inversion!$C$25)","v":0}]
[{"$f":"IF(A161<Inversion!$C$23,A161+1,\"-\")","v":157},{"$f":"IF(A162<>\"-\",DATE(YEAR(Inversion!$C$7),MONTH(Inversion!$C$7)+A162,DAY(Inversion!$C$7)),\"-\")","v":"2038-08-10"},74721132.311334372,1216865.7503730964,632450.13108232478,584415.61929077166,74088682.180252045,null,74721132.311334372,1216865.7503730964,1216865.7503730964,{"$f":"IF(A162>Inversion!$C$23,0,(K162-M162))","v":632450.13108232478},{"$f":"IF(N161<=0.01,0,N161*Inversion!$C$22)","v":584415.61929077166},74088682.180252045,{"$f":"IF(I162=0,0,P162*Inversion!$C$22)","v":0},{"$f":"IF(I162=0,0,Inversion!$C$18*Inversion!$C$25)","v":0}]
[{"$f":"IF(A162<Inversion!$C$23,A162+1,\"-\")","v":158},{"$f":"IF(A163<>\"-\",DATE(YEAR(Inversion!$C$7),MONTH(Inversion!$C$7)+A163,DAY(Inversion!$C$7)),\"-\")","v":"2038-09-10"},74088682.180252045,1216865.7503730964,637396.70675099862,579469.04362209782,73451285.473501042,null,74088682.180252045,1216865.7503730964,1216865.7503730964,{"$f":"IF(A163>Inversion!$C$23,0,(K163-M163))","v":637396.70675099862},{"$f":"IF(N162<=0.01,0,N162*Inversion!$C$22)","v":579469.04362209782},73451285.473501042,{"$f":"IF(I163=0,0,P163*Inversion!$C$22)","v":0},{"$f":"IF(I163=0,0,Inversion!$C$18*Inversion!$C$25)","v":0}]
[{"$f":"IF(A163<Inversion!$C$23,A163+1,\"-\")","v":159},{"$f":"IF(A164<>\"-\",DATE(YEAR(Inversion!$C$7),MONTH(Inversion!$C$7)+A164,DAY(Inversion!$C$7)),\"-\")","v":"2038-10-10"},73451285.473501042,1216865.7503730964,642381.97102078644,574483.77935231,72808903.502480254,null,73451285.473501042,1216865.7503730964,1216865.7503730964,{"$f":"IF(A164>Inversion!$C$23,0,(K164-M164))","v":642381.97102078644},{"$f":"IF(N163<=0.01,0,N163*Inversion!$C$22)","v":574483.77935231},72808903.502480254,{"$f":"IF(I164=0,0,P164*Inversion!$C$22)","v":0},{"$f":"IF(I164=0,0,Inversion!$C$18*Inversion!$C$25)","v":0}]
[{"$f":"IF(A164<Inversion!$C$23,A164+1,\"-\")","v":160},{"$f":"IF(A165<>\"-\",DATE(YEAR(Inversion!$C$7),MONTH(Inversion!$C$7)+A165,DAY(Inversion!$C$7)),\"-\")","v":"2038-11-10"},72808903.502480254,1216865.7503730964,647406.22648644401,569459.52388665243,72161497.275993809,null,72808903.502480254,1216865.7503730964,1216865.7503730964,{"$f":"IF(A165>Inversion!$C$23,0,(K165-M165))","v":647406.22648644401},{"$f":"IF(N164<=0.01,0,N164*Inversion!$C$22)","v":569459.52388665243},72161497.275993809,{"$f":"IF(I165=0,0,P165*Inversion!$C$22)","v":0},{"$f":"IF(I165=0,0,Inversion!$C$18*Inversion!$C$25)","v":0}]
[{"$f":"IF(A165<Inversion!$C$23,A165+1,\"-\")","v":161},{"$f":"IF(A166<>\"-\",DATE(YEAR(Inversion!$C$7),MONTH(Inversion!$C$7)+A166,DAY(Inversion!$C$7)),\"-\")","v":"2038-12-10"},72161497.275993809,1216865.7503730964,652469.7781094081,564395.97226368834,71509027.497884408,null,72161497.275993809,1216865.7503730964,1216865.7503730964,{"$f":"IF(A166>Inversion!$C$23,0,(K166-M166))","v":652469.7781094081},{"$f":"IF(N165<=0.01,0,N165*Inversion!$C$22)","v":564395.97226368834},71509027.497884408,{"$f":"IF(I166=0,0,P166*Inversion!$C$22)","v":0},{"$f":"IF(I166=0,0,Inversion!$C$18*Inversion!$C$25)","v":0}]
[{"$f":"IF(A166<Inversion!$C$23,A166+1,\"-\")","v":162},{"$f":"IF(A167<>\"-\",DATE(YEAR(Inversion!$C$7),MONTH(Inversion!$C$7)+A167,DAY(Inversion!$C$7)),\"-\")","v":"2039-01-10"},71509027.497884408,1216865.7503730964,657572.93323630758,559292.81713678886,70851454.564648107,null,71509027.497884408,1216865.7503730964,1216865.7503730964,{"$f":"IF(A167>Inversion!$C$23,0,(K167-M167))","v":657572.93323630758},{"$f":"IF(N166<=0.01,0,N166*Inversion!$C$22)","v":559292.81713678886},70851454.564648107,{"$f":"IF(I167=0,0,P167*Inversion!$C$22)","v":0},{"$f":"IF(I167=0,0,Inversion!$C$18*Inversion!$C$25)","v":0}]
[{"$f":"IF(A167<Inversion!$C$23,A167+1,\"-\")","v":163},{"$f":"IF(A168<>\"-\",DATE(YEAR(Inversion!$C$7),MONTH(Inversion!$C$7)+A168,DAY(Inversion!$C$7)),\"-\")","v":"2039-02-10"},70851454.564648107,1216865.7503730964,662716.00161761814,554149.7487554783,70188738.563030481,null,70851454.564648107,1216865.7503730964,1216865.7503730964,{"$f":"IF(A168>Inversion!$C$23,0,(K168-M168))","v":662716.00161761814},{"$f":"IF(N167<=0.01,0,N167*Inversion!$C$22)","v":554149.7487554783},70188738.563030481,{"$f":"IF(I168=0,0,P168*Inversion!$C$22)","v":0},{"$f":"IF(I168=0,0,Inversion!$C$18*Inversion!$C$25)","v":0}]
[{"$f":"IF(A168<Inversion!$C$23,A168+1,\"-\")","v":164},{"$f":"IF(A169<>\"-\",DATE(YEAR(Inversion!$C$7),MONTH(Inversion!$C$7)+A169,DAY(Inversion!$C$7)),\"-\")","v":"2039-03-10"},70188738.563030481,1216865.7503730964,667899.29542646359,548966.45494663285,69520839.267604023,null,70188738.563030481,1216865.7503730964,1216865.7503730964,{"$f":"IF(A169>Inversion!$C$23,0,(K169-M169))","v":667899.29542646359},{"$f":"IF(N168<=0.01,0,N168*Inversion!$C$22)","v":548966.45494663285},69520839.267604023,{"$f":"IF(I169=0,0,P169*Inversion!$C$22)","v":0},{"$f":"IF(I169=0,0,Inversion!$C$18*Inversion!$C$25)","v":0}]
[{"$f":"IF(A169<Inversion!$C$23,A169+1,\"-\")","v":165},{"$f":"IF(A170<>\"-\",DATE(YEAR(Inversion!$C$7),MONTH(Inversion!$C$7)+A170,DAY(Inversion!$C$7)),\"-\")","v":"2039-04-10"},69520839.267604023,1216865.7503730964,673123.12927756435,543742.62109553209,68847716.138326466,null,69520839.267604023,1216865.7503730964,1216865.7503730964,{"$f":"IF(A170>Inversion!$C$23,0,(K170-M170))","v":673123.12927756435},{"$f":"IF(N169<=0.01,0,N169*Inversion!$C$22)","v":543742.62109553209},68847716.138326466,{"$f":"IF(I170=0,0,P170*Inversion!$C$22)","v":0},{"$f":"IF(I170=0,0,Inversion!$C$18*Inversion!$C$25)","v":0}]
[{"$f":"IF(A170<Inversion!$C$23,A170+1,\"-\")","v":166},{"$f":"IF(A171<>\"-\",DATE(YEAR(Inversion!$C$7),MONTH(Inversion!$C$7)+A171,DAY(Inversion!$C$7)),\"-\")","v":"2039-05-10"},68847716.138326466,1216865.7503730964,678387.82024633349,538477.93012676295,68169328.318080127,null,68847716.138326466,1216865.7503730964,1216865.7503730964,{"$f":"IF(A171>Inversion!$C$23,0,(K171-M171))","v":678387.82024633349},{"$f":"IF(N170<=0.01,0,N170*Inversion!$C$22)","v":538477.93012676295},68169328.318080127,{"$f":"IF(I171=0,0,P171*Inversion!$C$22)","v":0},{"$f":"IF(I171=0,0,Inversion!$C$18*Inversion!$C$25)","v":0}]
[{"$f":"IF(A171<Inversion!$C$23,A171+1,\"-\")","v":167},{"$f":"IF(A172<>\"-\",DATE(YEAR(Inversion!$C$7),MONTH(Inversion!$C$7)+A172,DAY(Inversion!$C$7)),\"-\")","v":"2039-06-10"},68169328.318080127,1216865.7503730964,683693.68788812298,533172.06248497346,67485634.630192012,null,68169328.318080127,1216865.7503730964,1216865.7503730964,{"$f":"IF(A172>Inversion!$C$23,0,(K172-M172))","v":683693.68788812298},{"$f":"IF(N171<=0.01,0,N171*Inversion!$C$22)","v":533172.06248497346},67485634.630192012,{"$f":"IF(I172=0,0,P172*Inversion!$C$22)","v":0},{"$f":"IF(I172=0,0,Inversion!$C$18*Inversion!$C$25)","v":0}]
[{"$f":"IF(A172<Inversion!$C$23,A172+1,\"-\")","v":168},{"$f":"IF(A173<>\"-\",DATE(YEAR(Inversion!$C$7),MONTH(Inversion!$C$7)+A173,DAY(Inversion!$C$7)),\"-\")","v":"2039-07-10"},67485634.630192012,1216865.7503730964,689041.05425761943,527824.69611547701,66796593.575934395,null,67485634.630192012,1216865.7503730964,1216865.7503730964,{"$f":"IF(A173>Inversion!$C$23,0,(K173-M173))","v":689041.05425761943},{"$f":"IF(N172<=0.01,0,N172*Inversion!$C$22)","v":527824.69611547701},66796593.575934395,{"$f":"IF(I173=0,0,P173*Inversion!$C$22)","v":0},{"$f":"IF(I173=0,0,Inversion!$C$18*Inversion!$C$25)","v":0}]
[{"$f":"IF(A173<Inversion!$C$23,A173+1,\"-\")","v":169},{"$f":"IF(A174<>\"-\",DATE(YEAR(Inversion!$C$7),MONTH(Inversion!$C$7)+A174,DAY(Inversion!$C$7)),\"-\")","v":"2039-08-10"},66796593.575934395,1216865.7503730964,694430.24392839277,522435.50644470367,66102163.332006,null,66796593.575934395,1216865.7503730964,1216865.7503730964,{"$f":"IF(A174>Inversion!$C$23,0,(K174-M174))","v":694430.24392839277},{"$f":"IF(N173<=0.01,0,N173*Inversion!$C$22)","v":522435.50644470367},66102163.332006,{"$f":"IF(I174=0,0,P174*Inversion!$C$22)","v":0},{"$f":"IF(I174=0,0,Inversion!$C$18*Inversion!$C$25)","v":0}]
[{"$f":"IF(A174<Inversion!$C$23,A174+1,\"-\")","v":170},{"$f":"IF(A175<>\"-\",DATE(YEAR(Inversion!$C$7),MONTH(Inversion!$C$7)+A175,DAY(Inversion!$C$7)),\"-\")","v":"2039-09-10"},66102163.332006,1216865.7503730964,699861.58401259664,517004.16636049974,65402301.747993402,null,66102163.332006,1216865.7503730964,1216865.7503730964,{"$f":"IF(A175>Inversion!$C$23,0,(K175-M175))","v":699861.58401259664},{"$f":"IF(N174<=0.01,0,N174*Inversion!$C$22)","v":517004.16636049974},65402301.747993402,{"$f":"IF(I175=0,0,P175*Inversion!$C$22)","v":0},{"$f":"IF(I175=0,0,Inversion!$C$18*Inversion!$C$25)","v":0}]
[{"$f":"IF(A175<Inversion!$C$23,A175+1,\"-\")","v":171},{"$f":"IF(A176<>\"-\",DATE(YEAR(Inversion!$C$7),MONTH(Inversion!$C$7)+A176,DAY(Inversion!$C$7)),\"-\")","v":"2039-10-10"},65402301.747993402,1216865.7503730964,705335.40418082383,511530.34619227267,64696966.343812577,null,65402301.747993402,1216865.7503730964,1216865.7503730964,{"$f":"IF(A176>Inversion!$C$23,0,(K176-M176))","v":705335.40418082383},{"$f":"IF(N175<=0.01,0,N175*Inversion!$C$22)","v":511530.34619227267},64696966.343812577,{"$f":"IF(I176=0,0,P176*Inversion!$C$22)","v":0},{"$f":"IF(I176=0,0,Inversion!$C$18*Inversion!$C$25)","v":0}]
[{"$f":"IF(A176<Inversion!$C$23,A176+1,\"-\")","v":172},{"$f":"IF(A177<>\"-\",DATE(YEAR(Inversion!$C$7),MONTH(Inversion!$C$7)+A177,DAY(Inversion!$C$7)),\"-\")","v":"2039-11-10"},64696966.343812577,1216865.7503730964,710852.03668211563,506013.71369098075,63986114.307130463,null,64696966.343812577,1216865.7503730964,1216865.7503730964,{"$f":"IF(A177>Inversion!$C$23,0,(K177-M177))","v":710852.03668211563},{"$f":"IF(N176<=0.01,0,N176*Inversion!$C$22)","v":506013.71369098075},63986114.307130463,{"$f":"IF(I177=0,0,P177*Inversion!$C$22)","v":0},{"$f":"IF(I177=0,0,Inversion!$C$18*Inversion!$C$25)","v":0}]
[{"$f":"IF(A177<Inversion!$C$23,A177+1,\"-\")","v":173},{"$f":"IF(A178<>\"-\",DATE(YEAR(Inversion!$C$7),MONTH(Inversion!$C$7)+A178,DAY(Inversion!$C$7)),\"-\")","v":"2039-12-10"},63986114.307130463,1216865.7503730964,716411.81636413035,500453.93400896608,63269702.490766332,null,63986114.307130463,1216865.7503730964,1216865.7503730964,{"$f":"IF(A178>Inversion!$C$23,0,(K178-M178))","v":716411.81636413035},{"$f":"IF(N177<=0.01,0,N177*Inversion!$C$22)","v":500453.93400896608},63269702.490766332,{"$f":"IF(I178=0,0,P178*Inversion!$C$22)","v":0},{"$f":"IF(I178=0,0,Inversion!$C$18*Inversion!$C$25)","v":0}]
[{"$f":"IF(A178<Inversion!$C$23,A178+1,\"-\")","v":174},{"$f":"IF(A179<>\"-\",DATE(YEAR(Inversion!$C$7),MONTH(Inversion!$C$7)+A179,DAY(Inversion!$C$7)),\"-\")","v":"2040-01-10"},63269702.490766332,1216865.7503730964,722015.08069346601,494850.66967963043,62547687.410072863,null,63269702.490766332,1216865.7503730964,1216865.7503730964,{"$f":"IF(A179>Inversion!$C$23,0,(K179-M179))","v":722015.08069346601},{"$f":"IF(N178<=0.01,0,N178*Inversion!$C$22)","v":494850.66967963043},62547687.410072863,{"$f":"IF(I179=0,0,P179*Inversion!$C$22)","v":0},{"$f":"IF(I179=0,0,Inversion!$C$18*Inversion!$C$25)","v":0}]
[{"$f":"IF(A179<Inversion!$C$23,A179+1,\"-\")","v":175},{"$f":"IF(A180<>\"-\",DATE(YEAR(Inversion!$C$7),MONTH(Inversion!$C$7)+A180,DAY(Inversion!$C$7)),\"-\")","v":"2040-02-10"},62547687.410072863,1216865.7503730964,727662.16977614502,489203.58059695142,61820025.240296721,null,62547687.410072863,1216865.7503730964,1216865.7503730964,{"$f":"IF(A180>Inversion!$C$23,0,(K180-M180))","v":727662.16977614502},{"$f":"IF(N179<=0.01,0,N179*Inversion!$C$22)","v":489203.58059695142},61820025.240296721,{"$f":"IF(I180=0,0,P180*Inversion!$C$22)","v":0},{"$f":"IF(I180=0,0,Inversion!$C$18*Inversion!$C$25)","v":0}]
[{"$f":"IF(A180<Inversion!$C$23,A180+1,\"-\")","v":176},{"$f":"IF(A181<>\"-\",DATE(YEAR(Inversion!$C$7),MONTH(Inversion!$C$7)+A181,DAY(Inversion!$C$7)),\"-\")","v":"2040-03-10"},61820025.240296721,1216865.7503730964,733353.42637825734,483512.3239948391,61086671.813918464,null,61820025.240296721,1216865.7503730964,1216865.7503730964,{"$f":"IF(A181>Inversion!$C$23,0,(K181-M181))","v":733353.42637825734},{"$f":"IF(N180<=0.01,0,N180*Inversion!$C$22)","v":483512.3239948391},61086671.813918464,{"$f":"IF(I181=0,0,P181*Inversion!$C$22)","v":0},{"$f":"IF(I181=0,0,Inversion!$C$18*Inversion!$C$25)","v":0}]
[{"$f":"IF(A181<Inversion!$C$23,A181+1,\"-\")","v":177},{"$f":"IF(A182<>\"-\",DATE(YEAR(Inversion!$C$7),MONTH(Inversion!$C$7)+A182,DAY(Inversion!$C$7)),\"-\")","v":"2040-04-10"},61086671.813918464,1216865.7503730964,739089.19594676595,477776.55442633049,60347582.617971696,null,61086671.813918464,1216865.7503730964,1216865.7503730964,{"$f":"IF(A182>Inversion!$C$23,0,(K182-M182))","v":739089.19594676595},{"$f":"IF(N181<=0.01,0,N181*Inversion!$C$22)","v":477776.55442633049},60347582.617971696,{"$f":"IF(I182=0,0,P182*Inversion!$C$22)","v":0},{"$f":"IF(I182=0,0,Inversion!$C$18*Inversion!$C$25)","v":0}]
[{"$f":"IF(A182<Inversion!$C$23,A182+1,\"-\")","v":178},{"$f":"IF(A183<>\"-\",DATE(YEAR(Inversion!$C$7),MONTH(Inversion!$C$7)+A183,DAY(Inversion!$C$7)),\"-\")","v":"2040-05-10"},60347582.617971696,1216865.7503730964,744869.82663047453,471995.9237426219,59602712.791341223,null,60347582.617971696,1216865.7503730964,1216865.7503730964,{"$f":"IF(A183>Inversion!$C$23,0,(K183-M183))","v":744869.82663047453},{"$f":"IF(N182<=0.01,0,N182*Inversion!$C$22)","v":471995.9237426219},59602712.791341223,{"$f":"IF(I183=0,0,P183*Inversion!$C$22)","v":0},{"$f":"IF(I183=0,0,Inversion!$C$18*Inversion!$C$25)","v":0}]
[{"$f":"IF(A183<Inversion!$C$23,A183+1,\"-\")","v":179},{"$f":"IF(A184<>\"-\",DATE(YEAR(Inversion!$C$7),MONTH(Inversion!$C$7)+A184,DAY(Inversion!$C$7)),\"-\")","v":"2040-06-10"},59602712.791341223,1216865.7503730964,750695.66930115945,466170.08107193705,58852017.122040063,null,59602712.791341223,1216865.7503730964,1216865.7503730964,{"$f":"IF(A184>Inversion!$C$23,0,(K184-M184))","v":750695.66930115945},{"$f":"IF(N183<=0.01,0,N183*Inversion!$C$22)","v":466170.08107193705},58852017.122040063,{"$f":"IF(I184=0,0,P184*Inversion!$C$22)","v":0},{"$f":"IF(I184=0,0,Inversion!$C$18*Inversion!$C$25)","v":0}]
[{"$f":"IF(A184<Inversion!$C$23,A184+1,\"-\")","v":180},{"$f":"IF(A185<>\"-\",DATE(YEAR(Inversion!$C$7),MONTH(Inversion!$C$7)+A185,DAY(Inversion!$C$7)),\"-\")","v":"2040-07-10"},58852017.122040063,1216865.7503730964,756567.07757486659,460298.67279822991,58095450.044465199,null,58852017.122040063,1216865.7503730964,1216865.7503730964,{"$f":"IF(A185>Inversion!$C$23,0,(K185-M185))","v":756567.07757486659},{"$f":"IF(N184<=0.01,0,N184*Inversion!$C$22)","v":460298.67279822991},58095450.044465199,{"$f":"IF(I185=0,0,P185*Inversion!$C$22)","v":0},{"$f":"IF(I185=0,0,Inversion!$C$18*Inversion!$C$25)","v":0}]
[{"$f":"IF(A185<Inversion!$C$23,A185+1,\"-\")","v":181},{"$f":"IF(A186<>\"-\",DATE(YEAR(Inversion!$C$7),MONTH(Inversion!$C$7)+A186,DAY(Inversion!$C$7)),\"-\")","v":"2040-08-10"},58095450.044465199,1216865.7503730964,762484.40783337574,454381.34253972076,57332965.636631824,null,58095450.044465199,1216865.7503730964,1216865.7503730964,{"$f":"IF(A186>Inversion!$C$23,0,(K186-M186))","v":762484.40783337574},{"$f":"IF(N185<=0.01,0,N185*Inversion!$C$22)","v":454381.34253972076},57332965.636631824,{"$f":"IF(I186=0,0,P186*Inversion!$C$22)","v":0},{"$f":"IF(I186=0,0,Inversion!$C$18*Inversion!$C$25)","v":0}]
[{"$f":"IF(A186<Inversion!$C$23,A186+1,\"-\")","v":182},{"$f":"IF(A187<>\"-\",DATE(YEAR(Inversion!$C$7),MONTH(Inversion!$C$7)+A187,DAY(Inversion!$C$7)),\"-\")","v":"2040-09-10"},57332965.636631824,1216865.7503730964,768448.01924583153,448417.73112726485,56564517.617385991,null,57332965.636631824,1216865.7503730964,1216865.7503730964,{"$f":"IF(A187>Inversion!$C$23,0,(K187-M187))","v":768448.01924583153},{"$f":"IF(N186<=0.01,0,N186*Inversion!$C$22)","v":448417.73112726485},56564517.617385991,{"$f":"IF(I187=0,0,P187*Inversion!$C$22)","v":0},{"$f":"IF(I187=0,0,Inversion!$C$18*Inversion!$C$25)","v":0}]
[{"$f":"IF(A187<Inversion!$C$23,A187+1,\"-\")","v":183},{"$f":"IF(A188<>\"-\",DATE(YEAR(Inversion!$C$7),MONTH(Inversion!$C$7)+A188,DAY(Inversion!$C$7)),\"-\")","v":"2040-10-10"},56564517.617385991,1216865.7503730964,774458.27379054483,442407.47658255161,55790059.343595445,null,56564517.617385991,1216865.7503730964,1216865.7503730964,{"$f":"IF(A188>Inversion!$C$23,0,(K188-M188))","v":774458.27379054483},{"$f":"IF(N187<=0.01,0,N187*Inversion!$C$22)","v":442407.47658255161},55790059.343595445,{"$f":"IF(I188=0,0,P188*Inversion!$C$22)","v":0},{"$f":"IF(I188=0,0,Inversion!$C$18*Inversion!$C$25)","v":0}]
[{"$f":"IF(A188<Inversion!$C$23,A188+1,\"-\")","v":184},{"$f":"IF(A189<>\"-\",DATE(YEAR(Inversion!$C$7),MONTH(Inversion!$C$7)+A189,DAY(Inversion!$C$7)),\"-\")","v":"2040-11-10"},55790059.343595445,1216865.7503730964,780515.53627696342,436350.21409613302,55009543.807318479,null,55790059.343595445,1216865.7503730964,1216865.7503730964,{"$f":"IF(A189>Inversion!$C$23,0,(K189-M189))","v":780515.53627696342},{"$f":"IF(N188<=0.01,0,N188*Inversion!$C$22)","v":436350.21409613302},55009543.807318479,{"$f":"IF(I189=0,0,P189*Inversion!$C$22)","v":0},{"$f":"IF(I189=0,0,Inversion!$C$18*Inversion!$C$25)","v":0}]
[{"$f":"IF(A189<Inversion!$C$23,A189+1,\"-\")","v":185},{"$f":"IF(A190<>\"-\",DATE(YEAR(Inversion!$C$7),MONTH(Inversion!$C$7)+A190,DAY(Inversion!$C$7)),\"-\")","v":"2040-12-10"},55009543.807318479,1216865.7503730964,786620.17436781549,430245.57600528089,54222923.632950664,null,55009543.807318479,1216865.7503730964,1216865.7503730964,{"$f":"IF(A190>Inversion!$C$23,0,(K190-M190))","v":786620.17436781549},{"$f":"IF(N189<=0.01,0,N189*Inversion!$C$22)","v":430245.57600528089},54222923.632950664,{"$f":"IF(I190=0,0,P190*Inversion!$C$22)","v":0},{"$f":"IF(I190=0,0,Inversion!$C$18*Inversion!$C$25)","v":0}]
[{"$f":"IF(A190<Inversion!$C$23,A190+1,\"-\")","v":186},{"$f":"IF(A191<>\"-\",DATE(YEAR(Inversion!$C$7),MONTH(Inversion!$C$7)+A191,DAY(Inversion!$C$7)),\"-\")","v":"2041-01-10"},54222923.632950664,1216865.7503730964,792772.55860142608,424093.19177167036,53430151.074349239,null,54222923.632950664,1216865.7503730964,1216865.7503730964,{"$f":"IF(A191>Inversion!$C$23,0,(K191-M191))","v":792772.55860142608},{"$f":"IF(N190<=0.01,0,N190*Inversion!$C$22)","v":424093.19177167036},53430151.074349239,{"$f":"IF(I191=0,0,P191*Inversion!$C$22)","v":0},{"$f":"IF(I191=0,0,Inversion!$C$18*Inversion!$C$25)","v":0}]
[{"$f":"IF(A191<Inversion!$C$23,A191+1,\"-\")","v":187},{"$f":"IF(A192<>\"-\",DATE(YEAR(Inversion!$C$7),MONTH(Inversion!$C$7)+A192,DAY(Inversion!$C$7)),\"-\")","v":"2041-02-10"},53430151.074349239,1216865.7503730964,798973.06241420761,417892.68795888883,52631178.011935033,null,53430151.074349239,1216865.7503730964,1216865.7503730964,{"$f":"IF(A192>Inversion!$C$23,0,(K192-M192))","v":798973.06241420761},{"$f":"IF(N191<=0.01,0,N191*Inversion!$C$22)","v":417892.68795888883},52631178.011935033,{"$f":"IF(I192=0,0,P192*Inversion!$C$22)","v":0},{"$f":"IF(I192=0,0,Inversion!$C$18*Inversion!$C$25)","v":0}]
[{"$f":"IF(A192<Inversion!$C$23,A192+1,\"-\")","v":188},{"$f":"IF(A193<>\"-\",DATE(YEAR(Inversion!$C$7),MONTH(Inversion!$C$7)+A193,DAY(Inversion!$C$7)),\"-\")","v":"2041-03-10"},52631178.011935033,1216865.7503730964,805222.06216332689,411643.68820976949,51825955.949771702,null,52631178.011935033,1216865.7503730964,1216865.7503730964,{"$f":"IF(A193>Inversion!$C$23,0,(K193-M193))","v":805222.06216332689},{"$f":"IF(N192<=0.01,0,N192*Inversion!$C$22)","v":411643.68820976949},51825955.949771702,{"$f":"IF(I193=0,0,P193*Inversion!$C$22)","v":0},{"$f":"IF(I193=0,0,Inversion!$C$18*Inversion!$C$25)","v":0}]
[{"$f":"IF(A193<Inversion!$C$23,A193+1,\"-\")","v":189},{"$f":"IF(A194<>\"-\",DATE(YEAR(Inversion!$C$7),MONTH(Inversion!$C$7)+A194,DAY(Inversion!$C$7)),\"-\")","v":"2041-04-10"},51825955.949771702,1216865.7503730964,811519.93714954949,405345.81322354695,51014436.012622155,null,51825955.949771702,1216865.7503730964,1216865.7503730964,{"$f":"IF(A194>Inversion!$C$23,0,(K194-M194))","v":811519.93714954949},{"$f":"IF(N193<=0.01,0,N193*Inversion!$C$22)","v":405345.81322354695},51014436.012622155,{"$f":"IF(I194=0,0,P194*Inversion!$C$22)","v":0},{"$f":"IF(I194=0,0,Inversion!$C$18*Inversion!$C$25)","v":0}]
[{"$f":"IF(A194<Inversion!$C$23,A194+1,\"-\")","v":190},{"$f":"IF(A195<>\"-\",DATE(YEAR(Inversion!$C$7),MONTH(Inversion!$C$7)+A195,DAY(Inversion!$C$7)),\"-\")","v":"2041-05-10"},51014436.012622155,1216865.7503730964,817867.06964026147,398998.68073283497,50196568.942981891,null,51014436.012622155,1216865.7503730964,1216865.7503730964,{"$f":"IF(A195>Inversion!$C$23,0,(K195-M195))","v":817867.06964026147},{"$f":"IF(N194<=0.01,0,N194*Inversion!$C$22)","v":398998.68073283497},50196568.942981891,{"$f":"IF(I195=0,0,P195*Inversion!$C$22)","v":0},{"$f":"IF(I195=0,0,Inversion!$C$18*Inversion!$C$25)","v":0}]
[{"$f":"IF(A195<Inversion!$C$23,A195+1,\"-\")","v":191},{"$f":"IF(A196<>\"-\",DATE(YEAR(Inversion!$C$7),MONTH(Inversion!$C$7)+A196,DAY(Inversion!$C$7)),\"-\")","v":"2041-06-10"},50196568.942981891,1216865.7503730964,824263.84489267343,392601.90548042301,49372305.098089218,null,50196568.942981891,1216865.7503730964,1216865.7503730964,{"$f":"IF(A196>Inversion!$C$23,0,(K196-M196))","v":824263.84489267343},{"$f":"IF(N195<=0.01,0,N195*Inversion!$C$22)","v":392601.90548042301},49372305.098089218,{"$f":"IF(I196=0,0,P196*Inversion!$C$22)","v":0},{"$f":"IF(I196=0,0,Inversion!$C$18*Inversion!$C$25)","v":0}]
[{"$f":"IF(A196<Inversion!$C$23,A196+1,\"-\")","v":192},{"$f":"IF(A197<>\"-\",DATE(YEAR(Inversion!$C$7),MONTH(Inversion!$C$7)+A197,DAY(Inversion!$C$7)),\"-\")","v":"2041-07-10"},49372305.098089218,1216865.7503730964,830710.65117720398,386155.09919589252,48541594.446912013,null,49372305.098089218,1216865.7503730964,1216865.7503730964,{"$f":"IF(A197>Inversion!$C$23,0,(K197-M197))","v":830710.65117720398},{"$f":"IF(N196<=0.01,0,N196*Inversion!$C$22)","v":386155.09919589252},48541594.446912013,{"$f":"IF(I197=0,0,P197*Inversion!$C$22)","v":0},{"$f":"IF(I197=0,0,Inversion!$C$18*Inversion!$C$25)","v":0}]
[{"$f":"IF(A197<Inversion!$C$23,A197+1,\"-\")","v":193},{"$f":"IF(A198<>\"-\",DATE(YEAR(Inversion!$C$7),MONTH(Inversion!$C$7)+A198,DAY(Inversion!$C$7)),\"-\")","v":"2041-08-10"},{"$f":"I198+P198","v":48541594.446912013},1216865.7503730964,837207.87980104703,379657.87057204946,47704386.567110963,null,48541594.446912013,{"$f":"K198+O198","v":1216865.7503730964},1216865.7503730964,{"$f":"IF(A198>Inversion!$C$23,0,(K198-M198))","v":837207.87980104703},{"$f":"IF(N197<=0.01,0,N197*Inversion!$C$22)","v":379657.87057204946},47704386.567110963,{"$f":"IF(I198=0,0,P198*Inversion!$C$22)","v":0},{"$f":"IF(I198=0,0,Inversion!$C$18*Inversion!$C$25)","v":0}]
[{"$f":"IF(A198<Inversion!$C$23,A198+1,\"-\")","v":194},{"$f":"IF(A199<>\"-\",DATE(YEAR(Inversion!$C$7),MONTH(Inversion!$C$7)+A199,DAY(Inversion!$C$7)),\"-\")","v":"2041-09-10"},47704386.567110963,{"$f":"J199","v":1216865.7503730964},{"$f":"L199","v":843755.92513192352},{"$f":"M199+O199","v":373109.82524117286},{"$f":"N199+P199","v":46860630.641979039},null,{"$f":"N198","v":47704386.567110963},1216865.7503730964,1216865.7503730964,{"$f":"IF(A199>Inversion!$C$23,0,(K199-M199))","v":843755.92513192352},{"$f":"IF(N198<=0.01,0,N198*Inversion!$C$22)","v":373109.82524117286},46860630.641979039,{"$f":"IF(I199=0,0,P199*Inversion!$C$22)","v":0},{"$f":"IF(I199=0,0,Inversion!$C$18*Inversion!$C$25)","v":0}]
[{"$f":"IF(A199<Inversion!$C$23,A199+1,\"-\")","v":195},{"$f":"IF(A200<>\"-\",DATE(YEAR(Inversion!$C$7),MONTH(Inversion!$C$7)+A200,DAY(Inversion!$C$7)),\"-\")","v":"2041-10-10"},46860630.641979039,1216865.7503730964,850355.18462201871,366510.56575107772,46010275.457357019,null,46860630.641979039,1216865.7503730964,{"$f":"IF(N199<K199,(N199+M200),IF(N199<=0.01,0,K199))","v":1216865.7503730964},{"$f":"IF(A200>Inversion!$C$23,0,(K200-M200))","v":850355.18462201871},{"$f":"IF(N199<=0.01,0,N199*Inversion!$C$22)","v":366510.56575107772},{"$f":"N199-L200","v":46010275.457357019},{"$f":"IF(I200=0,0,P200*Inversion!$C$22)","v":0},{"$f":"IF(I200=0,0,Inversion!$C$18*Inversion!$C$25)","v":0}]
[{"$f":"IF(A200<Inversion!$C$23,A200+1,\"-\")","v":196},{"$f":"IF(A201<>\"-\",DATE(YEAR(Inversion!$C$7),MONTH(Inversion!$C$7)+A201,DAY(Inversion!$C$7)),\"-\")","v":"2041-11-10"},46010275.457357019,1216865.7503730964,857006.05883210641,359859.69154099008,45153269.39852491,null,46010275.457357019,1216865.7503730964,1216865.7503730964,{"$f":"IF(A201>Inversion!$C$23,0,(K201-M201))","v":857006.05883210641},{"$f":"IF(N200<=0.01,0,N200*Inversion!$C$22)","v":359859.69154099008},45153269.39852491,{"$f":"IF(I201=0,0,P201*Inversion!$C$22)","v":0},{"$f":"IF(I201=0,0,Inversion!$C$18*Inversion!$C$25)","v":0}]
[{"$f":"IF(A201<Inversion!$C$23,A201+1,\"-\")","v":197},{"$f":"IF(A202<>\"-\",DATE(YEAR(Inversion!$C$7),MONTH(Inversion!$C$7)+A202,DAY(Inversion!$C$7)),\"-\")","v":"2041-12-10"},45153269.39852491,1216865.7503730964,863708.95145586203,353156.79891723447,44289560.447069049,null,45153269.39852491,1216865.7503730964,1216865.7503730964,{"$f":"IF(A202>Inversion!$C$23,0,(K202-M202))","v":863708.95145586203},{"$f":"IF(N201<=0.01,0,N201*Inversion!$C$22)","v":353156.79891723447},44289560.447069049,{"$f":"IF(I202=0,0,P202*Inversion!$C$22)","v":0},{"$f":"IF(I202=0,0,Inversion!$C$18*Inversion!$C$25)","v":0}]
[{"$f":"IF(A202<Inversion!$C$23,A202+1,\"-\")","v":198},{"$f":"IF(A203<>\"-\",DATE(YEAR(Inversion!$C$7),MONTH(Inversion!$C$7)+A203,DAY(Inversion!$C$7)),\"-\")","v":"2042-01-10"},44289560.447069049,1216865.7503730964,870464.26934436639,346401.48102873011,43419096.177724682,null,44289560.447069049,1216865.7503730964,1216865.7503730964,{"$f":"IF(A203>Inversion!$C$23,0,(K203-M203))","v":870464.26934436639},{"$f":"IF(N202<=0.01,0,N202*Inversion!$C$22)","v":346401.48102873011},43419096.177724682,{"$f":"IF(I203=0,0,P203*Inversion!$C$22)","v":0},{"$f":"IF(I203=0,0,Inversion!$C$18*Inversion!$C$25)","v":0}]
[{"$f":"IF(A203<Inversion!$C$23,A203+1,\"-\")","v":199},{"$f":"IF(A204<>\"-\",DATE(YEAR(Inversion!$C$7),MONTH(Inversion!$C$7)+A204,DAY(Inversion!$C$7)),\"-\")","v":"2042-02-10"},43419096.177724682,1216865.7503730964,877272.42253080045,339593.32784229598,42541823.755193882,null,43419096.177724682,1216865.7503730964,1216865.7503730964,{"$f":"IF(A204>Inversion!$C$23,0,(K204-M204))","v":877272.42253080045},{"$f":"IF(N203<=0.01,0,N203*Inversion!$C$22)","v":339593.32784229598},42541823.755193882,{"$f":"IF(I204=0,0,P204*Inversion!$C$22)","v":0},{"$f":"IF(I204=0,0,Inversion!$C$18*Inversion!$C$25)","v":0}]
[{"$f":"IF(A204<Inversion!$C$23,A204+1,\"-\")","v":200},{"$f":"IF(A205<>\"-\",DATE(YEAR(Inversion!$C$7),MONTH(Inversion!$C$7)+A205,DAY(Inversion!$C$7)),\"-\")","v":"2042-03-10"},42541823.755193882,1216865.7503730964,884133.82425533351,332731.92611776292,41657689.930938549,null,42541823.755193882,1216865.7503730964,1216865.7503730964,{"$f":"IF(A205>Inversion!$C$23,0,(K205-M205))","v":884133.82425533351},{"$f":"IF(N204<=0.01,0,N204*Inversion!$C$22)","v":332731.92611776292},41657689.930938549,{"$f":"IF(I205=0,0,P205*Inversion!$C$22)","v":0},{"$f":"IF(I205=0,0,Inversion!$C$18*Inversion!$C$25)","v":0}]
[{"$f":"IF(A205<Inversion!$C$23,A205+1,\"-\")","v":201},{"$f":"IF(A206<>\"-\",DATE(YEAR(Inversion!$C$7),MONTH(Inversion!$C$7)+A206,DAY(Inversion!$C$7)),\"-\")","v":"2042-04-10"},41657689.930938549,1216865.7503730964,891048.89099020581,325816.85938289063,40766641.039948344,null,41657689.930938549,1216865.7503730964,1216865.7503730964,{"$f":"IF(A206>Inversion!$C$23,0,(K206-M206))","v":891048.89099020581},{"$f":"IF(N205<=0.01,0,N205*Inversion!$C$22)","v":325816.85938289063},40766641.039948344,{"$f":"IF(I206=0,0,P206*Inversion!$C$22)","v":0},{"$f":"IF(I206=0,0,Inversion!$C$18*Inversion!$C$25)","v":0}]
[{"$f":"IF(A206<Inversion!$C$23,A206+1,\"-\")","v":202},{"$f":"IF(A207<>\"-\",DATE(YEAR(Inversion!$C$7),MONTH(Inversion!$C$7)+A207,DAY(Inversion!$C$7)),\"-\")","v":"2042-05-10"},40766641.039948344,1216865.7503730964,898018.04246500763,318847.70790808887,39868622.997483335,null,40766641.039948344,1216865.7503730964,1216865.7503730964,{"$f":"IF(A207>Inversion!$C$23,0,(K207-M207))","v":898018.04246500763},{"$f":"IF(N206<=0.01,0,N206*Inversion!$C$22)","v":318847.70790808887},39868622.997483335,{"$f":"IF(I207=0,0,P207*Inversion!$C$22)","v":0},{"$f":"IF(I207=0,0,Inversion!$C$18*Inversion!$C$25)","v":0}]
[{"$f":"IF(A207<Inversion!$C$23,A207+1,\"-\")","v":203},{"$f":"IF(A208<>\"-\",DATE(YEAR(Inversion!$C$7),MONTH(Inversion!$C$7)+A208,DAY(Inversion!$C$7)),\"-\")","v":"2042-06-10"},39868622.997483335,1216865.7503730964,905041.70169215591,311824.04868094053,38963581.295791179,null,39868622.997483335,1216865.7503730964,1216865.7503730964,{"$f":"IF(A208>Inversion!$C$23,0,(K208-M208))","v":905041.70169215591},{"$f":"IF(N207<=0.01,0,N207*Inversion!$C$22)","v":311824.04868094053},38963581.295791179,{"$f":"IF(I208=0,0,P208*Inversion!$C$22)","v":0},{"$f":"IF(I208=0,0,Inversion!$C$18*Inversion!$C$25)","v":0}]
[{"$f":"IF(A208<Inversion!$C$23,A208+1,\"-\")","v":204},{"$f":"IF(A209<>\"-\",DATE(YEAR(Inversion!$C$7),MONTH(Inversion!$C$7)+A209,DAY(Inversion!$C$7)),\"-\")","v":"2042-07-10"},38963581.295791179,1216865.7503730964,912120.29499257042,304745.45538052602,38051461.000798605,null,38963581.295791179,1216865.7503730964,1216865.7503730964,{"$f":"IF(A209>Inversion!$C$23,0,(K209-M209))","v":912120.29499257042},{"$f":"IF(N208<=0.01,0,N208*Inversion!$C$22)","v":304745.45538052602},38051461.000798605,{"$f":"IF(I209=0,0,P209*Inversion!$C$22)","v":0},{"$f":"IF(I209=0,0,Inversion!$C$18*Inversion!$C$25)","v":0}]
[{"$f":"IF(A209<Inversion!$C$23,A209+1,\"-\")","v":205},{"$f":"IF(A210<>\"-\",DATE(YEAR(Inversion!$C$7),MONTH(Inversion!$C$7)+A210,DAY(Inversion!$C$7)),\"-\")","v":"2042-08-10"},38051461.000798605,1216865.7503730964,919254.25202155008,297611.49835154635,37132206.748777054,null,38051461.000798605,1216865.7503730964,1216865.7503730964,{"$f":"IF(A210>Inversion!$C$23,0,(K210-M210))","v":919254.25202155008},{"$f":"IF(N209<=0.01,0,N209*Inversion!$C$22)","v":297611.49835154635},37132206.748777054,{"$f":"IF(I210=0,0,P210*Inversion!$C$22)","v":0},{"$f":"IF(I210=0,0,Inversion!$C$18*Inversion!$C$25)","v":0}]
[{"$f":"IF(A210<Inversion!$C$23,A210+1,\"-\")","v":206},{"$f":"IF(A211<>\"-\",DATE(YEAR(Inversion!$C$7),MONTH(Inversion!$C$7)+A211,DAY(Inversion!$C$7)),\"-\")","v":"2042-09-10"},37132206.748777054,1216865.7503730964,926444.00579485251,290421.74457824387,36205762.742982201,null,37132206.748777054,1216865.7503730964,1216865.7503730964,{"$f":"IF(A211>Inversion!$C$23,0,(K211-M211))","v":926444.00579485251},{"$f":"IF(N210<=0.01,0,N210*Inversion!$C$22)","v":290421.74457824387},36205762.742982201,{"$f":"IF(I211=0,0,P211*Inversion!$C$22)","v":0},{"$f":"IF(I211=0,0,Inversion!$C$18*Inversion!$C$25)","v":0}]
[{"$f":"IF(A211<Inversion!$C$23,A211+1,\"-\")","v":207},{"$f":"IF(A212<>\"-\",DATE(YEAR(Inversion!$C$7),MONTH(Inversion!$C$7)+A212,DAY(Inversion!$C$7)),\"-\")","v":"2042-10-10"},36205762.742982201,1216865.7503730964,933689.99271497712,283175.75765811931,35272072.750267223,null,36205762.742982201,1216865.7503730964,1216865.7503730964,{"$f":"IF(A212>Inversion!$C$23,0,(K212-M212))","v":933689.99271497712},{"$f":"IF(N211<=0.01,0,N211*Inversion!$C$22)","v":283175.75765811931},35272072.750267223,{"$f":"IF(I212=0,0,P212*Inversion!$C$22)","v":0},{"$f":"IF(I212=0,0,Inversion!$C$18*Inversion!$C$25)","v":0}]
[{"$f":"IF(A212<Inversion!$C$23,A212+1,\"-\")","v":208},{"$f":"IF(A213<>\"-\",DATE(YEAR(Inversion!$C$7),MONTH(Inversion!$C$7)+A213,DAY(Inversion!$C$7)),\"-\")","v":"2042-11-10"},35272072.750267223,1216865.7503730964,940992.65259765321,275873.09777544317,34331080.097669572,null,35272072.750267223,1216865.7503730964,1216865.7503730964,{"$f":"IF(A213>Inversion!$C$23,0,(K213-M213))","v":940992.65259765321},{"$f":"IF(N212<=0.01,0,N212*Inversion!$C$22)","v":275873.09777544317},34331080.097669572,{"$f":"IF(I213=0,0,P213*Inversion!$C$22)","v":0},{"$f":"IF(I213=0,0,Inversion!$C$18*Inversion!$C$25)","v":0}]
[{"$f":"IF(A213<Inversion!$C$23,A213+1,\"-\")","v":209},{"$f":"IF(A214<>\"-\",DATE(YEAR(Inversion!$C$7),MONTH(Inversion!$C$7)+A214,DAY(Inversion!$C$7)),\"-\")","v":"2042-12-10"},34331080.097669572,1216865.7503730964,948352.42869853694,268513.3216745595,33382727.668971036,null,34331080.097669572,1216865.7503730964,1216865.7503730964,{"$f":"IF(A214>Inversion!$C$23,0,(K214-M214))","v":948352.42869853694},{"$f":"IF(N213<=0.01,0,N213*Inversion!$C$22)","v":268513.3216745595},33382727.668971036,{"$f":"IF(I214=0,0,P214*Inversion!$C$22)","v":0},{"$f":"IF(I214=0,0,Inversion!$C$18*Inversion!$C$25)","v":0}]
[{"$f":"IF(A214<Inversion!$C$23,A214+1,\"-\")","v":210},{"$f":"IF(A215<>\"-\",DATE(YEAR(Inversion!$C$7),MONTH(Inversion!$C$7)+A215,DAY(Inversion!$C$7)),\"-\")","v":"2043-01-10"},33382727.668971036,1216865.7503730964,955769.76774011471,261095.9826329817,32426957.90123092,null,33382727.668971036,1216865.7503730964,1216865.7503730964,{"$f":"IF(A215>Inversion!$C$23,0,(K215-M215))","v":955769.76774011471},{"$f":"IF(N214<=0.01,0,N214*Inversion!$C$22)","v":261095.9826329817},32426957.90123092,{"$f":"IF(I215=0,0,P215*Inversion!$C$22)","v":0},{"$f":"IF(I215=0,0,Inversion!$C$18*Inversion!$C$25)","v":0}]
[{"$f":"IF(A215<Inversion!$C$23,A215+1,\"-\")","v":211},{"$f":"IF(A216<>\"-\",DATE(YEAR(Inversion!$C$7),MONTH(Inversion!$C$7)+A216,DAY(Inversion!$C$7)),\"-\")","v":"2043-02-10"},32426957.90123092,1216865.7503730964,963245.11993881944,253620.63043427703,31463712.7812921,null,32426957.90123092,1216865.7503730964,1216865.7503730964,{"$f":"IF(A216>Inversion!$C$23,0,(K216-M216))","v":963245.11993881944},{"$f":"IF(N215<=0.01,0,N215*Inversion!$C$22)","v":253620.63043427703},31463712.7812921,{"$f":"IF(I216=0,0,P216*Inversion!$C$22)","v":0},{"$f":"IF(I216=0,0,Inversion!$C$18*Inversion!$C$25)","v":0}]
[{"$f":"IF(A216<Inversion!$C$23,A216+1,\"-\")","v":212},{"$f":"IF(A217<>\"-\",DATE(YEAR(Inversion!$C$7),MONTH(Inversion!$C$7)+A217,DAY(Inversion!$C$7)),\"-\")","v":"2043-03-10"},31463712.7812921,1216865.7503730964,970778.93903235672,246086.81134073972,30492933.842259742,null,31463712.7812921,1216865.7503730964,1216865.7503730964,{"$f":"IF(A217>Inversion!$C$23,0,(K217-M217))","v":970778.93903235672},{"$f":"IF(N216<=0.01,0,N216*Inversion!$C$22)","v":246086.81134073972},30492933.842259742,{"$f":"IF(I217=0,0,P217*Inversion!$C$22)","v":0},{"$f":"IF(I217=0,0,Inversion!$C$18*Inversion!$C$25)","v":0}]
[{"$f":"IF(A217<Inversion!$C$23,A217+1,\"-\")","v":213},{"$f":"IF(A218<>\"-\",DATE(YEAR(Inversion!$C$7),MONTH(Inversion!$C$7)+A218,DAY(Inversion!$C$7)),\"-\")","v":"2043-04-10"},30492933.842259742,1216865.7503730964,978371.68230724649,238494.06806584992,29514562.159952495,null,30492933.842259742,1216865.7503730964,1216865.7503730964,{"$f":"IF(A218>Inversion!$C$23,0,(K218-M218))","v":978371.68230724649},{"$f":"IF(N217<=0.01,0,N217*Inversion!$C$22)","v":238494.06806584992},29514562.159952495,{"$f":"IF(I218=0,0,P218*Inversion!$C$22)","v":0},{"$f":"IF(I218=0,0,Inversion!$C$18*Inversion!$C$25)","v":0}]
[{"$f":"IF(A218<Inversion!$C$23,A218+1,\"-\")","v":214},{"$f":"IF(A219<>\"-\",DATE(YEAR(Inversion!$C$7),MONTH(Inversion!$C$7)+A219,DAY(Inversion!$C$7)),\"-\")","v":"2043-05-10"},29514562.159952495,1216865.7503730964,986023.81062657887,230841.93974651754,28528538.349325918,null,29514562.159952495,1216865.7503730964,1216865.7503730964,{"$f":"IF(A219>Inversion!$C$23,0,(K219-M219))","v":986023.81062657887},{"$f":"IF(N218<=0.01,0,N218*Inversion!$C$22)","v":230841.93974651754},28528538.349325918,{"$f":"IF(I219=0,0,P219*Inversion!$C$22)","v":0},{"$f":"IF(I219=0,0,Inversion!$C$18*Inversion!$C$25)","v":0}]
[{"$f":"IF(A219<Inversion!$C$23,A219+1,\"-\")","v":215},{"$f":"IF(A220<>\"-\",DATE(YEAR(Inversion!$C$7),MONTH(Inversion!$C$7)+A220,DAY(Inversion!$C$7)),\"-\")","v":"2043-06-10"},28528538.349325918,1216865.7503730964,993735.78845798771,223129.9619151087,27534802.560867932,null,28528538.349325918,1216865.7503730964,1216865.7503730964,{"$f":"IF(A220>Inversion!$C$23,0,(K220-M220))","v":993735.78845798771},{"$f":"IF(N219<=0.01,0,N219*Inversion!$C$22)","v":223129.9619151087},27534802.560867932,{"$f":"IF(I220=0,0,P220*Inversion!$C$22)","v":0},{"$f":"IF(I220=0,0,Inversion!$C$18*Inversion!$C$25)","v":0}]
[{"$f":"IF(A220<Inversion!$C$23,A220+1,\"-\")","v":216},{"$f":"IF(A221<>\"-\",DATE(YEAR(Inversion!$C$7),MONTH(Inversion!$C$7)+A221,DAY(Inversion!$C$7)),\"-\")","v":"2043-07-10"},27534802.560867932,1216865.7503730964,1001508.0839018428,215357.66647125361,26533294.476966091,null,27534802.560867932,1216865.7503730964,1216865.7503730964,{"$f":"IF(A221>Inversion!$C$23,0,(K221-M221))","v":1001508.0839018428},{"$f":"IF(N220<=0.01,0,N220*Inversion!$C$22)","v":215357.66647125361},26533294.476966091,{"$f":"IF(I221=0,0,P221*Inversion!$C$22)","v":0},{"$f":"IF(I221=0,0,Inversion!$C$18*Inversion!$C$25)","v":0}]
[{"$f":"IF(A221<Inversion!$C$23,A221+1,\"-\")","v":217},{"$f":"IF(A222<>\"-\",DATE(YEAR(Inversion!$C$7),MONTH(Inversion!$C$7)+A222,DAY(Inversion!$C$7)),\"-\")","v":"2043-08-10"},26533294.476966091,1216865.7503730964,1009341.1687196625,207524.58165343394,25523953.308246426,null,26533294.476966091,1216865.7503730964,1216865.7503730964,{"$f":"IF(A222>Inversion!$C$23,0,(K222-M222))","v":1009341.1687196625},{"$f":"IF(N221<=0.01,0,N221*Inversion!$C$22)","v":207524.58165343394},25523953.308246426,{"$f":"IF(I222=0,0,P222*Inversion!$C$22)","v":0},{"$f":"IF(I222=0,0,Inversion!$C$18*Inversion!$C$25)","v":0}]
[{"$f":"IF(A222<Inversion!$C$23,A222+1,\"-\")","v":218},{"$f":"IF(A223<>\"-\",DATE(YEAR(Inversion!$C$7),MONTH(Inversion!$C$7)+A223,DAY(Inversion!$C$7)),\"-\")","v":"2043-09-10"},25523953.308246426,1216865.7503730964,1017235.5183627487,199630.2320103478,24506717.789883677,null,25523953.308246426,1216865.7503730964,1216865.7503730964,{"$f":"IF(A223>Inversion!$C$23,0,(K223-M223))","v":1017235.5183627487},{"$f":"IF(N222<=0.01,0,N222*Inversion!$C$22)","v":199630.2320103478},24506717.789883677,{"$f":"IF(I223=0,0,P223*Inversion!$C$22)","v":0},{"$f":"IF(I223=0,0,Inversion!$C$18*Inversion!$C$25)","v":0}]
[{"$f":"IF(A223<Inversion!$C$23,A223+1,\"-\")","v":219},{"$f":"IF(A224<>\"-\",DATE(YEAR(Inversion!$C$7),MONTH(Inversion!$C$7)+A224,DAY(Inversion!$C$7)),\"-\")","v":"2043-10-10"},24506717.789883677,1216865.7503730964,1025191.6120010454,191674.13837205106,23481526.17788263,null,24506717.789883677,1216865.7503730964,1216865.7503730964,{"$f":"IF(A224>Inversion!$C$23,0,(K224-M224))","v":1025191.6120010454},{"$f":"IF(N223<=0.01,0,N223*Inversion!$C$22)","v":191674.13837205106},23481526.17788263,{"$f":"IF(I224=0,0,P224*Inversion!$C$22)","v":0},{"$f":"IF(I224=0,0,Inversion!$C$18*Inversion!$C$25)","v":0}]
[{"$f":"IF(A224<Inversion!$C$23,A224+1,\"-\")","v":220},{"$f":"IF(A225<>\"-\",DATE(YEAR(Inversion!$C$7),MONTH(Inversion!$C$7)+A225,DAY(Inversion!$C$7)),\"-\")","v":"2043-11-10"},23481526.17788263,1216865.7503730964,1033209.9325522238,183655.81782087262,22448316.245330408,null,23481526.17788263,1216865.7503730964,1216865.7503730964,{"$f":"IF(A225>Inversion!$C$23,0,(K225-M225))","v":1033209.9325522238},{"$f":"IF(N224<=0.01,0,N224*Inversion!$C$22)","v":183655.81782087262},22448316.245330408,{"$f":"IF(I225=0,0,P225*Inversion!$C$22)","v":0},{"$f":"IF(I225=0,0,Inversion!$C$18*Inversion!$C$25)","v":0}]
[{"$f":"IF(A225<Inversion!$C$23,A225+1,\"-\")","v":221},{"$f":"IF(A226<>\"-\",DATE(YEAR(Inversion!$C$7),MONTH(Inversion!$C$7)+A226,DAY(Inversion!$C$7)),\"-\")","v":"2043-12-10"},22448316.245330408,1216865.7503730964,1041290.966710994,175574.78366210239,21407025.278619416,null,22448316.245330408,1216865.7503730964,1216865.7503730964,{"$f":"IF(A226>Inversion!$C$23,0,(K226-M226))","v":1041290.966710994},{"$f":"IF(N225<=0.01,0,N225*Inversion!$C$22)","v":175574.78366210239},21407025.278619416,{"$f":"IF(I226=0,0,P226*Inversion!$C$22)","v":0},{"$f":"IF(I226=0,0,Inversion!$C$18*Inversion!$C$25)","v":0}]
[{"$f":"IF(A226<Inversion!$C$23,A226+1,\"-\")","v":222},{"$f":"IF(A227<>\"-\",DATE(YEAR(Inversion!$C$7),MONTH(Inversion!$C$7)+A227,DAY(Inversion!$C$7)),\"-\")","v":"2044-01-10"},21407025.278619416,1216865.7503730964,1049435.2049786465,167430.54539444996,20357590.073640771,null,21407025.278619416,1216865.7503730964,1216865.7503730964,{"$f":"IF(A227>Inversion!$C$23,0,(K227-M227))","v":1049435.2049786465},{"$f":"IF(N226<=0.01,0,N226*Inversion!$C$22)","v":167430.54539444996},20357590.073640771,{"$f":"IF(I227=0,0,P227*Inversion!$C$22)","v":0},{"$f":"IF(I227=0,0,Inversion!$C$18*Inversion!$C$25)","v":0}]
[{"$f":"IF(A227<Inversion!$C$23,A227+1,\"-\")","v":223},{"$f":"IF(A228<>\"-\",DATE(YEAR(Inversion!$C$7),MONTH(Inversion!$C$7)+A228,DAY(Inversion!$C$7)),\"-\")","v":"2044-02-10"},20357590.073640771,1216865.7503730964,1057643.1416928242,159222.60868027224,19299946.931947947,null,20357590.073640771,1216865.7503730964,1216865.7503730964,{"$f":"IF(A228>Inversion!$C$23,0,(K228-M228))","v":1057643.1416928242},{"$f":"IF(N227<=0.01,0,N227*Inversion!$C$22)","v":159222.60868027224},19299946.931947947,{"$f":"IF(I228=0,0,P228*Inversion!$C$22)","v":0},{"$f":"IF(I228=0,0,Inversion!$C$18*Inversion!$C$25)","v":0}]
[{"$f":"IF(A228<Inversion!$C$23,A228+1,\"-\")","v":224},{"$f":"IF(A229<>\"-\",DATE(YEAR(Inversion!$C$7),MONTH(Inversion!$C$7)+A229,DAY(Inversion!$C$7)),\"-\")","v":"2044-03-10"},19299946.931947947,1216865.7503730964,1065915.2750575282,150950.47531556824,18234031.656890418,null,19299946.931947947,1216865.7503730964,1216865.7503730964,{"$f":"IF(A229>Inversion!$C$23,0,(K229-M229))","v":1065915.2750575282},{"$f":"IF(N228<=0.01,0,N228*Inversion!$C$22)","v":150950.47531556824},18234031.656890418,{"$f":"IF(I229=0,0,P229*Inversion!$C$22)","v":0},{"$f":"IF(I229=0,0,Inversion!$C$18*Inversion!$C$25)","v":0}]
[{"$f":"IF(A229<Inversion!$C$23,A229+1,\"-\")","v":225},{"$f":"IF(A230<>\"-\",DATE(YEAR(Inversion!$C$7),MONTH(Inversion!$C$7)+A230,DAY(Inversion!$C$7)),\"-\")","v":"2044-04-10"},18234031.656890418,1216865.7503730964,1074252.1071733572,142613.64319973928,17159779.549717061,null,18234031.656890418,1216865.7503730964,1216865.7503730964,{"$f":"IF(A230>Inversion!$C$23,0,(K230-M230))","v":1074252.1071733572},{"$f":"IF(N229<=0.01,0,N229*Inversion!$C$22)","v":142613.64319973928},17159779.549717061,{"$f":"IF(I230=0,0,P230*Inversion!$C$22)","v":0},{"$f":"IF(I230=0,0,Inversion!$C$18*Inversion!$C$25)","v":0}]
[{"$f":"IF(A230<Inversion!$C$23,A230+1,\"-\")","v":226},{"$f":"IF(A231<>\"-\",DATE(YEAR(Inversion!$C$7),MONTH(Inversion!$C$7)+A231,DAY(Inversion!$C$7)),\"-\")","v":"2044-05-10"},17159779.549717061,1216865.7503730964,1082654.1440679841,134211.60630511231,16077125.405649077,null,17159779.549717061,1216865.7503730964,1216865.7503730964,{"$f":"IF(A231>Inversion!$C$23,0,(K231-M231))","v":1082654.1440679841},{"$f":"IF(N230<=0.01,0,N230*Inversion!$C$22)","v":134211.60630511231},16077125.405649077,{"$f":"IF(I231=0,0,P231*Inversion!$C$22)","v":0},{"$f":"IF(I231=0,0,Inversion!$C$18*Inversion!$C$25)","v":0}]
[{"$f":"IF(A231<Inversion!$C$23,A231+1,\"-\")","v":227},{"$f":"IF(A232<>\"-\",DATE(YEAR(Inversion!$C$7),MONTH(Inversion!$C$7)+A232,DAY(Inversion!$C$7)),\"-\")","v":"2044-06-10"},16077125.405649077,1216865.7503730964,1091121.895726871,125743.85464622539,14986003.509922206,null,16077125.405649077,1216865.7503730964,1216865.7503730964,{"$f":"IF(A232>Inversion!$C$23,0,(K232-M232))","v":1091121.895726871},{"$f":"IF(N231<=0.01,0,N231*Inversion!$C$22)","v":125743.85464622539},14986003.509922206,{"$f":"IF(I232=0,0,P232*Inversion!$C$22)","v":0},{"$f":"IF(I232=0,0,Inversion!$C$18*Inversion!$C$25)","v":0}]
[{"$f":"IF(A232<Inversion!$C$23,A232+1,\"-\")","v":228},{"$f":"IF(A233<>\"-\",DATE(YEAR(Inversion!$C$7),MONTH(Inversion!$C$7)+A233,DAY(Inversion!$C$7)),\"-\")","v":"2044-07-10"},14986003.509922206,1216865.7503730964,1099655.8761242239,117209.87424887248,13886347.633797983,null,14986003.509922206,1216865.7503730964,1216865.7503730964,{"$f":"IF(A233>Inversion!$C$23,0,(K233-M233))","v":1099655.8761242239},{"$f":"IF(N232<=0.01,0,N232*Inversion!$C$22)","v":117209.87424887248},13886347.633797983,{"$f":"IF(I233=0,0,P233*Inversion!$C$22)","v":0},{"$f":"IF(I233=0,0,Inversion!$C$18*Inversion!$C$25)","v":0}]
[{"$f":"IF(A233<Inversion!$C$23,A233+1,\"-\")","v":229},{"$f":"IF(A234<>\"-\",DATE(YEAR(Inversion!$C$7),MONTH(Inversion!$C$7)+A234,DAY(Inversion!$C$7)),\"-\")","v":"2044-08-10"},13886347.633797983,1216865.7503730964,1108256.6032541899,108609.14711890646,12778091.030543793,null,13886347.633797983,1216865.7503730964,1216865.7503730964,{"$f":"IF(A234>Inversion!$C$23,0,(K234-M234))","v":1108256.6032541899},{"$f":"IF(N233<=0.01,0,N233*Inversion!$C$22)","v":108609.14711890646},12778091.030543793,{"$f":"IF(I234=0,0,P234*Inversion!$C$22)","v":0},{"$f":"IF(I234=0,0,Inversion!$C$18*Inversion!$C$25)","v":0}]
[{"$f":"IF(A234<Inversion!$C$23,A234+1,\"-\")","v":230},{"$f":"IF(A235<>\"-\",DATE(YEAR(Inversion!$C$7),MONTH(Inversion!$C$7)+A235,DAY(Inversion!$C$7)),\"-\")","v":"2044-09-10"},12778091.030543793,1216865.7503730964,1116924.5991622985,99941.151210797907,11661166.431381494,null,12778091.030543793,1216865.7503730964,1216865.7503730964,{"$f":"IF(A235>Inversion!$C$23,0,(K235-M235))","v":1116924.5991622985},{"$f":"IF(N234<=0.01,0,N234*Inversion!$C$22)","v":99941.151210797907},11661166.431381494,{"$f":"IF(I235=0,0,P235*Inversion!$C$22)","v":0},{"$f":"IF(I235=0,0,Inversion!$C$18*Inversion!$C$25)","v":0}]
[{"$f":"IF(A235<Inversion!$C$23,A235+1,\"-\")","v":231},{"$f":"IF(A236<>\"-\",DATE(YEAR(Inversion!$C$7),MONTH(Inversion!$C$7)+A236,DAY(Inversion!$C$7)),\"-\")","v":"2044-10-10"},11661166.431381494,1216865.7503730964,1125660.3899771483,91205.360395948097,10535506.041404346,null,11661166.431381494,1216865.7503730964,1216865.7503730964,{"$f":"IF(A236>Inversion!$C$23,0,(K236-M236))","v":1125660.3899771483},{"$f":"IF(N235<=0.01,0,N235*Inversion!$C$22)","v":91205.360395948097},10535506.041404346,{"$f":"IF(I236=0,0,P236*Inversion!$C$22)","v":0},{"$f":"IF(I236=0,0,Inversion!$C$18*Inversion!$C$25)","v":0}]
[{"$f":"IF(A236<Inversion!$C$23,A236+1,\"-\")","v":232},{"$f":"IF(A237<>\"-\",DATE(YEAR(Inversion!$C$7),MONTH(Inversion!$C$7)+A237,DAY(Inversion!$C$7)),\"-\")","v":"2044-11-10"},10535506.041404346,1216865.7503730964,1134464.5059423423,82401.244430754174,9401041.5354620032,null,10535506.041404346,1216865.7503730964,1216865.7503730964,{"$f":"IF(A237>Inversion!$C$23,0,(K237-M237))","v":1134464.5059423423},{"$f":"IF(N236<=0.01,0,N236*Inversion!$C$22)","v":82401.244430754174},9401041.5354620032,{"$f":"IF(I237=0,0,P237*Inversion!$C$22)","v":0},{"$f":"IF(I237=0,0,Inversion!$C$18*Inversion!$C$25)","v":0}]
[{"$f":"IF(A237<Inversion!$C$23,A237+1,\"-\")","v":233},{"$f":"IF(A238<>\"-\",DATE(YEAR(Inversion!$C$7),MONTH(Inversion!$C$7)+A238,DAY(Inversion!$C$7)),\"-\")","v":"2044-12-10"},9401041.5354620032,1216865.7503730964,1143337.481448672,73528.268924424439,8257704.0540133314,null,9401041.5354620032,1216865.7503730964,1216865.7503730964,{"$f":"IF(A238>Inversion!$C$23,0,(K238-M238))","v":1143337.481448672},{"$f":"IF(N237<=0.01,0,N237*Inversion!$C$22)","v":73528.268924424439},8257704.0540133314,{"$f":"IF(I238=0,0,P238*Inversion!$C$22)","v":0},{"$f":"IF(I238=0,0,Inversion!$C$18*Inversion!$C$25)","v":0}]
[{"$f":"IF(A238<Inversion!$C$23,A238+1,\"-\")","v":234},{"$f":"IF(A239<>\"-\",DATE(YEAR(Inversion!$C$7),MONTH(Inversion!$C$7)+A239,DAY(Inversion!$C$7)),\"-\")","v":"2045-01-10"},8257704.0540133314,1216865.7503730964,1152279.8550665544,64585.895306542036,7105424.1989467768,null,8257704.0540133314,1216865.7503730964,1216865.7503730964,{"$f":"IF(A239>Inversion!$C$23,0,(K239-M239))","v":1152279.8550665544},{"$f":"IF(N238<=0.01,0,N238*Inversion!$C$22)","v":64585.895306542036},7105424.1989467768,{"$f":"IF(I239=0,0,P239*Inversion!$C$22)","v":0},{"$f":"IF(I239=0,0,Inversion!$C$18*Inversion!$C$25)","v":0}]
[{"$f":"IF(A239<Inversion!$C$23,A239+1,\"-\")","v":235},{"$f":"IF(A240<>\"-\",DATE(YEAR(Inversion!$C$7),MONTH(Inversion!$C$7)+A240,DAY(Inversion!$C$7)),\"-\")","v":"2045-02-10"},7105424.1989467768,1216865.7503730964,1161292.1695787215,55573.58079437488,5944132.0293680551,null,7105424.1989467768,1216865.7503730964,1216865.7503730964,{"$f":"IF(A240>Inversion!$C$23,0,(K240-M240))","v":1161292.1695787215},{"$f":"IF(N239<=0.01,0,N239*Inversion!$C$22)","v":55573.58079437488},5944132.0293680551,{"$f":"IF(I240=0,0,P240*Inversion!$C$22)","v":0},{"$f":"IF(I240=0,0,Inversion!$C$18*Inversion!$C$25)","v":0}]
[{"$f":"IF(A240<Inversion!$C$23,A240+1,\"-\")","v":236},{"$f":"IF(A241<>\"-\",DATE(YEAR(Inversion!$C$7),MONTH(Inversion!$C$7)+A241,DAY(Inversion!$C$7)),\"-\")","v":"2045-03-10"},5944132.0293680551,1216865.7503730964,1170374.9720131666,46490.778359929907,4773757.0573548879,null,5944132.0293680551,1216865.7503730964,1216865.7503730964,{"$f":"IF(A241>Inversion!$C$23,0,(K241-M241))","v":1170374.9720131666},{"$f":"IF(N240<=0.01,0,N240*Inversion!$C$22)","v":46490.778359929907},4773757.0573548879,{"$f":"IF(I241=0,0,P241*Inversion!$C$22)","v":0},{"$f":"IF(I241=0,0,Inversion!$C$18*Inversion!$C$25)","v":0}]
[{"$f":"IF(A241<Inversion!$C$23,A241+1,\"-\")","v":237},{"$f":"IF(A242<>\"-\",DATE(YEAR(Inversion!$C$7),MONTH(Inversion!$C$7)+A242,DAY(Inversion!$C$7)),\"-\")","v":"2045-04-10"},4773757.0573548879,1216865.7503730964,1179528.8136763468,37336.936696749683,3594228.2436785409,null,4773757.0573548879,1216865.7503730964,1216865.7503730964,{"$f":"IF(A242>Inversion!$C$23,0,(K242-M242))","v":1179528.8136763468},{"$f":"IF(N241<=0.01,0,N241*Inversion!$C$22)","v":37336.936696749683},3594228.2436785409,{"$f":"IF(I242=0,0,P242*Inversion!$C$22)","v":0},{"$f":"IF(I242=0,0,Inversion!$C$18*Inversion!$C$25)","v":0}]
[{"$f":"IF(A242<Inversion!$C$23,A242+1,\"-\")","v":238},{"$f":"IF(A243<>\"-\",DATE(YEAR(Inversion!$C$7),MONTH(Inversion!$C$7)+A243,DAY(Inversion!$C$7)),\"-\")","v":"2045-05-10"},3594228.2436785409,1216865.7503730964,1188754.2501866471,28111.500186449277,2405473.9934918936,null,3594228.2436785409,1216865.7503730964,1216865.7503730964,{"$f":"IF(A243>Inversion!$C$23,0,(K243-M243))","v":1188754.2501866471},{"$f":"IF(N242<=0.01,0,N242*Inversion!$C$22)","v":28111.500186449277},2405473.9934918936,{"$f":"IF(I243=0,0,P243*Inversion!$C$22)","v":0},{"$f":"IF(I243=0,0,Inversion!$C$18*Inversion!$C$25)","v":0}]
[{"$f":"IF(A243<Inversion!$C$23,A243+1,\"-\")","v":239},{"$f":"IF(A244<>\"-\",DATE(YEAR(Inversion!$C$7),MONTH(Inversion!$C$7)+A244,DAY(Inversion!$C$7)),\"-\")","v":"2045-06-10"},2405473.9934918936,1216865.7503730964,1198051.8415081049,18813.908864991423,1207422.1519837887,null,2405473.9934918936,1216865.7503730964,1216865.7503730964,{"$f":"IF(A244>Inversion!$C$23,0,(K244-M244))","v":1198051.8415081049},{"$f":"IF(N243<=0.01,0,N243*Inversion!$C$22)","v":18813.908864991423},1207422.1519837887,{"$f":"IF(I244=0,0,P244*Inversion!$C$22)","v":0},{"$f":"IF(I244=0,0,Inversion!$C$18*Inversion!$C$25)","v":0}]
[{"$f":"IF(A244<Inversion!$C$23,A244+1,\"-\")","v":240},{"$f":"IF(A245<>\"-\",DATE(YEAR(Inversion!$C$7),MONTH(Inversion!$C$7)+A245,DAY(Inversion!$C$7)),\"-\")","v":"2045-07-10"},1207422.1519837887,1216865.7503724867,1207422.1519837887,9443.5983886979302,0,null,1207422.1519837887,1216865.7503724867,1216865.7503724867,{"$f":"IF(A245>Inversion!$C$23,0,(K245-M245))","v":1207422.1519837887},{"$f":"IF(N244<=0.01,0,N244*Inversion!$C$22)","v":9443.5983886979302},0,{"$f":"IF(I245=0,0,P245*Inversion!$C$22)","v":0},{"$f":"IF(I245=0,0,Inversion!$C$18*Inversion!$C$25)","v":0}]
[{"$f":"IF(A245<Inversion!$C$23,A245+1,\"-\")","v":"-"},{"$f":"IF(A246<>\"-\",DATE(YEAR(Inversion!$C$7),MONTH(Inversion!$C$7)+A246,DAY(Inversion!$C$7)),\"-\")","v":"-"},0,0,0,0,0,null,0,0,0,{"$f":"IF(A246>Inversion!$C$23,0,(K246-M246))","v":0},{"$f":"IF(N245<=0.01,0,N245*Inversion!$C$22)","v":0},0,{"$f":"IF(I246=0,0,P246*Inversion!$C$22)","v":0},{"$f":"IF(I246=0,0,Inversion!$C$18*Inversion!$C$25)","v":0}]
[{"$f":"IF(A246<Inversion!$C$23,A246+1,\"-\")","v":"-"},{"$f":"IF(A247<>\"-\",DATE(YEAR(Inversion!$C$7),MONTH(Inversion!$C$7)+A247,DAY(Inversion!$C$7)),\"-\")","v":"-"},0,0,0,0,0,null,0,0,0,{"$f":"IF(A247>Inversion!$C$23,0,(K247-M247))","v":0},{"$f":"IF(N246<=0.01,0,N246*Inversion!$C$22)","v":0},0,{"$f":"IF(I247=0,0,P247*Inversion!$C$22)","v":0},{"$f":"IF(I247=0,0,Inversion!$C$18*Inversion!$C$25)","v":0}]
[{"$f":"IF(A247<Inversion!$C$23,A247+1,\"-\")","v":"-"},{"$f":"IF(A248<>\"-\",DATE(YEAR(Inversion!$C$7),MONTH(Inversion!$C$7)+A248,DAY(Inversion!$C$7)),\"-\")","v":"-"},0,0,0,0,0,null,0,0,0,{"$f":"IF(A248>Inversion!$C$23,0,(K248-M248))","v":0},{"$f":"IF(N247<=0.01,0,N247*Inversion!$C$22)","v":0},0,{"$f":"IF(I248=0,0,P248*Inversion!$C$22)","v":0},{"$f":"IF(I248=0,0,Inversion!$C$18*Inversion!$C$25)","v":0}]
[{"$f":"IF(A248<Inversion!$C$23,A248+1,\"-\")","v":"-"},{"$f":"IF(A249<>\"-\",DATE(YEAR(Inversion!$C$7),MONTH(Inversion!$C$7)+A249,DAY(Inversion!$C$7)),\"-\")","v":"-"},0,0,0,0,0,null,0,0,0,{"$f":"IF(A249>Inversion!$C$23,0,(K249-M249))","v":0},{"$f":"IF(N248<=0.01,0,N248*Inversion!$C$22)","v":0},0,{"$f":"IF(I249=0,0,P249*Inversion!$C$22)","v":0},{"$f":"IF(I249=0,0,Inversion!$C$18*Inversion!$C$25)","v":0}]
[{"$f":"IF(A249<Inversion!$C$23,A249+1,\"-\")","v":"-"},{"$f":"IF(A250<>\"-\",DATE(YEAR(Inversion!$C$7),MONTH(Inversion!$C$7)+A250,DAY(Inversion!$C$7)),\"-\")","v":"-"},0,0,0,0,0,null,0,0,0,{"$f":"IF(A250>Inversion!$C$23,0,(K250-M250))","v":0},{"$f":"IF(N249<=0.01,0,N249*Inversion!$C$22)","v":0},0,{"$f":"IF(I250=0,0,P250*Inversion!$C$22)","v":0},{"$f":"IF(I250=0,0,Inversion!$C$18*Inversion!$C$25)","v":0}]
[{"$f":"IF(A250<Inversion!$C$23,A250+1,\"-\")","v":"-"},{"$f":"IF(A251<>\"-\",DATE(YEAR(Inversion!$C$7),MONTH(Inversion!$C$7)+A251,DAY(Inversion!$C$7)),\"-\")","v":"-"},0,0,0,0,0,null,0,0,0,{"$f":"IF(A251>Inversion!$C$23,0,(K251-M251))","v":0},{"$f":"IF(N250<=0.01,0,N250*Inversion!$C$22)","v":0},0,{"$f":"IF(I251=0,0,P251*Inversion!$C$22)","v":0},{"$f":"IF(I251=0,0,Inversion!$C$18*Inversion!$C$25)","v":0}]
[{"$f":"IF(A251<Inversion!$C$23,A251+1,\"-\")","v":"-"},{"$f":"IF(A252<>\"-\",DATE(YEAR(Inversion!$C$7),MONTH(Inversion!$C$7)+A252,DAY(Inversion!$C$7)),\"-\")","v":"-"},0,0,0,0,0,null,0,0,0,{"$f":"IF(A252>Inversion!$C$23,0,(K252-M252))","v":0},{"$f":"IF(N251<=0.01,0,N251*Inversion!$C$22)","v":0},0,{"$f":"IF(I252=0,0,P252*Inversion!$C$22)","v":0},{"$f":"IF(I252=0,0,Inversion!$C$18*Inversion!$C$25)","v":0}]
[{"$f":"IF(A252<Inversion!$C$23,A252+1,\"-\")","v":"-"},{"$f":"IF(A253<>\"-\",DATE(YEAR(Inversion!$C$7),MONTH(Inversion!$C$7)+A253,DAY(Inversion!$C$7)),\"-\")","v":"-"},0,0,0,0,0,null,0,0,0,{"$f":"IF(A253>Inversion!$C$23,0,(K253-M253))","v":0},{"$f":"IF(N252<=0.01,0,N252*Inversion!$C$22)","v":0},0,{"$f":"IF(I253=0,0,P253*Inversion!$C$22)","v":0},{"$f":"IF(I253=0,0,Inversion!$C$18*Inversion!$C$25)","v":0}]
[{"$f":"IF(A253<Inversion!$C$23,A253+1,\"-\")","v":"-"},{"$f":"IF(A254<>\"-\",DATE(YEAR(Inversion!$C$7),MONTH(Inversion!$C$7)+A254,DAY(Inversion!$C$7)),\"-\")","v":"-"},0,0,0,0,0,null,0,0,0,{"$f":"IF(A254>Inversion!$C$23,0,(K254-M254))","v":0},{"$f":"IF(N253<=0.01,0,N253*Inversion!$C$22)","v":0},0,{"$f":"IF(I254=0,0,P254*Inversion!$C$22)","v":0},{"$f":"IF(I254=0,0,Inversion!$C$18*Inversion!$C$25)","v":0}]
[{"$f":"IF(A254<Inversion!$C$23,A254+1,\"-\")","v":"-"},{"$f":"IF(A255<>\"-\",DATE(YEAR(Inversion!$C$7),MONTH(Inversion!$C$7)+A255,DAY(Inversion!$C$7)),\"-\")","v":"-"},0,0,0,0,0,null,0,0,0,{"$f":"IF(A255>Inversion!$C$23,0,(K255-M255))","v":0},{"$f":"IF(N254<=0.01,0,N254*Inversion!$C$22)","v":0},0,{"$f":"IF(I255=0,0,P255*Inversion!$C$22)","v":0},{"$f":"IF(I255=0,0,Inversion!$C$18*Inversion!$C$25)","v":0}]
[{"$f":"IF(A255<Inversion!$C$23,A255+1,\"-\")","v":"-"},{"$f":"IF(A256<>\"-\",DATE(YEAR(Inversion!$C$7),MONTH(Inversion!$C$7)+A256,DAY(Inversion!$C$7)),\"-\")","v":"-"},0,0,0,0,0,null,0,0,0,{"$f":"IF(A256>Inversion!$C$23,0,(K256-M256))","v":0},{"$f":"IF(N255<=0.01,0,N255*Inversion!$C$22)","v":0},0,{"$f":"IF(I256=0,0,P256*Inversion!$C$22)","v":0},{"$f":"IF(I256=0,0,Inversion!$C$18*Inversion!$C$25)","v":0}]
[{"$f":"IF(A256<Inversion!$C$23,A256+1,\"-\")","v":"-"},{"$f":"IF(A257<>\"-\",DATE(YEAR(Inversion!$C$7),MONTH(Inversion!$C$7)+A257,DAY(Inversion!$C$7)),\"-\")","v":"-"},0,0,0,0,0,null,0,0,0,{"$f":"IF(A257>Inversion!$C$23,0,(K257-M257))","v":0},{"$f":"IF(N256<=0.01,0,N256*Inversion!$C$22)","v":0},0,{"$f":"IF(I257=0,0,P257*Inversion!$C$22)","v":0},{"$f":"IF(I257=0,0,Inversion!$C$18*Inversion!$C$25)","v":0}]
[{"$f":"IF(A257<Inversion!$C$23,A257+1,\"-\")","v":"-"},{"$f":"IF(A258<>\"-\",DATE(YEAR(Inversion!$C$7),MONTH(Inversion!$C$7)+A258,DAY(Inversion!$C$7)),\"-\")","v":"-"},0,0,0,0,0,null,0,0,0,{"$f":"IF(A258>Inversion!$C$23,0,(K258-M258))","v":0},{"$f":"IF(N257<=0.01,0,N257*Inversion!$C$22)","v":0},0,{"$f":"IF(I258=0,0,P258*Inversion!$C$22)","v":0},{"$f":"IF(I258=0,0,Inversion!$C$18*Inversion!$C$25)","v":0}]
[{"$f":"IF(A258<Inversion!$C$23,A258+1,\"-\")","v":"-"},{"$f":"IF(A259<>\"-\",DATE(YEAR(Inversion!$C$7),MONTH(Inversion!$C$7)+A259,DAY(Inversion!$C$7)),\"-\")","v":"-"},0,0,0,0,0,null,0,0,0,{"$f":"IF(A259>Inversion!$C$23,0,(K259-M259))","v":0},{"$f":"IF(N258<=0.01,0,N258*Inversion!$C$22)","v":0},0,{"$f":"IF(I259=0,0,P259*Inversion!$C$22)","v":0},{"$f":"IF(I259=0,0,Inversion!$C$18*Inversion!$C$25)","v":0}]
[{"$f":"IF(A259<Inversion!$C$23,A259+1,\"-\")","v":"-"},{"$f":"IF(A260<>\"-\",DATE(YEAR(Inversion!$C$7),MONTH(Inversion!$C$7)+A260,DAY(Inversion!$C$7)),\"-\")","v":"-"},0,0,0,0,0,null,0,0,0,{"$f":"IF(A260>Inversion!$C$23,0,(K260-M260))","v":0},{"$f":"IF(N259<=0.01,0,N259*Inversion!$C$22)","v":0},0,{"$f":"IF(I260=0,0,P260*Inversion!$C$22)","v":0},{"$f":"IF(I260=0,0,Inversion!$C$18*Inversion!$C$25)","v":0}]
[{"$f":"IF(A260<Inversion!$C$23,A260+1,\"-\")","v":"-"},{"$f":"IF(A261<>\"-\",DATE(YEAR(Inversion!$C$7),MONTH(Inversion!$C$7)+A261,DAY(Inversion!$C$7)),\"-\")","v":"-"},0,0,0,0,0,null,0,0,0,{"$f":"IF(A261>Inversion!$C$23,0,(K261-M261))","v":0},{"$f":"IF(N260<=0.01,0,N260*Inversion!$C$22)","v":0},0,{"$f":"IF(I261=0,0,P261*Inversion!$C$22)","v":0},{"$f":"IF(I261=0,0,Inversion!$C$18*Inversion!$C$25)","v":0}]
[{"$f":"IF(A261<Inversion!$C$23,A261+1,\"-\")","v":"-"},{"$f":"IF(A262<>\"-\",DATE(YEAR(Inversion!$C$7),MONTH(Inversion!$C$7)+A262,DAY(Inversion!$C$7)),\"-\")","v":"-"},{"$f":"I262+P262","v":0},0,0,0,0,null,0,{"$f":"K262+O262","v":0},0,{"$f":"IF(A262>Inversion!$C$23,0,(K262-M262))","v":0},{"$f":"IF(N261<=0.01,0,N261*Inversion!$C$22)","v":0},0,{"$f":"IF(I262=0,0,P262*Inversion!$C$22)","v":0},{"$f":"IF(I262=0,0,Inversion!$C$18*Inversion!$C$25)","v":0}]
[{"$f":"IF(A262<Inversion!$C$23,A262+1,\"-\")","v":"-"},{"$f":"IF(A263<>\"-\",DATE(YEAR(Inversion!$C$7),MONTH(Inversion!$C$7)+A263,DAY(Inversion!$C$7)),\"-\")","v":"-"},0,{"$f":"J263","v":0},{"$f":"L263","v":0},{"$f":"M263+O263","v":0},{"$f":"N263+P263","v":0},null,{"$f":"N262","v":0},0,0,{"$f":"IF(A263>Inversion!$C$23,0,(K263-M263))","v":0},{"$f":"IF(N262<=0.01,0,N262*Inversion!$C$22)","v":0},0,{"$f":"IF(I263=0,0,P263*Inversion!$C$22)","v":0},{"$f":"IF(I263=0,0,Inversion!$C$18*Inversion!$C$25)","v":0}]
[{"$f":"IF(A263<Inversion!$C$23,A263+1,\"-\")","v":"-"},{"$f":"IF(A264<>\"-\",DATE(YEAR(Inversion!$C$7),MONTH(Inversion!$C$7)+A264,DAY(Inversion!$C$7)),\"-\")","v":"-"},0,0,0,0,0,null,0,0,{"$f":"IF(N263<K263,(N263+M264),IF(N263<=0.01,0,K263))","v":0},{"$f":"IF(A264>Inversion!$C$23,0,(K264-M264))","v":0},{"$f":"IF(N263<=0.01,0,N263*Inversion!$C$22)","v":0},{"$f":"N263-L264","v":0},{"$f":"IF(I264=0,0,P264*Inversion!$C$22)","v":0},{"$f":"IF(I264=0,0,Inversion!$C$18*Inversion!$C$25)","v":0}]
[{"$f":"IF(A264<Inversion!$C$23,A264+1,\"-\")","v":"-"},{"$f":"IF(A265<>\"-\",DATE(YEAR(Inversion!$C$7),MONTH(Inversion!$C$7)+A265,DAY(Inversion!$C$7)),\"-\")","v":"-"},0,0,0,0,0,null,0,0,0,{"$f":"IF(A265>Inversion!$C$23,0,(K265-M265))","v":0},{"$f":"IF(N264<=0.01,0,N264*Inversion!$C$22)","v":0},0,{"$f":"IF(I265=0,0,P265*Inversion!$C$22)","v":0},{"$f":"IF(I265=0,0,Inversion!$C$18*Inversion!$C$25)","v":0}]
[{"$f":"IF(A265<Inversion!$C$23,A265+1,\"-\")","v":"-"},{"$f":"IF(A266<>\"-\",DATE(YEAR(Inversion!$C$7),MONTH(Inversion!$C$7)+A266,DAY(Inversion!$C$7)),\"-\")","v":"-"},0,0,0,0,0,null,0,0,0,{"$f":"IF(A266>Inversion!$C$23,0,(K266-M266))","v":0},{"$f":"IF(N265<=0.01,0,N265*Inversion!$C$22)","v":0},0,{"$f":"IF(I266=0,0,P266*Inversion!$C$22)","v":0},{"$f":"IF(I266=0,0,Inversion!$C$18*Inversion!$C$25)","v":0}]
[{"$f":"IF(A266<Inversion!$C$23,A266+1,\"-\")","v":"-"},{"$f":"IF(A267<>\"-\",DATE(YEAR(Inversion!$C$7),MONTH(Inversion!$C$7)+A267,DAY(Inversion!$C$7)),\"-\")","v":"-"},0,0,0,0,0,null,0,0,0,{"$f":"IF(A267>Inversion!$C$23,0,(K267-M267))","v":0},{"$f":"IF(N266<=0.01,0,N266*Inversion!$C$22)","v":0},0,{"$f":"IF(I267=0,0,P267*Inversion!$C$22)","v":0},{"$f":"IF(I267=0,0,Inversion!$C$18*Inversion!$C$25)","v":0}]
[{"$f":"IF(A267<Inversion!$C$23,A267+1,\"-\")","v":"-"},{"$f":"IF(A268<>\"-\",DATE(YEAR(Inversion!$C$7),MONTH(Inversion!$C$7)+A268,DAY(Inversion!$C$7)),\"-\")","v":"-"},0,0,0,0,0,null,0,0,0,{"$f":"IF(A268>Inversion!$C$23,0,(K268-M268))","v":0},{"$f":"IF(N267<=0.01,0,N267*Inversion!$C$22)","v":0},0,{"$f":"IF(I268=0,0,P268*Inversion!$C$22)","v":0},{"$f":"IF(I268=0,0,Inversion!$C$18*Inversion!$C$25)","v":0}]
[{"$f":"IF(A268<Inversion!$C$23,A268+1,\"-\")","v":"-"},{"$f":"IF(A269<>\"-\",DATE(YEAR(Inversion!$C$7),MONTH(Inversion!$C$7)+A269,DAY(Inversion!$C$7)),\"-\")","v":"-"},0,0,0,0,0,null,0,0,0,{"$f":"IF(A269>Inversion!$C$23,0,(K269-M269))","v":0},{"$f":"IF(N268<=0.01,0,N268*Inversion!$C$22)","v":0},0,{"$f":"IF(I269=0,0,P269*Inversion!$C$22)","v":0},{"$f":"IF(I269=0,0,Inversion!$C$18*Inversion!$C$25)","v":0}]
[{"$f":"IF(A269<Inversion!$C$23,A269+1,\"-\")","v":"-"},{"$f":"IF(A270<>\"-\",DATE(YEAR(Inversion!$C$7),MONTH(Inversion!$C$7)+A270,DAY(Inversion!$C$7)),\"-\")","v":"-"},0,0,0,0,0,null,0,0,0,{"$f":"IF(A270>Inversion!$C$23,0,(K270-M270))","v":0},{"$f":"IF(N269<=0.01,0,N269*Inversion!$C$22)","v":0},0,{"$f":"IF(I270=0,0,P270*Inversion!$C$22)","v":0},{"$f":"IF(I270=0,0,Inversion!$C$18*Inversion!$C$25)","v":0}]
[{"$f":"IF(A270<Inversion!$C$23,A270+1,\"-\")","v":"-"},{"$f":"IF(A271<>\"-\",DATE(YEAR(Inversion!$C$7),MONTH(Inversion!$C$7)+A271,DAY(Inversion!$C$7)),\"-\")","v":"-"},0,0,0,0,0,null,0,0,0,{"$f":"IF(A271>Inversion!$C$23,0,(K271-M271))","v":0},{"$f":"IF(N270<=0.01,0,N270*Inversion!$C$22)","v":0},0,{"$f":"IF(I271=0,0,P271*Inversion!$C$22)","v":0},{"$f":"IF(I271=0,0,Inversion!$C$18*Inversion!$C$25)","v":0}]
[{"$f":"IF(A271<Inversion!$C$23,A271+1,\"-\")","v":"-"},{"$f":"IF(A272<>\"-\",DATE(YEAR(Inversion!$C$7),MONTH(Inversion!$C$7)+A272,DAY(Inversion!$C$7)),\"-\")","v":"-"},0,0,0,0,0,null,0,0,0,{"$f":"IF(A272>Inversion!$C$23,0,(K272-M272))","v":0},{"$f":"IF(N271<=0.01,0,N271*Inversion!$C$22)","v":0},0,{"$f":"IF(I272=0,0,P272*Inversion!$C$22)","v":0},{"$f":"IF(I272=0,0,Inversion!$C$18*Inversion!$C$25)","v":0}]
[{"$f":"IF(A272<Inversion!$C$23,A272+1,\"-\")","v":"-"},{"$f":"IF(A273<>\"-\",DATE(YEAR(Inversion!$C$7),MONTH(Inversion!$C$7)+A273,DAY(Inversion!$C$7)),\"-\")","v":"-"},0,0,0,0,0,null,0,0,0,{"$f":"IF(A273>Inversion!$C$23,0,(K273-M273))","v":0},{"$f":"IF(N272<=0.01,0,N272*Inversion!$C$22)","v":0},0,{"$f":"IF(I273=0,0,P273*Inversion!$C$22)","v":0},{"$f":"IF(I273=0,0,Inversion!$C$18*Inversion!$C$25)","v":0}]
[{"$f":"IF(A273<Inversion!$C$23,A273+1,\"-\")","v":"-"},{"$f":"IF(A274<>\"-\",DATE(YEAR(Inversion!$C$7),MONTH(Inversion!$C$7)+A274,DAY(Inversion!$C$7)),\"-\")","v":"-"},0,0,0,0,0,null,0,0,0,{"$f":"IF(A274>Inversion!$C$23,0,(K274-M274))","v":0},{"$f":"IF(N273<=0.01,0,N273*Inversion!$C$22)","v":0},0,{"$f":"IF(I274=0,0,P274*Inversion!$C$22)","v":0},{"$f":"IF(I274=0,0,Inversion!$C$18*Inversion!$C$25)","v":0}]
[{"$f":"IF(A274<Inversion!$C$23,A274+1,\"-\")","v":"-"},{"$f":"IF(A275<>\"-\",DATE(YEAR(Inversion!$C$7),MONTH(Inversion!$C$7)+A275,DAY(Inversion!$C$7)),\"-\")","v":"-"},0,0,0,0,0,null,0,0,0,{"$f":"IF(A275>Inversion!$C$23,0,(K275-M275))","v":0},{"$f":"IF(N274<=0.01,0,N274*Inversion!$C$22)","v":0},0,{"$f":"IF(I275=0,0,P275*Inversion!$C$22)","v":0},{"$f":"IF(I275=0,0,Inversion!$C$18*Inversion!$C$25)","v":0}]
[{"$f":"IF(A275<Inversion!$C$23,A275+1,\"-\")","v":"-"},{"$f":"IF(A276<>\"-\",DATE(YEAR(Inversion!$C$7),MONTH(Inversion!$C$7)+A276,DAY(Inversion!$C$7)),\"-\")","v":"-"},0,0,0,0,0,null,0,0,0,{"$f":"IF(A276>Inversion!$C$23,0,(K276-M276))","v":0},{"$f":"IF(N275<=0.01,0,N275*Inversion!$C$22)","v":0},0,{"$f":"IF(I276=0,0,P276*Inversion!$C$22)","v":0},{"$f":"IF(I276=0,0,Inversion!$C$18*Inversion!$C$25)","v":0}]
[{"$f":"IF(A276<Inversion!$C$23,A276+1,\"-\")","v":"-"},{"$f":"IF(A277<>\"-\",DATE(YEAR(Inversion!$C$7),MONTH(Inversion!$C$7)+A277,DAY(Inversion!$C$7)),\"-\")","v":"-"},0,0,0,0,0,null,0,0,0,{"$f":"IF(A277>Inversion!$C$23,0,(K277-M277))","v":0},{"$f":"IF(N276<=0.01,0,N276*Inversion!$C$22)","v":0},0,{"$f":"IF(I277=0,0,P277*Inversion!$C$22)","v":0},{"$f":"IF(I277=0,0,Inversion!$C$18*Inversion!$C$25)","v":0}]
[{"$f":"IF(A277<Inversion!$C$23,A277+1,\"-\")","v":"-"},{"$f":"IF(A278<>\"-\",DATE(YEAR(Inversion!$C$7),MONTH(Inversion!$C$7)+A278,DAY(Inversion!$C$7)),\"-\")","v":"-"},0,0,0,0,0,null,0,0,0,{"$f":"IF(A278>Inversion!$C$23,0,(K278-M278))","v":0},{"$f":"IF(N277<=0.01,0,N277*Inversion!$C$22)","v":0},0,{"$f":"IF(I278=0,0,P278*Inversion!$C$22)","v":0},{"$f":"IF(I278=0,0,Inversion!$C$18*Inversion!$C$25)","v":0}]
[{"$f":"IF(A278<Inversion!$C$23,A278+1,\"-\")","v":"-"},{"$f":"IF(A279<>\"-\",DATE(YEAR(Inversion!$C$7),MONTH(Inversion!$C$7)+A279,DAY(Inversion!$C$7)),\"-\")","v":"-"},0,0,0,0,0,null,0,0,0,{"$f":"IF(A279>Inversion!$C$23,0,(K279-M279))","v":0},{"$f":"IF(N278<=0.01,0,N278*Inversion!$C$22)","v":0},0,{"$f":"IF(I279=0,0,P279*Inversion!$C$22)","v":0},{"$f":"IF(I279=0,0,Inversion!$C$18*Inversion!$C$25)","v":0}]
[{"$f":"IF(A279<Inversion!$C$23,A279+1,\"-\")","v":"-"},{"$f":"IF(A280<>\"-\",DATE(YEAR(Inversion!$C$7),MONTH(Inversion!$C$7)+A280,DAY(Inversion!$C$7)),\"-\")","v":"-"},0,0,0,0,0,null,0,0,0,{"$f":"IF(A280>Inversion!$C$23,0,(K280-M280))","v":0},{"$f":"IF(N279<=0.01,0,N279*Inversion!$C$22)","v":0},0,{"$f":"IF(I280=0,0,P280*Inversion!$C$22)","v":0},{"$f":"IF(I280=0,0,Inversion!$C$18*Inversion!$C$25)","v":0}]
[{"$f":"IF(A280<Inversion!$C$23,A280+1,\"-\")","v":"-"},{"$f":"IF(A281<>\"-\",DATE(YEAR(Inversion!$C$7),MONTH(Inversion!$C$7)+A281,DAY(Inversion!$C$7)),\"-\")","v":"-"},0,0,0,0,0,null,0,0,0,{"$f":"IF(A281>Inversion!$C$23,0,(K281-M281))","v":0},{"$f":"IF(N280<=0.01,0,N280*Inversion!$C$22)","v":0},0,{"$f":"IF(I281=0,0,P281*Inversion!$C$22)","v":0},{"$f":"IF(I281=0,0,Inversion!$C$18*Inversion!$C$25)","v":0}]
[{"$f":"IF(A281<Inversion!$C$23,A281+1,\"-\")","v":"-"},{"$f":"IF(A282<>\"-\",DATE(YEAR(Inversion!$C$7),MONTH(Inversion!$C$7)+A282,DAY(Inversion!$C$7)),\"-\")","v":"-"},0,0,0,0,0,null,0,0,0,{"$f":"IF(A282>Inversion!$C$23,0,(K282-M282))","v":0},{"$f":"IF(N281<=0.01,0,N281*Inversion!$C$22)","v":0},0,{"$f":"IF(I282=0,0,P282*Inversion!$C$22)","v":0},{"$f":"IF(I282=0,0,Inversion!$C$18*Inversion!$C$25)","v":0}]
[{"$f":"IF(A282<Inversion!$C$23,A282+1,\"-\")","v":"-"},{"$f":"IF(A283<>\"-\",DATE(YEAR(Inversion!$C$7),MONTH(Inversion!$C$7)+A283,DAY(Inversion!$C$7)),\"-\")","v":"-"},0,0,0,0,0,null,0,0,0,{"$f":"IF(A283>Inversion!$C$23,0,(K283-M283))","v":0},{"$f":"IF(N282<=0.01,0,N282*Inversion!$C$22)","v":0},0,{"$f":"IF(I283=0,0,P283*Inversion!$C$22)","v":0},{"$f":"IF(I283=0,0,Inversion!$C$18*Inversion!$C$25)","v":0}]
[{"$f":"IF(A283<Inversion!$C$23,A283+1,\"-\")","v":"-"},{"$f":"IF(A284<>\"-\",DATE(YEAR(Inversion!$C$7),MONTH(Inversion!$C$7)+A284,DAY(Inversion!$C$7)),\"-\")","v":"-"},0,0,0,0,0,null,0,0,0,{"$f":"IF(A284>Inversion!$C$23,0,(K284-M284))","v":0},{"$f":"IF(N283<=0.01,0,N283*Inversion!$C$22)","v":0},0,{"$f":"IF(I284=0,0,P284*Inversion!$C$22)","v":0},{"$f":"IF(I284=0,0,Inversion!$C$18*Inversion!$C$25)","v":0}]
[{"$f":"IF(A284<Inversion!$C$23,A284+1,\"-\")","v":"-"},{"$f":"IF(A285<>\"-\",DATE(YEAR(Inversion!$C$7),MONTH(Inversion!$C$7)+A285,DAY(Inversion!$C$7)),\"-\")","v":"-"},0,0,0,0,0,null,0,0,0,{"$f":"IF(A285>Inversion!$C$23,0,(K285-M285))","v":0},{"$f":"IF(N284<=0.01,0,N284*Inversion!$C$22)","v":0},0,{"$f":"IF(I285=0,0,P285*Inversion!$C$22)","v":0},{"$f":"IF(I285=0,0,Inversion!$C$18*Inversion!$C$25)","v":0}]
[{"$f":"IF(A285<Inversion!$C$23,A285+1,\"-\")","v":"-"},{"$f":"IF(A286<>\"-\",DATE(YEAR(Inversion!$C$7),MONTH(Inversion!$C$7)+A286,DAY(Inversion!$C$7)),\"-\")","v":"-"},0,0,0,0,0,null,0,0,0,{"$f":"IF(A286>Inversion!$C$23,0,(K286-M286))","v":0},{"$f":"IF(N285<=0.01,0,N285*Inversion!$C$22)","v":0},0,{"$f":"IF(I286=0,0,P286*Inversion!$C$22)","v":0},{"$f":"IF(I286=0,0,Inversion!$C$18*Inversion!$C$25)","v":0}]
[{"$f":"IF(A286<Inversion!$C$23,A286+1,\"-\")","v":"-"},{"$f":"IF(A287<>\"-\",DATE(YEAR(Inversion!$C$7),MONTH(Inversion!$C$7)+A287,DAY(Inversion!$C$7)),\"-\")","v":"-"},0,0,0,0,0,null,0,0,0,{"$f":"IF(A287>Inversion!$C$23,0,(K287-M287))","v":0},{"$f":"IF(N286<=0.01,0,N286*Inversion!$C$22)","v":0},0,{"$f":"IF(I287=0,0,P287*Inversion!$C$22)","v":0},{"$f":"IF(I287=0,0,Inversion!$C$18*Inversion!$C$25)","v":0}]
[{"$f":"IF(A287<Inversion!$C$23,A287+1,\"-\")","v":"-"},{"$f":"IF(A288<>\"-\",DATE(YEAR(Inversion!$C$7),MONTH(Inversion!$C$7)+A288,DAY(Inversion!$C$7)),\"-\")","v":"-"},0,0,0,0,0,null,0,0,0,{"$f":"IF(A288>Inversion!$C$23,0,(K288-M288))","v":0},{"$f":"IF(N287<=0.01,0,N287*Inversion!$C$22)","v":0},0,{"$f":"IF(I288=0,0,P288*Inversion!$C$22)","v":0},{"$f":"IF(I288=0,0,Inversion!$C$18*Inversion!$C$25)","v":0}]
[{"$f":"IF(A288<Inversion!$C$23,A288+1,\"-\")","v":"-"},{"$f":"IF(A289<>\"-\",DATE(YEAR(Inversion!$C$7),MONTH(Inversion!$C$7)+A289,DAY(Inversion!$C$7)),\"-\")","v":"-"},0,0,0,0,0,null,0,0,0,{"$f":"IF(A289>Inversion!$C$23,0,(K289-M289))","v":0},{"$f":"IF(N288<=0.01,0,N288*Inversion!$C$22)","v":0},0,{"$f":"IF(I289=0,0,P289*Inversion!$C$22)","v":0},{"$f":"IF(I289=0,0,Inversion!$C$18*Inversion!$C$25)","v":0}]
[{"$f":"IF(A289<Inversion!$C$23,A289+1,\"-\")","v":"-"},{"$f":"IF(A290<>\"-\",DATE(YEAR(Inversion!$C$7),MONTH(Inversion!$C$7)+A290,DAY(Inversion!$C$7)),\"-\")","v":"-"},0,0,0,0,0,null,0,0,0,{"$f":"IF(A290>Inversion!$C$23,0,(K290-M290))","v":0},{"$f":"IF(N289<=0.01,0,N289*Inversion!$C$22)","v":0},0,{"$f":"IF(I290=0,0,P290*Inversion!$C$22)","v":0},{"$f":"IF(I290=0,0,Inversion!$C$18*Inversion!$C$25)","v":0}]
[{"$f":"IF(A290<Inversion!$C$23,A290+1,\"-\")","v":"-"},{"$f":"IF(A291<>\"-\",DATE(YEAR(Inversion!$C$7),MONTH(Inversion!$C$7)+A291,DAY(Inversion!$C$7)),\"-\")","v":"-"},0,0,0,0,0,null,0,0,0,{"$f":"IF(A291>Inversion!$C$23,0,(K291-M291))","v":0},{"$f":"IF(N290<=0.01,0,N290*Inversion!$C$22)","v":0},0,{"$f":"IF(I291=0,0,P291*Inversion!$C$22)","v":0},{"$f":"IF(I291=0,0,Inversion!$C$18*Inversion!$C$25)","v":0}]
[{"$f":"IF(A291<Inversion!$C$23,A291+1,\"-\")","v":"-"},{"$f":"IF(A292<>\"-\",DATE(YEAR(Inversion!$C$7),MONTH(Inversion!$C$7)+A292,DAY(Inversion!$C$7)),\"-\")","v":"-"},0,0,0,0,0,null,0,0,0,{"$f":"IF(A292>Inversion!$C$23,0,(K292-M292))","v":0},{"$f":"IF(N291<=0.01,0,N291*Inversion!$C$22)","v":0},0,{"$f":"IF(I292=0,0,P292*Inversion!$C$22)","v":0},{"$f":"IF(I292=0,0,Inversion!$C$18*Inversion!$C$25)","v":0}]
[{"$f":"IF(A292<Inversion!$C$23,A292+1,\"-\")","v":"-"},{"$f":"IF(A293<>\"-\",DATE(YEAR(Inversion!$C$7),MONTH(Inversion!$C$7)+A293,DAY(Inversion!$C$7)),\"-\")","v":"-"},0,0,0,0,0,null,0,0,0,{"$f":"IF(A293>Inversion!$C$23,0,(K293-M293))","v":0},{"$f":"IF(N292<=0.01,0,N292*Inversion!$C$22)","v":0},0,{"$f":"IF(I293=0,0,P293*Inversion!$C$22)","v":0},{"$f":"IF(I293=0,0,Inversion!$C$18*Inversion!$C$25)","v":0}]
[{"$f":"IF(A293<Inversion!$C$23,A293+1,\"-\")","v":"-"},{"$f":"IF(A294<>\"-\",DATE(YEAR(Inversion!$C$7),MONTH(Inversion!$C$7)+A294,DAY(Inversion!$C$7)),\"-\")","v":"-"},0,0,0,0,0,null,0,0,0,{"$f":"IF(A294>Inversion!$C$23,0,(K294-M294))","v":0},{"$f":"IF(N293<=0.01,0,N293*Inversion!$C$22)","v":0},0,{"$f":"IF(I294=0,0,P294*Inversion!$C$22)","v":0},{"$f":"IF(I294=0,0,Inversion!$C$18*Inversion!$C$25)","v":0}]
[{"$f":"IF(A294<Inversion!$C$23,A294+1,\"-\")","v":"-"},{"$f":"IF(A295<>\"-\",DATE(YEAR(Inversion!$C$7),MONTH(Inversion!$C$7)+A295,DAY(Inversion!$C$7)),\"-\")","v":"-"},0,0,0,0,0,null,0,0,0,{"$f":"IF(A295>Inversion!$C$23,0,(K295-M295))","v":0},{"$f":"IF(N294<=0.01,0,N294*Inversion!$C$22)","v":0},0,{"$f":"IF(I295=0,0,P295*Inversion!$C$22)","v":0},{"$f":"IF(I295=0,0,Inversion!$C$18*Inversion!$C$25)","v":0}]
[{"$f":"IF(A295<Inversion!$C$23,A295+1,\"-\")","v":"-"},{"$f":"IF(A296<>\"-\",DATE(YEAR(Inversion!$C$7),MONTH(Inversion!$C$7)+A296,DAY(Inversion!$C$7)),\"-\")","v":"-"},0,0,0,0,0,null,0,0,0,{"$f":"IF(A296>Inversion!$C$23,0,(K296-M296))","v":0},{"$f":"IF(N295<=0.01,0,N295*Inversion!$C$22)","v":0},0,{"$f":"IF(I296=0,0,P296*Inversion!$C$22)","v":0},{"$f":"IF(I296=0,0,Inversion!$C$18*Inversion!$C$25)","v":0}]
[{"$f":"IF(A296<Inversion!$C$23,A296+1,\"-\")","v":"-"},{"$f":"IF(A297<>\"-\",DATE(YEAR(Inversion!$C$7),MONTH(Inversion!$C$7)+A297,DAY(Inversion!$C$7)),\"-\")","v":"-"},0,0,0,0,0,null,0,0,0,{"$f":"IF(A297>Inversion!$C$23,0,(K297-M297))","v":0},{"$f":"IF(N296<=0.01,0,N296*Inversion!$C$22)","v":0},0,{"$f":"IF(I297=0,0,P297*Inversion!$C$22)","v":0},{"$f":"IF(I297=0,0,Inversion!$C$18*Inversion!$C$25)","v":0}]
[{"$f":"IF(A297<Inversion!$C$23,A297+1,\"-\")","v":"-"},{"$f":"IF(A298<>\"-\",DATE(YEAR(Inversion!$C$7),MONTH(Inversion!$C$7)+A298,DAY(Inversion!$C$7)),\"-\")","v":"-"},0,0,0,0,0,null,0,0,0,{"$f":"IF(A298>Inversion!$C$23,0,(K298-M298))","v":0},{"$f":"IF(N297<=0.01,0,N297*Inversion!$C$22)","v":0},0,{"$f":"IF(I298=0,0,P298*Inversion!$C$22)","v":0},{"$f":"IF(I298=0,0,Inversion!$C$18*Inversion!$C$25)","v":0}]
[{"$f":"IF(A298<Inversion!$C$23,A298+1,\"-\")","v":"-"},{"$f":"IF(A299<>\"-\",DATE(YEAR(Inversion!$C$7),MONTH(Inversion!$C$7)+A299,DAY(Inversion!$C$7)),\"-\")","v":"-"},0,0,0,0,0,null,0,0,0,{"$f":"IF(A299>Inversion!$C$23,0,(K299-M299))","v":0},{"$f":"IF(N298<=0.01,0,N298*Inversion!$C$22)","v":0},0,{"$f":"IF(I299=0,0,P299*Inversion!$C$22)","v":0},{"$f":"IF(I299=0,0,Inversion!$C$18*Inversion!$C$25)","v":0}]
[{"$f":"IF(A299<Inversion!$C$23,A299+1,\"-\")","v":"-"},{"$f":"IF(A300<>\"-\",DATE(YEAR(Inversion!$C$7),MONTH(Inversion!$C$7)+A300,DAY(Inversion!$C$7)),\"-\")","v":"-"},0,0,0,0,0,null,0,0,0,{"$f":"IF(A300>Inversion!$C$23,0,(K300-M300))","v":0},{"$f":"IF(N299<=0.01,0,N299*Inversion!$C$22)","v":0},0,{"$f":"IF(I300=0,0,P300*Inversion!$C$22)","v":0},{"$f":"IF(I300=0,0,Inversion!$C$18*Inversion!$C$25)","v":0}]
[{"$f":"IF(A300<Inversion!$C$23,A300+1,\"-\")","v":"-"},{"$f":"IF(A301<>\"-\",DATE(YEAR(Inversion!$C$7),MONTH(Inversion!$C$7)+A301,DAY(Inversion!$C$7)),\"-\")","v":"-"},0,0,0,0,0,null,0,0,0,{"$f":"IF(A301>Inversion!$C$23,0,(K301-M301))","v":0},{"$f":"IF(N300<=0.01,0,N300*Inversion!$C$22)","v":0},0,{"$f":"IF(I301=0,0,P301*Inversion!$C$22)","v":0},{"$f":"IF(I301=0,0,Inversion!$C$18*Inversion!$C$25)","v":0}]
[{"$f":"IF(A301<Inversion!$C$23,A301+1,\"-\")","v":"-"},{"$f":"IF(A302<>\"-\",DATE(YEAR(Inversion!$C$7),MONTH(Inversion!$C$7)+A302,DAY(Inversion!$C$7)),\"-\")","v":"-"},0,0,0,0,0,null,0,0,0,{"$f":"IF(A302>Inversion!$C$23,0,(K302-M302))","v":0},{"$f":"IF(N301<=0.01,0,N301*Inversion!$C$22)","v":0},0,{"$f":"IF(I302=0,0,P302*Inversion!$C$22)","v":0},{"$f":"IF(I302=0,0,Inversion!$C$18*Inversion!$C$25)","v":0}]
[{"$f":"IF(A302<Inversion!$C$23,A302+1,\"-\")","v":"-"},{"$f":"IF(A303<>\"-\",DATE(YEAR(Inversion!$C$7),MONTH(Inversion!$C$7)+A303,DAY(Inversion!$C$7)),\"-\")","v":"-"},0,0,0,0,0,null,0,0,0,{"$f":"IF(A303>Inversion!$C$23,0,(K303-M303))","v":0},{"$f":"IF(N302<=0.01,0,N302*Inversion!$C$22)","v":0},0,{"$f":"IF(I303=0,0,P303*Inversion!$C$22)","v":0},{"$f":"IF(I303=0,0,Inversion!$C$18*Inversion!$C$25)","v":0}]
[{"$f":"IF(A303<Inversion!$C$23,A303+1,\"-\")","v":"-"},{"$f":"IF(A304<>\"-\",DATE(YEAR(Inversion!$C$7),MONTH(Inversion!$C$7)+A304,DAY(Inversion!$C$7)),\"-\")","v":"-"},0,0,0,0,0,null,0,0,0,{"$f":"IF(A304>Inversion!$C$23,0,(K304-M304))","v":0},{"$f":"IF(N303<=0.01,0,N303*Inversion!$C$22)","v":0},0,{"$f":"IF(I304=0,0,P304*Inversion!$C$22)","v":0},{"$f":"IF(I304=0,0,Inversion!$C$18*Inversion!$C$25)","v":0}]
[{"$f":"IF(A304<Inversion!$C$23,A304+1,\"-\")","v":"-"},{"$f":"IF(A305<>\"-\",DATE(YEAR(Inversion!$C$7),MONTH(Inversion!$C$7)+A305,DAY(Inversion!$C$7)),\"-\")","v":"-"},0,0,0,0,0,null,0,0,0,{"$f":"IF(A305>Inversion!$C$23,0,(K305-M305))","v":0},{"$f":"IF(N304<=0.01,0,N304*Inversion!$C$22)","v":0},0,{"$f":"IF(I305=0,0,P305*Inversion!$C$22)","v":0},{"$f":"IF(I305=0,0,Inversion!$C$18*Inversion!$C$25)","v":0}]
[{"$f":"IF(A305<Inversion!$C$23,A305+1,\"-\")","v":"-"},{"$f":"IF(A306<>\"-\",DATE(YEAR(Inversion!$C$7),MONTH(Inversion!$C$7)+A306,DAY(Inversion!$C$7)),\"-\")","v":"-"},0,0,0,0,0,null,0,0,0,{"$f":"IF(A306>Inversion!$C$23,0,(K306-M306))","v":0},{"$f":"IF(N305<=0.01,0,N305*Inversion!$C$22)","v":0},0,{"$f":"IF(I306=0,0,P306*Inversion!$C$22)","v":0},{"$f":"IF(I306=0,0,Inversion!$C$18*Inversion!$C$25)","v":0}]
[{"$f":"IF(A306<Inversion!$C$23,A306+1,\"-\")","v":"-"},{"$f":"IF(A307<>\"-\",DATE(YEAR(Inversion!$C$7),MONTH(Inversion!$C$7)+A307,DAY(Inversion!$C$7)),\"-\")","v":"-"},0,0,0,0,0,null,0,0,0,{"$f":"IF(A307>Inversion!$C$23,0,(K307-M307))","v":0},{"$f":"IF(N306<=0.01,0,N306*Inversion!$C$22)","v":0},0,{"$f":"IF(I307=0,0,P307*Inversion!$C$22)","v":0},{"$f":"IF(I307=0,0,Inversion!$C$18*Inversion!$C$25)","v":0}]
[{"$f":"IF(A307<Inversion!$C$23,A307+1,\"-\")","v":"-"},{"$f":"IF(A308<>\"-\",DATE(YEAR(Inversion!$C$7),MONTH(Inversion!$C$7)+A308,DAY(Inversion!$C$7)),\"-\")","v":"-"},0,0,0,0,0,null,0,0,0,{"$f":"IF(A308>Inversion!$C$23,0,(K308-M308))","v":0},{"$f":"IF(N307<=0.01,0,N307*Inversion!$C$22)","v":0},0,{"$f":"IF(I308=0,0,P308*Inversion!$C$22)","v":0},{"$f":"IF(I308=0,0,Inversion!$C$18*Inversion!$C$25)","v":0}]
[{"$f":"IF(A308<Inversion!$C$23,A308+1,\"-\")","v":"-"},{"$f":"IF(A309<>\"-\",DATE(YEAR(Inversion!$C$7),MONTH(Inversion!$C$7)+A309,DAY(Inversion!$C$7)),\"-\")","v":"-"},0,0,0,0,0,null,0,0,0,{"$f":"IF(A309>Inversion!$C$23,0,(K309-M309))","v":0},{"$f":"IF(N308<=0.01,0,N308*Inversion!$C$22)","v":0},0,{"$f":"IF(I309=0,0,P309*Inversion!$C$22)","v":0},{"$f":"IF(I309=0,0,Inversion!$C$18*Inversion!$C$25)","v":0}]
[{"$f":"IF(A309<Inversion!$C$23,A309+1,\"-\")","v":"-"},{"$f":"IF(A310<>\"-\",DATE(YEAR(Inversion!$C$7),MONTH(Inversion!$C$7)+A310,DAY(Inversion!$C$7)),\"-\")","v":"-"},0,0,0,0,0,null,0,0,0,{"$f":"IF(A310>Inversion!$C$23,0,(K310-M310))","v":0},{"$f":"IF(N309<=0.01,0,N309*Inversion!$C$22)","v":0},0,{"$f":"IF(I310=0,0,P310*Inversion!$C$22)","v":0},{"$f":"IF(I310=0,0,Inversion!$C$18*Inversion!$C$25)","v":0}]
[{"$f":"IF(A310<Inversion!$C$23,A310+1,\"-\")","v":"-"},{"$f":"IF(A311<>\"-\",DATE(YEAR(Inversion!$C$7),MONTH(Inversion!$C$7)+A311,DAY(Inversion!$C$7)),\"-\")","v":"-"},0,0,0,0,0,null,0,0,0,{"$f":"IF(A311>Inversion!$C$23,0,(K311-M311))","v":0},{"$f":"IF(N310<=0.01,0,N310*Inversion!$C$22)","v":0},0,{"$f":"IF(I311=0,0,P311*Inversion!$C$22)","v":0},{"$f":"IF(I311=0,0,Inversion!$C$18*Inversion!$C$25)","v":0}]
[{"$f":"IF(A311<Inversion!$C$23,A311+1,\"-\")","v":"-"},{"$f":"IF(A312<>\"-\",DATE(YEAR(Inversion!$C$7),MONTH(Inversion!$C$7)+A312,DAY(Inversion!$C$7)),\"-\")","v":"-"},0,0,0,0,0,null,0,0,0,{"$f":"IF(A312>Inversion!$C$23,0,(K312-M312))","v":0},{"$f":"IF(N311<=0.01,0,N311*Inversion!$C$22)","v":0},0,{"$f":"IF(I312=0,0,P312*Inversion!$C$22)","v":0},{"$f":"IF(I312=0,0,Inversion!$C$18*Inversion!$C$25)","v":0}]
[{"$f":"IF(A312<Inversion!$C$23,A312+1,\"-\")","v":"-"},{"$f":"IF(A313<>\"-\",DATE(YEAR(Inversion!$C$7),MONTH(Inversion!$C$7)+A313,DAY(Inversion!$C$7)),\"-\")","v":"-"},0,0,0,0,0,null,0,0,0,{"$f":"IF(A313>Inversion!$C$23,0,(K313-M313))","v":0},{"$f":"IF(N312<=0.01,0,N312*Inversion!$C$22)","v":0},0,{"$f":"IF(I313=0,0,P313*Inversion!$C$22)","v":0},{"$f":"IF(I313=0,0,Inversion!$C$18*Inversion!$C$25)","v":0}]
[{"$f":"IF(A313<Inversion!$C$23,A313+1,\"-\")","v":"-"},{"$f":"IF(A314<>\"-\",DATE(YEAR(Inversion!$C$7),MONTH(Inversion!$C$7)+A314,DAY(Inversion!$C$7)),\"-\")","v":"-"},0,0,0,0,0,null,0,0,0,{"$f":"IF(A314>Inversion!$C$23,0,(K314-M314))","v":0},{"$f":"IF(N313<=0.01,0,N313*Inversion!$C$22)","v":0},0,{"$f":"IF(I314=0,0,P314*Inversion!$C$22)","v":0},{"$f":"IF(I314=0,0,Inversion!$C$18*Inversion!$C$25)","v":0}]
[{"$f":"IF(A314<Inversion!$C$23,A314+1,\"-\")","v":"-"},{"$f":"IF(A315<>\"-\",DATE(YEAR(Inversion!$C$7),MONTH(Inversion!$C$7)+A315,DAY(Inversion!$C$7)),\"-\")","v":"-"},0,0,0,0,0,null,0,0,0,{"$f":"IF(A315>Inversion!$C$23,0,(K315-M315))","v":0},{"$f":"IF(N314<=0.01,0,N314*Inversion!$C$22)","v":0},0,{"$f":"IF(I315=0,0,P315*Inversion!$C$22)","v":0},{"$f":"IF(I315=0,0,Inversion!$C$18*Inversion!$C$25)","v":0}]
[{"$f":"IF(A315<Inversion!$C$23,A315+1,\"-\")","v":"-"},{"$f":"IF(A316<>\"-\",DATE(YEAR(Inversion!$C$7),MONTH(Inversion!$C$7)+A316,DAY(Inversion!$C$7)),\"-\")","v":"-"},0,0,0,0,0,null,0,0,0,{"$f":"IF(A316>Inversion!$C$23,0,(K316-M316))","v":0},{"$f":"IF(N315<=0.01,0,N315*Inversion!$C$22)","v":0},0,{"$f":"IF(I316=0,0,P316*Inversion!$C$22)","v":0},{"$f":"IF(I316=0,0,Inversion!$C$18*Inversion!$C$25)","v":0}]
[{"$f":"IF(A316<Inversion!$C$23,A316+1,\"-\")","v":"-"},{"$f":"IF(A317<>\"-\",DATE(YEAR(Inversion!$C$7),MONTH(Inversion!$C$7)+A317,DAY(Inversion!$C$7)),\"-\")","v":"-"},0,0,0,0,0,null,0,0,0,{"$f":"IF(A317>Inversion!$C$23,0,(K317-M317))","v":0},{"$f":"IF(N316<=0.01,0,N316*Inversion!$C$22)","v":0},0,{"$f":"IF(I317=0,0,P317*Inversion!$C$22)","v":0},{"$f":"IF(I317=0,0,Inversion!$C$18*Inversion!$C$25)","v":0}]
[{"$f":"IF(A317<Inversion!$C$23,A317+1,\"-\")","v":"-"},{"$f":"IF(A318<>\"-\",DATE(YEAR(Inversion!$C$7),MONTH(Inversion!$C$7)+A318,DAY(Inversion!$C$7)),\"-\")","v":"-"},0,0,0,0,0,null,0,0,0,{"$f":"IF(A318>Inversion!$C$23,0,(K318-M318))","v":0},{"$f":"IF(N317<=0.01,0,N317*Inversion!$C$22)","v":0},0,{"$f":"IF(I318=0,0,P318*Inversion!$C$22)","v":0},{"$f":"IF(I318=0,0,Inversion!$C$18*Inversion!$C$25)","v":0}]
[{"$f":"IF(A318<Inversion!$C$23,A318+1,\"-\")","v":"-"},{"$f":"IF(A319<>\"-\",DATE(YEAR(Inversion!$C$7),MONTH(Inversion!$C$7)+A319,DAY(Inversion!$C$7)),\"-\")","v":"-"},0,0,0,0,0,null,0,0,0,{"$f":"IF(A319>Inversion!$C$23,0,(K319-M319))","v":0},{"$f":"IF(N318<=0.01,0,N318*Inversion!$C$22)","v":0},0,{"$f":"IF(I319=0,0,P319*Inversion!$C$22)","v":0},{"$f":"IF(I319=0,0,Inversion!$C$18*Inversion!$C$25)","v":0}]
[{"$f":"IF(A319<Inversion!$C$23,A319+1,\"-\")","v":"-"},{"$f":"IF(A320<>\"-\",DATE(YEAR(Inversion!$C$7),MONTH(Inversion!$C$7)+A320,DAY(Inversion!$C$7)),\"-\")","v":"-"},0,0,0,0,0,null,0,0,0,{"$f":"IF(A320>Inversion!$C$23,0,(K320-M320))","v":0},{"$f":"IF(N319<=0.01,0,N319*Inversion!$C$22)","v":0},0,{"$f":"IF(I320=0,0,P320*Inversion!$C$22)","v":0},{"$f":"IF(I320=0,0,Inversion!$C$18*Inversion!$C$25)","v":0}]
[{"$f":"IF(A320<Inversion!$C$23,A320+1,\"-\")","v":"-"},{"$f":"IF(A321<>\"-\",DATE(YEAR(Inversion!$C$7),MONTH(Inversion!$C$7)+A321,DAY(Inversion!$C$7)),\"-\")","v":"-"},0,0,0,0,0,null,0,0,0,{"$f":"IF(A321>Inversion!$C$23,0,(K321-M321))","v":0},{"$f":"IF(N320<=0.01,0,N320*Inversion!$C$22)","v":0},0,{"$f":"IF(I321=0,0,P321*Inversion!$C$22)","v":0},{"$f":"IF(I321=0,0,Inversion!$C$18*Inversion!$C$25)","v":0}]
[{"$f":"IF(A321<Inversion!$C$23,A321+1,\"-\")","v":"-"},{"$f":"IF(A322<>\"-\",DATE(YEAR(Inversion!$C$7),MONTH(Inversion!$C$7)+A322,DAY(Inversion!$C$7)),\"-\")","v":"-"},0,0,0,0,0,null,0,0,0,{"$f":"IF(A322>Inversion!$C$23,0,(K322-M322))","v":0},{"$f":"IF(N321<=0.01,0,N321*Inversion!$C$22)","v":0},0,{"$f":"IF(I322=0,0,P322*Inversion!$C$22)","v":0},{"$f":"IF(I322=0,0,Inversion!$C$18*Inversion!$C$25)","v":0}]
[{"$f":"IF(A322<Inversion!$C$23,A322+1,\"-\")","v":"-"},{"$f":"IF(A323<>\"-\",DATE(YEAR(Inversion!$C$7),MONTH(Inversion!$C$7)+A323,DAY(Inversion!$C$7)),\"-\")","v":"-"},0,0,0,0,0,null,0,0,0,{"$f":"IF(A323>Inversion!$C$23,0,(K323-M323))","v":0},{"$f":"IF(N322<=0.01,0,N322*Inversion!$C$22)","v":0},0,{"$f":"IF(I323=0,0,P323*Inversion!$C$22)","v":0},{"$f":"IF(I323=0,0,Inversion!$C$18*Inversion!$C$25)","v":0}]
[{"$f":"IF(A323<Inversion!$C$23,A323+1,\"-\")","v":"-"},{"$f":"IF(A324<>\"-\",DATE(YEAR(Inversion!$C$7),MONTH(Inversion!$C$7)+A324,DAY(Inversion!$C$7)),\"-\")","v":"-"},0,0,0,0,0,null,0,0,0,{"$f":"IF(A324>Inversion!$C$23,0,(K324-M324))","v":0},{"$f":"IF(N323<=0.01,0,N323*Inversion!$C$22)","v":0},0,{"$f":"IF(I324=0,0,P324*Inversion!$C$22)","v":0},{"$f":"IF(I324=0,0,Inversion!$C$18*Inversion!$C$25)","v":0}]
[{"$f":"IF(A324<Inversion!$C$23,A324+1,\"-\")","v":"-"},{"$f":"IF(A325<>\"-\",DATE(YEAR(Inversion!$C$7),MONTH(Inversion!$C$7)+A325,DAY(Inversion!$C$7)),\"-\")","v":"-"},0,0,0,0,0,null,0,0,0,{"$f":"IF(A325>Inversion!$C$23,0,(K325-M325))","v":0},{"$f":"IF(N324<=0.01,0,N324*Inversion!$C$22)","v":0},0,{"$f":"IF(I325=0,0,P325*Inversion!$C$22)","v":0},{"$f":"IF(I325=0,0,Inversion!$C$18*Inversion!$C$25)","v":0}]
[{"$f":"IF(A325<Inversion!$C$23,A325+1,\"-\")","v":"-"},{"$f":"IF(A326<>\"-\",DATE(YEAR(Inversion!$C$7),MONTH(Inversion!$C$7)+A326,DAY(Inversion!$C$7)),\"-\")","v":"-"},{"$f":"I326+P326","v":0},0,0,0,0,null,0,{"$f":"K326+O326","v":0},0,{"$f":"IF(A326>Inversion!$C$23,0,(K326-M326))","v":0},{"$f":"IF(N325<=0.01,0,N325*Inversion!$C$22)","v":0},0,{"$f":"IF(I326=0,0,P326*Inversion!$C$22)","v":0},{"$f":"IF(I326=0,0,Inversion!$C$18*Inversion!$C$25)","v":0}]
[{"$f":"IF(A326<Inversion!$C$23,A326+1,\"-\")","v":"-"},{"$f":"IF(A327<>\"-\",DATE(YEAR(Inversion!$C$7),MONTH(Inversion!$C$7)+A327,DAY(Inversion!$C$7)),\"-\")","v":"-"},0,{"$f":"J327","v":0},{"$f":"L327","v":0},{"$f":"M327+O327","v":0},{"$f":"N327+P327","v":0},null,{"$f":"N326","v":0},0,0,{"$f":"IF(A327>Inversion!$C$23,0,(K327-M327))","v":0},{"$f":"IF(N326<=0.01,0,N326*Inversion!$C$22)","v":0},0,{"$f":"IF(I327=0,0,P327*Inversion!$C$22)","v":0},{"$f":"IF(I327=0,0,Inversion!$C$18*Inversion!$C$25)","v":0}]
[{"$f":"IF(A327<Inversion!$C$23,A327+1,\"-\")","v":"-"},{"$f":"IF(A328<>\"-\",DATE(YEAR(Inversion!$C$7),MONTH(Inversion!$C$7)+A328,DAY(Inversion!$C$7)),\"-\")","v":"-"},0,0,0,0,0,null,0,0,{"$f":"IF(N327<K327,(N327+M328),IF(N327<=0.01,0,K327))","v":0},{"$f":"IF(A328>Inversion!$C$23,0,(K328-M328))","v":0},{"$f":"IF(N327<=0.01,0,N327*Inversion!$C$22)","v":0},{"$f":"N327-L328","v":0},{"$f":"IF(I328=0,0,P328*Inversion!$C$22)","v":0},{"$f":"IF(I328=0,0,Inversion!$C$18*Inversion!$C$25)","v":0}]
[{"$f":"IF(A328<Inversion!$C$23,A328+1,\"-\")","v":"-"},{"$f":"IF(A329<>\"-\",DATE(YEAR(Inversion!$C$7),MONTH(Inversion!$C$7)+A329,DAY(Inversion!$C$7)),\"-\")","v":"-"},0,0,0,0,0,null,0,0,0,{"$f":"IF(A329>Inversion!$C$23,0,(K329-M329))","v":0},{"$f":"IF(N328<=0.01,0,N328*Inversion!$C$22)","v":0},0,{"$f":"IF(I329=0,0,P329*Inversion!$C$22)","v":0},{"$f":"IF(I329=0,0,Inversion!$C$18*Inversion!$C$25)","v":0}]
[{"$f":"IF(A329<Inversion!$C$23,A329+1,\"-\")","v":"-"},{"$f":"IF(A330<>\"-\",DATE(YEAR(Inversion!$C$7),MONTH(Inversion!$C$7)+A330,DAY(Inversion!$C$7)),\"-\")","v":"-"},0,0,0,0,0,null,0,0,0,{"$f":"IF(A330>Inversion!$C$23,0,(K330-M330))","v":0},{"$f":"IF(N329<=0.01,0,N329*Inversion!$C$22)","v":0},0,{"$f":"IF(I330=0,0,P330*Inversion!$C$22)","v":0},{"$f":"IF(I330=0,0,Inversion!$C$18*Inversion!$C$25)","v":0}]
[{"$f":"IF(A330<Inversion!$C$23,A330+1,\"-\")","v":"-"},{"$f":"IF(A331<>\"-\",DATE(YEAR(Inversion!$C$7),MONTH(Inversion!$C$7)+A331,DAY(Inversion!$C$7)),\"-\")","v":"-"},0,0,0,0,0,null,0,0,0,{"$f":"IF(A331>Inversion!$C$23,0,(K331-M331))","v":0},{"$f":"IF(N330<=0.01,0,N330*Inversion!$C$22)","v":0},0,{"$f":"IF(I331=0,0,P331*Inversion!$C$22)","v":0},{"$f":"IF(I331=0,0,Inversion!$C$18*Inversion!$C$25)","v":0}]
[{"$f":"IF(A331<Inversion!$C$23,A331+1,\"-\")","v":"-"},{"$f":"IF(A332<>\"-\",DATE(YEAR(Inversion!$C$7),MONTH(Inversion!$C$7)+A332,DAY(Inversion!$C$7)),\"-\")","v":"-"},0,0,0,0,0,null,0,0,0,{"$f":"IF(A332>Inversion!$C$23,0,(K332-M332))","v":0},{"$f":"IF(N331<=0.01,0,N331*Inversion!$C$22)","v":0},0,{"$f":"IF(I332=0,0,P332*Inversion!$C$22)","v":0},{"$f":"IF(I332=0,0,Inversion!$C$18*Inversion!$C$25)","v":0}]
[{"$f":"IF(A332<Inversion!$C$23,A332+1,\"-\")","v":"-"},{"$f":"IF(A333<>\"-\",DATE(YEAR(Inversion!$C$7),MONTH(Inversion!$C$7)+A333,DAY(Inversion!$C$7)),\"-\")","v":"-"},0,0,0,0,0,null,0,0,0,{"$f":"IF(A333>Inversion!$C$23,0,(K333-M333))","v":0},{"$f":"IF(N332<=0.01,0,N332*Inversion!$C$22)","v":0},0,{"$f":"IF(I333=0,0,P333*Inversion!$C$22)","v":0},{"$f":"IF(I333=0,0,Inversion!$C$18*Inversion!$C$25)","v":0}]
[{"$f":"IF(A333<Inversion!$C$23,A333+1,\"-\")","v":"-"},{"$f":"IF(A334<>\"-\",DATE(YEAR(Inversion!$C$7),MONTH(Inversion!$C$7)+A334,DAY(Inversion!$C$7)),\"-\")","v":"-"},0,0,0,0,0,null,0,0,0,{"$f":"IF(A334>Inversion!$C$23,0,(K334-M334))","v":0},{"$f":"IF(N333<=0.01,0,N333*Inversion!$C$22)","v":0},0,{"$f":"IF(I334=0,0,P334*Inversion!$C$22)","v":0},{"$f":"IF(I334=0,0,Inversion!$C$18*Inversion!$C$25)","v":0}]
[{"$f":"IF(A334<Inversion!$C$23,A334+1,\"-\")","v":"-"},{"$f":"IF(A335<>\"-\",DATE(YEAR(Inversion!$C$7),MONTH(Inversion!$C$7)+A335,DAY(Inversion!$C$7)),\"-\")","v":"-"},0,0,0,0,0,null,0,0,0,{"$f":"IF(A335>Inversion!$C$23,0,(K335-M335))","v":0},{"$f":"IF(N334<=0.01,0,N334*Inversion!$C$22)","v":0},0,{"$f":"IF(I335=0,0,P335*Inversion!$C$22)","v":0},{"$f":"IF(I335=0,0,Inversion!$C$18*Inversion!$C$25)","v":0}]
[{"$f":"IF(A335<Inversion!$C$23,A335+1,\"-\")","v":"-"},{"$f":"IF(A336<>\"-\",DATE(YEAR(Inversion!$C$7),MONTH(Inversion!$C$7)+A336,DAY(Inversion!$C$7)),\"-\")","v":"-"},0,0,0,0,0,null,0,0,0,{"$f":"IF(A336>Inversion!$C$23,0,(K336-M336))","v":0},{"$f":"IF(N335<=0.01,0,N335*Inversion!$C$22)","v":0},0,{"$f":"IF(I336=0,0,P336*Inversion!$C$22)","v":0},{"$f":"IF(I336=0,0,Inversion!$C$18*Inversion!$C$25)","v":0}]
[{"$f":"IF(A336<Inversion!$C$23,A336+1,\"-\")","v":"-"},{"$f":"IF(A337<>\"-\",DATE(YEAR(Inversion!$C$7),MONTH(Inversion!$C$7)+A337,DAY(Inversion!$C$7)),\"-\")","v":"-"},0,0,0,0,0,null,0,0,0,{"$f":"IF(A337>Inversion!$C$23,0,(K337-M337))","v":0},{"$f":"IF(N336<=0.01,0,N336*Inversion!$C$22)","v":0},0,{"$f":"IF(I337=0,0,P337*Inversion!$C$22)","v":0},{"$f":"IF(I337=0,0,Inversion!$C$18*Inversion!$C$25)","v":0}]
[{"$f":"IF(A337<Inversion!$C$23,A337+1,\"-\")","v":"-"},{"$f":"IF(A338<>\"-\",DATE(YEAR(Inversion!$C$7),MONTH(Inversion!$C$7)+A338,DAY(Inversion!$C$7)),\"-\")","v":"-"},0,0,0,0,0,null,0,0,0,{"$f":"IF(A338>Inversion!$C$23,0,(K338-M338))","v":0},{"$f":"IF(N337<=0.01,0,N337*Inversion!$C$22)","v":0},0,{"$f":"IF(I338=0,0,P338*Inversion!$C$22)","v":0},{"$f":"IF(I338=0,0,Inversion!$C$18*Inversion!$C$25)","v":0}]
[{"$f":"IF(A338<Inversion!$C$23,A338+1,\"-\")","v":"-"},{"$f":"IF(A339<>\"-\",DATE(YEAR(Inversion!$C$7),MONTH(Inversion!$C$7)+A339,DAY(Inversion!$C$7)),\"-\")","v":"-"},0,0,0,0,0,null,0,0,0,{"$f":"IF(A339>Inversion!$C$23,0,(K339-M339))","v":0},{"$f":"IF(N338<=0.01,0,N338*Inversion!$C$22)","v":0},0,{"$f":"IF(I339=0,0,P339*Inversion!$C$22)","v":0},{"$f":"IF(I339=0,0,Inversion!$C$18*Inversion!$C$25)","v":0}]
[{"$f":"IF(A339<Inversion!$C$23,A339+1,\"-\")","v":"-"},{"$f":"IF(A340<>\"-\",DATE(YEAR(Inversion!$C$7),MONTH(Inversion!$C$7)+A340,DAY(Inversion!$C$7)),\"-\")","v":"-"},0,0,0,0,0,null,0,0,0,{"$f":"IF(A340>Inversion!$C$23,0,(K340-M340))","v":0},{"$f":"IF(N339<=0.01,0,N339*Inversion!$C$22)","v":0},0,{"$f":"IF(I340=0,0,P340*Inversion!$C$22)","v":0},{"$f":"IF(I340=0,0,Inversion!$C$18*Inversion!$C$25)","v":0}]
[{"$f":"IF(A340<Inversion!$C$23,A340+1,\"-\")","v":"-"},{"$f":"IF(A341<>\"-\",DATE(YEAR(Inversion!$C$7),MONTH(Inversion!$C$7)+A341,DAY(Inversion!$C$7)),\"-\")","v":"-"},0,0,0,0,0,null,0,0,0,{"$f":"IF(A341>Inversion!$C$23,0,(K341-M341))","v":0},{"$f":"IF(N340<=0.01,0,N340*Inversion!$C$22)","v":0},0,{"$f":"IF(I341=0,0,P341*Inversion!$C$22)","v":0},{"$f":"IF(I341=0,0,Inversion!$C$18*Inversion!$C$25)","v":0}]
[{"$f":"IF(A341<Inversion!$C$23,A341+1,\"-\")","v":"-"},{"$f":"IF(A342<>\"-\",DATE(YEAR(Inversion!$C$7),MONTH(Inversion!$C$7)+A342,DAY(Inversion!$C$7)),\"-\")","v":"-"},0,0,0,0,0,null,0,0,0,{"$f":"IF(A342>Inversion!$C$23,0,(K342-M342))","v":0},{"$f":"IF(N341<=0.01,0,N341*Inversion!$C$22)","v":0},0,{"$f":"IF(I342=0,0,P342*Inversion!$C$22)","v":0},{"$f":"IF(I342=0,0,Inversion!$C$18*Inversion!$C$25)","v":0}]
[{"$f":"IF(A342<Inversion!$C$23,A342+1,\"-\")","v":"-"},{"$f":"IF(A343<>\"-\",DATE(YEAR(Inversion!$C$7),MONTH(Inversion!$C$7)+A343,DAY(Inversion!$C$7)),\"-\")","v":"-"},0,0,0,0,0,null,0,0,0,{"$f":"IF(A343>Inversion!$C$23,0,(K343-M343))","v":0},{"$f":"IF(N342<=0.01,0,N342*Inversion!$C$22)","v":0},0,{"$f":"IF(I343=0,0,P343*Inversion!$C$22)","v":0},{"$f":"IF(I343=0,0,Inversion!$C$18*Inversion!$C$25)","v":0}]
[{"$f":"IF(A343<Inversion!$C$23,A343+1,\"-\")","v":"-"},{"$f":"IF(A344<>\"-\",DATE(YEAR(Inversion!$C$7),MONTH(Inversion!$C$7)+A344,DAY(Inversion!$C$7)),\"-\")","v":"-"},0,0,0,0,0,null,0,0,0,{"$f":"IF(A344>Inversion!$C$23,0,(K344-M344))","v":0},{"$f":"IF(N343<=0.01,0,N343*Inversion!$C$22)","v":0},0,{"$f":"IF(I344=0,0,P344*Inversion!$C$22)","v":0},{"$f":"IF(I344=0,0,Inversion!$C$18*Inversion!$C$25)","v":0}]
[{"$f":"IF(A344<Inversion!$C$23,A344+1,\"-\")","v":"-"},{"$f":"IF(A345<>\"-\",DATE(YEAR(Inversion!$C$7),MONTH(Inversion!$C$7)+A345,DAY(Inversion!$C$7)),\"-\")","v":"-"},0,0,0,0,0,null,0,0,0,{"$f":"IF(A345>Inversion!$C$23,0,(K345-M345))","v":0},{"$f":"IF(N344<=0.01,0,N344*Inversion!$C$22)","v":0},0,{"$f":"IF(I345=0,0,P345*Inversion!$C$22)","v":0},{"$f":"IF(I345=0,0,Inversion!$C$18*Inversion!$C$25)","v":0}]
[{"$f":"IF(A345<Inversion!$C$23,A345+1,\"-\")","v":"-"},{"$f":"IF(A346<>\"-\",DATE(YEAR(Inversion!$C$7),MONTH(Inversion!$C$7)+A346,DAY(Inversion!$C$7)),\"-\")","v":"-"},0,0,0,0,0,null,0,0,0,{"$f":"IF(A346>Inversion!$C$23,0,(K346-M346))","v":0},{"$f":"IF(N345<=0.01,0,N345*Inversion!$C$22)","v":0},0,{"$f":"IF(I346=0,0,P346*Inversion!$C$22)","v":0},{"$f":"IF(I346=0,0,Inversion!$C$18*Inversion!$C$25)","v":0}]
[{"$f":"IF(A346<Inversion!$C$23,A346+1,\"-\")","v":"-"},{"$f":"IF(A347<>\"-\",DATE(YEAR(Inversion!$C$7),MONTH(Inversion!$C$7)+A347,DAY(Inversion!$C$7)),\"-\")","v":"-"},0,0,0,0,0,null,0,0,0,{"$f":"IF(A347>Inversion!$C$23,0,(K347-M347))","v":0},{"$f":"IF(N346<=0.01,0,N346*Inversion!$C$22)","v":0},0,{"$f":"IF(I347=0,0,P347*Inversion!$C$22)","v":0},{"$f":"IF(I347=0,0,Inversion!$C$18*Inversion!$C$25)","v":0}]
[{"$f":"IF(A347<Inversion!$C$23,A347+1,\"-\")","v":"-"},{"$f":"IF(A348<>\"-\",DATE(YEAR(Inversion!$C$7),MONTH(Inversion!$C$7)+A348,DAY(Inversion!$C$7)),\"-\")","v":"-"},0,0,0,0,0,null,0,0,0,{"$f":"IF(A348>Inversion!$C$23,0,(K348-M348))","v":0},{"$f":"IF(N347<=0.01,0,N347*Inversion!$C$22)","v":0},0,{"$f":"IF(I348=0,0,P348*Inversion!$C$22)","v":0},{"$f":"IF(I348=0,0,Inversion!$C$18*Inversion!$C$25)","v":0}]
[{"$f":"IF(A348<Inversion!$C$23,A348+1,\"-\")","v":"-"},{"$f":"IF(A349<>\"-\",DATE(YEAR(Inversion!$C$7),MONTH(Inversion!$C$7)+A349,DAY(Inversion!$C$7)),\"-\")","v":"-"},0,0,0,0,0,null,0,0,0,{"$f":"IF(A349>Inversion!$C$23,0,(K349-M349))","v":0},{"$f":"IF(N348<=0.01,0,N348*Inversion!$C$22)","v":0},0,{"$f":"IF(I349=0,0,P349*Inversion!$C$22)","v":0},{"$f":"IF(I349=0,0,Inversion!$C$18*Inversion!$C$25)","v":0}]
[{"$f":"IF(A349<Inversion!$C$23,A349+1,\"-\")","v":"-"},{"$f":"IF(A350<>\"-\",DATE(YEAR(Inversion!$C$7),MONTH(Inversion!$C$7)+A350,DAY(Inversion!$C$7)),\"-\")","v":"-"},0,0,0,0,0,null,0,0,0,{"$f":"IF(A350>Inversion!$C$23,0,(K350-M350))","v":0},{"$f":"IF(N349<=0.01,0,N349*Inversion!$C$22)","v":0},0,{"$f":"IF(I350=0,0,P350*Inversion!$C$22)","v":0},{"$f":"IF(I350=0,0,Inversion!$C$18*Inversion!$C$25)","v":0}]
[{"$f":"IF(A350<Inversion!$C$23,A350+1,\"-\")","v":"-"},{"$f":"IF(A351<>\"-\",DATE(YEAR(Inversion!$C$7),MONTH(Inversion!$C$7)+A351,DAY(Inversion!$C$7)),\"-\")","v":"-"},0,0,0,0,0,null,0,0,0,{"$f":"IF(A351>Inversion!$C$23,0,(K351-M351))","v":0},{"$f":"IF(N350<=0.01,0,N350*Inversion!$C$22)","v":0},0,{"$f":"IF(I351=0,0,P351*Inversion!$C$22)","v":0},{"$f":"IF(I351=0,0,Inversion!$C$18*Inversion!$C$25)","v":0}]
[{"$f":"IF(A351<Inversion!$C$23,A351+1,\"-\")","v":"-"},{"$f":"IF(A352<>\"-\",DATE(YEAR(Inversion!$C$7),MONTH(Inversion!$C$7)+A352,DAY(Inversion!$C$7)),\"-\")","v":"-"},0,0,0,0,0,null,0,0,0,{"$f":"IF(A352>Inversion!$C$23,0,(K352-M352))","v":0},{"$f":"IF(N351<=0.01,0,N351*Inversion!$C$22)","v":0},0,{"$f":"IF(I352=0,0,P352*Inversion!$C$22)","v":0},{"$f":"IF(I352=0,0,Inversion!$C$18*Inversion!$C$25)","v":0}]
[{"$f":"IF(A352<Inversion!$C$23,A352+1,\"-\")","v":"-"},{"$f":"IF(A353<>\"-\",DATE(YEAR(Inversion!$C$7),MONTH(Inversion!$C$7)+A353,DAY(Inversion!$C$7)),\"-\")","v":"-"},0,0,0,0,0,null,0,0,0,{"$f":"IF(A353>Inversion!$C$23,0,(K353-M353))","v":0},{"$f":"IF(N352<=0.01,0,N352*Inversion!$C$22)","v":0},0,{"$f":"IF(I353=0,0,P353*Inversion!$C$22)","v":0},{"$f":"IF(I353=0,0,Inversion!$C$18*Inversion!$C$25)","v":0}]
[{"$f":"IF(A353<Inversion!$C$23,A353+1,\"-\")","v":"-"},{"$f":"IF(A354<>\"-\",DATE(YEAR(Inversion!$C$7),MONTH(Inversion!$C$7)+A354,DAY(Inversion!$C$7)),\"-\")","v":"-"},0,0,0,0,0,null,0,0,0,{"$f":"IF(A354>Inversion!$C$23,0,(K354-M354))","v":0},{"$f":"IF(N353<=0.01,0,N353*Inversion!$C$22)","v":0},0,{"$f":"IF(I354=0,0,P354*Inversion!$C$22)","v":0},{"$f":"IF(I354=0,0,Inversion!$C$18*Inversion!$C$25)","v":0}]
[{"$f":"IF(A354<Inversion!$C$23,A354+1,\"-\")","v":"-"},{"$f":"IF(A355<>\"-\",DATE(YEAR(Inversion!$C$7),MONTH(Inversion!$C$7)+A355,DAY(Inversion!$C$7)),\"-\")","v":"-"},0,0,0,0,0,null,0,0,0,{"$f":"IF(A355>Inversion!$C$23,0,(K355-M355))","v":0},{"$f":"IF(N354<=0.01,0,N354*Inversion!$C$22)","v":0},0,{"$f":"IF(I355=0,0,P355*Inversion!$C$22)","v":0},{"$f":"IF(I355=0,0,Inversion!$C$18*Inversion!$C$25)","v":0}]
[{"$f":"IF(A355<Inversion!$C$23,A355+1,\"-\")","v":"-"},{"$f":"IF(A356<>\"-\",DATE(YEAR(Inversion!$C$7),MONTH(Inversion!$C$7)+A356,DAY(Inversion!$C$7)),\"-\")","v":"-"},0,0,0,0,0,null,0,0,0,{"$f":"IF(A356>Inversion!$C$23,0,(K356-M356))","v":0},{"$f":"IF(N355<=0.01,0,N355*Inversion!$C$22)","v":0},0,{"$f":"IF(I356=0,0,P356*Inversion!$C$22)","v":0},{"$f":"IF(I356=0,0,Inversion!$C$18*Inversion!$C$25)","v":0}]
[{"$f":"IF(A356<Inversion!$C$23,A356+1,\"-\")","v":"-"},{"$f":"IF(A357<>\"-\",DATE(YEAR(Inversion!$C$7),MONTH(Inversion!$C$7)+A357,DAY(Inversion!$C$7)),\"-\")","v":"-"},0,0,0,0,0,null,0,0,0,{"$f":"IF(A357>Inversion!$C$23,0,(K357-M357))","v":0},{"$f":"IF(N356<=0.01,0,N356*Inversion!$C$22)","v":0},0,{"$f":"IF(I357=0,0,P357*Inversion!$C$22)","v":0},{"$f":"IF(I357=0,0,Inversion!$C$18*Inversion!$C$25)","v":0}]
[{"$f":"IF(A357<Inversion!$C$23,A357+1,\"-\")","v":"-"},{"$f":"IF(A358<>\"-\",DATE(YEAR(Inversion!$C$7),MONTH(Inversion!$C$7)+A358,DAY(Inversion!$C$7)),\"-\")","v":"-"},0,0,0,0,0,null,0,0,0,{"$f":"IF(A358>Inversion!$C$23,0,(K358-M358))","v":0},{"$f":"IF(N357<=0.01,0,N357*Inversion!$C$22)","v":0},0,{"$f":"IF(I358=0,0,P358*Inversion!$C$22)","v":0},{"$f":"IF(I358=0,0,Inversion!$C$18*Inversion!$C$25)","v":0}]
[{"$f":"IF(A358<Inversion!$C$23,A358+1,\"-\")","v":"-"},{"$f":"IF(A359<>\"-\",DATE(YEAR(Inversion!$C$7),MONTH(Inversion!$C$7)+A359,DAY(Inversion!$C$7)),\"-\")","v":"-"},0,0,0,0,0,null,0,0,0,{"$f":"IF(A359>Inversion!$C$23,0,(K359-M359))","v":0},{"$f":"IF(N358<=0.01,0,N358*Inversion!$C$22)","v":0},0,{"$f":"IF(I359=0,0,P359*Inversion!$C$22)","v":0},{"$f":"IF(I359=0,0,Inversion!$C$18*Inversion!$C$25)","v":0}]
[{"$f":"IF(A359<Inversion!$C$23,A359+1,\"-\")","v":"-"},{"$f":"IF(A360<>\"-\",DATE(YEAR(Inversion!$C$7),MONTH(Inversion!$C$7)+A360,DAY(Inversion!$C$7)),\"-\")","v":"-"},0,0,0,0,0,null,0,0,0,{"$f":"IF(A360>Inversion!$C$23,0,(K360-M360))","v":0},{"$f":"IF(N359<=0.01,0,N359*Inversion!$C$22)","v":0},0,{"$f":"IF(I360=0,0,P360*Inversion!$C$22)","v":0},{"$f":"IF(I360=0,0,Inversion!$C$18*Inversion!$C$25)","v":0}]
[{"$f":"IF(A360<Inversion!$C$23,A360+1,\"-\")","v":"-"},{"$f":"IF(A361<>\"-\",DATE(YEAR(Inversion!$C$7),MONTH(Inversion!$C$7)+A361,DAY(Inversion!$C$7)),\"-\")","v":"-"},0,0,0,0,0,null,0,0,0,{"$f":"IF(A361>Inversion!$C$23,0,(K361-M361))","v":0},{"$f":"IF(N360<=0.01,0,N360*Inversion!$C$22)","v":0},0,{"$f":"IF(I361=0,0,P361*Inversion!$C$22)","v":0},{"$f":"IF(I361=0,0,Inversion!$C$18*Inversion!$C$25)","v":0}]
[{"$f":"IF(A361<Inversion!$C$23,A361+1,\"-\")","v":"-"},{"$f":"IF(A362<>\"-\",DATE(YEAR(Inversion!$C$7),MONTH(Inversion!$C$7)+A362,DAY(Inversion!$C$7)),\"-\")","v":"-"},0,0,0,0,0,null,0,0,0,{"$f":"IF(A362>Inversion!$C$23,0,(K362-M362))","v":0},{"$f":"IF(N361<=0.01,0,N361*Inversion!$C$22)","v":0},0,{"$f":"IF(I362=0,0,P362*Inversion!$C$22)","v":0},{"$f":"IF(I362=0,0,Inversion!$C$18*Inversion!$C$25)","v":0}]
[{"$f":"IF(A362<Inversion!$C$23,A362+1,\"-\")","v":"-"},{"$f":"IF(A363<>\"-\",DATE(YEAR(Inversion!$C$7),MONTH(Inversion!$C$7)+A363,DAY(Inversion!$C$7)),\"-\")","v":"-"},0,0,0,0,0,null,0,0,0,{"$f":"IF(A363>Inversion!$C$23,0,(K363-M363))","v":0},{"$f":"IF(N362<=0.01,0,N362*Inversion!$C$22)","v":0},0,{"$f":"IF(I363=0,0,P363*Inversion!$C$22)","v":0},{"$f":"IF(I363=0,0,Inversion!$C$18*Inversion!$C$25)","v":0}]
[{"$f":"IF(A363<Inversion!$C$23,A363+1,\"-\")","v":"-"},{"$f":"IF(A364<>\"-\",DATE(YEAR(Inversion!$C$7),MONTH(Inversion!$C$7)+A364,DAY(Inversion!$C$7)),\"-\")","v":"-"},0,0,0,0,0,null,0,0,0,{"$f":"IF(A364>Inversion!$C$23,0,(K364-M364))","v":0},{"$f":"IF(N363<=0.01,0,N363*Inversion!$C$22)","v":0},0,{"$f":"IF(I364=0,0,P364*Inversion!$C$22)","v":0},{"$f":"IF(I364=0,0,Inversion!$C$18*Inversion!$C$25)","v":0}]
[{"$f":"IF(A364<Inversion!$C$23,A364+1,\"-\")","v":"-"},{"$f":"IF(A365<>\"-\",DATE(YEAR(Inversion!$C$7),MONTH(Inversion!$C$7)+A365,DAY(Inversion!$C$7)),\"-\")","v":"-"},0,0,0,0,0,null,0,0,0,{"$f":"IF(A365>Inversion!$C$23,0,(K365-M365))","v":0},{"$f":"IF(N364<=0.01,0,N364*Inversion!$C$22)","v":0},0,{"$f":"IF(I365=0,0,P365*Inversion!$C$22)","v":0},{"$f":"IF(I365=0,0,Inversion!$C$18*Inversion!$C$25)","v":0}]
["Totales",null,null,"Cuota mensual\nsin seguros","Capital mensual","Intereses mensual"]
[null,null,null,{"$f":"SUM(D5:D365)","v":292047780.08954281},{"$f":"SUM(E5:E365)","v":131599999.9999997},{"$f":"SUM(F5:F365)","v":160447780.08954263}]

{"sheet":"Conversor de tasas","index":5,"n_rows":9,"n_cols":3,"rows_kept":9,"cut":false,"hidden":true,"merged":[[0,1,0,3],[6,2,6,3],[2,2,2,3],[3,2,3,3],[5,2,5,3]]}
[null,"Conversor de tasas"]
[]
[null,"Tasa efectiva anual",0.25]
[null,"Equivalencia en tasa nominal mensual",{"$f":"(1+C3)^(0.0833333333333333)-1","v":1.8769265121506118E-2}]
[]
[null,"Tasa nominal mensual",1.2E-2]
[null,"Equivalencia en tasa efectiva anual",{"$f":"(1+C6)^12-1","v":0.15389462418258582}]
[]
[null,"Ir al simulador"]