Workbook

Sheet Instructivo
D2: INSTRUCTIVO
B4: 1. En la pestaña "Mis finanzas", registra los movimientos financieros que haces en el mes con su respectivo valor y asigna una categoría.
B7: a) Registra tus ingresos y define si son ingresos fijos o ingresos variables. b) Registra todos tus costos fijos. Por ejemplo arriendo, mercado, transporte. c) Registra tus deudas y cuanto pagas mensualmente por cada deuda. d) Registra cuanto destinas al mes a ahorro. e) Registra cuanto destinas al mes a inversión. f) Registra tus gastos y define si son gastos necesarios o no necesarios.
B18: 2. Registra las actividades que quieres hacer este 2025, el mes y califica la prioridad de cada actividad donde 1 es prioridad baja y 6 es prioridad alta.
B25: 3. Analiza la propuesta del modelo base de la distribución mensual de tus gastos y tu futuro financiero para el año 2025.
B34: 4. Crea tu propio plan para distribuir tu futuro financiero y tus gastos de la manera que más se ajuste a tus finanzas personales.
B43: 5. Lleva el seguimiento mes a mes de cuanto destinas a tus gastos y a tu futuro financiero.

Sheet Mis finanzas
AA1: Ingreso fijo
A2: FINANZAS MES | E2: RESUMEN DE MIS FINANZAS | AA2: Ingreso variable
A3: NOMBRE | B3: VALOR | C3: CATEGORÍA | E3: INGRESOS | F3: =IFERROR(IF(F4+F5=0,"",F4+F5),"") | AA3: Costo fijo
E4: Ingreso fijo | F4: =SUMIF('Mis finanzas'!$C$4:$C$100,'Actividades 2025'!AY4,'Mis finanzas'!$B$4:$B$100) -> 0 | AA4: Deuda
E5: Ingreso variable | F5: =SUMIF('Mis finanzas'!$C$4:$C$100,'Actividades 2025'!AY5,'Mis finanzas'!$B$4:$B$100) -> 0 | AA5: Ahorro
E6: OBLIGACIONES | F6: =IFERROR(IF(F7+F8=0,"",F7+F8),"") | G6: =IFERROR(F6/$F$3,"") | AA6: Inversión
E7: Costos fijos | F7: =SUMIF('Mis finanzas'!$C$4:$C$100,'Actividades 2025'!AY7,'Mis finanzas'!$B$4:$B$100) -> 0 | G7: =IFERROR(F7/$F$3,"") | AA7: Gasto necesario
E8: Deudas | F8: =SUMIF('Mis finanzas'!$C$4:$C$100,'Actividades 2025'!AY8,'Mis finanzas'!$B$4:$B$100) -> 0 | G8: =IFERROR(F8/$F$3,"") | AA8: Gasto no necesario
E9: FUTURO FINANCIERO | F9: =IFERROR(IF(F10+F11=0,"",F10+F11),"") | G9: =IFERROR(F9/$F$3,"")
E10: Ahorro | F10: =SUMIF('Mis finanzas'!$C$4:$C$100,'Actividades 2025'!AY10,'Mis finanzas'!$B$4:$B$100) -> 0 | G10: =IFERROR(F10/$F$3,"")
E11: Inversión | F11: =SUMIF('Mis finanzas'!$C$4:$C$100,'Actividades 2025'!AY11,'Mis finanzas'!$B$4:$B$100) -> 0 | G11: =IFERROR(F11/$F$3,"")
E12: GASTOS | F12: =IFERROR(IF(F13+F14=0,"",F13+F14),"") | G12: =IFERROR(F12/$F$3,"")
E13: Necesarios | F13: =SUMIF('Mis finanzas'!$C$4:$C$100,'Actividades 2025'!AY13,'Mis finanzas'!$B$4:$B$100) -> 0 | G13: =IFERROR(F13/$F$3,"")
E14: No necesarios | F14: =SUMIF('Mis finanzas'!$C$4:$C$100,'Actividades 2025'!AY15,'Mis finanzas'!$B$4:$B$100) -> 0 | G14: =IFERROR(F14/$F$3,"")
E15: =IF(F15="","","CAJA LIBRE") | F15: =IFERROR(IF(F3-F6-F9-F12=0,"",F3-F6-F9-F12),"") | G15: =IFERROR(F15/$F$3,"")
F17: Mes | G17: Año
E18: =CONCATENATE("FUTURO FINANCIERO (",TEXT(G9,"0.00%"),")") -> FUTURO FINANCIERO () | F18: =F9 | G18: =F18*12 -> #VALUE!
E19: =CONCATENATE("GASTOS (",TEXT(G12,"0.00%"),")") -> GASTOS () | F19: =F12 | G19: =F19*12 -> #VALUE!

Sheet Actividades 2025
F2: DISTRIBUCIÓN NORMAL VS. MODELO BASE
B3: FECHAS 2025
T4: AHORRO TOTAL | AY4: Ingreso fijo | AZ4: ='Mis finanzas'!E6 -> OBLIGACIONES | BA4: ='Mis finanzas'!G6 | BB4: 1 | BC4: {=IFERROR(_xlfn._xlws.FILTER($BB$4:$BB$9,COUNTIF($D$6:$D$16,$BB$4:$BB$9)=0),"")} -> 1 | BD4: Mes | BE4: Ahorro normal | BF4: Gasto normal | BG4: Prioridad | BH4: Gasto objetivo | BI4: Ahorro objetivo | BJ4: Prioridad | BK4: Gasto | BL4: Ahorro | BM4: =SUM(BF5:BF16)-SUMIF(BG5:BG16,">0",BH5:BH16) -> 0 | BN4: =12-COUNTIF(BG5:BG16,">0") -> 12
B5: Actividad | C5: Mes | D5: Prioridad | F5: Escenario | G5: Categoría | H5: Enero | I5: Febrero | J5: Marzo | K5: Abril | L5: Mayo | M5: Junio | N5: Julio | O5: Agosto | P5: Septiembre | Q5: Octubre | R5: Noviembre | S5: Diciembre | AY5: Ingreso variable | AZ5: ='Mis finanzas'!E9 -> FUTURO FINANCIERO | BA5: ='Mis finanzas'!G9 | BB5: 2 | BC5: 2 | BD5: Enero | BE5: ='Mis finanzas'!$F$18 | BF5: ='Mis finanzas'!$F$19 | BG5: =IF((SUMIF($C$6:$C$11,BD5,$D$6:$D$11))=0,"",SUMIF($C$6:$C$11,BD5,$D$6:$D$11)) | BH5: =IF(BG5="",$BM$4/$BN$4,(1+VLOOKUP(BG5,$BJ$5:$BL$26,2,0))*BF5) -> 0 | BI5: =(BE5+BF5)-BH5 -> #VALUE! | BJ5: 0 | BK5: =(BJ5*$BK$11)/$BJ$11 -> 0 | BL5: =1-BK5 -> 1
F6: NORMAL | G6: Futuro financiero | H6: ='Mis finanzas'!$F$18 | I6: ='Mis finanzas'!$F$18 | J6: ='Mis finanzas'!$F$18 | K6: ='Mis finanzas'!$F$18 | L6: ='Mis finanzas'!$F$18 | M6: ='Mis finanzas'!$F$18 | N6: ='Mis finanzas'!$F$18 | O6: ='Mis finanzas'!$F$18 | ... S6: ='Mis finanzas'!$F$18 | T6: =SUM(H6:S6) -> 0 | AZ6: ='Mis finanzas'!E12 -> GASTOS | BA6: ='Mis finanzas'!G12 | BB6: 3 | BC6: 3 | BD6: Febrero | BE6: ='Mis finanzas'!$F$18 | BF6: ='Mis finanzas'!$F$19 | BG6: =IF((SUMIF($C$6:$C$11,BD6,$D$6:$D$11))=0,"",SUMIF($C$6:$C$11,BD6,$D$6:$D$11)) | BH6: =IF(BG6="",$BM$4/$BN$4,(1+VLOOKUP(BG6,$BJ$5:$BL$26,2,0))*BF6) -> 0 | BI6: =(BE6+BF6)-BH6 -> #VALUE! | BJ6: 1 | BK6: =(BJ6*$BK$11)/$BJ$11 -> 0.16666667 | BL6: =1-BK6 -> 0.83333333
H7: ='Mis finanzas'!$G$9 | I7: ='Mis finanzas'!$G$9 | J7: ='Mis finanzas'!$G$9 | K7: ='Mis finanzas'!$G$9 | L7: ='Mis finanzas'!$G$9 | M7: ='Mis finanzas'!$G$9 | N7: ='Mis finanzas'!$G$9 | O7: ='Mis finanzas'!$G$9 | ... S7: ='Mis finanzas'!$G$9 | T7: =T6/('Mis finanzas'!$F$3*12) -> #VALUE! | AY7: Costo fijo | AZ7: ='Mis finanzas'!E15 | BA7: ='Mis finanzas'!G15 | BB7: 4 | BC7: 4 | BD7: Marzo | BE7: ='Mis finanzas'!$F$18 | BF7: ='Mis finanzas'!$F$19 | BG7: =IF((SUMIF($C$6:$C$11,BD7,$D$6:$D$11))=0,"",SUMIF($C$6:$C$11,BD7,$D$6:$D$11)) | BH7: =IF(BG7="",$BM$4/$BN$4,(1+VLOOKUP(BG7,$BJ$5:$BL$26,2,0))*BF7) -> 0 | BI7: =(BE7+BF7)-BH7 -> #VALUE! | BJ7: 2 | BK7: =(BJ7*$BK$11)/$BJ$11 -> 0.33333333 | BL7: =1-BK7 -> 0.66666667
G8: Gastos | H8: ='Mis finanzas'!$F$19 | I8: ='Mis finanzas'!$F$19 | J8: ='Mis finanzas'!$F$19 | K8: ='Mis finanzas'!$F$19 | L8: ='Mis finanzas'!$F$19 | M8: ='Mis finanzas'!$F$19 | N8: ='Mis finanzas'!$F$19 | O8: ='Mis finanzas'!$F$19 | ... S8: ='Mis finanzas'!$F$19 | T8: =SUM(H8:S8) -> 0 | AY8: Deuda | BB8: 5 | BC8: 5 | BD8: Abril | BE8: ='Mis finanzas'!$F$18 | BF8: ='Mis finanzas'!$F$19 | BG8: =IF((SUMIF($C$6:$C$11,BD8,$D$6:$D$11))=0,"",SUMIF($C$6:$C$11,BD8,$D$6:$D$11)) | BH8: =IF(BG8="",$BM$4/$BN$4,(1+VLOOKUP(BG8,$BJ$5:$BL$26,2,0))*BF8) -> 0 | BI8: =(BE8+BF8)-BH8 -> #VALUE! | BJ8: 3 | BK8: =(BJ8*$BK$11)/$BJ$11 -> 0.5 | BL8: =1-BK8 -> 0.5
H9: ='Mis finanzas'!$G$12 | I9: ='Mis finanzas'!$G$12 | J9: ='Mis finanzas'!$G$12 | K9: ='Mis finanzas'!$G$12 | L9: ='Mis finanzas'!$G$12 | M9: ='Mis finanzas'!$G$12 | N9: ='Mis finanzas'!$G$12 | O9: ='Mis finanzas'!$G$12 | ... S9: ='Mis finanzas'!$G$12 | T9: =T8/('Mis finanzas'!$F$3*12) -> #VALUE! | BB9: 6 | BC9: 6 | BD9: Mayo | BE9: ='Mis finanzas'!$F$18 | BF9: ='Mis finanzas'!$F$19 | BG9: =IF((SUMIF($C$6:$C$11,BD9,$D$6:$D$11))=0,"",SUMIF($C$6:$C$11,BD9,$D$6:$D$11)) | BH9: =IF(BG9="",$BM$4/$BN$4,(1+VLOOKUP(BG9,$BJ$5:$BL$26,2,0))*BF9) -> 0 | BI9: =(BE9+BF9)-BH9 -> #VALUE! | BJ9: 4 | BK9: =(BJ9*$BK$11)/$BJ$11 -> 0.66666667 | BL9: =1-BK9 -> 0.33333333
AY10: Ahorro | BD10: Junio | BE10: ='Mis finanzas'!$F$18 | BF10: ='Mis finanzas'!$F$19 | BG10: =IF((SUMIF($C$6:$C$11,BD10,$D$6:$D$11))=0,"",SUMIF($C$6:$C$11,BD10,$D$6:$D$11)) | BH10: =IF(BG10="",$BM$4/$BN$4,(1+VLOOKUP(BG10,$BJ$5:$BL$26,2,0))*BF10) -> 0 | BI10: =(BE10+BF10)-BH10 -> #VALUE! | BJ10: 5 | BK10: =(BJ10*$BK$11)/$BJ$11 -> 0.83333333 | BL10: =1-BK10 -> 0.16666667
F11: MODELO BASE | G11: Futuro financiero | H11: =BI5 -> #VALUE! | I11: =BI6 -> #VALUE! | J11: =BI7 -> #VALUE! | K11: =BI8 -> #VALUE! | L11: =BI9 -> #VALUE! | M11: =BI10 -> #VALUE! | N11: =BI11 -> #VALUE! | O11: =BI12 -> #VALUE! | P11: =BI13 -> #VALUE! | Q11: =BI14 -> #VALUE! | R11: =BI15 -> #VALUE! | S11: =BI16 -> #VALUE! | T11: =SUM(H11:S11) -> #VALUE! | AY11: Inversión | BD11: Julio | BE11: ='Mis finanzas'!$F$18 | BF11: ='Mis finanzas'!$F$19 | BG11: =IF((SUMIF($C$6:$C$11,BD11,$D$6:$D$11))=0,"",SUMIF($C$6:$C$11,BD11,$D$6:$D$11)) | BH11: =IF(BG11="",$BM$4/$BN$4,(1+VLOOKUP(BG11,$BJ$5:$BL$26,2,0))*BF11) -> 0 | BI11: =(BE11+BF11)-BH11 -> #VALUE! | BJ11: 6 | BK11: =(BJ11*100%)/6 -> 1 | BL11: =BK5 -> 0
H12: =H11/'Mis finanzas'!$F$3 -> #VALUE! | I12: =I11/'Mis finanzas'!$F$3 -> #VALUE! | J12: =J11/'Mis finanzas'!$F$3 -> #VALUE! | K12: =K11/'Mis finanzas'!$F$3 -> #VALUE! | L12: =L11/'Mis finanzas'!$F$3 -> #VALUE! | M12: =M11/'Mis finanzas'!$F$3 -> #VALUE! | N12: =N11/'Mis finanzas'!$F$3 -> #VALUE! | O12: =O11/'Mis finanzas'!$F$3 -> #VALUE! | ... S12: =S11/'Mis finanzas'!$F$3 -> #VALUE! | T12: =T11/('Mis finanzas'!$F$3*12) -> #VALUE! | BD12: Agosto | BE12: ='Mis finanzas'!$F$18 | BF12: ='Mis finanzas'!$F$19 | BG12: =IF((SUMIF($C$6:$C$11,BD12,$D$6:$D$11))=0,"",SUMIF($C$6:$C$11,BD12,$D$6:$D$11)) | BH12: =IF(BG12="",$BM$4/$BN$4,(1+VLOOKUP(BG12,$BJ$5:$BL$26,2,0))*BF12) -> 0 | BI12: =(BE12+BF12)-BH12 -> #VALUE! | BJ12: 7 | BK12: =(BJ12*$BK$11)/$BJ$11 -> 1.1666667 | BL12: =1-BK12 -> -0.16666667
G13: Gastos | H13: =BH5 -> 0 | I13: =BH6 -> 0 | J13: =BH7 -> 0 | K13: =BH8 -> 0 | L13: =BH9 -> 0 | M13: =BH10 -> 0 | N13: =BH11 -> 0 | O13: =BH12 -> 0 | P13: =BH13 -> 0 | Q13: =BH14 -> 0 | R13: =BH15 -> 0 | S13: =BH16 -> 0 | T13: =SUM(H13:S13) -> 0 | AY13: Gasto necesario | BD13: Septiembre | BE13: ='Mis finanzas'!$F$18 | BF13: ='Mis finanzas'!$F$19 | BG13: =IF((SUMIF($C$6:$C$11,BD13,$D$6:$D$11))=0,"",SUMIF($C$6:$C$11,BD13,$D$6:$D$11)) | BH13: =IF(BG13="",$BM$4/$BN$4,(1+VLOOKUP(BG13,$BJ$5:$BL$26,2,0))*BF13) -> 0 | BI13: =(BE13+BF13)-BH13 -> #VALUE! | BJ13: 8 | BK13: =(BJ13*$BK$11)/$BJ$11 -> 1.3333333 | BL13: =1-BK13 -> -0.33333333
H14: =H13/'Mis finanzas'!$F$3 -> #VALUE! | I14: =I13/'Mis finanzas'!$F$3 -> #VALUE! | J14: =J13/'Mis finanzas'!$F$3 -> #VALUE! | K14: =K13/'Mis finanzas'!$F$3 -> #VALUE! | L14: =L13/'Mis finanzas'!$F$3 -> #VALUE! | M14: =M13/'Mis finanzas'!$F$3 -> #VALUE! | N14: =N13/'Mis finanzas'!$F$3 -> #VALUE! | O14: =O13/'Mis finanzas'!$F$3 -> #VALUE! | ... S14: =S13/'Mis finanzas'!$F$3 -> #VALUE! | T14: =T13/('Mis finanzas'!$F$3*12) -> #VALUE! | BD14: Octubre | BE14: ='Mis finanzas'!$F$18 | BF14: ='Mis finanzas'!$F$19 | BG14: =IF((SUMIF($C$6:$C$11,BD14,$D$6:$D$11))=0,"",SUMIF($C$6:$C$11,BD14,$D$6:$D$11)) | BH14: =IF(BG14="",$BM$4/$BN$4,(1+VLOOKUP(BG14,$BJ$5:$BL$26,2,0))*BF14) -> 0 | BI14: =(BE14+BF14)-BH14 -> #VALUE! | BJ14: 9 | BK14: =(BJ14*$BK$11)/$BJ$11 -> 1.5 | BL14: =1-BK14 -> -0.5
AY15: Gasto no necesario | BD15: Noviembre | BE15: ='Mis finanzas'!$F$18 | BF15: ='Mis finanzas'!$F$19 | BG15: =IF((SUMIF($C$6:$C$11,BD15,$D$6:$D$11))=0,"",SUMIF($C$6:$C$11,BD15,$D$6:$D$11)) | BH15: =IF(BG15="",$BM$4/$BN$4,(1+VLOOKUP(BG15,$BJ$5:$BL$26,2,0))*BF15) -> 0 | BI15: =(BE15+BF15)-BH15 -> #VALUE! | BJ15: 10 | BK15: =(BJ15*$BK$11)/$BJ$11 -> 1.6666667 | BL15: =1-BK15 -> -0.66666667
F16: PLANEACIÓN Y SEGUIMIENTO | BD16: Diciembre | BE16: ='Mis finanzas'!$F$18 | BF16: ='Mis finanzas'!$F$19 | BG16: =IF((SUMIF($C$6:$C$11,BD16,$D$6:$D$11))=0,"",SUMIF($C$6:$C$11,BD16,$D$6:$D$11)) | BH16: =IF(BG16="",$BM$4/$BN$4,(1+VLOOKUP(BG16,$BJ$5:$BL$26,2,0))*BF16) -> 0 | BI16: =(BE16+BF16)-BH16 -> #VALUE! | BJ16: 11 | BK16: =(BJ16*$BK$11)/$BJ$11 -> 1.8333333 | BL16: =1-BK16 -> -0.83333333
BJ17: 12 | BK17: =(BJ17*$BK$11)/$BJ$11 -> 2 | BL17: =1-BK17 -> -1
F18: Escenario | G18: Categoría | H18: Enero | I18: Febrero | J18: Marzo | K18: Abril | L18: Mayo | M18: Junio | N18: Julio | O18: Agosto | P18: Septiembre | Q18: Octubre | R18: Noviembre | S18: Diciembre | BJ18: 13 | BK18: =(BJ18*$BK$11)/$BJ$11 -> 2.1666667 | BL18: =1-BK18 -> -1.1666667
F19: PLANEACIÓN | G19: Futuro financiero | T19: =SUM(H19:S19) -> 0 | U19: =IF(T19=0,"",IF(T11=T19,"COMPLETADO",IF(T19>T11,CONCATENATE("Ahorrarías ",TEXT(T19-T11,"$#,##0")," más que tu meta de ahorro"),IF(T19<T11,CONCATENATE("Te faltarían ",TEXT(T11-T19,"$#,##0")," para completar tu meta de ahorro"),"")))) | BJ19: 14 | BK19: =(BJ19*$BK$11)/$BJ$11 -> 2.3333333 | BL19: =1-BK19 -> -1.3333333
H20: =H19/'Mis finanzas'!$F$3 -> #VALUE! | I20: =I19/'Mis finanzas'!$F$3 -> #VALUE! | J20: =J19/'Mis finanzas'!$F$3 -> #VALUE! | K20: =K19/'Mis finanzas'!$F$3 -> #VALUE! | L20: =L19/'Mis finanzas'!$F$3 -> #VALUE! | M20: =M19/'Mis finanzas'!$F$3 -> #VALUE! | N20: =N19/'Mis finanzas'!$F$3 -> #VALUE! | O20: =O19/'Mis finanzas'!$F$3 -> #VALUE! | ... S20: =S19/'Mis finanzas'!$F$3 -> #VALUE! | T20: =T19/('Mis finanzas'!$F$3*12) -> #VALUE! | BJ20: 15 | BK20: =(BJ20*$BK$11)/$BJ$11 -> 2.5 | BL20: =1-BK20 -> -1.5
G21: Gastos | T21: =SUM(H21:S21) -> 0 | U21: =IF(T21=0,"",IF(T13=T21,"COMPLETADO",IF(T21>T13,CONCATENATE("Gastarías ",TEXT(T21-T13,"$#,##0")," más que tu meta de gasto"),IF(T21<T13,CONCATENATE("Te faltarían ",TEXT(T13-T21,"$#,##0")," para completar tu meta de gasto"),"")))) | BJ21: 16 | BK21: =(BJ21*$BK$11)/$BJ$11 -> 2.6666667 | BL21: =1-BK21 -> -1.6666667
H22: =H21/'Mis finanzas'!$F$3 -> #VALUE! | I22: =I21/'Mis finanzas'!$F$3 -> #VALUE! | J22: =J21/'Mis finanzas'!$F$3 -> #VALUE! | K22: =K21/'Mis finanzas'!$F$3 -> #VALUE! | L22: =L21/'Mis finanzas'!$F$3 -> #VALUE! | M22: =M21/'Mis finanzas'!$F$3 -> #VALUE! | N22: =N21/'Mis finanzas'!$F$3 -> #VALUE! | O22: =O21/'Mis finanzas'!$F$3 -> #VALUE! | ... S22: =S21/'Mis finanzas'!$F$3 -> #VALUE! | T22: =T21/('Mis finanzas'!$F$3*12) -> #VALUE! | BJ22: 17 | BK22: =(BJ22*$BK$11)/$BJ$11 -> 2.8333333 | BL22: =1-BK22 -> -1.8333333
H23: =IF(((H6+H8)-H19-H21)=H6+H8,"",IF(((H6+H8)-H19-H21)=0,"COMPLETADO",IF(((H6+H8)-H19-H21)<0,CONCATENATE("Has superado el tope mensual. Te excediste ",TEXT(-((H6+H8)-H19-H21),"$#,##0")),IF(((H6+H8)-H19-H21)>0,CONCATENATE("Te quedan ",TEXT((H6+H8)-H19-H21,"$#,##0")," disponibles para alcanzar el tope mensual (",TEXT(H6+H8,"$#,##0"),")"),"")))) -> #VALUE! | I23: =IF(((I6+I8)-I19-I21)=I6+I8,"",IF(((I6+I8)-I19-I21)=0,"COMPLETADO",IF(((I6+I8)-I19-I21)<0,CONCATENATE("Has superado el tope mensual. Te excediste ",TEXT(-((I6+I8)-I19-I21),"$#,##0")),IF(((I6+I8)-I19-I21)>0,CONCATENATE("Te quedan ",TEXT((I6+I8)-I19-I21,"$#,##0")," disponibles para alcanzar el tope mensual (",TEXT(I6+I8,"$#,##0"),")"),"")))) -> #VALUE! | J23: =IF(((J6+J8)-J19-J21)=J6+J8,"",IF(((J6+J8)-J19-J21)=0,"COMPLETADO",IF(((J6+J8)-J19-J21)<0,CONCATENATE("Has superado el tope mensual. Te excediste ",TEXT(-((J6+J8)-J19-J21),"$#,##0")),IF(((J6+J8)-J19-J21)>0,CONCATENATE("Te quedan ",TEXT((J6+J8)-J19-J21,"$#,##0")," disponibles para alcanzar el tope mensual (",TEXT(J6+J8,"$#,##0"),")"),"")))) -> #VALUE! | K23: =IF(((K6+K8)-K19-K21)=K6+K8,"",IF(((K6+K8)-K19-K21)=0,"COMPLETADO",IF(((K6+K8)-K19-K21)<0,CONCATENATE("Has superado el tope mensual. Te excediste ",TEXT(-((K6+K8)-K19-K21),"$#,##0")),IF(((K6+K8)-K19-K21)>0,CONCATENATE("Te quedan ",TEXT((K6+K8)-K19-K21,"$#,##0")," disponibles para alcanzar el tope mensual (",TEXT(K6+K8,"$#,##0"),")"),"")))) -> #VALUE! | L23: =IF(((L6+L8)-L19-L21)=L6+L8,"",IF(((L6+L8)-L19-L21)=0,"COMPLETADO",IF(((L6+L8)-L19-L21)<0,CONCATENATE("Has superado el tope mensual. Te excediste ",TEXT(-((L6+L8)-L19-L21),"$#,##0")),IF(((L6+L8)-L19-L21)>0,CONCATENATE("Te quedan ",TEXT((L6+L8)-L19-L21,"$#,##0")," disponibles para alcanzar el tope mensual (",TEXT(L6+L8,"$#,##0"),")"),"")))) -> #VALUE! | M23: =IF(((M6+M8)-M19-M21)=M6+M8,"",IF(((M6+M8)-M19-M21)=0,"COMPLETADO",IF(((M6+M8)-M19-M21)<0,CONCATENATE("Has superado el tope mensual. Te excediste ",TEXT(-((M6+M8)-M19-M21),"$#,##0")),IF(((M6+M8)-M19-M21)>0,CONCATENATE("Te quedan ",TEXT((M6+M8)-M19-M21,"$#,##0")," disponibles para alcanzar el tope mensual (",TEXT(M6+M8,"$#,##0"),")"),"")))) -> #VALUE! | N23: =IF(((N6+N8)-N19-N21)=N6+N8,"",IF(((N6+N8)-N19-N21)=0,"COMPLETADO",IF(((N6+N8)-N19-N21)<0,CONCATENATE("Has superado el tope mensual. Te excediste ",TEXT(-((N6+N8)-N19-N21),"$#,##0")),IF(((N6+N8)-N19-N21)>0,CONCATENATE("Te quedan ",TEXT((N6+N8)-N19-N21,"$#,##0")," disponibles para alcanzar el tope mensual (",TEXT(N6+N8,"$#,##0"),")"),"")))) -> #VALUE! | O23: =IF(((O6+O8)-O19-O21)=O6+O8,"",IF(((O6+O8)-O19-O21)=0,"COMPLETADO",IF(((O6+O8)-O19-O21)<0,CONCATENATE("Has superado el tope mensual. Te excediste ",TEXT(-((O6+O8)-O19-O21),"$#,##0")),IF(((O6+O8)-O19-O21)>0,CONCATENATE("Te quedan ",TEXT((O6+O8)-O19-O21,"$#,##0")," disponibles para alcanzar el tope mensual (",TEXT(O6+O8,"$#,##0"),")"),"")))) -> #VALUE! | ... S23: =IF(((S6+S8)-S19-S21)=S6+S8,"",IF(((S6+S8)-S19-S21)=0,"COMPLETADO",IF(((S6+S8)-S19-S21)<0,CONCATENATE("Has superado el tope mensual. Te excediste ",TEXT(-((S6+S8)-S19-S21),"$#,##0")),IF(((S6+S8)-S19-S21)>0,CONCATENATE("Te quedan ",TEXT((S6+S8)-S19-S21,"$#,##0")," disponibles para alcanzar el tope mensual (",TEXT(S6+S8,"$#,##0"),")"),"")))) -> #VALUE! | BJ23: 18 | BK23: =(BJ23*$BK$11)/$BJ$11 -> 3 | BL23: =1-BK23 -> -2
BJ24: 19 | BK24: =(BJ24*$BK$11)/$BJ$11 -> 3.1666667 | BL24: =1-BK24 -> -2.1666667
BJ25: 20 | BK25: =(BJ25*$BK$11)/$BJ$11 -> 3.3333333 | BL25: =1-BK25 -> -2.3333333
BJ26: 21 | BK26: =(BJ26*$BK$11)/$BJ$11 -> 3.5 | BL26: =1-BK26 -> -2.5
F28: REAL (seguimiento) | G28: Futuro financiero | T28: =SUM(H28:S28) -> 0 | U28: =IF(T28=0,"",IF(T11=T28,"COMPLETADO",IF(T28>T11,CONCATENATE("Ahorrarías ",TEXT(T28-T11,"$#,##0")," más que tu meta de ahorro"),IF(T28<T11,CONCATENATE("Te faltarían ",TEXT(T11-T28,"$#,##0")," para completar tu meta de ahorro"),""))))
H29: =H28/'Mis finanzas'!$F$3 -> #VALUE! | I29: =I28/'Mis finanzas'!$F$3 -> #VALUE! | J29: =J28/'Mis finanzas'!$F$3 -> #VALUE! | K29: =K28/'Mis finanzas'!$F$3 -> #VALUE! | L29: =L28/'Mis finanzas'!$F$3 -> #VALUE! | M29: =M28/'Mis finanzas'!$F$3 -> #VALUE! | N29: =N28/'Mis finanzas'!$F$3 -> #VALUE! | O29: =O28/'Mis finanzas'!$F$3 -> #VALUE! | ... S29: =S28/'Mis finanzas'!$F$3 -> #VALUE! | T29: =T28/('Mis finanzas'!$F$3*12) -> #VALUE!
G30: Gastos | T30: =SUM(H30:S30) -> 0 | U30: =IF(T30=0,"",IF(T13=T30,"COMPLETADO",IF(T30>T13,CONCATENATE("Gastarías ",TEXT(T30-T13,"$#,##0")," más que tu meta de gasto"),IF(T30<T13,CONCATENATE("Te faltarían ",TEXT(T13-T30,"$#,##0")," para completar tu meta de gasto"),""))))
H31: =H30/'Mis finanzas'!$F$3 -> #VALUE! | I31: =I30/'Mis finanzas'!$F$3 -> #VALUE! | J31: =J30/'Mis finanzas'!$F$3 -> #VALUE! | K31: =K30/'Mis finanzas'!$F$3 -> #VALUE! | L31: =L30/'Mis finanzas'!$F$3 -> #VALUE! | M31: =M30/'Mis finanzas'!$F$3 -> #VALUE! | N31: =N30/'Mis finanzas'!$F$3 -> #VALUE! | O31: =O30/'Mis finanzas'!$F$3 -> #VALUE! | ... S31: =S30/'Mis finanzas'!$F$3 -> #VALUE! | T31: =T30/('Mis finanzas'!$F$3*12) -> #VALUE!
H32: =IF(((H6+H8)-H28-H30)=H6+H8,"",IF(((H6+H8)-H28-H30)=0,"COMPLETADO",IF(((H6+H8)-H28-H30)<0,CONCATENATE("¡Ojo! superaste el tope del mes ",TEXT(-((H6+H8)-H28-H30),"$#,##0"),". Esperamos que haya sido por ingresos adicionales y no por más deudas"),IF(((H6+H8)-H28-H30)>0,CONCATENATE("Te quedan ",TEXT((H6+H8)-H28-H30,"$#,##0")," disponibles para alcanzar el tope mensual (",TEXT(H6+H8,"$#,##0"),")"),"")))) -> #VALUE! | I32: =IF(((I6+I8)-I28-I30)=I6+I8,"",IF(((I6+I8)-I28-I30)=0,"COMPLETADO",IF(((I6+I8)-I28-I30)<0,CONCATENATE("¡Ojo! superaste el tope del mes ",TEXT(-((I6+I8)-I28-I30),"$#,##0"),". Esperamos que haya sido por ingresos adicionales y no por más deudas"),IF(((I6+I8)-I28-I30)>0,CONCATENATE("Te quedan ",TEXT((I6+I8)-I28-I30,"$#,##0")," disponibles para alcanzar el tope mensual (",TEXT(I6+I8,"$#,##0"),")"),"")))) -> #VALUE! | J32: =IF(((J6+J8)-J28-J30)=J6+J8,"",IF(((J6+J8)-J28-J30)=0,"COMPLETADO",IF(((J6+J8)-J28-J30)<0,CONCATENATE("¡Ojo! superaste el tope del mes ",TEXT(-((J6+J8)-J28-J30),"$#,##0"),". Esperamos que haya sido por ingresos adicionales y no por más deudas"),IF(((J6+J8)-J28-J30)>0,CONCATENATE("Te quedan ",TEXT((J6+J8)-J28-J30,"$#,##0")," disponibles para alcanzar el tope mensual (",TEXT(J6+J8,"$#,##0"),")"),"")))) -> #VALUE! | K32: =IF(((K6+K8)-K28-K30)=K6+K8,"",IF(((K6+K8)-K28-K30)=0,"COMPLETADO",IF(((K6+K8)-K28-K30)<0,CONCATENATE("¡Ojo! superaste el tope del mes ",TEXT(-((K6+K8)-K28-K30),"$#,##0"),". Esperamos que haya sido por ingresos adicionales y no por más deudas"),IF(((K6+K8)-K28-K30)>0,CONCATENATE("Te quedan ",TEXT((K6+K8)-K28-K30,"$#,##0")," disponibles para alcanzar el tope mensual (",TEXT(K6+K8,"$#,##0"),")"),"")))) -> #VALUE! | L32: =IF(((L6+L8)-L28-L30)=L6+L8,"",IF(((L6+L8)-L28-L30)=0,"COMPLETADO",IF(((L6+L8)-L28-L30)<0,CONCATENATE("¡Ojo! superaste el tope del mes ",TEXT(-((L6+L8)-L28-L30),"$#,##0"),". Esperamos que haya sido por ingresos adicionales y no por más deudas"),IF(((L6+L8)-L28-L30)>0,CONCATENATE("Te quedan ",TEXT((L6+L8)-L28-L30,"$#,##0")," disponibles para alcanzar el tope mensual (",TEXT(L6+L8,"$#,##0"),")"),"")))) -> #VALUE! | M32: =IF(((M6+M8)-M28-M30)=M6+M8,"",IF(((M6+M8)-M28-M30)=0,"COMPLETADO",IF(((M6+M8)-M28-M30)<0,CONCATENATE("¡Ojo! superaste el tope del mes ",TEXT(-((M6+M8)-M28-M30),"$#,##0"),". Esperamos que haya sido por ingresos adicionales y no por más deudas"),IF(((M6+M8)-M28-M30)>0,CONCATENATE("Te quedan ",TEXT((M6+M8)-M28-M30,"$#,##0")," disponibles para alcanzar el tope mensual (",TEXT(M6+M8,"$#,##0"),")"),"")))) -> #VALUE! | N32: =IF(((N6+N8)-N28-N30)=N6+N8,"",IF(((N6+N8)-N28-N30)=0,"COMPLETADO",IF(((N6+N8)-N28-N30)<0,CONCATENATE("¡Ojo! superaste el tope del mes ",TEXT(-((N6+N8)-N28-N30),"$#,##0"),". Esperamos que haya sido por ingresos adicionales y no por más deudas"),IF(((N6+N8)-N28-N30)>0,CONCATENATE("Te quedan ",TEXT((N6+N8)-N28-N30,"$#,##0")," disponibles para alcanzar el tope mensual (",TEXT(N6+N8,"$#,##0"),")"),"")))) -> #VALUE! | O32: =IF(((O6+O8)-O28-O30)=O6+O8,"",IF(((O6+O8)-O28-O30)=0,"COMPLETADO",IF(((O6+O8)-O28-O30)<0,CONCATENATE("¡Ojo! superaste el tope del mes ",TEXT(-((O6+O8)-O28-O30),"$#,##0"),". Esperamos que haya sido por ingresos adicionales y no por más deudas"),IF(((O6+O8)-O28-O30)>0,CONCATENATE("Te quedan ",TEXT((O6+O8)-O28-O30,"$#,##0")," disponibles para alcanzar el tope mensual (",TEXT(O6+O8,"$#,##0"),")"),"")))) -> #VALUE! | ... S32: =IF(((S6+S8)-S28-S30)=S6+S8,"",IF(((S6+S8)-S28-S30)=0,"COMPLETADO",IF(((S6+S8)-S28-S30)<0,CONCATENATE("¡Ojo! superaste el tope del mes ",TEXT(-((S6+S8)-S28-S30),"$#,##0"),". Esperamos que haya sido por ingresos adicionales y no por más deudas"),IF(((S6+S8)-S28-S30)>0,CONCATENATE("Te quedan ",TEXT((S6+S8)-S28-S30,"$#,##0")," disponibles para alcanzar el tope mensual (",TEXT(S6+S8,"$#,##0"),")"),"")))) -> #VALUE!

Sheet data COLCAP
A1: aux | B1: mes | C1: año | D1: Date | E1: Price | F1: Open | G1: High | H1: Low | I1: Vol. | J1: Change % | L1: Año | M1: 2024
A2: =_xlfn.CONCAT(B2,C2) -> diciembre2024 | B2: diciembre | C2: 2024 | D2: 45303 | E2: 1379.58 | F2: 1393.62 | G2: 1402.76 | H2: 1360.4 | J2: -0.009
A3: =_xlfn.CONCAT(B3,C3) -> noviembre2024 | B3: noviembre | C3: 2024 | D3: 45302 | E3: 1392.13 | F3: 1357.89 | G3: 1403.73 | H3: 1327.85 | J3: 0.0248 | L3: Enero | M3: ='[1]Actividades 2025'!H6 -> 1100000 | N3: =VLOOKUP(_xlfn.CONCAT(L3,$M$1),$A$2:$J$73,6,0) -> 1195.2 | O3: =VLOOKUP(_xlfn.CONCAT(L14,M1),$A$1:$E$73,5,0) -> 1379.58 | P3: =(O3-N3)/O3 -> 0.13364937 | Q3: =M3*P3 -> 147014.31 | S3: Enero | T3: ='[1]Actividades 2025'!H11 -> 433333.33 | U3: =N3 -> 1195.2 | V3: =O3 -> 1379.58 | W3: =(V3-U3)/V3 -> 0.13364937 | X3: =T3*W3 -> 57914.728 | Z3: Enero | AA3: ='data S&P500'!AM3 -> 0 | AB3: =U3 -> 1195.2 | AC3: =V3 -> 1379.58 | AD3: =(AC3-AB3)/AC3 -> 0.13364937 | AE3: =AA3*AD3 -> 0
A4: =_xlfn.CONCAT(B4,C4) -> octubre2024 | B4: octubre | C4: 2024 | D4: 45301 | E4: 1358.46 | F4: 1305.37 | G4: 1365.38 | H4: 1294.74 | J4: 0.0389 | L4: Febrero | M4: ='[1]Actividades 2025'!I6 -> 1100000 | N4: =VLOOKUP(_xlfn.CONCAT(L4,$M$1),$A$2:$J$73,6,0) -> 1279.43 | O4: =O3 -> 1379.58 | P4: =(O4-N4)/O4 -> 0.072594558 | Q4: =M4*P4 -> 79854.014 | S4: Febrero | T4: ='[1]Actividades 2025'!I11 -> 1566666.7 | U4: =N4 -> 1279.43 | V4: =O4 -> 1379.58 | W4: =(V4-U4)/V4 -> 0.072594558 | X4: =T4*W4 -> 113731.47 | Z4: Febrero | AA4: ='data S&P500'!AM4 -> 0 | AB4: =U4 -> 1279.43 | AC4: =V4 -> 1379.58 | AD4: =(AC4-AB4)/AC4 -> 0.072594558 | AE4: =AA4*AD4 -> 0
A5: =_xlfn.CONCAT(B5,C5) -> septiembre2024 | B5: septiembre | C5: 2024 | D5: 45300 | E5: 1307.59 | F5: 1361.95 | G5: 1361.95 | H5: 1303.74 | J5: -0.024 | L5: Marzo | M5: ='[1]Actividades 2025'!J6 -> 1100000 | N5: =VLOOKUP(_xlfn.CONCAT(L5,$M$1),$A$2:$J$73,6,0) -> 1274.16 | O5: =O4 -> 1379.58 | P5: =(O5-N5)/O5 -> 0.076414561 | Q5: =M5*P5 -> 84056.017 | S5: Marzo | T5: ='[1]Actividades 2025'!J11 -> 1566666.7 | U5: =N5 -> 1274.16 | V5: =O5 -> 1379.58 | W5: =(V5-U5)/V5 -> 0.076414561 | X5: =T5*W5 -> 119716.15 | Z5: Marzo | AA5: ='data S&P500'!AM5 -> 0 | AB5: =U5 -> 1274.16 | AC5: =V5 -> 1379.58 | AD5: =(AC5-AB5)/AC5 -> 0.076414561 | AE5: =AA5*AD5 -> 0
A6: =_xlfn.CONCAT(B6,C6) -> agosto2024 | B6: agosto | C6: 2024 | D6: 45299 | E6: 1339.79 | F6: 1345.7 | G6: 1362.85 | H6: 1272.05 | J6: -0.0066 | L6: Abril | M6: ='[1]Actividades 2025'!K6 -> 1100000 | N6: =VLOOKUP(_xlfn.CONCAT(L6,$M$1),$A$2:$J$73,6,0) -> 1337.49 | O6: =O5 -> 1379.58 | P6: =(O6-N6)/O6 -> 0.030509285 | Q6: =M6*P6 -> 33560.214 | S6: Abril | T6: ='[1]Actividades 2025'!K11 -> 700000 | U6: =N6 -> 1337.49 | V6: =O6 -> 1379.58 | W6: =(V6-U6)/V6 -> 0.030509285 | X6: =T6*W6 -> 21356.5 | Z6: Abril | AA6: ='data S&P500'!AM6 -> 0 | AB6: =U6 -> 1337.49 | AC6: =V6 -> 1379.58 | AD6: =(AC6-AB6)/AC6 -> 0.030509285 | AE6: =AA6*AD6 -> 0
A7: =_xlfn.CONCAT(B7,C7) -> julio2024 | B7: julio | C7: 2024 | D7: 45298 | E7: 1348.69 | F7: 1381.32 | G7: 1390.05 | H7: 1332.96 | J7: -0.0243 | L7: Mayo | M7: ='[1]Actividades 2025'!L6 -> 1100000 | N7: =VLOOKUP(_xlfn.CONCAT(L7,$M$1),$A$2:$J$73,6,0) -> 1356.44 | O7: =O6 -> 1379.58 | P7: =(O7-N7)/O7 -> 0.016773221 | Q7: =M7*P7 -> 18450.543 | S7: Mayo | T7: ='[1]Actividades 2025'!L11 -> 566666.67 | U7: =N7 -> 1356.44 | V7: =O7 -> 1379.58 | W7: =(V7-U7)/V7 -> 0.016773221 | X7: =T7*W7 -> 9504.8251 | Z7: Mayo | AA7: ='data S&P500'!AM7 -> 0 | AB7: =U7 -> 1356.44 | AC7: =V7 -> 1379.58 | AD7: =(AC7-AB7)/AC7 -> 0.016773221 | AE7: =AA7*AD7 -> 0
A8: =_xlfn.CONCAT(B8,C8) -> junio2024 | B8: junio | C8: 2024 | D8: 45297 | E8: 1382.29 | F8: 1399.94 | G8: 1416.87 | H8: 1363.7 | J8: -0.0125 | L8: Junio | M8: ='[1]Actividades 2025'!M6 -> 1100000 | N8: =VLOOKUP(_xlfn.CONCAT(L8,$M$1),$A$2:$J$73,6,0) -> 1399.94 | O8: =O7 -> 1379.58 | P8: =(O8-N8)/O8 -> -0.014758115 | Q8: =M8*P8 -> -16233.926 | S8: Junio | T8: ='[1]Actividades 2025'!M11 -> 300000 | U8: =N8 -> 1399.94 | V8: =O8 -> 1379.58 | W8: =(V8-U8)/V8 -> -0.014758115 | X8: =T8*W8 -> -4427.4344 | Z8: Junio | AA8: ='data S&P500'!AM8 -> 0 | AB8: =U8 -> 1399.94 | AC8: =V8 -> 1379.58 | AD8: =(AC8-AB8)/AC8 -> -0.014758115 | AE8: =AA8*AD8 -> 0
A9: =_xlfn.CONCAT(B9,C9) -> mayo2024 | B9: mayo | C9: 2024 | D9: 45296 | E9: 1399.72 | F9: 1356.44 | G9: 1451.31 | H9: 1356.01 | J9: 0.0228 | L9: Julio | M9: ='[1]Actividades 2025'!N6 -> 1100000 | N9: =VLOOKUP(_xlfn.CONCAT(L9,$M$1),$A$2:$J$73,6,0) -> 1381.32 | O9: =O8 -> 1379.58 | P9: =(O9-N9)/O9 -> -0.0012612534 | Q9: =M9*P9 -> -1387.3788 | S9: Julio | T9: ='[1]Actividades 2025'!N11 -> 1566666.7 | U9: =N9 -> 1381.32 | V9: =O9 -> 1379.58 | W9: =(V9-U9)/V9 -> -0.0012612534 | X9: =T9*W9 -> -1975.9637 | Z9: Julio | AA9: ='data S&P500'!AM9 -> 0 | AB9: =U9 -> 1381.32 | AC9: =V9 -> 1379.58 | AD9: =(AC9-AB9)/AC9 -> -0.0012612534 | AE9: =AA9*AD9 -> 0
A10: =_xlfn.CONCAT(B10,C10) -> abril2024 | B10: abril | C10: 2024 | D10: 45295 | E10: 1368.46 | F10: 1337.49 | G10: 1426.23 | H10: 1323.61 | J10: 0.0268 | L10: Agosto | M10: ='[1]Actividades 2025'!O6 -> 1100000 | N10: =VLOOKUP(_xlfn.CONCAT(L10,$M$1),$A$2:$J$73,6,0) -> 1345.7 | O10: =O9 -> 1379.58 | P10: =(O10-N10)/O10 -> 0.024558199 | Q10: =M10*P10 -> 27014.019 | S10: Agosto | T10: ='[1]Actividades 2025'!O11 -> 1566666.7 | U10: =N10 -> 1345.7 | V10: =O10 -> 1379.58 | W10: =(V10-U10)/V10 -> 0.024558199 | X10: =T10*W10 -> 38474.512 | Z10: Agosto | AA10: ='data S&P500'!AM10 -> 0 | AB10: =U10 -> 1345.7 | AC10: =V10 -> 1379.58 | AD10: =(AC10-AB10)/AC10 -> 0.024558199 | AE10: =AA10*AD10 -> 0
A11: =_xlfn.CONCAT(B11,C11) -> marzo2024 | B11: marzo | C11: 2024 | D11: 45294 | E11: 1332.76 | F11: 1274.16 | G11: 1334.52 | H11: 1268.18 | J11: 0.0461 | L11: Septiembre | M11: ='[1]Actividades 2025'!P6 -> 1100000 | N11: =VLOOKUP(_xlfn.CONCAT(L11,$M$1),$A$2:$J$73,6,0) -> 1361.95 | O11: =O10 -> 1379.58 | P11: =(O11-N11)/O11 -> 0.012779252 | Q11: =M11*P11 -> 14057.177 | S11: Septiembre | T11: ='[1]Actividades 2025'!P11 -> 966666.67 | U11: =N11 -> 1361.95 | V11: =O11 -> 1379.58 | W11: =(V11-U11)/V11 -> 0.012779252 | X11: =T11*W11 -> 12353.277 | Z11: Septiembre | AA11: ='data S&P500'!AM11 -> 0 | AB11: =U11 -> 1361.95 | AC11: =V11 -> 1379.58 | AD11: =(AC11-AB11)/AC11 -> 0.012779252 | AE11: =AA11*AD11 -> 0
A12: =_xlfn.CONCAT(B12,C12) -> febrero2024 | B12: febrero | C12: 2024 | D12: 45293 | E12: 1274.08 | F12: 1279.43 | G12: 1297 | H12: 1215.46 | J12: -0.0019 | L12: Octubre | M12: ='[1]Actividades 2025'!Q6 -> 1100000 | N12: =VLOOKUP(_xlfn.CONCAT(L12,$M$1),$A$2:$J$73,6,0) -> 1305.37 | O12: =O11 -> 1379.58 | P12: =(O12-N12)/O12 -> 0.053791734 | Q12: =M12*P12 -> 59170.907 | S12: Octubre | T12: ='[1]Actividades 2025'!Q11 -> 1566666.7 | U12: =N12 -> 1305.37 | V12: =O12 -> 1379.58 | W12: =(V12-U12)/V12 -> 0.053791734 | X12: =T12*W12 -> 84273.716 | Z12: Octubre | AA12: ='data S&P500'!AM12 -> 0 | AB12: =U12 -> 1305.37 | AC12: =V12 -> 1379.58 | AD12: =(AC12-AB12)/AC12 -> 0.053791734 | AE12: =AA12*AD12 -> 0
A13: =_xlfn.CONCAT(B13,C13) -> enero2024 | B13: enero | C13: 2024 | D13: 45292 | E13: 1276.55 | F13: 1195.2 | G13: 1302.55 | H13: 1194.6 | J13: 0.0681 | L13: Noviembre | M13: ='[1]Actividades 2025'!R6 -> 1100000 | N13: =VLOOKUP(_xlfn.CONCAT(L13,$M$1),$A$2:$J$73,6,0) -> 1357.89 | O13: =O12 -> 1379.58 | P13: =(O13-N13)/O13 -> 0.015722176 | Q13: =M13*P13 -> 17294.394 | S13: Noviembre | T13: ='[1]Actividades 2025'!R11 -> 1566666.7 | U13: =N13 -> 1357.89 | V13: =O13 -> 1379.58 | W13: =(V13-U13)/V13 -> 0.015722176 | X13: =T13*W13 -> 24631.41 | Z13: Noviembre | AA13: ='data S&P500'!AM13 -> 0 | AB13: =U13 -> 1357.89 | AC13: =V13 -> 1379.58 | AD13: =(AC13-AB13)/AC13 -> 0.015722176 | AE13: =AA13*AD13 -> 0
A14: =_xlfn.CONCAT(B14,C14) -> diciembre2023 | B14: diciembre | C14: 2023 | D14: 44938 | E14: 1195.2 | F14: 1146.87 | G14: 1195.2 | H14: 1129.11 | J14: 0.0421 | L14: Diciembre | M14: ='[1]Actividades 2025'!S6 -> 1100000 | N14: =VLOOKUP(_xlfn.CONCAT(L14,$M$1),$A$2:$J$73,6,0) -> 1393.62 | O14: =O13 -> 1379.58 | P14: =(O14-N14)/O14 -> -0.01017701 | Q14: =M14*P14 -> -11194.711 | S14: Diciembre | T14: ='[1]Actividades 2025'!S11 -> 833333.33 | U14: =N14 -> 1393.62 | V14: =O14 -> 1379.58 | W14: =(V14-U14)/V14 -> -0.01017701 | X14: =T14*W14 -> -8480.842 | Z14: Diciembre | AA14: ='data S&P500'!AM14 -> 0 | AB14: =U14 -> 1393.62 | AC14: =V14 -> 1379.58 | AD14: =(AC14-AB14)/AC14 -> -0.01017701 | AE14: =AA14*AD14 -> 0
A15: =_xlfn.CONCAT(B15,C15) -> noviembre2023 | B15: noviembre | C15: 2023 | D15: 44937 | E15: 1146.87 | F15: 1090.51 | G15: 1148.46 | H15: 1086.12 | J15: 0.054 | M15: =SUM(M3:M14) -> 13200000 | P15: =Q15/M15 -> 0.034216332 | Q15: =SUM(Q3:Q14) -> 451655.58 | T15: =SUM(T3:T14) -> 13200000 | W15: =X15/T15 -> 0.035384269 | X15: =SUM(X3:X14) -> 467072.35 | AA15: =SUM(AA3:AA14) -> 0 | AD15: =AE15/AA15 -> #DIV/0! | AE15: =SUM(AE3:AE14) -> 0
A16: =_xlfn.CONCAT(B16,C16) -> octubre2023 | B16: octubre | C16: 2023 | D16: 44936 | E16: 1088.15 | F16: 1121.82 | G16: 1143.05 | H16: 1083.95 | J16: -0.0299
A17: =_xlfn.CONCAT(B17,C17) -> septiembre2023 | B17: septiembre | C17: 2023 | D17: 44935 | E17: 1121.64 | F17: 1076.12 | G17: 1124.61 | H17: 1044.56 | J17: 0.0423 | L17: Año | M17: 2023
A18: =_xlfn.CONCAT(B18,C18) -> agosto2023 | B18: agosto | C18: 2023 | D18: 44934 | E18: 1076.12 | F18: 1175.44 | G18: 1182.34 | H18: 1076.12 | J18: -0.0839
A19: =_xlfn.CONCAT(B19,C19) -> julio2023 | B19: julio | C19: 2023 | D19: 44933 | E19: 1174.7 | F19: 1124.35 | G19: 1182.5 | H19: 1110.71 | J19: 0.0363 | L19: Enero | M19: =M3 -> 1100000 | N19: =VLOOKUP(_xlfn.CONCAT(L19,$M$17),$A$2:$J$73,6,0) -> 1290.95 | O19: =VLOOKUP(_xlfn.CONCAT(L30,M17),$A$1:$E$73,5,0) -> 1195.2 | P19: =(O19-N19)/O19 -> -0.080112115 | Q19: =M19*P19 -> -88123.327 | S19: Enero | T19: =T3 -> 433333.33 | U19: =N19 -> 1290.95 | V19: =O19 -> 1195.2 | W19: =(V19-U19)/V19 -> -0.080112115 | X19: =T19*W19 -> -34715.25 | Z19: Enero | AA19: ='data S&P500'!AM19 -> 0 | AB19: =U19 -> 1290.95 | AC19: =V19 -> 1195.2 | AD19: =(AC19-AB19)/AC19 -> -0.080112115 | AE19: =AA19*AD19 -> 0
A20: =_xlfn.CONCAT(B20,C20) -> junio2023 | B20: junio | C20: 2023 | D20: 44932 | E20: 1133.6 | F20: 1099.03 | G20: 1201.77 | H20: 1098.95 | J20: 0.0315 | L20: Febrero | M20: =M4 -> 1100000 | N20: =VLOOKUP(_xlfn.CONCAT(L20,$M$17),$A$2:$J$73,6,0) -> 1286.53 | O20: =O19 -> 1195.2 | P20: =(O20-N20)/O20 -> -0.076413989 | Q20: =M20*P20 -> -84055.388 | S20: Febrero | T20: =T4 -> 1566666.7 | U20: =N20 -> 1286.53 | V20: =O20 -> 1195.2 | W20: =(V20-U20)/V20 -> -0.076413989 | X20: =T20*W20 -> -119715.25 | Z20: Febrero | AA20: ='data S&P500'!AM20 -> 0 | AB20: =U20 -> 1286.53 | AC20: =V20 -> 1195.2 | AD20: =(AC20-AB20)/AC20 -> -0.076413989 | AE20: =AA20*AD20 -> 0
A21: =_xlfn.CONCAT(B21,C21) -> mayo2023 | B21: mayo | C21: 2023 | D21: 44931 | E21: 1099.03 | F21: 1194.34 | G21: 1194.34 | H21: 1085.14 | J21: -0.0832 | L21: Marzo | M21: =M5 -> 1100000 | N21: =VLOOKUP(_xlfn.CONCAT(L21,$M$17),$A$2:$J$73,6,0) -> 1191.79 | O21: =O20 -> 1195.2 | P21: =(O21-N21)/O21 -> 0.002853079 | Q21: =M21*P21 -> 3138.3869 | S21: Marzo | T21: =T5 -> 1566666.7 | U21: =N21 -> 1191.79 | V21: =O21 -> 1195.2 | W21: =(V21-U21)/V21 -> 0.002853079 | X21: =T21*W21 -> 4469.8237 | Z21: Marzo | AA21: ='data S&P500'!AM21 -> 0 | AB21: =U21 -> 1191.79 | AC21: =V21 -> 1195.2 | AD21: =(AC21-AB21)/AC21 -> 0.002853079 | AE21: =AA21*AD21 -> 0
A22: =_xlfn.CONCAT(B22,C22) -> abril2023 | B22: abril | C22: 2023 | D22: 44930 | E22: 1198.81 | F22: 1168.31 | G22: 1264.18 | H22: 1153.65 | J22: 0.0356 | L22: Abril | M22: =M6 -> 1100000 | N22: =VLOOKUP(_xlfn.CONCAT(L22,$M$17),$A$2:$J$73,6,0) -> 1168.31 | O22: =O21 -> 1195.2 | P22: =(O22-N22)/O22 -> 0.022498327 | Q22: =M22*P22 -> 24748.159 | S22: Abril | T22: =T6 -> 700000 | U22: =N22 -> 1168.31 | V22: =O22 -> 1195.2 | W22: =(V22-U22)/V22 -> 0.022498327 | X22: =T22*W22 -> 15748.829 | Z22: Abril | AA22: ='data S&P500'!AM22 -> 0 | AB22: =U22 -> 1168.31 | AC22: =V22 -> 1195.2 | AD22: =(AC22-AB22)/AC22 -> 0.022498327 | AE22: =AA22*AD22 -> 0
A23: =_xlfn.CONCAT(B23,C23) -> marzo2023 | B23: marzo | C23: 2023 | D23: 44929 | E23: 1157.59 | F23: 1191.79 | G23: 1244.96 | H23: 1084.58 | J23: -0.0252 | L23: Mayo | M23: =M7 -> 1100000 | N23: =VLOOKUP(_xlfn.CONCAT(L23,$M$17),$A$2:$J$73,6,0) -> 1194.34 | O23: =O22 -> 1195.2 | P23: =(O23-N23)/O23 -> 0.00071954485 | Q23: =M23*P23 -> 791.49933 | S23: Mayo | T23: =T7 -> 566666.67 | U23: =N23 -> 1194.34 | V23: =O23 -> 1195.2 | W23: =(V23-U23)/V23 -> 0.00071954485 | X23: =T23*W23 -> 407.74208 | Z23: Mayo | AA23: ='data S&P500'!AM23 -> 0 | AB23: =U23 -> 1194.34 | AC23: =V23 -> 1195.2 | AD23: =(AC23-AB23)/AC23 -> 0.00071954485 | AE23: =AA23*AD23 -> 0
A24: =_xlfn.CONCAT(B24,C24) -> febrero2023 | B24: febrero | C24: 2023 | D24: 44928 | E24: 1187.56 | F24: 1286.53 | G24: 1291.85 | H24: 1182.8 | J24: -0.0795 | L24: Junio | M24: =M8 -> 1100000 | N24: =VLOOKUP(_xlfn.CONCAT(L24,$M$17),$A$2:$J$73,6,0) -> 1099.03 | O24: =O23 -> 1195.2 | P24: =(O24-N24)/O24 -> 0.080463521 | Q24: =M24*P24 -> 88509.873 | S24: Junio | T24: =T8 -> 300000 | U24: =N24 -> 1099.03 | V24: =O24 -> 1195.2 | W24: =(V24-U24)/V24 -> 0.080463521 | X24: =T24*W24 -> 24139.056 | Z24: Junio | AA24: ='data S&P500'!AM24 -> 0 | AB24: =U24 -> 1099.03 | AC24: =V24 -> 1195.2 | AD24: =(AC24-AB24)/AC24 -> 0.080463521 | AE24: =AA24*AD24 -> 0
A25: =_xlfn.CONCAT(B25,C25) -> enero2023 | B25: enero | C25: 2023 | D25: 44927 | E25: 1290.11 | F25: 1290.95 | G25: 1347.58 | H25: 1264.76 | J25: 0.0031 | L25: Julio | M25: =M9 -> 1100000 | N25: =VLOOKUP(_xlfn.CONCAT(L25,$M$17),$A$2:$J$73,6,0) -> 1124.35 | O25: =O24 -> 1195.2 | P25: =(O25-N25)/O25 -> 0.059278782 | Q25: =M25*P25 -> 65206.66 | S25: Julio | T25: =T9 -> 1566666.7 | U25: =N25 -> 1124.35 | V25: =O25 -> 1195.2 | W25: =(V25-U25)/V25 -> 0.059278782 | X25: =T25*W25 -> 92870.091 | Z25: Julio | AA25: ='data S&P500'!AM25 -> 0 | AB25: =U25 -> 1124.35 | AC25: =V25 -> 1195.2 | AD25: =(AC25-AB25)/AC25 -> 0.059278782 | AE25: =AA25*AD25 -> 0
A26: =_xlfn.CONCAT(B26,C26) -> diciembre2022 | B26: diciembre | C26: 2022 | D26: 44573 | E26: 1286.07 | F26: 1235.35 | G26: 1290.11 | H26: 1207.6 | J26: 0.035 | L26: Agosto | M26: =M10 -> 1100000 | N26: =VLOOKUP(_xlfn.CONCAT(L26,$M$17),$A$2:$J$73,6,0) -> 1175.44 | O26: =O25 -> 1195.2 | P26: =(O26-N26)/O26 -> 0.016532798 | Q26: =M26*P26 -> 18186.078 | S26: Agosto | T26: =T10 -> 1566666.7 | U26: =N26 -> 1175.44 | V26: =O26 -> 1195.2 | W26: =(V26-U26)/V26 -> 0.016532798 | X26: =T26*W26 -> 25901.383 | Z26: Agosto | AA26: ='data S&P500'!AM26 -> 0 | AB26: =U26 -> 1175.44 | AC26: =V26 -> 1195.2 | AD26: =(AC26-AB26)/AC26 -> 0.016532798 | AE26: =AA26*AD26 -> 0
A27: =_xlfn.CONCAT(B27,C27) -> noviembre2022 | B27: noviembre | C27: 2022 | D27: 44572 | E27: 1242.63 | F27: 1235.72 | G27: 1295.81 | H27: 1215.51 | J27: 0.009 | L27: Septiembre | M27: =M11 -> 1100000 | N27: =VLOOKUP(_xlfn.CONCAT(L27,$M$17),$A$2:$J$73,6,0) -> 1076.12 | O27: =O26 -> 1195.2 | P27: =(O27-N27)/O27 -> 0.099631861 | Q27: =M27*P27 -> 109595.05 | S27: Septiembre | T27: =T11 -> 966666.67 | U27: =N27 -> 1076.12 | V27: =O27 -> 1195.2 | W27: =(V27-U27)/V27 -> 0.099631861 | X27: =T27*W27 -> 96310.799 | Z27: Septiembre | AA27: ='data S&P500'!AM27 -> 0 | AB27: =U27 -> 1076.12 | AC27: =V27 -> 1195.2 | AD27: =(AC27-AB27)/AC27 -> 0.099631861 | AE27: =AA27*AD27 -> 0
A28: =_xlfn.CONCAT(B28,C28) -> octubre2022 | B28: octubre | C28: 2022 | D28: 44571 | E28: 1231.52 | F28: 1132.29 | G28: 1259.57 | H28: 1131.75 | J28: 0.0915 | L28: Octubre | M28: =M12 -> 1100000 | N28: =VLOOKUP(_xlfn.CONCAT(L28,$M$17),$A$2:$J$73,6,0) -> 1121.82 | O28: =O27 -> 1195.2 | P28: =(O28-N28)/O28 -> 0.061395582 | Q28: =M28*P28 -> 67535.141 | S28: Octubre | T28: =T12 -> 1566666.7 | U28: =N28 -> 1121.82 | V28: =O28 -> 1195.2 | W28: =(V28-U28)/V28 -> 0.061395582 | X28: =T28*W28 -> 96186.412 | Z28: Octubre | AA28: ='data S&P500'!AM28 -> 0 | AB28: =U28 -> 1121.82 | AC28: =V28 -> 1195.2 | AD28: =(AC28-AB28)/AC28 -> 0.061395582 | AE28: =AA28*AD28 -> 0
A29: =_xlfn.CONCAT(B29,C29) -> septiembre2022 | B29: septiembre | C29: 2022 | D29: 44570 | E29: 1128.24 | F29: 1228.65 | G29: 1244.77 | H29: 1108.05 | J29: -0.0815 | L29: Noviembre | M29: =M13 -> 1100000 | N29: =VLOOKUP(_xlfn.CONCAT(L29,$M$17),$A$2:$J$73,6,0) -> 1090.51 | O29: =O28 -> 1195.2 | P29: =(O29-N29)/O29 -> 0.087592035 | Q29: =M29*P29 -> 96351.238 | S29: Noviembre | T29: =T13 -> 1566666.7 | U29: =N29 -> 1090.51 | V29: =O29 -> 1195.2 | W29: =(V29-U29)/V29 -> 0.087592035 | X29: =T29*W29 -> 137227.52 | Z29: Noviembre | AA29: ='data S&P500'!AM29 -> 0 | AB29: =U29 -> 1090.51 | AC29: =V29 -> 1195.2 | AD29: =(AC29-AB29)/AC29 -> 0.087592035 | AE29: =AA29*AD29 -> 0
A30: =_xlfn.CONCAT(B30,C30) -> agosto2022 | B30: agosto | C30: 2022 | D30: 44569 | E30: 1228.33 | F30: 1289.06 | G30: 1343.04 | H30: 1228.33 | J30: -0.0522 | L30: Diciembre | M30: =M14 -> 1100000 | N30: =VLOOKUP(_xlfn.CONCAT(L30,$M$17),$A$2:$J$73,6,0) -> 1146.87 | O30: =O29 -> 1195.2 | P30: =(O30-N30)/O30 -> 0.040436747 | Q30: =M30*P30 -> 44480.422 | S30: Diciembre | T30: =T14 -> 833333.33 | U30: =N30 -> 1146.87 | V30: =O30 -> 1195.2 | W30: =(V30-U30)/V30 -> 0.040436747 | X30: =T30*W30 -> 33697.289 | Z30: Diciembre | AA30: ='data S&P500'!AM30 -> 0 | AB30: =U30 -> 1146.87 | AC30: =V30 -> 1195.2 | AD30: =(AC30-AB30)/AC30 -> 0.040436747 | AE30: =AA30*AD30 -> 0
A31: =_xlfn.CONCAT(B31,C31) -> julio2022 | B31: julio | C31: 2022 | D31: 44568 | E31: 1295.96 | F31: 1324.23 | G31: 1360.73 | H31: 1251.69 | J31: -0.0203 | M31: =SUM(M19:M30) -> 13200000 | P31: =Q31/M31 -> 0.026239681 | Q31: =SUM(Q19:Q30) -> 346363.79 | T31: =SUM(T19:T30) -> 13200000 | W31: =X31/T31 -> 0.028221852 | X31: =SUM(X19:X30) -> 372528.45 | AA31: =SUM(AA19:AA30) -> 0 | AD31: =AE31/AA31 -> #DIV/0! | AE31: =SUM(AE19:AE30) -> 0
A32: =_xlfn.CONCAT(B32,C32) -> junio2022 | B32: junio | C32: 2022 | D32: 44567 | E32: 1322.88 | F32: 1615.11 | G32: 1619.4 | H32: 1322.88 | J32: -0.1749
A33: =_xlfn.CONCAT(B33,C33) -> mayo2022 | B33: mayo | C33: 2022 | D33: 44566 | E33: 1603.23 | F33: 1576.09 | G33: 1619.48 | H33: 1403.32 | J33: 0.0261 | L33: Año | M33: 2022
A34: =_xlfn.CONCAT(B34,C34) -> abril2022 | B34: abril | C34: 2022 | D34: 44565 | E34: 1562.46 | F34: 1616.9 | G34: 1642.41 | H34: 1562.31 | J34: -0.0332
A35: =_xlfn.CONCAT(B35,C35) -> marzo2022 | B35: marzo | C35: 2022 | D35: 44564 | E35: 1616.08 | F35: 1532.5 | G35: 1616.08 | H35: 1506.98 | J35: 0.0578 | L35: Enero | M35: =M19 -> 1100000 | N35: =VLOOKUP(_xlfn.CONCAT(L35,$M$33),$A$2:$J$73,6,0) -> 1410.76 | O35: =VLOOKUP(_xlfn.CONCAT(L46,M33),$A$1:$E$73,5,0) -> 1286.07 | P35: =(O35-N35)/O35 -> -0.096954287 | Q35: =M35*P35 -> -106649.72 | S35: Enero | T35: =T19 -> 433333.33 | U35: =N35 -> 1410.76 | V35: =O35 -> 1286.07 | W35: =(V35-U35)/V35 -> -0.096954287 | X35: =T35*W35 -> -42013.524 | Z35: Enero | AA35: ='data S&P500'!AM35 -> 0 | AB35: =U35 -> 1410.76 | AC35: =V35 -> 1286.07 | AD35: =(AC35-AB35)/AC35 -> -0.096954287 | AE35: =AA35*AD35 -> 0
A36: =_xlfn.CONCAT(B36,C36) -> febrero2022 | B36: febrero | C36: 2022 | D36: 44563 | E36: 1527.75 | F36: 1536.35 | G36: 1564.22 | H36: 1468.71 | J36: -0.006 | L36: Febrero | M36: =M20 -> 1100000 | N36: =VLOOKUP(_xlfn.CONCAT(L36,$M$33),$A$2:$J$73,6,0) -> 1536.35 | O36: =O35 -> 1286.07 | P36: =(O36-N36)/O36 -> -0.19460838 | Q36: =M36*P36 -> -214069.22 | S36: Febrero | T36: =T20 -> 1566666.7 | U36: =N36 -> 1536.35 | V36: =O36 -> 1286.07 | W36: =(V36-U36)/V36 -> -0.19460838 | X36: =T36*W36 -> -304886.46 | Z36: Febrero | AA36: ='data S&P500'!AM36 -> 0 | AB36: =U36 -> 1536.35 | AC36: =V36 -> 1286.07 | AD36: =(AC36-AB36)/AC36 -> -0.19460838 | AE36: =AA36*AD36 -> 0
A37: =_xlfn.CONCAT(B37,C37) -> enero2022 | B37: enero | C37: 2022 | D37: 44562 | E37: 1536.92 | F37: 1410.76 | G37: 1598.15 | H37: 1363.38 | J37: 0.0893 | L37: Marzo | M37: =M21 -> 1100000 | N37: =VLOOKUP(_xlfn.CONCAT(L37,$M$33),$A$2:$J$73,6,0) -> 1532.5 | O37: =O36 -> 1286.07 | P37: =(O37-N37)/O37 -> -0.19161476 | Q37: =M37*P37 -> -210776.24 | S37: Marzo | T37: =T21 -> 1566666.7 | U37: =N37 -> 1532.5 | V37: =O37 -> 1286.07 | W37: =(V37-U37)/V37 -> -0.19161476 | X37: =T37*W37 -> -300196.46 | Z37: Marzo | AA37: ='data S&P500'!AM37 -> 0 | AB37: =U37 -> 1532.5 | AC37: =V37 -> 1286.07 | AD37: =(AC37-AB37)/AC37 -> -0.19161476 | AE37: =AA37*AD37 -> 0
A38: =_xlfn.CONCAT(B38,C38) -> diciembre2021 | B38: diciembre | C38: 2021 | D38: 44208 | E38: 1410.97 | F38: 1396.49 | G38: 1451.32 | H38: 1351.83 | J38: 0.027 | L38: Abril | M38: =M22 -> 1100000 | N38: =VLOOKUP(_xlfn.CONCAT(L38,$M$33),$A$2:$J$73,6,0) -> 1616.9 | O38: =O37 -> 1286.07 | P38: =(O38-N38)/O38 -> -0.25724105 | Q38: =M38*P38 -> -282965.16 | S38: Abril | T38: =T22 -> 700000 | U38: =N38 -> 1616.9 | V38: =O38 -> 1286.07 | W38: =(V38-U38)/V38 -> -0.25724105 | X38: =T38*W38 -> -180068.74 | Z38: Abril | AA38: ='data S&P500'!AM38 -> 0 | AB38: =U38 -> 1616.9 | AC38: =V38 -> 1286.07 | AD38: =(AC38-AB38)/AC38 -> -0.25724105 | AE38: =AA38*AD38 -> 0
A39: =_xlfn.CONCAT(B39,C39) -> noviembre2021 | B39: noviembre | C39: 2021 | D39: 44207 | E39: 1373.84 | F39: 1395.62 | G39: 1409.86 | H39: 1298.64 | J39: -0.0145 | L39: Mayo | M39: =M23 -> 1100000 | N39: =VLOOKUP(_xlfn.CONCAT(L39,$M$33),$A$2:$J$73,6,0) -> 1576.09 | O39: =O38 -> 1286.07 | P39: =(O39-N39)/O39 -> -0.22550872 | Q39: =M39*P39 -> -248059.59 | S39: Mayo | T39: =T23 -> 566666.67 | U39: =N39 -> 1576.09 | V39: =O39 -> 1286.07 | W39: =(V39-U39)/V39 -> -0.22550872 | X39: =T39*W39 -> -127788.27 | Z39: Mayo | AA39: ='data S&P500'!AM39 -> 0 | AB39: =U39 -> 1576.09 | AC39: =V39 -> 1286.07 | AD39: =(AC39-AB39)/AC39 -> -0.22550872 | AE39: =AA39*AD39 -> 0
A40: =_xlfn.CONCAT(B40,C40) -> octubre2021 | B40: octubre | C40: 2021 | D40: 44206 | E40: 1394.04 | F40: 1362.08 | G40: 1429.85 | H40: 1359.3 | J40: 0.0236 | L40: Junio | M40: =M24 -> 1100000 | N40: =VLOOKUP(_xlfn.CONCAT(L40,$M$33),$A$2:$J$73,6,0) -> 1615.11 | O40: =O39 -> 1286.07 | P40: =(O40-N40)/O40 -> -0.25584922 | Q40: =M40*P40 -> -281434.14 | S40: Junio | T40: =T24 -> 300000 | U40: =N40 -> 1615.11 | V40: =O40 -> 1286.07 | W40: =(V40-U40)/V40 -> -0.25584922 | X40: =T40*W40 -> -76754.765 | Z40: Junio | AA40: ='data S&P500'!AM40 -> 0 | AB40: =U40 -> 1615.11 | AC40: =V40 -> 1286.07 | AD40: =(AC40-AB40)/AC40 -> -0.25584922 | AE40: =AA40*AD40 -> 0
...

Sheet data S&P500
A1: aux | B1: mes | C1: año | D1: Date | E1: Price | F1: Open | G1: High | H1: Low | I1: Vol. | J1: Change % | L1: Año | M1: 2024 | AY1: aux | AZ1: mes | BA1: año | BB1: Date | BC1: Price | BD1: Open | BE1: High | BF1: Low | BG1: Vol. | BH1: Change %
A2: =_xlfn.CONCAT(B2,C2) -> diciembre2024 | B2: diciembre | C2: 2024 | D2: 45303 | E2: 586.08 | F2: 602.97 | G2: 609.07 | H2: 580.91 | I2: 1.06B | J2: -0.0273 | AY2: =_xlfn.CONCAT(AZ2,BA2) -> diciembre2024 | AZ2: diciembre | BA2: 2024 | BB2: 45303 | BC2: 4401.96 | BD2: 4432.98 | BE2: 4482.29 | BF2: 4308.12 | BH2: -0.0069
A3: =_xlfn.CONCAT(B3,C3) -> noviembre2024 | B3: noviembre | C3: 2024 | D3: 45302 | E3: 602.55 | F3: 571.32 | G3: 603.35 | H3: 567.89 | I3: 901.84M | J3: 0.0596 | L3: Enero | M3: ='Actividades 2025'!H6 | N3: =VLOOKUP(_xlfn.CONCAT(L3,$M$1),'data S&P500'!$AY$2:$BH$73,6,0) -> 3872.5 | O3: =M3/N3 -> #VALUE! | P3: =VLOOKUP(_xlfn.CONCAT(L3,$M$1),'data S&P500'!$A$2:$J$73,6,0) -> 472.16 | Q3: =VLOOKUP(_xlfn.CONCAT(L14,M1),$A$1:$E$73,5,0) -> 586.08 | R3: =(Q3-P3)/Q3 -> 0.19437619 | S3: =O3*(1+R3) -> #VALUE! | T3: =VLOOKUP(_xlfn.CONCAT(L14,M1),$AY$1:$BC$73,5,0) -> 4401.96 | U3: =T3*S3 -> #VALUE! | V3: =U3-M3 -> #VALUE! | W3: =V3/M3 -> #VALUE! | Y3: Enero | Z3: ='Actividades 2025'!H11 -> #VALUE! | AA3: =N3 -> 3872.5 | AB3: =Z3/AA3 -> #VALUE! | AC3: =P3 -> 472.16 | AD3: =Q3 -> 586.08 | AE3: =(AD3-AC3)/AD3 -> 0.19437619 | AF3: =AB3*(1+AE3) -> #VALUE! | AG3: =T3 -> 4401.96 | AH3: =AG3*AF3 -> #VALUE! | AI3: =AH3-Z3 -> #VALUE! | AJ3: =AI3/Z3 -> #VALUE! | AL3: Enero | AM3: ='Actividades 2025'!H19 -> 0 | AN3: =AA3 -> 3872.5 | AO3: =AM3/AN3 -> 0 | AP3: =AC3 -> 472.16 | AQ3: =AD3 -> 586.08 | AR3: =(AQ3-AP3)/AQ3 -> 0.19437619 | AS3: =AO3*(1+AR3) -> 0 | AT3: =AG3 -> 4401.96 | AU3: =AT3*AS3 -> 0 | AV3: =AU3-AM3 -> 0 | AW3: =AV3/AM3 -> #DIV/0! | AY3: =_xlfn.CONCAT(AZ3,BA3) -> noviembre2024 | AZ3: noviembre | BA3: 2024 | BB3: 45302 | BC3: 4432.5 | BD3: 4427.8 | BE3: 4543.59 | BF3: 4294 | BH3: 0.0017
A4: =_xlfn.CONCAT(B4,C4) -> octubre2024 | B4: octubre | C4: 2024 | D4: 45301 | E4: 568.64 | F4: 573.4 | G4: 586.12 | H4: 565.27 | I4: 976.13M | J4: -0.0089 | L4: Febrero | M4: ='Actividades 2025'!I6 | N4: =VLOOKUP(_xlfn.CONCAT(L4,$M$1),'data S&P500'!$AY$2:$BH$73,6,0) -> 3915.05 | O4: =M4/N4 -> #VALUE! | P4: =VLOOKUP(_xlfn.CONCAT(L4,$M$1),'data S&P500'!$A$2:$J$73,6,0) -> 484.63 | Q4: =Q3 -> 586.08 | R4: =(Q4-P4)/Q4 -> 0.17309924 | S4: =O4*(1+R4) -> #VALUE! | T4: =T3 -> 4401.96 | U4: =T4*S4 -> #VALUE! | V4: =U4-M4 -> #VALUE! | W4: =V4/M4 -> #VALUE! | Y4: Febrero | Z4: ='Actividades 2025'!I11 -> #VALUE! | AA4: =N4 -> 3915.05 | AB4: =Z4/AA4 -> #VALUE! | AC4: =P4 -> 484.63 | AD4: =Q4 -> 586.08 | AE4: =(AD4-AC4)/AD4 -> 0.17309924 | AF4: =AB4*(1+AE4) -> #VALUE! | AG4: =AG3 -> 4401.96 | AH4: =AG4*AF4 -> #VALUE! | AI4: =AH4-Z4 -> #VALUE! | AJ4: =AI4/Z4 -> #VALUE! | AL4: Febrero | AM4: ='Actividades 2025'!I19 -> 0 | AN4: =AA4 -> 3915.05 | AO4: =AM4/AN4 -> 0 | AP4: =AC4 -> 484.63 | AQ4: =AD4 -> 586.08 | AR4: =(AQ4-AP4)/AQ4 -> 0.17309924 | AS4: =AO4*(1+AR4) -> 0 | AT4: =AT3 -> 4401.96 | AU4: =AT4*AS4 -> 0 | AV4: =AU4-AM4 -> 0 | AW4: =AV4/AM4 -> #DIV/0! | AY4: =_xlfn.CONCAT(AZ4,BA4) -> octubre2024 | AZ4: octubre | BA4: 2024 | BB4: 45301 | BC4: 4425.07 | BD4: 4209.5 | BE4: 4435.5 | BF4: 4154.75 | BH4: 0.0521
A5: =_xlfn.CONCAT(B5,C5) -> septiembre2024 | B5: septiembre | C5: 2024 | D5: 45300 | E5: 573.76 | F5: 560.47 | G5: 574.71 | H5: 539.44 | I5: 1.05B | J5: 0.0179 | L5: Marzo | M5: ='Actividades 2025'!J6 | N5: =VLOOKUP(_xlfn.CONCAT(L5,$M$1),'data S&P500'!$AY$2:$BH$73,6,0) -> 3925.76 | O5: =M5/N5 -> #VALUE! | P5: =VLOOKUP(_xlfn.CONCAT(L5,$M$1),'data S&P500'!$A$2:$J$73,6,0) -> 508.98 | Q5: =Q4 -> 586.08 | R5: =(Q5-P5)/Q5 -> 0.13155201 | S5: =O5*(1+R5) -> #VALUE! | T5: =T4 -> 4401.96 | U5: =T5*S5 -> #VALUE! | V5: =U5-M5 -> #VALUE! | W5: =V5/M5 -> #VALUE! | Y5: Marzo | Z5: ='Actividades 2025'!J11 -> #VALUE! | AA5: =N5 -> 3925.76 | AB5: =Z5/AA5 -> #VALUE! | AC5: =P5 -> 508.98 | AD5: =Q5 -> 586.08 | AE5: =(AD5-AC5)/AD5 -> 0.13155201 | AF5: =AB5*(1+AE5) -> #VALUE! | AG5: =AG4 -> 4401.96 | AH5: =AG5*AF5 -> #VALUE! | AI5: =AH5-Z5 -> #VALUE! | AJ5: =AI5/Z5 -> #VALUE! | AL5: Marzo | AM5: ='Actividades 2025'!J19 -> 0 | AN5: =AA5 -> 3925.76 | AO5: =AM5/AN5 -> 0 | AP5: =AC5 -> 508.98 | AQ5: =AD5 -> 586.08 | AR5: =(AQ5-AP5)/AQ5 -> 0.13155201 | AS5: =AO5*(1+AR5) -> 0 | AT5: =AT4 -> 4401.96 | AU5: =AT5*AS5 -> 0 | AV5: =AU5-AM5 -> 0 | AW5: =AV5/AM5 -> #DIV/0! | AY5: =_xlfn.CONCAT(AZ5,BA5) -> septiembre2024 | AZ5: septiembre | BA5: 2024 | BB5: 45300 | BC5: 4205.97 | BD5: 4172.5 | BE5: 4301.37 | BF5: 4121.27 | BH5: 0.0047
A6: =_xlfn.CONCAT(B6,C6) -> agosto2024 | B6: agosto | C6: 2024 | D6: 45299 | E6: 563.68 | F6: 552.57 | G6: 564.2 | H6: 510.27 | I6: 1.24B | J6: 0.0234 | L6: Abril | M6: ='Actividades 2025'!K6 | N6: =VLOOKUP(_xlfn.CONCAT(L6,$M$1),'data S&P500'!$AY$2:$BH$73,6,0) -> 3861.2 | O6: =M6/N6 -> #VALUE! | P6: =VLOOKUP(_xlfn.CONCAT(L6,$M$1),'data S&P500'!$A$2:$J$73,6,0) -> 523.83 | Q6: =Q5 -> 586.08 | R6: =(Q6-P6)/Q6 -> 0.10621417 | S6: =O6*(1+R6) -> #VALUE! | T6: =T5 -> 4401.96 | U6: =T6*S6 -> #VALUE! | V6: =U6-M6 -> #VALUE! | W6: =V6/M6 -> #VALUE! | Y6: Abril | Z6: ='Actividades 2025'!K11 -> #VALUE! | AA6: =N6 -> 3861.2 | AB6: =Z6/AA6 -> #VALUE! | AC6: =P6 -> 523.83 | AD6: =Q6 -> 586.08 | AE6: =(AD6-AC6)/AD6 -> 0.10621417 | AF6: =AB6*(1+AE6) -> #VALUE! | AG6: =AG5 -> 4401.96 | AH6: =AG6*AF6 -> #VALUE! | AI6: =AH6-Z6 -> #VALUE! | AJ6: =AI6/Z6 -> #VALUE! | AL6: Abril | AM6: ='Actividades 2025'!K19 -> 0 | AN6: =AA6 -> 3861.2 | AO6: =AM6/AN6 -> 0 | AP6: =AC6 -> 523.83 | AQ6: =AD6 -> 586.08 | AR6: =(AQ6-AP6)/AQ6 -> 0.10621417 | AS6: =AO6*(1+AR6) -> 0 | AT6: =AT5 -> 4401.96 | AU6: =AT6*AS6 -> 0 | AV6: =AU6-AM6 -> 0 | AW6: =AV6/AM6 -> #DIV/0! | AY6: =_xlfn.CONCAT(AZ6,BA6) -> agosto2024 | AZ6: agosto | BA6: 2024 | BB6: 45299 | BC6: 4186.5 | BD6: 4050.2 | BE6: 4209.52 | BF6: 3999 | BH6: 0.0343
A7: =_xlfn.CONCAT(B7,C7) -> julio2024 | B7: julio | C7: 2024 | D7: 45298 | E7: 550.81 | F7: 545.63 | G7: 565.16 | H7: 537.45 | I7: 1.04B | J7: 0.0121 | L7: Mayo | M7: ='Actividades 2025'!L6 | N7: =VLOOKUP(_xlfn.CONCAT(L7,$M$1),'data S&P500'!$AY$2:$BH$73,6,0) -> 3917 | O7: =M7/N7 -> #VALUE! | P7: =VLOOKUP(_xlfn.CONCAT(L7,$M$1),'data S&P500'!$A$2:$J$73,6,0) -> 501.38 | Q7: =Q6 -> 586.08 | R7: =(Q7-P7)/Q7 -> 0.14451952 | S7: =O7*(1+R7) -> #VALUE! | T7: =T6 -> 4401.96 | U7: =T7*S7 -> #VALUE! | V7: =U7-M7 -> #VALUE! | W7: =V7/M7 -> #VALUE! | Y7: Mayo | Z7: ='Actividades 2025'!L11 -> #VALUE! | AA7: =N7 -> 3917 | AB7: =Z7/AA7 -> #VALUE! | AC7: =P7 -> 501.38 | AD7: =Q7 -> 586.08 | AE7: =(AD7-AC7)/AD7 -> 0.14451952 | AF7: =AB7*(1+AE7) -> #VALUE! | AG7: =AG6 -> 4401.96 | AH7: =AG7*AF7 -> #VALUE! | AI7: =AH7-Z7 -> #VALUE! | AJ7: =AI7/Z7 -> #VALUE! | AL7: Mayo | AM7: ='Actividades 2025'!L19 -> 0 | AN7: =AA7 -> 3917 | AO7: =AM7/AN7 -> 0 | AP7: =AC7 -> 501.38 | AQ7: =AD7 -> 586.08 | AR7: =(AQ7-AP7)/AQ7 -> 0.14451952 | AS7: =AO7*(1+AR7) -> 0 | AT7: =AT6 -> 4401.96 | AU7: =AT7*AS7 -> 0 | AV7: =AU7-AM7 -> 0 | AW7: =AV7/AM7 -> #DIV/0! | AY7: =_xlfn.CONCAT(AZ7,BA7) -> julio2024 | AZ7: julio | BA7: 2024 | BB7: 45298 | BC7: 4047.59 | BD7: 4148.63 | BE7: 4155.01 | BF7: 3916.13 | BH7: -0.0244
A8: =_xlfn.CONCAT(B8,C8) -> junio2024 | B8: junio | C8: 2024 | D8: 45297 | E8: 544.22 | F8: 529.02 | G8: 550.28 | H8: 522.6 | I8: 888.92M | J8: 0.032 | L8: Junio | M8: ='Actividades 2025'!M6 | N8: =VLOOKUP(_xlfn.CONCAT(L8,$M$1),'data S&P500'!$AY$2:$BH$73,6,0) -> 3874 | O8: =M8/N8 -> #VALUE! | P8: =VLOOKUP(_xlfn.CONCAT(L8,$M$1),'data S&P500'!$A$2:$J$73,6,0) -> 529.02 | Q8: =Q7 -> 586.08 | R8: =(Q8-P8)/Q8 -> 0.097358722 | S8: =O8*(1+R8) -> #VALUE! | T8: =T7 -> 4401.96 | U8: =T8*S8 -> #VALUE! | V8: =U8-M8 -> #VALUE! | W8: =V8/M8 -> #VALUE! | Y8: Junio | Z8: ='Actividades 2025'!M11 -> #VALUE! | AA8: =N8 -> 3874 | AB8: =Z8/AA8 -> #VALUE! | AC8: =P8 -> 529.02 | AD8: =Q8 -> 586.08 | AE8: =(AD8-AC8)/AD8 -> 0.097358722 | AF8: =AB8*(1+AE8) -> #VALUE! | AG8: =AG7 -> 4401.96 | AH8: =AG8*AF8 -> #VALUE! | AI8: =AH8-Z8 -> #VALUE! | AJ8: =AI8/Z8 -> #VALUE! | AL8: Junio | AM8: ='Actividades 2025'!M19 -> 0 | AN8: =AA8 -> 3874 | AO8: =AM8/AN8 -> 0 | AP8: =AC8 -> 529.02 | AQ8: =AD8 -> 586.08 | AR8: =(AQ8-AP8)/AQ8 -> 0.097358722 | AS8: =AO8*(1+AR8) -> 0 | AT8: =AT7 -> 4401.96 | AU8: =AT8*AS8 -> 0 | AV8: =AU8-AM8 -> 0 | AW8: =AV8/AM8 -> #DIV/0! | AY8: =_xlfn.CONCAT(AZ8,BA8) -> junio2024 | AZ8: junio | BA8: 2024 | BB8: 45297 | BC8: 4148.65 | BD8: 3874 | BE8: 4191.5 | BF8: 3854.07 | BH8: 0.0761
A9: =_xlfn.CONCAT(B9,C9) -> mayo2024 | B9: mayo | C9: 2024 | D9: 45296 | E9: 527.37 | F9: 501.38 | G9: 533.07 | H9: 499.55 | I9: 1.15B | J9: 0.0506 | L9: Julio | M9: ='Actividades 2025'!N6 | N9: =VLOOKUP(_xlfn.CONCAT(L9,$M$1),'data S&P500'!$AY$2:$BH$73,6,0) -> 4148.63 | O9: =M9/N9 -> #VALUE! | P9: =VLOOKUP(_xlfn.CONCAT(L9,$M$1),'data S&P500'!$A$2:$J$73,6,0) -> 545.63 | Q9: =Q8 -> 586.08 | R9: =(Q9-P9)/Q9 -> 0.069017882 | S9: =O9*(1+R9) -> #VALUE! | T9: =T8 -> 4401.96 | U9: =T9*S9 -> #VALUE! | V9: =U9-M9 -> #VALUE! | W9: =V9/M9 -> #VALUE! | Y9: Julio | Z9: ='Actividades 2025'!N11 -> #VALUE! | AA9: =N9 -> 4148.63 | AB9: =Z9/AA9 -> #VALUE! | AC9: =P9 -> 545.63 | AD9: =Q9 -> 586.08 | AE9: =(AD9-AC9)/AD9 -> 0.069017882 | AF9: =AB9*(1+AE9) -> #VALUE! | AG9: =AG8 -> 4401.96 | AH9: =AG9*AF9 -> #VALUE! | AI9: =AH9-Z9 -> #VALUE! | AJ9: =AI9/Z9 -> #VALUE! | AL9: Julio | AM9: ='Actividades 2025'!N19 -> 0 | AN9: =AA9 -> 4148.63 | AO9: =AM9/AN9 -> 0 | AP9: =AC9 -> 545.63 | AQ9: =AD9 -> 586.08 | AR9: =(AQ9-AP9)/AQ9 -> 0.069017882 | AS9: =AO9*(1+AR9) -> 0 | AT9: =AT8 -> 4401.96 | AU9: =AT9*AS9 -> 0 | AV9: =AU9-AM9 -> 0 | AW9: =AV9/AM9 -> #DIV/0! | AY9: =_xlfn.CONCAT(AZ9,BA9) -> mayo2024 | AZ9: mayo | BA9: 2024 | BB9: 45296 | BC9: 3855.16 | BD9: 3917 | BE9: 3924.22 | BF9: 3807.69 | BH9: -0.0167
A10: =_xlfn.CONCAT(B10,C10) -> abril2024 | B10: abril | C10: 2024 | D10: 45295 | E10: 501.98 | F10: 523.83 | G10: 524.38 | H10: 493.86 | I10: 1.59B | J10: -0.0403 | L10: Agosto | M10: ='Actividades 2025'!O6 | N10: =VLOOKUP(_xlfn.CONCAT(L10,$M$1),'data S&P500'!$AY$2:$BH$73,6,0) -> 4050.2 | O10: =M10/N10 -> #VALUE! | P10: =VLOOKUP(_xlfn.CONCAT(L10,$M$1),'data S&P500'!$A$2:$J$73,6,0) -> 552.57 | Q10: =Q9 -> 586.08 | R10: =(Q10-P10)/Q10 -> 0.057176495 | S10: =O10*(1+R10) -> #VALUE! | T10: =T9 -> 4401.96 | U10: =T10*S10 -> #VALUE! | V10: =U10-M10 -> #VALUE! | W10: =V10/M10 -> #VALUE! | Y10: Agosto | Z10: ='Actividades 2025'!O11 -> #VALUE! | AA10: =N10 -> 4050.2 | AB10: =Z10/AA10 -> #VALUE! | AC10: =P10 -> 552.57 | AD10: =Q10 -> 586.08 | AE10: =(AD10-AC10)/AD10 -> 0.057176495 | AF10: =AB10*(1+AE10) -> #VALUE! | AG10: =AG9 -> 4401.96 | AH10: =AG10*AF10 -> #VALUE! | AI10: =AH10-Z10 -> #VALUE! | AJ10: =AI10/Z10 -> #VALUE! | AL10: Agosto | AM10: ='Actividades 2025'!O19 -> 0 | AN10: =AA10 -> 4050.2 | AO10: =AM10/AN10 -> 0 | AP10: =AC10 -> 552.57 | AQ10: =AD10 -> 586.08 | AR10: =(AQ10-AP10)/AQ10 -> 0.057176495 | AS10: =AO10*(1+AR10) -> 0 | AT10: =AT9 -> 4401.96 | AU10: =AT10*AS10 -> 0 | AV10: =AU10-AM10 -> 0 | AW10: =AV10/AM10 -> #DIV/0! | AY10: =_xlfn.CONCAT(AZ10,BA10) -> abril2024 | AZ10: abril | BA10: 2024 | BB10: 45295 | BC10: 3920.5 | BD10: 3861.2 | BE10: 3974.3 | BF10: 3740.25 | BH10: 0.0165
A11: =_xlfn.CONCAT(B11,C11) -> marzo2024 | B11: marzo | C11: 2024 | D11: 45294 | E11: 523.07 | F11: 508.98 | G11: 524.61 | H11: 504.91 | I11: 1.47B | J11: 0.0295 | L11: Septiembre | M11: ='Actividades 2025'!P6 | N11: =VLOOKUP(_xlfn.CONCAT(L11,$M$1),'data S&P500'!$AY$2:$BH$73,6,0) -> 4172.5 | O11: =M11/N11 -> #VALUE! | P11: =VLOOKUP(_xlfn.CONCAT(L11,$M$1),'data S&P500'!$A$2:$J$73,6,0) -> 560.47 | Q11: =Q10 -> 586.08 | R11: =(Q11-P11)/Q11 -> 0.043697106 | S11: =O11*(1+R11) -> #VALUE! | T11: =T10 -> 4401.96 | U11: =T11*S11 -> #VALUE! | V11: =U11-M11 -> #VALUE! | W11: =V11/M11 -> #VALUE! | Y11: Septiembre | Z11: ='Actividades 2025'!P11 -> #VALUE! | AA11: =N11 -> 4172.5 | AB11: =Z11/AA11 -> #VALUE! | AC11: =P11 -> 560.47 | AD11: =Q11 -> 586.08 | AE11: =(AD11-AC11)/AD11 -> 0.043697106 | AF11: =AB11*(1+AE11) -> #VALUE! | AG11: =AG10 -> 4401.96 | AH11: =AG11*AF11 -> #VALUE! | AI11: =AH11-Z11 -> #VALUE! | AJ11: =AI11/Z11 -> #VALUE! | AL11: Septiembre | AM11: ='Actividades 2025'!P19 -> 0 | AN11: =AA11 -> 4172.5 | AO11: =AM11/AN11 -> 0 | AP11: =AC11 -> 560.47 | AQ11: =AD11 -> 586.08 | AR11: =(AQ11-AP11)/AQ11 -> 0.043697106 | AS11: =AO11*(1+AR11) -> 0 | AT11: =AT10 -> 4401.96 | AU11: =AT11*AS11 -> 0 | AV11: =AU11-AM11 -> 0 | AW11: =AV11/AM11 -> #DIV/0! | AY11: =_xlfn.CONCAT(AZ11,BA11) -> marzo2024 | AZ11: marzo | BA11: 2024 | BB11: 45294 | BC11: 3857 | BD11: 3925.76 | BE11: 3964.35 | BF11: 3827.58 | BH11: -0.0162
A12: =_xlfn.CONCAT(B12,C12) -> febrero2024 | B12: febrero | C12: 2024 | D12: 45293 | E12: 508.08 | F12: 484.63 | G12: 510.13 | H12: 483.8 | I12: 1.39B | J12: 0.0522 | L12: Octubre | M12: ='Actividades 2025'!Q6 | N12: =VLOOKUP(_xlfn.CONCAT(L12,$M$1),'data S&P500'!$AY$2:$BH$73,6,0) -> 4209.5 | O12: =M12/N12 -> #VALUE! | P12: =VLOOKUP(_xlfn.CONCAT(L12,$M$1),'data S&P500'!$A$2:$J$73,6,0) -> 573.4 | Q12: =Q11 -> 586.08 | R12: =(Q12-P12)/Q12 -> 0.021635272 | S12: =O12*(1+R12) -> #VALUE! | T12: =T11 -> 4401.96 | U12: =T12*S12 -> #VALUE! | V12: =U12-M12 -> #VALUE! | W12: =V12/M12 -> #VALUE! | Y12: Octubre | Z12: ='Actividades 2025'!Q11 -> #VALUE! | AA12: =N12 -> 4209.5 | AB12: =Z12/AA12 -> #VALUE! | AC12: =P12 -> 573.4 | AD12: =Q12 -> 586.08 | AE12: =(AD12-AC12)/AD12 -> 0.021635272 | AF12: =AB12*(1+AE12) -> #VALUE! | AG12: =AG11 -> 4401.96 | AH12: =AG12*AF12 -> #VALUE! | AI12: =AH12-Z12 -> #VALUE! | AJ12: =AI12/Z12 -> #VALUE! | AL12: Octubre | AM12: ='Actividades 2025'!Q19 -> 0 | AN12: =AA12 -> 4209.5 | AO12: =AM12/AN12 -> 0 | AP12: =AC12 -> 573.4 | AQ12: =AD12 -> 586.08 | AR12: =(AQ12-AP12)/AQ12 -> 0.021635272 | AS12: =AO12*(1+AR12) -> 0 | AT12: =AT11 -> 4401.96 | AU12: =AT12*AS12 -> 0 | AV12: =AU12-AM12 -> 0 | AW12: =AV12/AM12 -> #DIV/0! | AY12: =_xlfn.CONCAT(AZ12,BA12) -> febrero2024 | AZ12: febrero | BA12: 2024 | BB12: 45293 | BC12: 3920.51 | BD12: 3915.05 | BE12: 3985.26 | BF12: 3879.07 | BH12: 0.0064
A13: =_xlfn.CONCAT(B13,C13) -> enero2024 | B13: enero | C13: 2024 | D13: 45292 | E13: 482.88 | F13: 472.16 | G13: 491.62 | H13: 466.43 | I13: 1.70B | J13: 0.0159 | L13: Noviembre | M13: ='Actividades 2025'!R6 | N13: =VLOOKUP(_xlfn.CONCAT(L13,$M$1),'data S&P500'!$AY$2:$BH$73,6,0) -> 4427.8 | O13: =M13/N13 -> #VALUE! | P13: =VLOOKUP(_xlfn.CONCAT(L13,$M$1),'data S&P500'!$A$2:$J$73,6,0) -> 571.32 | Q13: =Q12 -> 586.08 | R13: =(Q13-P13)/Q13 -> 0.025184275 | S13: =O13*(1+R13) -> #VALUE! | T13: =T12 -> 4401.96 | U13: =T13*S13 -> #VALUE! | V13: =U13-M13 -> #VALUE! | W13: =V13/M13 -> #VALUE! | Y13: Noviembre | Z13: ='Actividades 2025'!R11 -> #VALUE! | AA13: =N13 -> 4427.8 | AB13: =Z13/AA13 -> #VALUE! | AC13: =P13 -> 571.32 | AD13: =Q13 -> 586.08 | AE13: =(AD13-AC13)/AD13 -> 0.025184275 | AF13: =AB13*(1+AE13) -> #VALUE! | AG13: =AG12 -> 4401.96 | AH13: =AG13*AF13 -> #VALUE! | AI13: =AH13-Z13 -> #VALUE! | AJ13: =AI13/Z13 -> #VALUE! | AL13: Noviembre | AM13: ='Actividades 2025'!R19 -> 0 | AN13: =AA13 -> 4427.8 | AO13: =AM13/AN13 -> 0 | AP13: =AC13 -> 571.32 | AQ13: =AD13 -> 586.08 | AR13: =(AQ13-AP13)/AQ13 -> 0.025184275 | AS13: =AO13*(1+AR13) -> 0 | AT13: =AT12 -> 4401.96 | AU13: =AT13*AS13 -> 0 | AV13: =AU13-AM13 -> 0 | AW13: =AV13/AM13 -> #DIV/0! | AY13: =_xlfn.CONCAT(AZ13,BA13) -> enero2024 | AZ13: enero | BA13: 2024 | BB13: 45292 | BC13: 3895.5 | BD13: 3872.5 | BE13: 3986.2 | BF13: 3865.94 | BH13: 0.0059
