Workbook

Sheet Resumen cuentas
B4: RESUMEN CUENTAS DE RENTABILIDAD
B5: Cuenta | C5: Cuenta | E5: Capital inicial | F5: Capital adicional | G5: Retiros | H5: Rendimientos | I5: Retefuente | J5: Capital actual
B6: =IF(D6>0,1,"") -> 1 | C6: =IF(COUNTA('Cuenta 1'!H2>0),'Cuenta 1'!H2,"") -> NU | D6: =COUNTA(C6) -> 1 | E6: =IF(D6>0,'Cuenta 1'!$C$2,"") -> 5000000 | F6: =IF(D6>0,SUM('Cuenta 1'!$F$8:$F$1004),"") -> 3000000 | G6: =IF(D6>0,SUM('Cuenta 1'!$G$8:$G$1004),"") -> 450000 | H6: =IF(D6>0,SUM('Cuenta 1'!$H$8:$H$1004),"") -> 185427.91 | I6: =IF(D6>0,SUM('Cuenta 1'!$I$8:$I$1004),"") -> 0 | J6: =IF(D6>0,E6+F6-G6+H6,"") -> 7735427.9
B7: =IF(D7>0,2,"") -> 2 | C7: =IF(COUNTA('Cuenta 2'!$H$2>0),'Cuenta 2'!$H$2,"") -> LULO BANK | D7: =COUNTA(C7) -> 1 | E7: =IF(D7>0,'Cuenta 2'!$C$2,"") -> 0 | F7: =IF(D7>0,SUM('Cuenta 2'!$F$8:$F$1004),"") -> 0 | G7: =IF(D7>0,SUM('Cuenta 2'!$G$8:$G$1004),"") -> 0 | H7: =IF(D7>0,SUM('Cuenta 2'!$H$8:$H$1004),"") -> 0 | I7: =IF(D7>0,SUM('Cuenta 2'!$I$8:$I$1004),"") -> 0 | J7: =IF(D7>0,E7+F7-G7+H7,"") -> 0
B8: =IF(D8>0,3,"") -> 3 | C8: =IF(COUNTA('Cuenta 3'!$H$2>0),'Cuenta 3'!$H$2,"") -> UALA | D8: =COUNTA(C8) -> 1 | E8: =IF(D8>0,'Cuenta 3'!$C$2,"") -> 0 | F8: =IF(D8>0,SUM('Cuenta 3'!$F$8:$F$1004),"") -> 0 | G8: =IF(D8>0,SUM('Cuenta 3'!$G$8:$G$1004),"") -> 0 | H8: =IF(D8>0,SUM('Cuenta 3'!$H$8:$H$1004),"") -> 0 | I8: =IF(D8>0,SUM('Cuenta 3'!$I$8:$I$1004),"") -> 0 | J8: =IF(D8>0,E8+F8-G8+H8,"") -> 0
B9: =IF(D9>0,4,"") -> 4 | C9: =IF(COUNTA('Cuenta 4'!$H$2>0),'Cuenta 4'!$H$2,"") -> RAPPIPAY | D9: =COUNTA(C9) -> 1 | E9: =IF(D9>0,'Cuenta 4'!$C$2,"") -> 0 | F9: =IF(D9>0,SUM('Cuenta 4'!$F$8:$F$1004),"") -> 0 | G9: =IF(D9>0,SUM('Cuenta 4'!$G$8:$G$1004),"") -> 0 | H9: =IF(D9>0,SUM('Cuenta 4'!$H$8:$H$1004),"") -> 0 | I9: =IF(D9>0,SUM('Cuenta 4'!$I$8:$I$1004),"") -> 0 | J9: =IF(D9>0,E9+F9-G9+H9,"") -> 0
B10: =IF(D10>0,5,"") -> 5 | C10: =IF(COUNTA('Cuenta 5'!$H$2>0),'Cuenta 5'!$H$2,"") -> PIBANK | D10: =COUNTA(C10) -> 1 | E10: =IF(D10>0,'Cuenta 5'!$C$2,"") -> 0 | F10: =IF(D10>0,SUM('Cuenta 5'!$F$8:$F$1004),"") -> 0 | G10: =IF(D10>0,SUM('Cuenta 5'!$G$8:$G$1004),"") -> 0 | H10: =IF(D10>0,SUM('Cuenta 5'!$H$8:$H$1004),"") -> 0 | I10: =IF(D10>0,SUM('Cuenta 5'!$I$8:$I$1004),"") -> 0 | J10: =IF(D10>0,E10+F10-G10+H10,"") -> 0
B11: =IF(D11>0,6,"") -> 6 | C11: =IF(COUNTA('Cuenta 6'!$H$2>0),'Cuenta 6'!$H$2,"") -> GLOBAL 66 | D11: =COUNTA(C11) -> 1 | E11: =IF(D11>0,'Cuenta 6'!$C$2,"") -> 0 | F11: =IF(D11>0,SUM('Cuenta 6'!$F$8:$F$1004),"") -> 0 | G11: =IF(D11>0,SUM('Cuenta 6'!$G$8:$G$1004),"") -> 0 | H11: =IF(D11>0,SUM('Cuenta 6'!$H$8:$H$1004),"") -> 0 | I11: =IF(D11>0,SUM('Cuenta 6'!$I$8:$I$1004),"") -> 0 | J11: =IF(D11>0,E11+F11-G11+H11,"") -> 0

Sheet Cuenta 1
B2: Capital inicial | C2: 5000000 | F2: NOMBRE BANCO | H2: NU
B4: Fecha | C4: Capital
B5: 45659 | C5: =VLOOKUP(B5,$B$8:$J$372,9) -> 5002860
I6: 2738
B7: Fecha | C7: Tasa EA | D7: Tasa diaria | E7: Capital | F7: Ingreso dinero | G7: Salidas | H7: Rendimientos | I7: Retefuente | J7: Capital final
B8: 45658 | C8: 0.11 | D8: =((1+C8)^(1/365))-1 -> 0.00028595873 | E8: =C2 -> 5000000 | H8: =(E8+F8-G8)*(D8) -> 1429.7936 | I8: =IF(H8>$I$6,H8*7%,0) -> 0 | J8: =E8+F8-G8+H8-I8 -> 5001429.8
B9: 45659 | C9: 0.11 | D9: =((1+C9)^(1/365))-1 -> 0.00028595873 | E9: =J8 -> 5001429.8 | H9: =(E9+F9-G9)*(D9) -> 1430.2025 | I9: =IF(H9>$I$6,H9*7%,0) -> 0 | J9: =E9+F9-G9+H9-I9 -> 5002860
B10: 45660 | C10: 0.11 | D10: =((1+C10)^(1/365))-1 -> 0.00028595873 | E10: =J9 -> 5002860 | H10: =(E10+F10-G10)*(D10) -> 1430.6115 | I10: =IF(H10>$I$6,H10*7%,0) -> 0 | J10: =E10+F10-G10+H10-I10 -> 5004290.6
B11: 45661 | C11: 0.11 | D11: =((1+C11)^(1/365))-1 -> 0.00028595873 | E11: =J10 -> 5004290.6 | H11: =(E11+F11-G11)*(D11) -> 1431.0206 | I11: =IF(H11>$I$6,H11*7%,0) -> 0 | J11: =E11+F11-G11+H11-I11 -> 5005721.6
B12: 45662 | C12: 0.11 | D12: =((1+C12)^(1/365))-1 -> 0.00028595873 | E12: =J11 -> 5005721.6 | H12: =(E12+F12-G12)*(D12) -> 1431.4298 | I12: =IF(H12>$I$6,H12*7%,0) -> 0 | J12: =E12+F12-G12+H12-I12 -> 5007153.1
B13: 45663 | C13: 0.11 | D13: =((1+C13)^(1/365))-1 -> 0.00028595873 | E13: =J12 -> 5007153.1 | H13: =(E13+F13-G13)*(D13) -> 1431.8391 | I13: =IF(H13>$I$6,H13*7%,0) -> 0 | J13: =E13+F13-G13+H13-I13 -> 5008584.9
B14: 45664 | C14: 0.11 | D14: =((1+C14)^(1/365))-1 -> 0.00028595873 | E14: =J13 -> 5008584.9 | F14: 500000 | H14: =(E14+F14-G14)*(D14) -> 1575.2279 | I14: =IF(H14>$I$6,H14*7%,0) -> 0 | J14: =E14+F14-G14+H14-I14 -> 5510160.1
B15: 45665 | C15: 0.11 | D15: =((1+C15)^(1/365))-1 -> 0.00028595873 | E15: =J14 -> 5510160.1 | H15: =(E15+F15-G15)*(D15) -> 1575.6784 | I15: =IF(H15>$I$6,H15*7%,0) -> 0 | J15: =E15+F15-G15+H15-I15 -> 5511735.8
B16: 45666 | C16: 0.11 | D16: =((1+C16)^(1/365))-1 -> 0.00028595873 | E16: =J15 -> 5511735.8 | H16: =(E16+F16-G16)*(D16) -> 1576.129 | I16: =IF(H16>$I$6,H16*7%,0) -> 0 | J16: =E16+F16-G16+H16-I16 -> 5513311.9
B17: 45667 | C17: 0.11 | D17: =((1+C17)^(1/365))-1 -> 0.00028595873 | E17: =J16 -> 5513311.9 | F17: 1000000 | H17: =(E17+F17-G17)*(D17) -> 1862.5384 | I17: =IF(H17>$I$6,H17*7%,0) -> 0 | J17: =E17+F17-G17+H17-I17 -> 6515174.5
B18: 45668 | C18: 0.11 | D18: =((1+C18)^(1/365))-1 -> 0.00028595873 | E18: =J17 -> 6515174.5 | H18: =(E18+F18-G18)*(D18) -> 1863.071 | I18: =IF(H18>$I$6,H18*7%,0) -> 0 | J18: =E18+F18-G18+H18-I18 -> 6517037.5
B19: 45669 | C19: 0.11 | D19: =((1+C19)^(1/365))-1 -> 0.00028595873 | E19: =J18 -> 6517037.5 | H19: =(E19+F19-G19)*(D19) -> 1863.6038 | I19: =IF(H19>$I$6,H19*7%,0) -> 0 | J19: =E19+F19-G19+H19-I19 -> 6518901.1
B20: 45670 | C20: 0.11 | D20: =((1+C20)^(1/365))-1 -> 0.00028595873 | E20: =J19 -> 6518901.1 | H20: =(E20+F20-G20)*(D20) -> 1864.1367 | I20: =IF(H20>$I$6,H20*7%,0) -> 0 | J20: =E20+F20-G20+H20-I20 -> 6520765.3
B21: 45671 | C21: 0.11 | D21: =((1+C21)^(1/365))-1 -> 0.00028595873 | E21: =J20 -> 6520765.3 | G21: 300000 | H21: =(E21+F21-G21)*(D21) -> 1778.8821 | I21: =IF(H21>$I$6,H21*7%,0) -> 0 | J21: =E21+F21-G21+H21-I21 -> 6222544.2
B22: 45672 | C22: 0.11 | D22: =((1+C22)^(1/365))-1 -> 0.00028595873 | E22: =J21 -> 6222544.2 | H22: =(E22+F22-G22)*(D22) -> 1779.3908 | I22: =IF(H22>$I$6,H22*7%,0) -> 0 | J22: =E22+F22-G22+H22-I22 -> 6224323.6
B23: 45673 | C23: 0.11 | D23: =((1+C23)^(1/365))-1 -> 0.00028595873 | E23: =J22 -> 6224323.6 | H23: =(E23+F23-G23)*(D23) -> 1779.8997 | I23: =IF(H23>$I$6,H23*7%,0) -> 0 | J23: =E23+F23-G23+H23-I23 -> 6226103.5
B24: 45674 | C24: 0.11 | D24: =((1+C24)^(1/365))-1 -> 0.00028595873 | E24: =J23 -> 6226103.5 | H24: =(E24+F24-G24)*(D24) -> 1780.4086 | I24: =IF(H24>$I$6,H24*7%,0) -> 0 | J24: =E24+F24-G24+H24-I24 -> 6227883.9
B25: 45675 | C25: 0.11 | D25: =((1+C25)^(1/365))-1 -> 0.00028595873 | E25: =J24 -> 6227883.9 | G25: 150000 | H25: =(E25+F25-G25)*(D25) -> 1738.0239 | I25: =IF(H25>$I$6,H25*7%,0) -> 0 | J25: =E25+F25-G25+H25-I25 -> 6079621.9
B26: 45676 | C26: 0.11 | D26: =((1+C26)^(1/365))-1 -> 0.00028595873 | E26: =J25 -> 6079621.9 | H26: =(E26+F26-G26)*(D26) -> 1738.5209 | I26: =IF(H26>$I$6,H26*7%,0) -> 0 | J26: =E26+F26-G26+H26-I26 -> 6081360.4
B27: 45677 | C27: 0.11 | D27: =((1+C27)^(1/365))-1 -> 0.00028595873 | E27: =J26 -> 6081360.4 | H27: =(E27+F27-G27)*(D27) -> 1739.0181 | I27: =IF(H27>$I$6,H27*7%,0) -> 0 | J27: =E27+F27-G27+H27-I27 -> 6083099.4
B28: 45678 | C28: 0.11 | D28: =((1+C28)^(1/365))-1 -> 0.00028595873 | E28: =J27 -> 6083099.4 | H28: =(E28+F28-G28)*(D28) -> 1739.5154 | I28: =IF(H28>$I$6,H28*7%,0) -> 0 | J28: =E28+F28-G28+H28-I28 -> 6084838.9
B29: 45679 | C29: 0.11 | D29: =((1+C29)^(1/365))-1 -> 0.00028595873 | E29: =J28 -> 6084838.9 | H29: =(E29+F29-G29)*(D29) -> 1740.0128 | I29: =IF(H29>$I$6,H29*7%,0) -> 0 | J29: =E29+F29-G29+H29-I29 -> 6086579
B30: 45680 | C30: 0.11 | D30: =((1+C30)^(1/365))-1 -> 0.00028595873 | E30: =J29 -> 6086579 | F30: 1500000 | H30: =(E30+F30-G30)*(D30) -> 2169.4485 | I30: =IF(H30>$I$6,H30*7%,0) -> 0 | J30: =E30+F30-G30+H30-I30 -> 7588748.4
B31: 45681 | C31: 0.11 | D31: =((1+C31)^(1/365))-1 -> 0.00028595873 | E31: =J30 -> 7588748.4 | H31: =(E31+F31-G31)*(D31) -> 2170.0688 | I31: =IF(H31>$I$6,H31*7%,0) -> 0 | J31: =E31+F31-G31+H31-I31 -> 7590918.5
B32: 45682 | C32: 0.11 | D32: =((1+C32)^(1/365))-1 -> 0.00028595873 | E32: =J31 -> 7590918.5 | H32: =(E32+F32-G32)*(D32) -> 2170.6894 | I32: =IF(H32>$I$6,H32*7%,0) -> 0 | J32: =E32+F32-G32+H32-I32 -> 7593089.2
B33: 45683 | C33: 0.11 | D33: =((1+C33)^(1/365))-1 -> 0.00028595873 | E33: =J32 -> 7593089.2 | H33: =(E33+F33-G33)*(D33) -> 2171.3101 | I33: =IF(H33>$I$6,H33*7%,0) -> 0 | J33: =E33+F33-G33+H33-I33 -> 7595260.5
B34: 45684 | C34: 0.11 | D34: =((1+C34)^(1/365))-1 -> 0.00028595873 | E34: =J33 -> 7595260.5 | H34: =(E34+F34-G34)*(D34) -> 2171.931 | I34: =IF(H34>$I$6,H34*7%,0) -> 0 | J34: =E34+F34-G34+H34-I34 -> 7597432.4
B35: 45685 | C35: 0.11 | D35: =((1+C35)^(1/365))-1 -> 0.00028595873 | E35: =J34 -> 7597432.4 | H35: =(E35+F35-G35)*(D35) -> 2172.5521 | I35: =IF(H35>$I$6,H35*7%,0) -> 0 | J35: =E35+F35-G35+H35-I35 -> 7599605
B36: 45686 | C36: 0.11 | D36: =((1+C36)^(1/365))-1 -> 0.00028595873 | E36: =J35 -> 7599605 | H36: =(E36+F36-G36)*(D36) -> 2173.1734 | I36: =IF(H36>$I$6,H36*7%,0) -> 0 | J36: =E36+F36-G36+H36-I36 -> 7601778.1
B37: 45687 | C37: 0.11 | D37: =((1+C37)^(1/365))-1 -> 0.00028595873 | E37: =J36 -> 7601778.1 | H37: =(E37+F37-G37)*(D37) -> 2173.7948 | I37: =IF(H37>$I$6,H37*7%,0) -> 0 | J37: =E37+F37-G37+H37-I37 -> 7603951.9
B38: 45688 | C38: 0.11 | D38: =((1+C38)^(1/365))-1 -> 0.00028595873 | E38: =J37 -> 7603951.9 | H38: =(E38+F38-G38)*(D38) -> 2174.4164 | I38: =IF(H38>$I$6,H38*7%,0) -> 0 | J38: =E38+F38-G38+H38-I38 -> 7606126.3
B39: 45689 | C39: 0.11 | D39: =((1+C39)^(1/365))-1 -> 0.00028595873 | E39: =J38 -> 7606126.3 | H39: =(E39+F39-G39)*(D39) -> 2175.0382 | I39: =IF(H39>$I$6,H39*7%,0) -> 0 | J39: =E39+F39-G39+H39-I39 -> 7608301.4
B40: 45690 | C40: 0.11 | D40: =((1+C40)^(1/365))-1 -> 0.00028595873 | E40: =J39 -> 7608301.4 | H40: =(E40+F40-G40)*(D40) -> 2175.6602 | I40: =IF(H40>$I$6,H40*7%,0) -> 0 | J40: =E40+F40-G40+H40-I40 -> 7610477
B41: 45691 | C41: 0.11 | D41: =((1+C41)^(1/365))-1 -> 0.00028595873 | E41: =J40 -> 7610477 | H41: =(E41+F41-G41)*(D41) -> 2176.2823 | I41: =IF(H41>$I$6,H41*7%,0) -> 0 | J41: =E41+F41-G41+H41-I41 -> 7612653.3
B42: 45692 | C42: 0.11 | D42: =((1+C42)^(1/365))-1 -> 0.00028595873 | E42: =J41 -> 7612653.3 | H42: =(E42+F42-G42)*(D42) -> 2176.9047 | I42: =IF(H42>$I$6,H42*7%,0) -> 0 | J42: =E42+F42-G42+H42-I42 -> 7614830.2
...

Sheet Cuenta 2
B2: Capital inicial | F2: NOMBRE BANCO | H2: LULO BANK
B4: Fecha | C4: Capital
B5: 45659 | C5: =VLOOKUP(B5,$B$8:$J$372,8) -> 0
I6: 2738
B7: Fecha | C7: Tasa | D7: Tasa diaria | E7: Capital | F7: Ingreso dinero | G7: Salidas | H7: Rendimientos | I7: Retefuente | J7: Capital final
B8: 45658 | C8: 0.115 | D8: =((1+C8)^(1/365))-1 -> 0.00029827572 | E8: =C2 -> 0 | H8: =(E8+F8-G8)*(D8) -> 0 | I8: =IF(H8>$I$6,H8*7%,0) -> 0 | J8: =E8+F8-G8+H8 -> 0
B9: 45659 | C9: 0.115 | D9: =((1+C9)^(1/365))-1 -> 0.00029827572 | E9: =J8 -> 0 | H9: =(E9+F9-G9)*(D9) -> 0 | I9: =IF(H9>$I$6,H9*7%,0) -> 0 | J9: =E9+F9-G9+H9 -> 0
B10: 45660 | C10: 0.115 | D10: =((1+C10)^(1/365))-1 -> 0.00029827572 | E10: =J9 -> 0 | H10: =(E10+F10-G10)*(D10) -> 0 | I10: =IF(H10>$I$6,H10*7%,0) -> 0 | J10: =E10+F10-G10+H10 -> 0
B11: 45661 | C11: 0.115 | D11: =((1+C11)^(1/365))-1 -> 0.00029827572 | E11: =J10 -> 0 | H11: =(E11+F11-G11)*(D11) -> 0 | I11: =IF(H11>$I$6,H11*7%,0) -> 0 | J11: =E11+F11-G11+H11 -> 0
B12: 45662 | C12: 0.115 | D12: =((1+C12)^(1/365))-1 -> 0.00029827572 | E12: =J11 -> 0 | H12: =(E12+F12-G12)*(D12) -> 0 | I12: =IF(H12>$I$6,H12*7%,0) -> 0 | J12: =E12+F12-G12+H12 -> 0
B13: 45663 | C13: 0.115 | D13: =((1+C13)^(1/365))-1 -> 0.00029827572 | E13: =J12 -> 0 | H13: =(E13+F13-G13)*(D13) -> 0 | I13: =IF(H13>$I$6,H13*7%,0) -> 0 | J13: =E13+F13-G13+H13 -> 0
B14: 45664 | C14: 0.115 | D14: =((1+C14)^(1/365))-1 -> 0.00029827572 | E14: =J13 -> 0 | H14: =(E14+F14-G14)*(D14) -> 0 | I14: =IF(H14>$I$6,H14*7%,0) -> 0 | J14: =E14+F14-G14+H14 -> 0
B15: 45665 | C15: 0.115 | D15: =((1+C15)^(1/365))-1 -> 0.00029827572 | E15: =J14 -> 0 | H15: =(E15+F15-G15)*(D15) -> 0 | I15: =IF(H15>$I$6,H15*7%,0) -> 0 | J15: =E15+F15-G15+H15 -> 0
B16: 45666 | C16: 0.115 | D16: =((1+C16)^(1/365))-1 -> 0.00029827572 | E16: =J15 -> 0 | H16: =(E16+F16-G16)*(D16) -> 0 | I16: =IF(H16>$I$6,H16*7%,0) -> 0 | J16: =E16+F16-G16+H16 -> 0
B17: 45667 | C17: 0.115 | D17: =((1+C17)^(1/365))-1 -> 0.00029827572 | E17: =J16 -> 0 | H17: =(E17+F17-G17)*(D17) -> 0 | I17: =IF(H17>$I$6,H17*7%,0) -> 0 | J17: =E17+F17-G17+H17 -> 0
B18: 45668 | C18: 0.115 | D18: =((1+C18)^(1/365))-1 -> 0.00029827572 | E18: =J17 -> 0 | H18: =(E18+F18-G18)*(D18) -> 0 | I18: =IF(H18>$I$6,H18*7%,0) -> 0 | J18: =E18+F18-G18+H18 -> 0
B19: 45669 | C19: 0.115 | D19: =((1+C19)^(1/365))-1 -> 0.00029827572 | E19: =J18 -> 0 | H19: =(E19+F19-G19)*(D19) -> 0 | I19: =IF(H19>$I$6,H19*7%,0) -> 0 | J19: =E19+F19-G19+H19 -> 0
B20: 45670 | C20: 0.115 | D20: =((1+C20)^(1/365))-1 -> 0.00029827572 | E20: =J19 -> 0 | H20: =(E20+F20-G20)*(D20) -> 0 | I20: =IF(H20>$I$6,H20*7%,0) -> 0 | J20: =E20+F20-G20+H20 -> 0
... B97: 45747 | C97: 0.1 | D97: =((1+C97)^(1/365))-1 -> 0.00026115788 | E97: =J96 -> 0 | H97: =(E97+F97-G97)*(D97) -> 0 | I97: =IF(H97>$I$6,H97*7%,0) -> 0 | J97: =E97+F97-G97+H97 -> 0
B98: 45748 | D98: =((1+C98)^(1/365))-1 -> 0 | E98: =J97 -> 0 | H98: =(E98+F98-G98)*(D98) -> 0 | I98: =IF(H98>$I$6,H98*7%,0) -> 0 | J98: =E98+F98-G98+H98 -> 0
B99: 45749 | D99: =((1+C99)^(1/365))-1 -> 0 | E99: =J98 -> 0 | H99: =(E99+F99-G99)*(D99) -> 0 | I99: =IF(H99>$I$6,H99*7%,0) -> 0 | J99: =E99+F99-G99+H99 -> 0
B100: 45750 | D100: =((1+C100)^(1/365))-1 -> 0 | E100: =J99 -> 0 | H100: =(E100+F100-G100)*(D100) -> 0 | I100: =IF(H100>$I$6,H100*7%,0) -> 0 | J100: =E100+F100-G100+H100 -> 0
B101: 45751 | D101: =((1+C101)^(1/365))-1 -> 0 | E101: =J100 -> 0 | H101: =(E101+F101-G101)*(D101) -> 0 | I101: =IF(H101>$I$6,H101*7%,0) -> 0 | J101: =E101+F101-G101+H101 -> 0
B102: 45752 | D102: =((1+C102)^(1/365))-1 -> 0 | E102: =J101 -> 0 | H102: =(E102+F102-G102)*(D102) -> 0 | I102: =IF(H102>$I$6,H102*7%,0) -> 0 | J102: =E102+F102-G102+H102 -> 0
B103: 45753 | D103: =((1+C103)^(1/365))-1 -> 0 | E103: =J102 -> 0 | H103: =(E103+F103-G103)*(D103) -> 0 | I103: =IF(H103>$I$6,H103*7%,0) -> 0 | J103: =E103+F103-G103+H103 -> 0
B104: 45754 | D104: =((1+C104)^(1/365))-1 -> 0 | E104: =J103 -> 0 | H104: =(E104+F104-G104)*(D104) -> 0 | I104: =IF(H104>$I$6,H104*7%,0) -> 0 | J104: =E104+F104-G104+H104 -> 0
B105: 45755 | D105: =((1+C105)^(1/365))-1 -> 0 | E105: =J104 -> 0 | H105: =(E105+F105-G105)*(D105) -> 0 | I105: =IF(H105>$I$6,H105*7%,0) -> 0 | J105: =E105+F105-G105+H105 -> 0
B106: 45756 | D106: =((1+C106)^(1/365))-1 -> 0 | E106: =J105 -> 0 | H106: =(E106+F106-G106)*(D106) -> 0 | I106: =IF(H106>$I$6,H106*7%,0) -> 0 | J106: =E106+F106-G106+H106 -> 0
B107: 45757 | D107: =((1+C107)^(1/365))-1 -> 0 | E107: =J106 -> 0 | H107: =(E107+F107-G107)*(D107) -> 0 | I107: =IF(H107>$I$6,H107*7%,0) -> 0 | J107: =E107+F107-G107+H107 -> 0
B108: 45758 | D108: =((1+C108)^(1/365))-1 -> 0 | E108: =J107 -> 0 | H108: =(E108+F108-G108)*(D108) -> 0 | I108: =IF(H108>$I$6,H108*7%,0) -> 0 | J108: =E108+F108-G108+H108 -> 0
B109: 45759 | D109: =((1+C109)^(1/365))-1 -> 0 | E109: =J108 -> 0 | H109: =(E109+F109-G109)*(D109) -> 0 | I109: =IF(H109>$I$6,H109*7%,0) -> 0 | J109: =E109+F109-G109+H109 -> 0
... B372: 46022 | D372: =((1+C372)^(1/365))-1 -> 0 | E372: =J371 -> 0 | H372: =(E372+F372-G372)*(D372) -> 0 | I372: =IF(H372>$I$6,H372*7%,0) -> 0 | J372: =E372+F372-G372+H372 -> 0

Sheet Cuenta 3
B2: Capital inicial | F2: NOMBRE BANCO | H2: UALA
B4: Fecha | C4: Capital
B5: 45659 | C5: =VLOOKUP(B5,$B$8:$J$372,8) -> 0
I6: 2738
B7: Fecha | C7: Tasa | D7: Tasa diaria | E7: Capital | F7: Ingreso dinero | G7: Salidas | H7: Rendimientos | I7: Retefuente | J7: Capital final
B8: 45658 | C8: 0.13 | D8: =((1+C8)^(1/365))-1 -> 0.0003348989 | E8: =C2 -> 0 | H8: =(E8+F8-G8)*(D8) -> 0 | I8: =IF(H8>$I$6,H8*7%,) -> 0 | J8: =E8+F8-G8+H8 -> 0
B9: 45659 | C9: 0.13 | D9: =((1+C9)^(1/365))-1 -> 0.0003348989 | E9: =J8 -> 0 | H9: =(E9+F9-G9)*(D9) -> 0 | I9: =IF(H9>$I$6,H9*7%,) -> 0 | J9: =E9+F9-G9+H9 -> 0
B10: 45660 | C10: 0.13 | D10: =((1+C10)^(1/365))-1 -> 0.0003348989 | E10: =J9 -> 0 | H10: =(E10+F10-G10)*(D10) -> 0 | I10: =IF(H10>$I$6,H10*7%,) -> 0 | J10: =E10+F10-G10+H10 -> 0
B11: 45661 | C11: 0.13 | D11: =((1+C11)^(1/365))-1 -> 0.0003348989 | E11: =J10 -> 0 | H11: =(E11+F11-G11)*(D11) -> 0 | I11: =IF(H11>$I$6,H11*7%,) -> 0 | J11: =E11+F11-G11+H11 -> 0
B12: 45662 | C12: 0.13 | D12: =((1+C12)^(1/365))-1 -> 0.0003348989 | E12: =J11 -> 0 | H12: =(E12+F12-G12)*(D12) -> 0 | I12: =IF(H12>$I$6,H12*7%,) -> 0 | J12: =E12+F12-G12+H12 -> 0
B13: 45663 | C13: 0.13 | D13: =((1+C13)^(1/365))-1 -> 0.0003348989 | E13: =J12 -> 0 | H13: =(E13+F13-G13)*(D13) -> 0 | I13: =IF(H13>$I$6,H13*7%,) -> 0 | J13: =E13+F13-G13+H13 -> 0
B14: 45664 | C14: 0.13 | D14: =((1+C14)^(1/365))-1 -> 0.0003348989 | E14: =J13 -> 0 | H14: =(E14+F14-G14)*(D14) -> 0 | I14: =IF(H14>$I$6,H14*7%,) -> 0 | J14: =E14+F14-G14+H14 -> 0
B15: 45665 | C15: 0.13 | D15: =((1+C15)^(1/365))-1 -> 0.0003348989 | E15: =J14 -> 0 | H15: =(E15+F15-G15)*(D15) -> 0 | I15: =IF(H15>$I$6,H15*7%,) -> 0 | J15: =E15+F15-G15+H15 -> 0
B16: 45666 | C16: 0.13 | D16: =((1+C16)^(1/365))-1 -> 0.0003348989 | E16: =J15 -> 0 | H16: =(E16+F16-G16)*(D16) -> 0 | I16: =IF(H16>$I$6,H16*7%,) -> 0 | J16: =E16+F16-G16+H16 -> 0
B17: 45667 | C17: 0.13 | D17: =((1+C17)^(1/365))-1 -> 0.0003348989 | E17: =J16 -> 0 | H17: =(E17+F17-G17)*(D17) -> 0 | I17: =IF(H17>$I$6,H17*7%,) -> 0 | J17: =E17+F17-G17+H17 -> 0
B18: 45668 | C18: 0.13 | D18: =((1+C18)^(1/365))-1 -> 0.0003348989 | E18: =J17 -> 0 | H18: =(E18+F18-G18)*(D18) -> 0 | I18: =IF(H18>$I$6,H18*7%,) -> 0 | J18: =E18+F18-G18+H18 -> 0
B19: 45669 | C19: 0.13 | D19: =((1+C19)^(1/365))-1 -> 0.0003348989 | E19: =J18 -> 0 | H19: =(E19+F19-G19)*(D19) -> 0 | I19: =IF(H19>$I$6,H19*7%,) -> 0 | J19: =E19+F19-G19+H19 -> 0
B20: 45670 | C20: 0.13 | D20: =((1+C20)^(1/365))-1 -> 0.0003348989 | E20: =J19 -> 0 | H20: =(E20+F20-G20)*(D20) -> 0 | I20: =IF(H20>$I$6,H20*7%,) -> 0 | J20: =E20+F20-G20+H20 -> 0
... B97: 45747 | C97: 0.13 | D97: =((1+C97)^(1/365))-1 -> 0.0003348989 | E97: =J96 -> 0 | H97: =(E97+F97-G97)*(D97) -> 0 | I97: =IF(H97>$I$6,H97*7%,) -> 0 | J97: =E97+F97-G97+H97 -> 0
B98: 45748 | D98: =((1+C98)^(1/365))-1 -> 0 | E98: =J97 -> 0 | H98: =(E98+F98-G98)*(D98) -> 0 | I98: =IF(H98>$I$6,H98*7%,) -> 0 | J98: =E98+F98-G98+H98 -> 0
B99: 45749 | D99: =((1+C99)^(1/365))-1 -> 0 | E99: =J98 -> 0 | H99: =(E99+F99-G99)*(D99) -> 0 | I99: =IF(H99>$I$6,H99*7%,) -> 0 | J99: =E99+F99-G99+H99 -> 0
B100: 45750 | D100: =((1+C100)^(1/365))-1 -> 0 | E100: =J99 -> 0 | H100: =(E100+F100-G100)*(D100) -> 0 | I100: =IF(H100>$I$6,H100*7%,) -> 0 | J100: =E100+F100-G100+H100 -> 0
B101: 45751 | D101: =((1+C101)^(1/365))-1 -> 0 | E101: =J100 -> 0 | H101: =(E101+F101-G101)*(D101) -> 0 | I101: =IF(H101>$I$6,H101*7%,) -> 0 | J101: =E101+F101-G101+H101 -> 0
B102: 45752 | D102: =((1+C102)^(1/365))-1 -> 0 | E102: =J101 -> 0 | H102: =(E102+F102-G102)*(D102) -> 0 | I102: =IF(H102>$I$6,H102*7%,) -> 0 | J102: =E102+F102-G102+H102 -> 0
B103: 45753 | D103: =((1+C103)^(1/365))-1 -> 0 | E103: =J102 -> 0 | H103: =(E103+F103-G103)*(D103) -> 0 | I103: =IF(H103>$I$6,H103*7%,) -> 0 | J103: =E103+F103-G103+H103 -> 0
B104: 45754 | D104: =((1+C104)^(1/365))-1 -> 0 | E104: =J103 -> 0 | H104: =(E104+F104-G104)*(D104) -> 0 | I104: =IF(H104>$I$6,H104*7%,) -> 0 | J104: =E104+F104-G104+H104 -> 0
B105: 45755 | D105: =((1+C105)^(1/365))-1 -> 0 | E105: =J104 -> 0 | H105: =(E105+F105-G105)*(D105) -> 0 | I105: =IF(H105>$I$6,H105*7%,) -> 0 | J105: =E105+F105-G105+H105 -> 0
B106: 45756 | D106: =((1+C106)^(1/365))-1 -> 0 | E106: =J105 -> 0 | H106: =(E106+F106-G106)*(D106) -> 0 | I106: =IF(H106>$I$6,H106*7%,) -> 0 | J106: =E106+F106-G106+H106 -> 0
B107: 45757 | D107: =((1+C107)^(1/365))-1 -> 0 | E107: =J106 -> 0 | H107: =(E107+F107-G107)*(D107) -> 0 | I107: =IF(H107>$I$6,H107*7%,) -> 0 | J107: =E107+F107-G107+H107 -> 0
B108: 45758 | D108: =((1+C108)^(1/365))-1 -> 0 | E108: =J107 -> 0 | H108: =(E108+F108-G108)*(D108) -> 0 | I108: =IF(H108>$I$6,H108*7%,) -> 0 | J108: =E108+F108-G108+H108 -> 0
B109: 45759 | D109: =((1+C109)^(1/365))-1 -> 0 | E109: =J108 -> 0 | H109: =(E109+F109-G109)*(D109) -> 0 | I109: =IF(H109>$I$6,H109*7%,) -> 0 | J109: =E109+F109-G109+H109 -> 0
... B372: 46022 | D372: =((1+C372)^(1/365))-1 -> 0 | E372: =J371 -> 0 | H372: =(E372+F372-G372)*(D372) -> 0 | I372: =IF(H372>$I$6,H372*7%,) -> 0 | J372: =E372+F372-G372+H372 -> 0

Sheet Cuenta 4
B2: Capital inicial | F2: NOMBRE BANCO | H2: RAPPIPAY
B4: Fecha | C4: Capital
B5: 45659 | C5: =VLOOKUP(B5,$B$8:$J$372,8) -> 0
I6: 2738
B7: Fecha | C7: Tasa | D7: Tasa diaria | E7: Capital | F7: Ingreso dinero | G7: Salidas | H7: Rendimientos | I7: Retefuente | J7: Capital final
B8: 45658 | C8: 0.12 | D8: =((1+C8)^(1/365))-1 -> 0.00031053776 | E8: =C2 -> 0 | H8: =(E8+F8-G8)*(D8) -> 0 | I8: =IF(H8>$I$6,H8*7%,0) -> 0 | J8: =E8+F8-G8+H8 -> 0
B9: 45659 | C9: 0.12 | D9: =((1+C9)^(1/365))-1 -> 0.00031053776 | E9: =J8 -> 0 | H9: =(E9+F9-G9)*(D9) -> 0 | I9: =IF(H9>$I$6,H9*7%,0) -> 0 | J9: =E9+F9-G9+H9 -> 0
B10: 45660 | C10: 0.12 | D10: =((1+C10)^(1/365))-1 -> 0.00031053776 | E10: =J9 -> 0 | H10: =(E10+F10-G10)*(D10) -> 0 | I10: =IF(H10>$I$6,H10*7%,0) -> 0 | J10: =E10+F10-G10+H10 -> 0
B11: 45661 | C11: 0.12 | D11: =((1+C11)^(1/365))-1 -> 0.00031053776 | E11: =J10 -> 0 | H11: =(E11+F11-G11)*(D11) -> 0 | I11: =IF(H11>$I$6,H11*7%,0) -> 0 | J11: =E11+F11-G11+H11 -> 0
B12: 45662 | C12: 0.12 | D12: =((1+C12)^(1/365))-1 -> 0.00031053776 | E12: =J11 -> 0 | H12: =(E12+F12-G12)*(D12) -> 0 | I12: =IF(H12>$I$6,H12*7%,0) -> 0 | J12: =E12+F12-G12+H12 -> 0
B13: 45663 | C13: 0.12 | D13: =((1+C13)^(1/365))-1 -> 0.00031053776 | E13: =J12 -> 0 | H13: =(E13+F13-G13)*(D13) -> 0 | I13: =IF(H13>$I$6,H13*7%,0) -> 0 | J13: =E13+F13-G13+H13 -> 0
B14: 45664 | C14: 0.12 | D14: =((1+C14)^(1/365))-1 -> 0.00031053776 | E14: =J13 -> 0 | H14: =(E14+F14-G14)*(D14) -> 0 | I14: =IF(H14>$I$6,H14*7%,0) -> 0 | J14: =E14+F14-G14+H14 -> 0
B15: 45665 | C15: 0.12 | D15: =((1+C15)^(1/365))-1 -> 0.00031053776 | E15: =J14 -> 0 | H15: =(E15+F15-G15)*(D15) -> 0 | I15: =IF(H15>$I$6,H15*7%,0) -> 0 | J15: =E15+F15-G15+H15 -> 0
B16: 45666 | C16: 0.12 | D16: =((1+C16)^(1/365))-1 -> 0.00031053776 | E16: =J15 -> 0 | H16: =(E16+F16-G16)*(D16) -> 0 | I16: =IF(H16>$I$6,H16*7%,0) -> 0 | J16: =E16+F16-G16+H16 -> 0
B17: 45667 | C17: 0.12 | D17: =((1+C17)^(1/365))-1 -> 0.00031053776 | E17: =J16 -> 0 | H17: =(E17+F17-G17)*(D17) -> 0 | I17: =IF(H17>$I$6,H17*7%,0) -> 0 | J17: =E17+F17-G17+H17 -> 0
B18: 45668 | C18: 0.12 | D18: =((1+C18)^(1/365))-1 -> 0.00031053776 | E18: =J17 -> 0 | H18: =(E18+F18-G18)*(D18) -> 0 | I18: =IF(H18>$I$6,H18*7%,0) -> 0 | J18: =E18+F18-G18+H18 -> 0
B19: 45669 | C19: 0.12 | D19: =((1+C19)^(1/365))-1 -> 0.00031053776 | E19: =J18 -> 0 | H19: =(E19+F19-G19)*(D19) -> 0 | I19: =IF(H19>$I$6,H19*7%,0) -> 0 | J19: =E19+F19-G19+H19 -> 0
B20: 45670 | C20: 0.12 | D20: =((1+C20)^(1/365))-1 -> 0.00031053776 | E20: =J19 -> 0 | H20: =(E20+F20-G20)*(D20) -> 0 | I20: =IF(H20>$I$6,H20*7%,0) -> 0 | J20: =E20+F20-G20+H20 -> 0
... B97: 45747 | C97: 0.12 | D97: =((1+C97)^(1/365))-1 -> 0.00031053776 | E97: =J96 -> 0 | H97: =(E97+F97-G97)*(D97) -> 0 | I97: =IF(H97>$I$6,H97*7%,0) -> 0 | J97: =E97+F97-G97+H97 -> 0
B98: 45748 | D98: =((1+C98)^(1/365))-1 -> 0 | E98: =J97 -> 0 | H98: =(E98+F98-G98)*(D98) -> 0 | I98: =IF(H98>$I$6,H98*7%,0) -> 0 | J98: =E98+F98-G98+H98 -> 0
B99: 45749 | D99: =((1+C99)^(1/365))-1 -> 0 | E99: =J98 -> 0 | H99: =(E99+F99-G99)*(D99) -> 0 | I99: =IF(H99>$I$6,H99*7%,0) -> 0 | J99: =E99+F99-G99+H99 -> 0
B100: 45750 | D100: =((1+C100)^(1/365))-1 -> 0 | E100: =J99 -> 0 | H100: =(E100+F100-G100)*(D100) -> 0 | I100: =IF(H100>$I$6,H100*7%,0) -> 0 | J100: =E100+F100-G100+H100 -> 0
B101: 45751 | D101: =((1+C101)^(1/365))-1 -> 0 | E101: =J100 -> 0 | H101: =(E101+F101-G101)*(D101) -> 0 | I101: =IF(H101>$I$6,H101*7%,0) -> 0 | J101: =E101+F101-G101+H101 -> 0
B102: 45752 | D102: =((1+C102)^(1/365))-1 -> 0 | E102: =J101 -> 0 | H102: =(E102+F102-G102)*(D102) -> 0 | I102: =IF(H102>$I$6,H102*7%,0) -> 0 | J102: =E102+F102-G102+H102 -> 0
B103: 45753 | D103: =((1+C103)^(1/365))-1 -> 0 | E103: =J102 -> 0 | H103: =(E103+F103-G103)*(D103) -> 0 | I103: =IF(H103>$I$6,H103*7%,0) -> 0 | J103: =E103+F103-G103+H103 -> 0
B104: 45754 | D104: =((1+C104)^(1/365))-1 -> 0 | E104: =J103 -> 0 | H104: =(E104+F104-G104)*(D104) -> 0 | I104: =IF(H104>$I$6,H104*7%,0) -> 0 | J104: =E104+F104-G104+H104 -> 0
B105: 45755 | D105: =((1+C105)^(1/365))-1 -> 0 | E105: =J104 -> 0 | H105: =(E105+F105-G105)*(D105) -> 0 | I105: =IF(H105>$I$6,H105*7%,0) -> 0 | J105: =E105+F105-G105+H105 -> 0
B106: 45756 | D106: =((1+C106)^(1/365))-1 -> 0 | E106: =J105 -> 0 | H106: =(E106+F106-G106)*(D106) -> 0 | I106: =IF(H106>$I$6,H106*7%,0) -> 0 | J106: =E106+F106-G106+H106 -> 0
B107: 45757 | D107: =((1+C107)^(1/365))-1 -> 0 | E107: =J106 -> 0 | H107: =(E107+F107-G107)*(D107) -> 0 | I107: =IF(H107>$I$6,H107*7%,0) -> 0 | J107: =E107+F107-G107+H107 -> 0
B108: 45758 | D108: =((1+C108)^(1/365))-1 -> 0 | E108: =J107 -> 0 | H108: =(E108+F108-G108)*(D108) -> 0 | I108: =IF(H108>$I$6,H108*7%,0) -> 0 | J108: =E108+F108-G108+H108 -> 0
B109: 45759 | D109: =((1+C109)^(1/365))-1 -> 0 | E109: =J108 -> 0 | H109: =(E109+F109-G109)*(D109) -> 0 | I109: =IF(H109>$I$6,H109*7%,0) -> 0 | J109: =E109+F109-G109+H109 -> 0
... B372: 46022 | D372: =((1+C372)^(1/365))-1 -> 0 | E372: =J371 -> 0 | H372: =(E372+F372-G372)*(D372) -> 0 | I372: =IF(H372>$I$6,H372*7%,0) -> 0 | J372: =E372+F372-G372+H372 -> 0

Sheet Cuenta 5
B2: Capital inicial | F2: NOMBRE BANCO | H2: PIBANK
B4: Fecha | C4: Capital
B5: 45659 | C5: =VLOOKUP(B5,$B$8:$J$372,8) -> 0
I6: 2738
B7: Fecha | C7: Tasa | D7: Tasa diaria | E7: Capital | F7: Ingreso dinero | G7: Salidas | H7: Rendimientos | I7: Retefuente | J7: Capital final
B8: 45658 | C8: 0.12 | D8: =((1+C8)^(1/365))-1 -> 0.00031053776 | E8: =C2 -> 0 | H8: =(E8+F8-G8)*(D8) -> 0 | I8: =IF(H8>$I$6,H8*7%,0) -> 0 | J8: =E8+F8-G8+H8 -> 0
B9: 45659 | C9: 0.12 | D9: =((1+C9)^(1/365))-1 -> 0.00031053776 | E9: =J8 -> 0 | H9: =(E9+F9-G9)*(D9) -> 0 | I9: =IF(H9>$I$6,H9*7%,0) -> 0 | J9: =E9+F9-G9+H9 -> 0
B10: 45660 | C10: 0.12 | D10: =((1+C10)^(1/365))-1 -> 0.00031053776 | E10: =J9 -> 0 | H10: =(E10+F10-G10)*(D10) -> 0 | I10: =IF(H10>$I$6,H10*7%,0) -> 0 | J10: =E10+F10-G10+H10 -> 0
B11: 45661 | C11: 0.12 | D11: =((1+C11)^(1/365))-1 -> 0.00031053776 | E11: =J10 -> 0 | H11: =(E11+F11-G11)*(D11) -> 0 | I11: =IF(H11>$I$6,H11*7%,0) -> 0 | J11: =E11+F11-G11+H11 -> 0
B12: 45662 | C12: 0.12 | D12: =((1+C12)^(1/365))-1 -> 0.00031053776 | E12: =J11 -> 0 | H12: =(E12+F12-G12)*(D12) -> 0 | I12: =IF(H12>$I$6,H12*7%,0) -> 0 | J12: =E12+F12-G12+H12 -> 0
B13: 45663 | C13: 0.12 | D13: =((1+C13)^(1/365))-1 -> 0.00031053776 | E13: =J12 -> 0 | H13: =(E13+F13-G13)*(D13) -> 0 | I13: =IF(H13>$I$6,H13*7%,0) -> 0 | J13: =E13+F13-G13+H13 -> 0
B14: 45664 | C14: 0.12 | D14: =((1+C14)^(1/365))-1 -> 0.00031053776 | E14: =J13 -> 0 | H14: =(E14+F14-G14)*(D14) -> 0 | I14: =IF(H14>$I$6,H14*7%,0) -> 0 | J14: =E14+F14-G14+H14 -> 0
B15: 45665 | C15: 0.12 | D15: =((1+C15)^(1/365))-1 -> 0.00031053776 | E15: =J14 -> 0 | H15: =(E15+F15-G15)*(D15) -> 0 | I15: =IF(H15>$I$6,H15*7%,0) -> 0 | J15: =E15+F15-G15+H15 -> 0
B16: 45666 | C16: 0.12 | D16: =((1+C16)^(1/365))-1 -> 0.00031053776 | E16: =J15 -> 0 | H16: =(E16+F16-G16)*(D16) -> 0 | I16: =IF(H16>$I$6,H16*7%,0) -> 0 | J16: =E16+F16-G16+H16 -> 0
B17: 45667 | C17: 0.12 | D17: =((1+C17)^(1/365))-1 -> 0.00031053776 | E17: =J16 -> 0 | H17: =(E17+F17-G17)*(D17) -> 0 | I17: =IF(H17>$I$6,H17*7%,0) -> 0 | J17: =E17+F17-G17+H17 -> 0
B18: 45668 | C18: 0.12 | D18: =((1+C18)^(1/365))-1 -> 0.00031053776 | E18: =J17 -> 0 | H18: =(E18+F18-G18)*(D18) -> 0 | I18: =IF(H18>$I$6,H18*7%,0) -> 0 | J18: =E18+F18-G18+H18 -> 0
B19: 45669 | C19: 0.12 | D19: =((1+C19)^(1/365))-1 -> 0.00031053776 | E19: =J18 -> 0 | H19: =(E19+F19-G19)*(D19) -> 0 | I19: =IF(H19>$I$6,H19*7%,0) -> 0 | J19: =E19+F19-G19+H19 -> 0
B20: 45670 | C20: 0.12 | D20: =((1+C20)^(1/365))-1 -> 0.00031053776 | E20: =J19 -> 0 | H20: =(E20+F20-G20)*(D20) -> 0 | I20: =IF(H20>$I$6,H20*7%,0) -> 0 | J20: =E20+F20-G20+H20 -> 0
... B97: 45747 | C97: 0.12 | D97: =((1+C97)^(1/365))-1 -> 0.00031053776 | E97: =J96 -> 0 | H97: =(E97+F97-G97)*(D97) -> 0 | I97: =IF(H97>$I$6,H97*7%,0) -> 0 | J97: =E97+F97-G97+H97 -> 0
B98: 45748 | D98: =((1+C98)^(1/365))-1 -> 0 | E98: =J97 -> 0 | H98: =(E98+F98-G98)*(D98) -> 0 | I98: =IF(H98>$I$6,H98*7%,0) -> 0 | J98: =E98+F98-G98+H98 -> 0
B99: 45749 | D99: =((1+C99)^(1/365))-1 -> 0 | E99: =J98 -> 0 | H99: =(E99+F99-G99)*(D99) -> 0 | I99: =IF(H99>$I$6,H99*7%,0) -> 0 | J99: =E99+F99-G99+H99 -> 0
B100: 45750 | D100: =((1+C100)^(1/365))-1 -> 0 | E100: =J99 -> 0 | H100: =(E100+F100-G100)*(D100) -> 0 | I100: =IF(H100>$I$6,H100*7%,0) -> 0 | J100: =E100+F100-G100+H100 -> 0
B101: 45751 | D101: =((1+C101)^(1/365))-1 -> 0 | E101: =J100 -> 0 | H101: =(E101+F101-G101)*(D101) -> 0 | I101: =IF(H101>$I$6,H101*7%,0) -> 0 | J101: =E101+F101-G101+H101 -> 0
B102: 45752 | D102: =((1+C102)^(1/365))-1 -> 0 | E102: =J101 -> 0 | H102: =(E102+F102-G102)*(D102) -> 0 | I102: =IF(H102>$I$6,H102*7%,0) -> 0 | J102: =E102+F102-G102+H102 -> 0
B103: 45753 | D103: =((1+C103)^(1/365))-1 -> 0 | E103: =J102 -> 0 | H103: =(E103+F103-G103)*(D103) -> 0 | I103: =IF(H103>$I$6,H103*7%,0) -> 0 | J103: =E103+F103-G103+H103 -> 0
B104: 45754 | D104: =((1+C104)^(1/365))-1 -> 0 | E104: =J103 -> 0 | H104: =(E104+F104-G104)*(D104) -> 0 | I104: =IF(H104>$I$6,H104*7%,0) -> 0 | J104: =E104+F104-G104+H104 -> 0
B105: 45755 | D105: =((1+C105)^(1/365))-1 -> 0 | E105: =J104 -> 0 | H105: =(E105+F105-G105)*(D105) -> 0 | I105: =IF(H105>$I$6,H105*7%,0) -> 0 | J105: =E105+F105-G105+H105 -> 0
B106: 45756 | D106: =((1+C106)^(1/365))-1 -> 0 | E106: =J105 -> 0 | H106: =(E106+F106-G106)*(D106) -> 0 | I106: =IF(H106>$I$6,H106*7%,0) -> 0 | J106: =E106+F106-G106+H106 -> 0
B107: 45757 | D107: =((1+C107)^(1/365))-1 -> 0 | E107: =J106 -> 0 | H107: =(E107+F107-G107)*(D107) -> 0 | I107: =IF(H107>$I$6,H107*7%,0) -> 0 | J107: =E107+F107-G107+H107 -> 0
B108: 45758 | D108: =((1+C108)^(1/365))-1 -> 0 | E108: =J107 -> 0 | H108: =(E108+F108-G108)*(D108) -> 0 | I108: =IF(H108>$I$6,H108*7%,0) -> 0 | J108: =E108+F108-G108+H108 -> 0
B109: 45759 | D109: =((1+C109)^(1/365))-1 -> 0 | E109: =J108 -> 0 | H109: =(E109+F109-G109)*(D109) -> 0 | I109: =IF(H109>$I$6,H109*7%,0) -> 0 | J109: =E109+F109-G109+H109 -> 0
... B372: 46022 | D372: =((1+C372)^(1/365))-1 -> 0 | E372: =J371 -> 0 | H372: =(E372+F372-G372)*(D372) -> 0 | I372: =IF(H372>$I$6,H372*7%,0) -> 0 | J372: =E372+F372-G372+H372 -> 0

Sheet Cuenta 6
B2: Capital inicial | F2: NOMBRE BANCO | H2: GLOBAL 66
B4: Fecha | C4: Capital
B5: 45659 | C5: =VLOOKUP(B5,$B$8:$J$372,8) -> 0
I6: 2738
B7: Fecha | C7: Tasa | D7: Tasa diaria | E7: Capital | F7: Ingreso dinero | G7: Salidas | H7: Rendimientos | I7: Retefuente | J7: Capital final
B8: 45658 | C8: 0.12 | D8: =((1+C8)^(1/365))-1 -> 0.00031053776 | E8: =C2 -> 0 | H8: =(E8+F8-G8)*(D8) -> 0 | I8: =IF(H8>$I$6,H8*7%,0) -> 0 | J8: =E8+F8-G8+H8 -> 0
B9: 45659 | C9: 0.12 | D9: =((1+C9)^(1/365))-1 -> 0.00031053776 | E9: =J8 -> 0 | H9: =(E9+F9-G9)*(D9) -> 0 | I9: =IF(H9>$I$6,H9*7%,0) -> 0 | J9: =E9+F9-G9+H9 -> 0
B10: 45660 | C10: 0.12 | D10: =((1+C10)^(1/365))-1 -> 0.00031053776 | E10: =J9 -> 0 | H10: =(E10+F10-G10)*(D10) -> 0 | I10: =IF(H10>$I$6,H10*7%,0) -> 0 | J10: =E10+F10-G10+H10 -> 0
B11: 45661 | C11: 0.12 | D11: =((1+C11)^(1/365))-1 -> 0.00031053776 | E11: =J10 -> 0 | H11: =(E11+F11-G11)*(D11) -> 0 | I11: =IF(H11>$I$6,H11*7%,0) -> 0 | J11: =E11+F11-G11+H11 -> 0
B12: 45662 | C12: 0.12 | D12: =((1+C12)^(1/365))-1 -> 0.00031053776 | E12: =J11 -> 0 | H12: =(E12+F12-G12)*(D12) -> 0 | I12: =IF(H12>$I$6,H12*7%,0) -> 0 | J12: =E12+F12-G12+H12 -> 0
B13: 45663 | C13: 0.12 | D13: =((1+C13)^(1/365))-1 -> 0.00031053776 | E13: =J12 -> 0 | H13: =(E13+F13-G13)*(D13) -> 0 | I13: =IF(H13>$I$6,H13*7%,0) -> 0 | J13: =E13+F13-G13+H13 -> 0
B14: 45664 | C14: 0.12 | D14: =((1+C14)^(1/365))-1 -> 0.00031053776 | E14: =J13 -> 0 | H14: =(E14+F14-G14)*(D14) -> 0 | I14: =IF(H14>$I$6,H14*7%,0) -> 0 | J14: =E14+F14-G14+H14 -> 0
B15: 45665 | C15: 0.12 | D15: =((1+C15)^(1/365))-1 -> 0.00031053776 | E15: =J14 -> 0 | H15: =(E15+F15-G15)*(D15) -> 0 | I15: =IF(H15>$I$6,H15*7%,0) -> 0 | J15: =E15+F15-G15+H15 -> 0
B16: 45666 | C16: 0.12 | D16: =((1+C16)^(1/365))-1 -> 0.00031053776 | E16: =J15 -> 0 | H16: =(E16+F16-G16)*(D16) -> 0 | I16: =IF(H16>$I$6,H16*7%,0) -> 0 | J16: =E16+F16-G16+H16 -> 0
B17: 45667 | C17: 0.12 | D17: =((1+C17)^(1/365))-1 -> 0.00031053776 | E17: =J16 -> 0 | H17: =(E17+F17-G17)*(D17) -> 0 | I17: =IF(H17>$I$6,H17*7%,0) -> 0 | J17: =E17+F17-G17+H17 -> 0
B18: 45668 | C18: 0.12 | D18: =((1+C18)^(1/365))-1 -> 0.00031053776 | E18: =J17 -> 0 | H18: =(E18+F18-G18)*(D18) -> 0 | I18: =IF(H18>$I$6,H18*7%,0) -> 0 | J18: =E18+F18-G18+H18 -> 0
B19: 45669 | C19: 0.12 | D19: =((1+C19)^(1/365))-1 -> 0.00031053776 | E19: =J18 -> 0 | H19: =(E19+F19-G19)*(D19) -> 0 | I19: =IF(H19>$I$6,H19*7%,0) -> 0 | J19: =E19+F19-G19+H19 -> 0
B20: 45670 | C20: 0.12 | D20: =((1+C20)^(1/365))-1 -> 0.00031053776 | E20: =J19 -> 0 | H20: =(E20+F20-G20)*(D20) -> 0 | I20: =IF(H20>$I$6,H20*7%,0) -> 0 | J20: =E20+F20-G20+H20 -> 0
... B97: 45747 | C97: 0.12 | D97: =((1+C97)^(1/365))-1 -> 0.00031053776 | E97: =J96 -> 0 | H97: =(E97+F97-G97)*(D97) -> 0 | I97: =IF(H97>$I$6,H97*7%,0) -> 0 | J97: =E97+F97-G97+H97 -> 0
B98: 45748 | D98: =((1+C98)^(1/365))-1 -> 0 | E98: =J97 -> 0 | H98: =(E98+F98-G98)*(D98) -> 0 | I98: =IF(H98>$I$6,H98*7%,0) -> 0 | J98: =E98+F98-G98+H98 -> 0
B99: 45749 | D99: =((1+C99)^(1/365))-1 -> 0 | E99: =J98 -> 0 | H99: =(E99+F99-G99)*(D99) -> 0 | I99: =IF(H99>$I$6,H99*7%,0) -> 0 | J99: =E99+F99-G99+H99 -> 0
B100: 45750 | D100: =((1+C100)^(1/365))-1 -> 0 | E100: =J99 -> 0 | H100: =(E100+F100-G100)*(D100) -> 0 | I100: =IF(H100>$I$6,H100*7%,0) -> 0 | J100: =E100+F100-G100+H100 -> 0
B101: 45751 | D101: =((1+C101)^(1/365))-1 -> 0 | E101: =J100 -> 0 | H101: =(E101+F101-G101)*(D101) -> 0 | I101: =IF(H101>$I$6,H101*7%,0) -> 0 | J101: =E101+F101-G101+H101 -> 0
B102: 45752 | D102: =((1+C102)^(1/365))-1 -> 0 | E102: =J101 -> 0 | H102: =(E102+F102-G102)*(D102) -> 0 | I102: =IF(H102>$I$6,H102*7%,0) -> 0 | J102: =E102+F102-G102+H102 -> 0
B103: 45753 | D103: =((1+C103)^(1/365))-1 -> 0 | E103: =J102 -> 0 | H103: =(E103+F103-G103)*(D103) -> 0 | I103: =IF(H103>$I$6,H103*7%,0) -> 0 | J103: =E103+F103-G103+H103 -> 0
B104: 45754 | D104: =((1+C104)^(1/365))-1 -> 0 | E104: =J103 -> 0 | H104: =(E104+F104-G104)*(D104) -> 0 | I104: =IF(H104>$I$6,H104*7%,0) -> 0 | J104: =E104+F104-G104+H104 -> 0
B105: 45755 | D105: =((1+C105)^(1/365))-1 -> 0 | E105: =J104 -> 0 | H105: =(E105+F105-G105)*(D105) -> 0 | I105: =IF(H105>$I$6,H105*7%,0) -> 0 | J105: =E105+F105-G105+H105 -> 0
B106: 45756 | D106: =((1+C106)^(1/365))-1 -> 0 | E106: =J105 -> 0 | H106: =(E106+F106-G106)*(D106) -> 0 | I106: =IF(H106>$I$6,H106*7%,0) -> 0 | J106: =E106+F106-G106+H106 -> 0
B107: 45757 | D107: =((1+C107)^(1/365))-1 -> 0 | E107: =J106 -> 0 | H107: =(E107+F107-G107)*(D107) -> 0 | I107: =IF(H107>$I$6,H107*7%,0) -> 0 | J107: =E107+F107-G107+H107 -> 0
B108: 45758 | D108: =((1+C108)^(1/365))-1 -> 0 | E108: =J107 -> 0 | H108: =(E108+F108-G108)*(D108) -> 0 | I108: =IF(H108>$I$6,H108*7%,0) -> 0 | J108: =E108+F108-G108+H108 -> 0
B109: 45759 | D109: =((1+C109)^(1/365))-1 -> 0 | E109: =J108 -> 0 | H109: =(E109+F109-G109)*(D109) -> 0 | I109: =IF(H109>$I$6,H109*7%,0) -> 0 | J109: =E109+F109-G109+H109 -> 0
... B372: 46022 | D372: =((1+C372)^(1/365))-1 -> 0 | E372: =J371 -> 0 | H372: =(E372+F372-G372)*(D372) -> 0 | I372: =IF(H372>$I$6,H372*7%,0) -> 0 | J372: =E372+F372-G372+H372 -> 0
