BEGIN:VCALENDAR
VERSION:2.0
PRODID:-//ICS Generator//NONSGML ICS Generator//DE
BEGIN:VEVENT
UID:1774632625023-e32emsh?@ics-generator.de
DTSTAMP:20260327T173025Z
DTSTART:20260401T190000
DTEND:20260401T200000
SUMMARY:how2invest Markt-Update April 2026
LOCATION:https://live.how2invest.ch/webinar/watch/69c6bd9ec3dd50d13910ba94
BEGIN:VALARM
ACTION:DISPLAY
TRIGGER:-PT30M
DESCRIPTION:Reminder
END:VALARM
END:VEVENT
END:VCALENDAR
