BEGIN:VCALENDAR
VERSION:2.0
PRODID:-//ICS Generator//NONSGML ICS Generator//DE
BEGIN:VEVENT
UID:1772452730492-a4ek6xc?@ics-generator.de
DTSTAMP:20260302T115850Z
DTSTART:20260303T114500
DTEND:20260303T121500
SUMMARY:Opportunity Call Trading Idee 03.03.2026
LOCATION:https://live.how2invest.ch/webinar/password/69a57aa8ab00994067705087
BEGIN:VALARM
ACTION:DISPLAY
TRIGGER:-PT30M
DESCRIPTION:Reminder
END:VALARM
END:VEVENT
END:VCALENDAR
