BEGIN:VCALENDAR
VERSION:2.0
PRODID:-//ICS Generator//NONSGML ICS Generator//DE
BEGIN:VEVENT
UID:1770671252006-c0eiu4y?@ics-generator.de
DTSTAMP:20260209T210732Z
DTSTART:20260304T200000
DTEND:20260304T210000
SUMMARY:Markt-Update how2invest am 4.03.2026 20 Uhr
LOCATION:https://live.how2invest.ch/webinar/watch/698a4bbef01969e9fd2fa002
BEGIN:VALARM
ACTION:DISPLAY
TRIGGER:-PT30M
DESCRIPTION:Reminder
END:VALARM
END:VEVENT
END:VCALENDAR
