BEGIN:VCALENDAR
VERSION:2.0
PRODID:-//ICS Generator//NONSGML ICS Generator//DE
BEGIN:VEVENT
UID:1767818420870-4qx5qdu?@ics-generator.de
DTSTAMP:20260107T204020Z
DTSTART:20260209T200000
DTEND:20260209T210000
SUMMARY:Markt-Update how2invest Februar 2026
URL:https://live.how2invest.ch/webinar/watch/695ec31886061cb4012bd415
BEGIN:VALARM
ACTION:DISPLAY
TRIGGER:-PT30M
DESCRIPTION:Reminder
END:VALARM
END:VEVENT
END:VCALENDAR
