Workbook
Name date: '✅ Check-list'!#REF!

Sheet 👋 Bienvenue
C2: CHECK-LIST pour logements en locatif et accession

Sheet 🗓 Planning
C2: Délai | D2: Date ou période de réalisation (prévue ou effective) | E2: Échéance
B3: Signature PUV ou PSV
B4: 1ère réunion de montage
B5: Rendu du DIAG ou ESQ
B6: Rendu de l'APS
B7: Rendu de l'APD
B8: Rendu du dossier PC
B9: Dépôt PC | E9: ⚠️ Échéance indiquée dans la promesse ?
B10: Dépôt DOFI
B11: Obtention agrément | E11: ⚠️ Échéance indiquée dans la promesse ?
B12: Rendu du PRO / DCE
B13: PC obtenu | C13: Dépôt + 1 à 5 mois | E13: ⚠️ Échéance indiquée dans la promesse ?
B14: Lancement Co | C14: Au PC obtenu
B15: AO | C15: Au PC obtenu
B16: Consultation / négo entreprises
B17: PC purgé | C17: PC obtenu + 3 mois | E17: ⚠️ Échéance indiquée dans la promesse ?
B18: xx % comm. atteint | E18: ⚠️ Échéance indiquée dans la promesse ?
B19: Obtention prêt(s) | E19: ⚠️ Échéance indiquée dans la promesse ?
B20: Obtention GFA
B21: Signature acte 🍾 | C21: À la levée des CS | E21: ⚠️ Validité de la promesse
B22: DOC | C22: Dès l'acte | E22: ⚠️ Durée de validité de l'autorisation d'urbanisme
B23: OS | C23: Dès l'acte
B24: Sign. VEFA 🍾 | C24: Dès l'acte
B25: Fin GO
B26: Hors d'eau hors d'air
B27: Fin des cloisons
B28: Visites cloison | E28: ⚠️ Échéance indiquée dans l'acte de VEFA ?
B29: Visite témoin | E29: ⚠️ Échéance indiquée dans l'acte de VEFA ?
B30: Pré-réception | C30: Réception - 1 M
B31: Pré-livraison | C31: Livraison - 1 M | E31: ⚠️ Échéance indiquée dans l'acte de VEFA ?
B32: Réception | C32: DOC + 18 ou 24 M
B33: Livraison | C33: Réception + 1 M | E33: ⚠️ Échéance indiquée dans l'acte de VEFA
B34: 1ère AG
B35: Fin GPA | C35: Réception + 1 an
B36: Fin GBF | C36: Réception + 2 ans
B37: Fin décennale | C37: Réception + 10 ans

Sheet ✅ Check-list
E2: CHECK-LIST pour logements en locatif et accession
D7: Statut | E7: Tâche ou événement jalon | F7: Aide | G7: Astuces & points de vigilance | H7: Date de réalisation (prévue ou effective) | I7: Échéance
E8: ÉTUDE DE FAISABILITÉ
D9: En attente | E9: Analyser les documents d'urbanisme (PLU, PPRI, PPRN, cahier des charges de ZAC, OAP…) | F9: 🔗 | G9: 💡Consultez Géoportail de l'Urbanisme (lien à gauche)
D10: En attente | E10: Faire réaliser une étude de capacité par un architecte
D11: En attente | E11: Vérifier la présence proche d'un monument historique (MH) | F11: 🔗 | G11: 💡 Consultez le site "Atlas des Patrimoines" (lien à gauche) 🚨 Risque de délai d'instruction + long ⚠️ Dans le périmètre d'un MH, pas de DP possible. Pour une division parcellaire il vous faudra un PA. Pour une rénovation il vous faudra un PC.
D12: En attente | E12: Vérifier si le projet est en secteur ABF
D13: En attente | E13: Vérifier si le projet est exposé à des gênes sonores (PEB, PGS, classement des voies…) | F13: 🔗 | G13: 💡Consultez Géoportail pour les PEB et PGS (lien à gauche) 💡Consultez l’arrêté prefectoral de classement sonore
D14: En attente | E14: Analyser les risques naturels et industriels liés au territoire | F14: 🔗 | G14: 💡Consultez Géorisques (lien à gauche)
D15: En attente | E15: Analyser les risques liés au dérèglement climatique | F15: 🔗 | G15: 💡Consultez BatAdapt (lien à gauche)
D16: En attente | E16: Faire une étude de marché / estimation des prix de vente
D17: En attente | E17: S'informer sur les financements, subventions, majorations de loyers possibles
D18: En attente | E18: S'informer sur le calcul des taxes (PFAC, archéo, TA) | F18: 🔗 | G18: 💡Utilisez un simulateur de calcul
D19: En attente | E19: Identifier les risques liés au projet (recours sur PC, problème de voisinage …) | F19: 🔗 | G19: 💡La gestion des risques est une notion importante de la gestion de projet (voir mon guide gratuit via le lien à gauche)
D20: En attente | E20: Estimer le coût travaux
D21: En attente | E21: ⭐️ Faire des simulations financières sur la base de l'étude de capacité
D22: En attente | E22: ⭐️ Déterminer le programme (nbr logements, garages, SHAB, SP,…) | G22: 💡Pensez à concerter vos collègues et autres intervenants concernés (financeurs…)
D23: En attente | E23: ⭐️ Définir le planning prévisionnel
D24: En attente | E24: Facultatif: Rencontrer le service urbanisme
D25: En attente | E25: Facultatif : Déposer un CU a et/ou b pour geler les règles et taxes d'urbanisme | F25: 🔗 | G25: 🚨 Validité 18 mois
E27: ENGAGEMENT DE L'OPÉRATION
D28: En attente | E28: Décider d'engager l'opération + Définir les objectifs précis du projet (marge attendue, délai…) | G28: 💡Définissez des objectifs "SMART"
D29: En attente | E29: Rédiger l'offre au propriétaire | G29: ⚠️ Attention aux conditions, délais et prix annoncés 💡Une dation est possible
D30: En attente | E30: Demander le projet de promesse (PUV, PSV, …) ou de compromis au notaire | G30: ⚠️ Préciser conditions, délais, prix…
D31: En attente | E31: Relire attentivement la promesse et ses annexes | G31: ⚠️ Attention aux conditions, délais, prix…
D32: En attente | E32: Signature de la promesse ou du compromis | G32: 💡Peut se signer sous seing privé mais attention validité max 18 mois | H32: ='🗓 Planning'!D3 -> 0
D33: En attente | E33: Verser l’indemnité d’immobilisation ou fournir une caution bancaire
D34: En attente | E34: ⭐️ Préciser les échéances de la promesse et planifier la levée des conditions suspensives | G34: 💡Compléter cette check-list et mettre à jour le planning ⚠️ Pensez également à suivre la levée des conditions suspensives de droit commun
E36: MONTAGE JURIDIQUE
D37: En attente | E37: Constituer la société support du programme
D38: En attente | E38: Si co-promotion : Etablir la convention de co-promotion
E40: CONSULTATION DE L'EQUIPE DE MOE
D41: En attente | E41: Renseigner la note de cadrage du programme | G41: 💡Définissez des objectifs "SMART" ⚠️ Attention au niveau de prestations des logements choisi
D42: En attente | E42: Choisir la procédure de consultation selon les seuils | F42: 🔗 | G42: ⚠️ Attention différentes procédures de marchés publics existent
D43: En attente | E43: Préparer les pièces de consultation, notamment le Règlement de Consultation (RC)
D44: En attente | E44: Publier l'Appel d'Offre (AO) | F44: 🔗 | G44: ⚠️ Un avis de marché est à publier dans certaines procédures de passation. Les règles de publicité varient selon le montant du marché et la nature de l’acheteur.
D45: En attente | E45: Organiser et tenir la Commission d'Ouverture des Plis (COP)
D46: En attente | E46: Analyser les offres et établir le RAO
D47: En attente | E47: Facultatif : Organiser et tenir des Négociations ou Auditions
D48: En attente | E48: Facultatif : Mettre à jour le RAO selon les Négociations ou Auditions
...

Sheet 💡Aide chronologie

Sheet 📈 Statistiques
H20: À faire | I20: =COUNTIF('✅ Check-list'!D:D,H20) -> 0
H21: Urgent | I21: =COUNTIF('✅ Check-list'!D:D,H21) -> 0
H22: Important | I22: =COUNTIF('✅ Check-list'!D:D,H22) -> 0
H23: En cours | I23: =COUNTIF('✅ Check-list'!D:D,H23) -> 0
H24: Fait | I24: =COUNTIF('✅ Check-list'!D:D,H24) -> 0
H25: En attente | I25: =COUNTIF('✅ Check-list'!D:D,H25) -> 388
H26: Non concerné | I26: =COUNTIF('✅ Check-list'!D:D,H26) -> 0
H28: TOTAL | I28: =SUM(I20:I26) -> 388

Sheet ⚙️ Légende
B2: Tableau Kanban | C2: Bullet Journal
B3: À faire | C3: .
B4: Urgent | C4: !
B5: Important | C5: !
B6: En cours | C6: /
B7: Fait | C7: X
B8: En attente
B9: Non concerné | C9: nc
